{"text_format":"1","workbook":"xlsx","n_sheets":9,"sheets":["Read Me","Import avoidance model - RR","Definition","IRR and ROI","PV data","Data","PV Generation factor calcs","Sheet2","LOGIC"],"not_rendered":{"charts":8,"images":10,"macros":1,"external_links":0,"defined_names":40,"comments":2,"pivot_tables":0},"unopened":[],"bounds":{"document_bytes":16777216,"sheet_cells":100000,"rows_first":2000,"rows_last":500,"rows_between":2000,"halvings":0,"cell_chars":16384,"cell_head_chars":4096},"cells_cut":0,"cells_raw":0,"read":"whole","date_system":"1900"}

{"sheet":"Read Me","index":0,"n_rows":2,"n_cols":1,"rows_kept":2,"cut":false,"hidden":false,"merged":[]}
[]
["Onsite solar PV: Ready Reckoner for Import Avoidance"]

{"sheet":"Import avoidance model - RR","index":1,"n_rows":155,"n_cols":15,"rows_kept":155,"cut":false,"hidden":false,"merged":[[100,2,101,2],[34,8,35,8],[39,8,39,13],[39,2,39,6],[43,7,43,9],[44,7,44,9],[46,2,46,3],[47,2,47,3],[45,7,45,9],[46,8,46,10],[42,12,42,14],[43,12,43,14],[34,6,35,7],[43,3,43,5],[42,7,42,9],[41,12,41,14],[40,8,40,9],[41,7,41,9],[17,2,19,2],[18,5,18,6],[25,2,26,2],[3,2,3,13],[26,9,26,11],[19,5,19,6],[22,9,22,13],[33,6,33,7],[32,6,32,7],[25,9,25,12],[21,5,21,7],[22,2,22,3],[27,9,27,12],[27,5,28,7],[11,11,11,13],[11,5,11,9],[11,2,11,3],[24,9,24,12]]}
[]
[]
[]
[null,null,"Onsite solar PV: battery storage ready reckoner for import avoidance"]
[]
[null,null,"Instructions"]
[]
[null,null,null,null,null,"Green cells must be filled in",null,null,null,null,null,"Blue cells are optional"]
[]
[]
[null,null,"Inputs"]
[null,null,"DEMAND",null,null,"GENERATION / IMPORT",null,null,null,null,null,"STORAGE SOLUTION"]
[]
[null,null,"Host site annual demand (kWh)",500000,null,"Solar array size (kWp)",null,200,"Start time","end time",null,"Battery capacity (kW)",null,30]
[null,null,"Annual days of 'use'",195,null,"Imported Electricity cost, rate 1 (p/kWh)",null,10,"07:30:00","23:59:00",null,"Battery delivery (hrs)",null,2]
[null,null,"Annual days of 'non-use'",170,null,"Imported Electricity cost, rate 2 (p/kWh)",null,6,"00:00:00","07:29:00",null,"Minimum charge %",null,0.2]
[null,null,"Building type","Secondary school",null,"Is there a PPA for PV generation?",null,"Y",null,null,null,"Minimum charge kWh",null,{"$f":"N16*N15*N14","v":12}]
[null,null,"Typical Ratio of 'Non-use' to 'Use'daily  demand for that type of building",null,null,"PPA - PV electricity cost (p/kWh)",null,7.5,null,null,null,"Battery O&M cost (% CAPEX)",null,0.02,{"$f":"\"(£\"&-TEXT('IRR and ROI'!E6,\"0.00\")&\")\"","v":"(£224.93)"}]
[null,null,null,{"$f":"VLOOKUP(D17,Data!A2:B5,2,FALSE)","v":0.56000000000000005},null,"Is there a PPA for the Storage generation?",null,"Y",null,null,null,"Lifetime of battery (yrs)",null,10]
[null,null,null,null,null,"PPA - Storage electricity cost (p/kWh)",null,7.5,null,null,null,"Project development costs",null,0.06,{"$f":"\"(£\"&-TEXT('IRR and ROI'!D8,\"0.00\")&\")\"","v":"(£674.8)"}]
[null,null,"Definition of 'Use' and 'Non-Use'"]
[null,null,null,null,null,"Does the project need to account for finance costs?",null,null,"Y"]
[null,null,"If you feel the proportions of 'ise' to 'non-use' are not quite right, you can adjust it using the slider below:",null,null,null,null,null,null,"FINANCE"]
[null,null,null,null,null,null,null,null,null,null,null,null,null,null,"Per annum:"]
[null,null,null,null,null,null,null,null,null,"Cost of finance (annual cost)",null,null,null,0.05,{"$f":"\"(£\"&-TEXT('IRR and ROI'!E7,\"0.00\")&\")\"","v":"(£562.33)"}]
[null,null,"Ratio of 'Non-Use' to 'Use' daily demand used:",null,null,{"$f":"IF(D27=50,D19,(((D27-50)/100)+D19))","v":0.57000000000000006},null,null,null,"Length of term (yrs) before full repayment",null,null,null,10]
[null,null,null,51,null,null,null,null,null,"Loan setup cost (%)",null,null,null,0.01,{"$f":"\"(£\"&-TEXT('IRR and ROI'!D9,\"0.00\")&\")\"","v":"(£112.47)"}]
[null,null,"Additional annual demand (kWh)",null,null,"Add some extra kWh annual demand in here if you want. This could represent the demand of a proposed building, or equimpent",null,null,null,"Target annual ROI",null,null,null,0.05]
[]
[]
[null,null,"Headline Results"]
[]
[null,null,"Annual cost of importing all the demand (no PV)"]
[null,null,"Annual import and PPA costs, with a PV array",null,null,{"$f":"LOGIC!AP110","v":39682.011388902247},"Battery cost (installed)",null,{"$f":"'IRR and ROI'!C16","v":-12033.959155558239}]
[null,null,"Annual import costs with a PV and storage",null,null,null,"Net annual income on savings from using storage (excluding any finance costs)",null,{"$f":"'IRR and ROI'!E11","v":593.87488884088907},null,null,"Cumulative cash flow at end of the project",null,{"$f":"HLOOKUP(N26,'IRR and ROI'!E2:AC12,11)","v":-5532.8757271699906}]
[]
[]
[]
[null,null,"Benefits"]
[null,null,"Community Energy Group (owner)",null,null,null,null,null,"Host site (energy user)"]
[null,null,"Battery Investment required",{"$f":"I34*-1","v":12033.959155558239},null,"This is the cost of installing the battery"]
[null,null,"Annual solar PV income - PPA",{"$f":"IF(H17=\"N\",0,LOGIC!T118)","v":15640.367666296332},null,null,null,"Annual import cost (no PV or storage) (baseline)",null,null,null,{"$f":"LOGIC!Z110","v":44429.714985910075},"This is the electricity bill that would be paid, if all electricity was imported"]
[null,null,"Annual storage income - PPA",{"$f":"IF(H19=\"N\",0,LOGIC!T119)","v":1381.1432448119888},null,null,null,"Electricity bill savings by using PV",null,null,null,{"$f":"LOGIC!V115","v":4747.7035970078286},"Savings from using PV, even if paying a PPA"]
[null,null,"Simple payback from storage income only:",{"$f":"'IRR and ROI'!C21","v":"32.6 Yrs: No payback within lifetime of battery"},null,null,"This will show N/A if the finance costs are more than the income","Electricity savings by using storage (in addition to the onsite PV)",null,null,null,{"$f":"LOGIC!W116","v":460.38108160399133},"Savings from using a battery, even if paying a PPA"]
[null,null,null,null,null,null,null,"Total electricity savings from PV and Storage",null,null,null,{"$f":"SUM(L43:L44)","v":5208.08467861182}]
[]
[null,null,"To break even at the end of the battery lifetime, capital costs would have to reduce by:",null,null,{"$f":"'IRR and ROI'!D32","v":0.30618976561397093},null,null,"New total annual electricity bill (modelled)",null,null,{"$f":"L42-L45","v":39221.630307298256}]
[null,null,"To achieve the target ROI each year, capital costs would have to reduce by:",null,null,{"$f":"'IRR and ROI'!D36","v":0.57013584096237402}]
[]
[]
[]
[]
[]
[]
[]
[]
[null,null,"Typical daily demand and generation profiles"]
[]
[]
[]
[]
[]
[]
[]
[]
[]
[]
[]
[]
[]
[]
[]
[]
[]
[]
[]
[null,null,"Battery state of charge, for 'In use' days and 'not in use' days"]
[]
[]
[]
[]
[]
[]
[]
[]
[]
[]
[]
[]
[]
[]
[]
[]
[]
[]
[]
[]
[null,null,"Typical energy balance, for each season"]
[]
[]
[null,null,"Seasonal savings, if using a battery","Autumn"]
[null,null,null,{"$f":"IF(D101=\"Spring\",LOGIC!T123,IF(D101=\"Summer\",LOGIC!U123,IF(D101=\"Autumn\",LOGIC!V123,IF(D101=\"Winter\",LOGIC!W123,\"\"))))","v":310.57257000962397}]
[]
[]
[]
[]
[]
[]
[]
[]
[]
[]
[]
[]
[]
[]
[]
[]
[]
[]
[]
[]
[null,null,"Modelled Cashflow"]
[]
[]
[]
[]
[]
[]
[]
[]
[]
[]
[]
[]
[]
[]
[]
[]
[]
[null,null,"Battery Costs - PLEASE UPDATE"]
[null,null,null,null,null,null,null,null,null,null,null,"Current selection:",{"$f":"Data!E70","v":60},"kW"]
[null,null,"Manufacturer","Assumed lifetime",null,"Unit Capacity / kWh",null,"Price ex Vat","Date price was harvested",null,null,"Estimated cost:",{"$f":"Data!F76","v":11246.690799587139}]
[null,null,"Tesla",10,null,14,null,5913,null,"2017-03-01"]
[null,null,"Solax",10,null,4.8,null,3492,null,"2017-03-01"]
[null,null,"LG Chem",10,null,3,null,3613,null,"2017-03-01"]
[null,null,"LG Chem",10,null,3.5,null,4603,null,"2017-03-01"]
[null,null,"LG Chem",10,null,10,null,5373,null,"2017-03-01"]
[]
[]
[]
[]
[]
[]
[null,null,"DISCLAIMER: This tool is to be used for illustrative purposes only and must not be used to make financial decisions."]

{"sheet":"Definition","index":2,"n_rows":2,"n_cols":1,"rows_kept":2,"cut":false,"hidden":false,"merged":[]}
[]
["Definitions"]

{"sheet":"IRR and ROI","index":3,"n_rows":36,"n_cols":29,"rows_kept":36,"cut":false,"hidden":true,"merged":[]}
[]
["Battery lifetime",{"$f":"'Import avoidance model - RR'!N19","v":10},null,null,1,2,3,4,5,6,7,8,9,10,11,12,13,14,15,16,17,18,19,20,21,22,23,24,25]
[]
[null,null,null,"Year0 ","Year1","Year2","Year3","Year4","Year5","Year6","Year7","Year8","Year9","Year10","Year11","Year12","Year13","Year14","Year15","Year16","Year17","Year18","Year19","Year20","Year21","Year22","Year23","Year24","Year25"]
[null,"Battery Capex",null,{"$f":"-Data!F76","v":-11246.690799587139}]
[null,"Battery O&M",{"$f":"'Import avoidance model - RR'!N18","v":0.02},null,{"$f":"IF(E2<=$B$2,$D$5*$C$6,\"\")","v":-224.93381599174279},{"$f":"IF(F2<=$B$2,$D$5*$C$6,\"\")","v":-224.93381599174279},-224.93381599174279,-224.93381599174279,-224.93381599174279,-224.93381599174279,-224.93381599174279,-224.93381599174279,-224.93381599174279,-224.93381599174279,"","","","","","","","","","","","","","",""]
[null,"Cost of finance",{"$f":"IF('Import avoidance model - RR'!I22=\"Y\",'Import avoidance model - RR'!N25,\"\")","v":0.05},null,{"$f":"IFERROR(IF(E2='Import avoidance model - RR'!$N$26,'IRR and ROI'!$D$5,IF('IRR and ROI'!E2>'Import avoidance model - RR'!$N$26,\"\",$C$7*$D$5)),0)","v":-562.33453997935692},{"$f":"IFERROR(IF(F2='Import avoidance model - RR'!$N$26,'IRR and ROI'!$D$5,IF('IRR and ROI'!F2>'Import avoidance model - RR'!$N$26,\"\",$C$7*$D$5)),0)","v":-562.33453997935692},{"$f":"IFERROR(IF(G2='Import avoidance model - RR'!$N$26,'IRR and ROI'!$D$5,IF('IRR and ROI'!G2>'Import avoidance model - RR'!$N$26,\"\",$C$7*$D$5)),0)","v":-562.33453997935692},{"$f":"IFERROR(IF(H2='Import avoidance model - RR'!$N$26,'IRR and ROI'!$D$5,IF('IRR and ROI'!H2>'Import avoidance model - RR'!$N$26,\"\",$C$7*$D$5)),0)","v":-562.33453997935692},{"$f":"IFERROR(IF(I2='Import avoidance model - RR'!$N$26,'IRR and ROI'!$D$5,IF('IRR and ROI'!I2>'Import avoidance model - RR'!$N$26,\"\",$C$7*$D$5)),0)","v":-562.33453997935692},{"$f":"IFERROR(IF(J2='Import avoidance model - RR'!$N$26,'IRR and ROI'!$D$5,IF('IRR and ROI'!J2>'Import avoidance model - RR'!$N$26,\"\",$C$7*$D$5)),0)","v":-562.33453997935692},{"$f":"IFERROR(IF(K2='Import avoidance model - RR'!$N$26,'IRR and ROI'!$D$5,IF('IRR and ROI'!K2>'Import avoidance model - RR'!$N$26,\"\",$C$7*$D$5)),0)","v":-562.33453997935692},{"$f":"IFERROR(IF(L2='Import avoidance model - RR'!$N$26,'IRR and ROI'!$D$5,IF('IRR and ROI'!L2>'Import avoidance model - RR'!$N$26,\"\",$C$7*$D$5)),0)","v":-562.33453997935692},{"$f":"IFERROR(IF(M2='Import avoidance model - RR'!$N$26,'IRR and ROI'!$D$5,IF('IRR and ROI'!M2>'Import avoidance model - RR'!$N$26,\"\",$C$7*$D$5)),0)","v":-562.33453997935692},{"$f":"IFERROR(IF(N2='Import avoidance model - RR'!$N$26,'IRR and ROI'!$D$5,IF('IRR and ROI'!N2>'Import avoidance model - RR'!$N$26,\"\",$C$7*$D$5)),0)","v":-11246.690799587139},{"$f":"IFERROR(IF(O2='Import avoidance model - RR'!$N$26,'IRR and ROI'!$D$5,IF('IRR and ROI'!O2>'Import avoidance model - RR'!$N$26,\"\",$C$7*$D$5)),0)","v":""},{"$f":"IFERROR(IF(P2='Import avoidance model - RR'!$N$26,'IRR and ROI'!$D$5,IF('IRR and ROI'!P2>'Import avoidance model - RR'!$N$26,\"\",$C$7*$D$5)),0)","v":""},{"$f":"IFERROR(IF(Q2='Import avoidance model - RR'!$N$26,'IRR and ROI'!$D$5,IF('IRR and ROI'!Q2>'Import avoidance model - RR'!$N$26,\"\",$C$7*$D$5)),0)","v":""},{"$f":"IFERROR(IF(R2='Import avoidance model - RR'!$N$26,'IRR and ROI'!$D$5,IF('IRR and ROI'!R2>'Import avoidance model - RR'!$N$26,\"\",$C$7*$D$5)),0)","v":""},{"$f":"IFERROR(IF(S2='Import avoidance model - RR'!$N$26,'IRR and ROI'!$D$5,IF('IRR and ROI'!S2>'Import avoidance model - RR'!$N$26,\"\",$C$7*$D$5)),0)","v":""},{"$f":"IFERROR(IF(T2='Import avoidance model - RR'!$N$26,'IRR and ROI'!$D$5,IF('IRR and ROI'!T2>'Import avoidance model - RR'!$N$26,\"\",$C$7*$D$5)),0)","v":""},{"$f":"IFERROR(IF(U2='Import avoidance model - RR'!$N$26,'IRR and ROI'!$D$5,IF('IRR and ROI'!U2>'Import avoidance model - RR'!$N$26,\"\",$C$7*$D$5)),0)","v":""},{"$f":"IFERROR(IF(V2='Import avoidance model - RR'!$N$26,'IRR and ROI'!$D$5,IF('IRR and ROI'!V2>'Import avoidance model - RR'!$N$26,\"\",$C$7*$D$5)),0)","v":""},{"$f":"IFERROR(IF(W2='Import avoidance model - RR'!$N$26,'IRR and ROI'!$D$5,IF('IRR and ROI'!W2>'Import avoidance model - RR'!$N$26,\"\",$C$7*$D$5)),0)","v":""},{"$f":"IFERROR(IF(X2='Import avoidance model - RR'!$N$26,'IRR and ROI'!$D$5,IF('IRR and ROI'!X2>'Import avoidance model - RR'!$N$26,\"\",$C$7*$D$5)),0)","v":""},{"$f":"IFERROR(IF(Y2='Import avoidance model - RR'!$N$26,'IRR and ROI'!$D$5,IF('IRR and ROI'!Y2>'Import avoidance model - RR'!$N$26,\"\",$C$7*$D$5)),0)","v":""},{"$f":"IFERROR(IF(Z2='Import avoidance model - RR'!$N$26,'IRR and ROI'!$D$5,IF('IRR and ROI'!Z2>'Import avoidance model - RR'!$N$26,\"\",$C$7*$D$5)),0)","v":""},{"$f":"IFERROR(IF(AA2='Import avoidance model - RR'!$N$26,'IRR and ROI'!$D$5,IF('IRR and ROI'!AA2>'Import avoidance model - RR'!$N$26,\"\",$C$7*$D$5)),0)","v":""},{"$f":"IFERROR(IF(AB2='Import avoidance model - RR'!$N$26,'IRR and ROI'!$D$5,IF('IRR and ROI'!AB2>'Import avoidance model - RR'!$N$26,\"\",$C$7*$D$5)),0)","v":""},{"$f":"IFERROR(IF(AC2='Import avoidance model - RR'!$N$26,'IRR and ROI'!$D$5,IF('IRR and ROI'!AC2>'Import avoidance model - RR'!$N$26,\"\",$C$7*$D$5)),0)","v":""}]
[null,"Project development costs",{"$f":"'Import avoidance model - RR'!N20","v":0.06},{"$f":"C8*D5","v":-674.80144797522826}]
[null,"Loan setup cost",{"$f":"IF('Import avoidance model - RR'!I22=\"Y\",'Import avoidance model - RR'!N27,\"\")","v":0.01},{"$f":"IFERROR(D5*C9,0)","v":-112.4669079958714}]
[null,"income",null,null,{"$f":"IF(E2<=$B$2,('Import avoidance model - RR'!$D$43),\"\")","v":1381.1432448119888},{"$f":"IF(F2<=$B$2,('Import avoidance model - RR'!$D$43),\"\")","v":1381.1432448119888},{"$f":"IF(G2<=$B$2,('Import avoidance model - RR'!$D$43),\"\")","v":1381.1432448119888},{"$f":"IF(H2<=$B$2,('Import avoidance model - RR'!$D$43),\"\")","v":1381.1432448119888},{"$f":"IF(I2<=$B$2,('Import avoidance model - RR'!$D$43),\"\")","v":1381.1432448119888},{"$f":"IF(J2<=$B$2,('Import avoidance model - RR'!$D$43),\"\")","v":1381.1432448119888},{"$f":"IF(K2<=$B$2,('Import avoidance model - RR'!$D$43),\"\")","v":1381.1432448119888},{"$f":"IF(L2<=$B$2,('Import avoidance model - RR'!$D$43),\"\")","v":1381.1432448119888},{"$f":"IF(M2<=$B$2,('Import avoidance model - RR'!$D$43),\"\")","v":1381.1432448119888},{"$f":"IF(N2<=$B$2,('Import avoidance model - RR'!$D$43),\"\")","v":1381.1432448119888},{"$f":"IF(O2<=$B$2,('Import avoidance model - RR'!$D$43),\"\")","v":""},{"$f":"IF(P2<=$B$2,('Import avoidance model - RR'!$D$43),\"\")","v":""},{"$f":"IF(Q2<=$B$2,('Import avoidance model - RR'!$D$43),\"\")","v":""},{"$f":"IF(R2<=$B$2,('Import avoidance model - RR'!$D$43),\"\")","v":""},{"$f":"IF(S2<=$B$2,('Import avoidance model - RR'!$D$43),\"\")","v":""},{"$f":"IF(T2<=$B$2,('Import avoidance model - RR'!$D$43),\"\")","v":""},{"$f":"IF(U2<=$B$2,('Import avoidance model - RR'!$D$43),\"\")","v":""},{"$f":"IF(V2<=$B$2,('Import avoidance model - RR'!$D$43),\"\")","v":""},{"$f":"IF(W2<=$B$2,('Import avoidance model - RR'!$D$43),\"\")","v":""},{"$f":"IF(X2<=$B$2,('Import avoidance model - RR'!$D$43),\"\")","v":""},{"$f":"IF(Y2<=$B$2,('Import avoidance model - RR'!$D$43),\"\")","v":""},{"$f":"IF(Z2<=$B$2,('Import avoidance model - RR'!$D$43),\"\")","v":""},{"$f":"IF(AA2<=$B$2,('Import avoidance model - RR'!$D$43),\"\")","v":""},{"$f":"IF(AB2<=$B$2,('Import avoidance model - RR'!$D$43),\"\")","v":""},{"$f":"IF(AC2<=$B$2,('Import avoidance model - RR'!$D$43),\"\")","v":""}]
[null,"Cash Flow",null,{"$f":"IF('Import avoidance model - RR'!I22=\"Y\",SUM(D8:D9),SUM('IRR and ROI'!D5:D9))","v":-787.26835597109971},{"$f":"SUM(E6:E10)","v":593.87488884088907},{"$f":"SUM(F6:F10)","v":593.87488884088907},{"$f":"SUM(G6:G10)","v":593.87488884088907},593.87488884088907,593.87488884088907,593.87488884088907,593.87488884088907,593.87488884088907,593.87488884088907,-10090.481370766893,0,0,0,0,0,0,0,0,0,0,0,0,0,0,0]
[null,"Cum Cash",null,{"$f":"D11","v":-787.26835597109971},{"$f":"IF(E2<=$B$2,D12+E11,\"\")","v":-193.39346713021064},{"$f":"IF(F2<=$B$2,E12+F11,\"\")","v":400.48142171067843},{"$f":"IF(G2<=$B$2,F12+G11,\"\")","v":994.3563105515675},{"$f":"IF(H2<=$B$2,G12+H11,\"\")","v":1588.2311993924566},{"$f":"IF(I2<=$B$2,H12+I11,\"\")","v":2182.1060882333459},2775.9809770742349,3369.855865915124,3963.7307547560131,4557.6056435969022,-5532.8757271699906,"","","","","",{"$f":"IF(T2<=$B$2,S12+T11,\"\")","v":""},{"$f":"IF(U2<=$B$2,T12+U11,\"\")","v":""},{"$f":"IF(V2<=$B$2,U12+V11,\"\")","v":""},{"$f":"IF(W2<=$B$2,V12+W11,\"\")","v":""},{"$f":"IF(X2<=$B$2,W12+X11,\"\")","v":""},{"$f":"IF(Y2<=$B$2,X12+Y11,\"\")","v":""},{"$f":"IF(Z2<=$B$2,Y12+Z11,\"\")","v":""},"","",""]
[]
[]
[null,"CAPEX and development costs",{"$f":"SUM(D5+D8)","v":-11921.492247562368}]
[null,"CAPEX, development, loan fee",{"$f":"D5+D8+D9","v":-12033.959155558239}]
[null,"Outlay in year zero",{"$f":"IF('Import avoidance model - RR'!I22=\"Y\",SUM('IRR and ROI'!D8:D9),SUM('IRR and ROI'!D5:D8))","v":-787.26835597109971}]
[null,"Total project outlay over lifetime",{"$f":"SUM(E7:AC7)+D8+D9+SUM(E6:AC6)","v":-19344.30817528988}]
[null,"Total project income",{"$f":"SUM(E10:AC10)","v":13811.432448119887}]
[null,"Annual income",{"$f":"E11","v":593.87488884088907}]
[null,"Payback",{"$f":"IF(C20<0,\"N/A\",IF((-C18/C20)<B2,(-C18/C20),TEXT((-C18/C20),\"0.0\") & \" Yrs: No payback within lifetime of battery\"))","v":"32.6 Yrs: No payback within lifetime of battery"}]
[]
[null,"What would cost have to be break even after project lifetime?"]
[]
[null,null,"Cost of finance over lifetime","Project development","Loan setup cost","OPEX over lifetime",null,"Cost on top of CAPEX to run project"]
[null,"Using a loan",{"$f":"IFERROR(B2*C7,\"\")","v":0.5},{"$f":"C8","v":0.06},{"$f":"C9","v":0.01},{"$f":"B2*C6","v":0.2},null,{"$f":"SUM(C26:F26)","v":0.77}]
[]
[null,null,"Income","Total cost of CAPEX over project"]
[null,null,{"$f":"C19","v":13811.432448119887},{"$f":"H26+1","v":1.77}]
[]
[null,null,"CAPEX would have to cost to break even","Reduction in equipment costs required"]
[null,null,{"$f":"C29/D29","v":7803.06917972875},{"$f":"IF(1-(-C32/D5)>0,1-(-C32/D5),\"Project pays back within battery lifetime\")","v":0.30618976561397093}]
[]
[null,null,"To achieve the target ROI","Reduction in equipment costs required"]
[null,null,"Additional income required of "]
[null,null,{"$f":"(C19*('Import avoidance model - RR'!N28))*B2","v":6905.7162240599437},{"$f":"IF(1-(-C32/(D5-C36))>0,1-(-C32/(D5-C36)),\"Project already pays at least \"&'Import avoidance model - RR'!N28&\" ROI\")","v":0.57013584096237402}]

{"sheet":"PV data","index":4,"n_rows":52,"n_cols":10,"rows_kept":52,"cut":false,"hidden":true,"merged":[[2,2,2,8],[4,0,7,1]]}
["PV array generation data: Ready reckoner"]
[]
["PV array size (kW)",{"$f":"'Import avoidance model - RR'!H14","v":200},"PV average generation (kWh)"]
[null,null,"Winter Factor","Winter generation","Summer Factor","Summer generation","Autumn Factor","Autumn generation","Spring Factor","Spring generation"]
["Factors are based on the Regen PV model, for a typical days' generation in the south west",null,{"$error":"#DIV/0!"},{"$f":"IFERROR($B$3/C5,0)","v":0},{"$error":"#DIV/0!"},{"$f":"IFERROR($B$3/E5,0)","v":0},{"$error":"#DIV/0!"},{"$f":"IFERROR($B$3/G5,0)","v":0},{"$error":"#DIV/0!"},{"$f":"IFERROR($B$3/I5,0)","v":0}]
[null,null,{"$error":"#DIV/0!"},{"$f":"IFERROR($B$3/C6,0)","v":0},{"$error":"#DIV/0!"},{"$f":"IFERROR($B$3/E6,0)","v":0},{"$error":"#DIV/0!"},{"$f":"IFERROR($B$3/G6,0)","v":0},{"$error":"#DIV/0!"},{"$f":"IFERROR($B$3/I6,0)","v":0}]
[null,null,{"$error":"#DIV/0!"},0,{"$error":"#DIV/0!"},0,{"$error":"#DIV/0!"},0,{"$error":"#DIV/0!"},0]
[null,null,{"$error":"#DIV/0!"},0,{"$error":"#DIV/0!"},0,{"$error":"#DIV/0!"},0,{"$error":"#DIV/0!"},0]
[null,null,{"$error":"#DIV/0!"},0,{"$error":"#DIV/0!"},0,{"$error":"#DIV/0!"},0,{"$error":"#DIV/0!"},0]
[null,null,{"$error":"#DIV/0!"},0,{"$error":"#DIV/0!"},0,{"$error":"#DIV/0!"},0,{"$error":"#DIV/0!"},0]
[null,null,{"$error":"#DIV/0!"},0,{"$error":"#DIV/0!"},0,{"$error":"#DIV/0!"},0,{"$error":"#DIV/0!"},0]
[null,null,{"$error":"#DIV/0!"},0,{"$error":"#DIV/0!"},0,{"$error":"#DIV/0!"},0,{"$error":"#DIV/0!"},0]
[null,null,{"$error":"#DIV/0!"},0,{"$error":"#DIV/0!"},0,{"$error":"#DIV/0!"},0,{"$error":"#DIV/0!"},0]
[null,null,{"$error":"#DIV/0!"},0,{"$error":"#DIV/0!"},0,{"$error":"#DIV/0!"},0,{"$error":"#DIV/0!"},0]
[null,null,{"$error":"#DIV/0!"},0,{"$error":"#DIV/0!"},0,{"$error":"#DIV/0!"},0,{"$error":"#DIV/0!"},0]
[null,null,{"$error":"#DIV/0!"},0,{"$error":"#DIV/0!"},0,{"$error":"#DIV/0!"},0,{"$error":"#DIV/0!"},0]
[null,null,{"$error":"#DIV/0!"},0,25.030593017220692,7.9902221997857916,{"$error":"#DIV/0!"},0,{"$error":"#DIV/0!"},0]
[null,null,{"$error":"#DIV/0!"},0,9.9187563574112296,20.163818203938572,{"$error":"#DIV/0!"},0,{"$error":"#DIV/0!"},0]
[null,null,{"$error":"#DIV/0!"},0,5.4955099134987631,36.393347141224297,{"$error":"#DIV/0!"},0,8.0416008113253632,24.870669993756795]
[null,null,{"$error":"#DIV/0!"},0,7.5925214437405666,26.34171025817572,{"$error":"#DIV/0!"},0,5.51436498823705,36.268908646168569]
[null,null,{"$error":"#DIV/0!"},0,3.4875025071074695,57.347629024611017,10.882447492888135,18.378218698569729,6.8871497928276728,29.039589092178804]
[null,null,28.969135192091244,6.9038995701397834,2.6431434207378102,75.667479271394114,8.446132778036997,23.679476188211535,4.5614621859889857,43.845589823000438]
[null,null,11.617323978059213,17.215668632270678,2.5706228199816605,77.802156911307137,7.9056933290238645,25.298223909817978,5.647387613052004,35.414604717014363]
[null,null,10.889930520208406,18.36559008607637,2.9740414341678267,67.248558712821847,7.3342940997656063,27.269154642488594,5.2473380199656683,38.114563849139749]
[null,null,11.273971126283275,17.739978021917697,2.0483415935770655,97.639964265303746,3.3952548114835865,58.905740836755704,2.9621173191292822,67.519270323428728]
[null,null,10.458544483394693,19.123119887049796,4.2417236014689159,47.15064412276643,3.6183552649501789,55.273732222298463,2.9067421399562683,68.805552873365301]
[null,null,4.168492307594156,47.978977827460582,2.8558095871814366,70.032680364166552,3.3081887154355929,60.456043232003402,4.4543266019346692,44.90016513677579]
[null,null,8.2744118947815934,24.170902118872473,1.5621514868910982,128.02855656337672,3.6499521267115078,54.795239240629087,2.7194911591501243,73.543169768017393]
[null,null,3.6873900230879242,54.238905770134501,2.4221287940097418,82.571992246914178,5.1925699598492301,38.516573016150012,4.0793171801985535,49.027813029793712]
[null,null,4.116601976364155,48.583759408443711,2.4377612988484461,82.042487135420657,4.5044913226625942,44.400129931159569,2.113654476389808,94.622845045897307]
[null,null,8.8139698424815833,22.691250772840149,1.9527340050163926,102.42050350238104,5.7558372329974734,34.747334211159718,4.560589534428928,43.853979510796684]
[null,null,6.7117008924103541,29.798705753732506,2.8854036700544161,69.314391631112116,4.1226372574534,48.512635846972934,2.3475246459795969,85.196123645612303]
[null,null,6.8116982157832968,29.361253781998535,2.1928082935797413,91.207243508506465,3.3711384343744903,59.327139449587655,2.8294109041987046,70.686092183786386]
[null,null,13.887865094152477,14.40106154863288,2.0273343707762495,98.651708806881061,3.688357485909822,54.224678807310674,2.7306426641013095,73.242831304630855]
[null,null,20.3446761727389,9.8305816372733652,2.3717183606970487,84.327044607952502,4.9008717919457618,40.809065915310399,2.8641531892275802,69.828667248743443]
[null,null,23.603287517025727,8.4733959138418449,2.6761453175811436,74.734357168904296,6.8854182027025868,29.046892158489118,4.7013899344675192,42.540610923108225]
[null,null,{"$error":"#DIV/0!"},0,4.404888109816949,45.404104488890475,10.681803965391325,18.723429174322341,3.8133308062805074,52.447587203974685]
[null,null,{"$error":"#DIV/0!"},0,5.562005227458334,35.958254590025597,31.030556329930548,6.4452598874964364,5.5627644482780481,35.953346912237123]
[null,null,{"$error":"#DIV/0!"},0,7.3589127580936227,27.177927850827164,{"$error":"#DIV/0!"},0,8.6233115860406038,23.192946005077623]
[null,null,{"$error":"#DIV/0!"},0,11.623334752880709,17.206765893964494,{"$error":"#DIV/0!"},0,{"$error":"#DIV/0!"},0]
[null,null,{"$error":"#DIV/0!"},0,{"$error":"#DIV/0!"},0,{"$error":"#DIV/0!"},0,{"$error":"#DIV/0!"},0]
[null,null,{"$error":"#DIV/0!"},0,{"$error":"#DIV/0!"},0,{"$error":"#DIV/0!"},0,{"$error":"#DIV/0!"},0]
[null,null,{"$error":"#DIV/0!"},0,{"$error":"#DIV/0!"},0,{"$error":"#DIV/0!"},0,{"$error":"#DIV/0!"},0]
[null,null,{"$error":"#DIV/0!"},0,{"$error":"#DIV/0!"},0,{"$error":"#DIV/0!"},0,{"$error":"#DIV/0!"},0]
[null,null,{"$error":"#DIV/0!"},0,{"$error":"#DIV/0!"},0,{"$error":"#DIV/0!"},0,{"$error":"#DIV/0!"},0]
[null,null,{"$error":"#DIV/0!"},0,{"$error":"#DIV/0!"},0,{"$error":"#DIV/0!"},0,{"$error":"#DIV/0!"},0]
[null,null,{"$error":"#DIV/0!"},0,{"$error":"#DIV/0!"},0,{"$error":"#DIV/0!"},0,{"$error":"#DIV/0!"},0]
[null,null,{"$error":"#DIV/0!"},0,{"$error":"#DIV/0!"},0,{"$error":"#DIV/0!"},0,{"$error":"#DIV/0!"},0]
[null,null,{"$error":"#DIV/0!"},0,{"$error":"#DIV/0!"},0,{"$error":"#DIV/0!"},0,{"$error":"#DIV/0!"},0]
[null,null,{"$error":"#DIV/0!"},0,{"$error":"#DIV/0!"},0,{"$error":"#DIV/0!"},0,{"$error":"#DIV/0!"},0]
[null,null,{"$error":"#DIV/0!"},0,{"$error":"#DIV/0!"},0,{"$error":"#DIV/0!"},0,{"$error":"#DIV/0!"},0]
[null,null,{"$error":"#DIV/0!"},0,{"$error":"#DIV/0!"},0,{"$error":"#DIV/0!"},0,{"$error":"#DIV/0!"},0]

{"sheet":"Data","index":5,"n_rows":76,"n_cols":23,"rows_kept":76,"cut":false,"hidden":true,"merged":[[0,3,0,6],[0,7,0,10],[0,11,0,14],[0,15,0,18],[1,21,2,22]]}
["Category","% of 'non-use' to 'use' daily demand",null,"Secondary school",null,null,null,"Primary school",null,null,null,"Retail (Elexon profile class 3)",null,null,null,"Leisure centre",null,null,null,null,null,"Selected demand profile",{"$f":"'Import avoidance model - RR'!$D$17","v":"Secondary school"}]
["Primary school",0.4,null,"% of 'Use' per year",null,"% of 'non-use' per year",null,"% of 'Use' per year",null,"% of 'non-use' per year",null,"% of 'Use' per year",null,"% of 'non-use' per year",null,"% of 'Use' per year",null,"% of 'non-use' per year",null,null,null,"DASHBOARD CHART"]
["Secondary school",{"$f":"0.56","v":0.56000000000000005},null,{"$f":"'Import avoidance model - RR'!D15/365","v":0.53424657534246578},null,{"$f":"'Import avoidance model - RR'!D16/365","v":0.46575342465753422},null,{"$f":"D3","v":0.53424657534246578},null,{"$f":"F3","v":0.46575342465753422},null,{"$f":"H3","v":0.53424657534246578},null,{"$f":"J3","v":0.46575342465753422},null,{"$f":"L3","v":0.53424657534246578},null,{"$f":"N3","v":0.46575342465753422}]
["Leisure centre",null,null,"average daily consumption (kWh)",null,"average daily consumption (kWh)",null,"average daily consumption (kWh)",null,"average daily consumption (kWh)",null,"average daily consumption (kWh)",null,"average daily consumption (kWh)",null,"average daily consumption (kWh)",null,"average daily consumption (kWh)",null,null,null,"Use' per year"," 'non-use' per year"]
["Retail",null,null,{"$f":"(B8/('Import avoidance model - RR'!D15+'Import avoidance model - RR'!D16*Data!B6))","v":1712.9153819801304},"HH consumption",{"$f":"B6*D5","v":976.36176772867441},"HH consumption",{"$f":"D5","v":1712.9153819801304},"HH consumption",{"$f":"F5","v":976.36176772867441},"HH consumption",{"$f":"H5","v":1712.9153819801304},"HH consumption",{"$f":"J5","v":976.36176772867441},"HH consumption",{"$f":"L5","v":1712.9153819801304},"HH consumption",{"$f":"N5","v":976.36176772867441},"HH consumption",null,null,"HH consumption","HH consumption"]
["Value used in modelling",{"$f":"'Import avoidance model - RR'!F26","v":0.57000000000000006},"00:00:00",1.0280832260674064E-2,{"$f":"D6*$D$5","v":17.610195718866162},2.0795667857544484E-2,{"$f":"F6*$F$5","v":20.304095030490508},null,{"$f":"H6*$H$5","v":0},1.4074378467228272E-2,{"$f":"J6*$J$5","v":13.741685039945386},8.0543352017371124E-3,{"$f":"L6*$L$5","v":13.796394658679537},1.4074378467228272E-2,{"$f":"N6*$N$5","v":13.741685039945386},null,{"$f":"P6*$P$5","v":0},null,{"$f":"R6*$R$5","v":0},null,null,{"$f":"IF($W$1=\"Retail\",M6,IF($W$1=\"Leisure Centre\",Q6,IF($W$1=\"Primary School\",I6,IF($W$1=\"Secondary School\",E6,\"\"))))","v":17.610195718866162},{"$f":"IF($W$1=\"Retail\",O6,IF($W$1=\"Leisure Centre\",S6,IF($W$1=\"Primary School\",K6,IF($W$1=\"Secondary School\",G6,\"\"))))","v":20.304095030490508}]
["Location","Total demand","00:30:00",1.0247062509907026E-2,{"$f":"D7*$D$5","v":17.552350993331668},2.0776154064813552E-2,{"$f":"F7*$F$5","v":20.285042509324644},null,{"$f":"H7*$H$5","v":0},1.366344770906102E-2,{"$f":"J7*$J$5","v":13.340467958487125},7.8775943038933496E-3,{"$f":"L7*$L$5","v":13.493652456137976},1.366344770906102E-2,{"$f":"N7*$N$5","v":13.340467958487125},null,{"$f":"P7*$P$5","v":0},null,{"$f":"R7*$R$5","v":0},null,null,{"$f":"IF($W$1=\"Retail\",M7,IF($W$1=\"Leisure Centre\",Q7,IF($W$1=\"Primary School\",I7,IF($W$1=\"Secondary School\",E7,\"\"))))","v":17.552350993331668},{"$f":"IF($W$1=\"Retail\",O7,IF($W$1=\"Leisure Centre\",S7,IF($W$1=\"Primary School\",K7,IF($W$1=\"Secondary School\",G7,\"\"))))","v":20.285042509324644}]
["South west",{"$f":"'Import avoidance model - RR'!D14+'Import avoidance model - RR'!D28","v":500000},"01:00:00",1.0211545895626806E-2,17.491514038415222,2.08962544180132E-2,20.402303902479492,null,0,1.3432299157591945E-2,13.114783350166855,7.8018482048174513E-3,13.363905797905879,1.3432299157591945E-2,13.114783350166855,null,0,null,0,null,null,17.491514038415222,20.402303902479492]
[null,null,"01:30:00",1.0203369726564587E-2,17.477508952662877,2.0872113643500709E-2,20.378733773202136,null,0,1.3175467433737414E-2,12.864022674255443,7.8018482048174513E-3,13.363905797905879,1.3175467433737414E-2,12.864022674255443,null,0,null,0,null,null,17.477508952662877,20.378733773202136]
[null,"**Demand check**","02:00:00",1.0215620732962418E-2,17.498493889966461,2.0896857937376011E-2,20.402893155711425,null,0,1.2918635709882883E-2,12.613261998344029,7.7261021057415521E-3,13.23415913967378,1.2918635709882883E-2,12.613261998344029,null,0,null,0,null,null,17.498493889966461,20.402893155711425]
[null,{"$f":"('Import avoidance model - RR'!D15*Data!D5)+('Import avoidance model - RR'!D16*Data!F5)","v":500000.00000000012},"02:30:00",1.0373135186328314E-2,17.768302820021095,2.0942926582070687E-2,20.447872819082381,null,0,1.2738853503184716E-2,12.437729525206045,7.6251073069736903E-3,13.061163595364322,1.2738853503184716E-2,12.437729525206045,null,0,null,0,null,null,17.768302820021095,20.447872819082381]
[null,null,"03:00:00",1.1131166207194169E-2,19.066745815680321,2.0924821001186315E-2,20.430195222124361,null,0,1.2610437641257449E-2,12.312349187250337,7.6251073069736903E-3,13.061163595364322,1.2610437641257449E-2,12.312349187250337,null,0,null,0,null,null,19.066745815680321,20.430195222124361]
[null,null,"03:30:00",1.2309080336608554E-2,21.084413046605953,2.094876060257787E-2,20.453568933657738,null,0,1.2507704951715637E-2,12.212044916885773,7.6251073069736903E-3,13.061163595364322,1.2507704951715637E-2,12.212044916885773,null,0,null,0,null,null,21.084413046605953,20.453568933657738]
["Season",null,"04:00:00",1.4488235164793851E-2,24.817120871520817,2.0509599679571455E-2,20.024788998553838,null,0,1.2584754468871993E-2,12.287273119659195,7.801848204817453E-3,13.363905797905883,1.2584754468871993E-2,12.287273119659195,null,0,null,0,null,null,24.817120871520817,20.024788998553838]
["Spring",null,"04:30:00",1.6956934828155593E-2,29.045794498382314,1.9804890236927618E-2,19.336737641399015,null,0,1.255907129648654E-2,12.262197052068053,7.8775943038933496E-3,13.493652456137976,1.255907129648654E-2,12.262197052068053,null,0,null,0,null,null,29.045794498382314,19.336737641399015]
["Summer",null,"05:00:00",2.014048318764065E-2,34.49894345262188,1.9183064120110008E-2,18.729610394763117,null,0,1.2687487158413807E-2,12.387577390023761,8.0543352017371089E-3,13.79639465867953,1.2687487158413807E-2,12.387577390023761,null,0,null,0,null,null,34.49894345262188,18.729610394763117]
["Autumn",null,"05:30:00",2.1233912003038154E-2,36.371894489616572,1.9027758470746309E-2,18.577975896412124,null,0,1.2867269365111978E-2,12.563109863161749,8.635055294652326E-3,14.791119038458936,1.2867269365111978E-2,12.563109863161749,null,0,null,0,null,null,36.371894489616572,18.577975896412124]
["Winter",null,"06:00:00",2.1101120349059577E-2,36.144433622918086,1.8851329643684182E-2,18.405717534943449,null,0,1.3406615985206491E-2,13.089707282575713,9.4177649851032684E-3,16.131834506857263,1.3406615985206491E-2,13.089707282575713,null,0,null,0,null,null,36.144433622918086,18.405717534943449]
[null,null,"06:30:00",2.3732931847458887E-2,40.652504020998443,1.8471313618233363E-2,18.034684416569064,null,0,1.4177111156770082E-2,13.84198931030995,1.1185173963540875E-2,19.159256532272828,1.4177111156770082E-2,13.84198931030995,null,0,null,0,null,null,40.652504020998443,18.034684416569064]
["Finance?",null,"07:00:00",2.6331929159459845E-2,45.104366494449891,1.871050845902798E-2,18.268225114158874,null,0,1.533285391411547E-2,14.970412351911305,1.3684795233045499E-2,23.440896253931999,1.533285391411547E-2,14.970412351911305,null,0,null,0,null,null,45.104366494449891,18.268225114158874]
["Y",null,"07:30:00",2.8657133434879509E-2,49.087244664062197,1.8960566648353206E-2,18.512372369923483,null,0,1.7438874049722618E-2,17.026649894384882,1.8002322880371659E-2,30.836455773161461,1.7438874049722618E-2,17.026649894384882,null,0,null,0,null,null,49.087244664062197,18.512372369923483]
["N",null,"08:00:00",3.1093444588391618E-2,53.260439514202844,1.9179644177054072E-2,18.726271293115492,null,0,2.0161290322580645E-2,19.684713059045855,2.3228803716608591E-2,39.788975191176078,2.0161290322580645E-2,19.684713059045855,null,0,null,0,null,null,53.260439514202844,18.726271293115492]
[null,null,"08:30:00",3.2409325609493E-2,55.514432356103129,1.9935853938657887E-2,19.46460559272867,null,0,2.3962399835627698E-2,23.395971062534755,2.9187496843912534E-2,49.995712305434289,2.3962399835627698E-2,23.395971062534755,null,0,null,0,null,null,55.514432356103129,19.46460559272867]
["Solar PPA?",null,"09:00:00",3.3128969790387104E-2,56.747121943109128,2.0610588586282043E-2,20.123390706030776,null,0,2.950996507088555E-2,28.812401662221252,3.6004645760743317E-2,61.672911546322922,2.950996507088555E-2,28.812401662221252,null,0,null,0,null,null,56.747121943109128,20.123390706030776]
["Y",null,"09:30:00",3.4241054189633212E-2,58.652028416637918,2.1157175955869054E-2,20.657057716418915,null,0,3.2335114033285386E-2,31.570769097246785,3.8504267030247938E-2,65.954551267982083,3.2335114033285386E-2,31.570769097246785,null,0,null,0,null,null,58.652028416637918,20.657057716418915]
["N",null,"10:00:00",3.3912145754603523E-2,58.088636099012554,2.1366194828523047E-2,20.861135752412025,null,0,3.3670638997328944E-2,32.874724611986132,3.9362722819774772E-2,67.425013394612492,3.3670638997328944E-2,32.874724611986132,null,0,null,0,null,null,58.088636099012554,20.861135752412025]
[null,null,"10:30:00",3.3823774596573486E-2,57.937263783099503,2.1494342106560198E-2,20.986253855325995,null,0,3.4081569755496199E-2,33.275941693444395,3.9766702014846236E-2,68.116995571850367,3.4081569755496199E-2,33.275941693444395,null,0,null,0,null,null,57.937263783099503,20.986253855325995]
[null,null,"11:00:00",3.3996182430266163E-2,58.232583813405562,2.145792977167052E-2,20.95070224366598,null,0,3.4235668789808917E-2,33.426398098991243,4.0120183810533755E-2,68.722479976933471,3.4235668789808917E-2,33.426398098991243,null,0,null,0,null,null,58.232583813405562,20.95070224366598]
[null,null,"11:30:00",3.5058847725128621E-2,60.052839542871915,2.1072884418196273E-2,20.574758681692153,null,0,3.4132936100267103E-2,33.326093828626675,4.0549411705297175E-2,69.457711040248682,3.4132936100267103E-2,33.326093828626675,null,0,null,0,null,null,60.052839542871915,20.574758681692153]
[null,null,"12:00:00",3.4482068365670838E-2,59.064865306048034,2.099100695797473E-2,20.494816659893111,null,0,3.2463529895212659E-2,31.6961494352025,4.0296924708377521E-2,69.025222179475037,3.2463529895212659E-2,31.6961494352025,null,0,null,0,null,null,59.064865306048034,20.494816659893111]
[null,null,"12:30:00",3.2805487406633971E-2,56.193023992178787,2.1116136639197817E-2,20.616988496647409,null,0,3.1256420793096366E-2,30.517574258418865,3.8882997525627426E-2,66.603284559142566,3.1256420793096366E-2,30.517574258418865,null,0,null,0,null,null,56.193023992178787,20.616988496647409]
[null,null,"13:00:00",3.1579980519522127E-2,54.093834394522318,2.089062157062695E-2,20.396804205648106,null,0,2.9330182864187385E-2,28.636869189083271,3.7216583345957684E-2,63.748858078036463,2.9330182864187385E-2,28.636869189083271,null,0,null,0,null,null,54.093834394522318,20.396804205648106]
[null,null,"13:30:00",2.920856472732241E-2,50.031799806992829,2.0855818620704774E-2,20.362823935939918,null,0,2.8456955003081978E-2,27.784282890984464,3.6888350249962121E-2,63.186622559030702,2.8456955003081978E-2,27.784282890984464,null,0,null,0,null,null,50.031799806992829,20.362823935939918]
[null,null,"14:00:00",2.769091302213077E-2,47.432190856681693,2.0690253142173268E-2,20.201172132646054,null,0,2.8328539141154713E-2,27.65890255302876,3.7014593748421955E-2,63.402866989417539,2.8328539141154713E-2,27.65890255302876,null,0,null,0,null,null,47.432190856681693,20.201172132646054]
[null,null,"14:30:00",2.5717034969111222E-2,44.051104777511519,2.0423296410689289E-2,19.940525786387283,null,0,2.7814875693445658E-2,27.15738120120594,3.6888350249962121E-2,63.186622559030702,2.7814875693445658E-2,27.15738120120594,null,0,null,0,null,null,44.051104777511519,19.940525786387283]
[null,null,"15:00:00",2.4142298449073635E-2,41.353714369773279,2.032452040830901E-2,19.844084674094105,null,0,2.7172796383809331E-2,26.530479511427409,3.6231884057971016E-2,62.062151521019217,2.7172796383809331E-2,26.530479511427409,null,0,null,0,null,null,41.353714369773279,19.844084674094105]
[null,null,"15:30:00",2.2342133520076635E-2,38.270184172793144,2.0392315750064925E-2,19.910277453814679,null,0,2.6479350729402093E-2,25.85342568646659,3.5524920466595972E-2,60.851182710852989,2.6479350729402093E-2,25.85342568646659,null,0,null,0,null,null,38.270184172793144,19.910277453814679]
[null,null,"16:00:00",2.0914914236534746E-2,35.825478308555581,2.0483648346970522E-2,19.999451109580679,null,0,2.5888637764536676E-2,25.276676131870346,3.4287734181689636E-2,58.731987293062076,2.5888637764536676E-2,25.276676131870346,null,0,null,0,null,null,35.825478308555581,19.999451109580679]
[null,null,"16:30:00",1.969241887853309E-2,33.731447205435238,2.0594293563486115E-2,20.107480868768565,null,0,2.5015409903431273E-2,24.424089833771546,3.2065848608796646E-2,54.926085318253939,2.5015409903431273E-2,24.424089833771546,null,0,null,0,null,null,33.731447205435238,20.107480868768565]
[null,null,"17:00:00",1.876279428492459E-2,32.139078939576216,2.1542623655585177E-2,21.0333941138807,null,0,2.3089171974522288E-2,22.543384764435949,2.772307226177852E-2,47.48727691294711,2.3089171974522288E-2,22.543384764435949,null,0,null,0,null,null,32.139078939576216,21.0333941138807]
[null,null,"17:30:00",1.8248561117443971E-2,31.258241037074296,2.2591741481273898E-2,22.057712648725804,null,0,2.0854735976987879E-2,20.36176688400667,2.09311720446397E-2,35.853326558135841,2.0854735976987879E-2,20.36176688400667,null,0,null,0,null,null,31.258241037074296,22.057712648725804]
[null,null,"18:00:00",1.781276017878337E-2,30.511750905761172,2.325420456852087E-2,22.704516279645254,null,0,2.0212656667351551E-2,19.734865194228139,1.7017623592384991E-2,29.149749216144215,2.0212656667351551E-2,19.734865194228139,null,0,null,0,null,null,30.511750905761172,22.704516279645254]
[null,null,"18:30:00",1.7519944169464952E-2,30.010181859309615,2.3706441744388226E-2,23.146063368107729,null,0,2.0212656667351548E-2,19.734865194228135,1.555319901025097E-2,26.641313823657025,2.0212656667351548E-2,19.734865194228135,null,0,null,0,null,null,30.010181859309615,23.146063368107729]
[null,null,"19:00:00",1.7266848551131884E-2,29.576650481555134,2.3858729796937869E-2,23.294751600299055,null,0,1.985309225395521E-2,19.383800247952163,1.4997727617027721E-2,25.689838329954991,1.985309225395521E-2,19.383800247952163,null,0,null,0,null,null,29.576650481555134,23.294751600299055]
[null,null,"19:30:00",1.7167452193860896E-2,29.406392932272865,2.3008974534098139E-2,22.465083049736112,null,0,1.9056913910006162E-2,18.60644215262678,1.4442256223804475E-2,24.738362836252961,1.9056913910006162E-2,18.60644215262678,null,0,null,0,null,null,29.406392932272865,22.465083049736112]
[null,null,"20:00:00",1.6455346550352312E-2,28.18661622191215,2.222480170868402E-2,21.699446683709994,null,0,1.8902814875693445E-2,18.455985747079936,1.3886784830581226E-2,23.786887342550923,1.8902814875693445E-2,18.455985747079936,null,0,null,0,null,null,28.18661622191215,21.699446683709994]
[null,null,"20:30:00",1.5547821811422256E-2,26.632103137071358,2.1885020307420695E-2,21.367697114131207,null,0,1.8543250462297101E-2,18.104920800803956,1.3003080341362419E-2,22.273176329843132,1.8543250462297101E-2,18.104920800803956,null,0,null,0,null,null,26.632103137071358,21.367697114131207]
[null,null,"21:00:00",1.3380737827775997E-2,22.920071647440903,2.1361970192983366E-2,20.857010979788491,null,0,1.8183686048900759E-2,17.753855854527981,1.2220370650911477E-2,20.932460861444806,1.8183686048900759E-2,17.753855854527981,null,0,null,0,null,null,22.920071647440903,20.857010979788491]
[null,null,"21:30:00",1.1676150531160698E-2,20.000257847140631,2.1177494441083737E-2,20.676895908560692,null,0,1.7567289911649887E-2,17.152030232340593,1.1614401858304296E-2,19.894487595588039,1.7567289911649887E-2,17.152030232340593,null,0,null,0,null,null,20.000257847140631,20.676895908560692]
[null,null,"22:00:00",1.092644934682486E-2,18.716083156603052,2.103124158216222E-2,20.534100208688709,null,0,1.6873844257242653E-2,16.474976407379778,1.0831692167853355E-2,18.553772127189717,1.6873844257242653E-2,16.474976407379778,null,0,null,0,null,null,18.716083156603052,20.534100208688709]
[null,null,"22:30:00",1.0376392230128432E-2,17.7738818604461,2.0903898996608824E-2,20.409767776750655,null,0,1.6129032258064516E-2,15.747770447236684,1.0200474675554209E-2,17.472549975255586,1.6129032258064516E-2,15.747770447236684,null,0,null,0,null,null,17.7738818604461,20.409767776750655]
[null,null,"23:00:00",1.0499350932460997E-2,17.984499713019865,1.99316293031182E-2,19.460480820105133,null,0,1.5435586603657285E-2,15.070716622275873,9.7207493814068565E-3,16.650821139785641,1.5435586603657285E-2,15.070716622275873,null,0,null,0,null,null,17.984499713019865,19.460480820105133]
[null,null,"23:30:00",1.0505338664826717E-2,17.994756191892289,1.9912115510387272E-2,19.441428298939272,null,0,1.4613725087322787E-2,14.268282459359353,9.0390344897237785E-3,15.483101215696779,1.4613725087322787E-2,14.268282459359353,null,0,null,0,null,null,17.994756191892289,19.441428298939272]
[]
[null,"Battery costs"]
[null,"Manufacturer","Lifetime (assumed)","Unit capacity"]
[null,{"$f":"'Import avoidance model - RR'!C144","v":"Tesla"},{"$f":"'Import avoidance model - RR'!D144","v":10},{"$f":"IF('Import avoidance model - RR'!F144=0,\"\",'Import avoidance model - RR'!F144)","v":14},{"$f":"IF('Import avoidance model - RR'!H144=0,\"\",'Import avoidance model - RR'!H144)","v":5913},"Ex VAT, Sungift solar 23/03/17"]
[null,{"$f":"'Import avoidance model - RR'!C145","v":"Solax"},{"$f":"'Import avoidance model - RR'!D145","v":10},{"$f":"IF('Import avoidance model - RR'!F145=0,\"\",'Import avoidance model - RR'!F145)","v":4.8},{"$f":"IF('Import avoidance model - RR'!H145=0,\"\",'Import avoidance model - RR'!H145)","v":3492},"Ex VAT, Sungift solar 23/03/17"]
[null,{"$f":"'Import avoidance model - RR'!C146","v":"LG Chem"},{"$f":"'Import avoidance model - RR'!D146","v":10},{"$f":"IF('Import avoidance model - RR'!F146=0,\"\",'Import avoidance model - RR'!F146)","v":3},{"$f":"IF('Import avoidance model - RR'!H146=0,\"\",'Import avoidance model - RR'!H146)","v":3613},"Ex VAT, Sungift solar 23/03/18"]
[null,{"$f":"'Import avoidance model - RR'!C147","v":"LG Chem"},{"$f":"'Import avoidance model - RR'!D147","v":10},{"$f":"IF('Import avoidance model - RR'!F147=0,\"\",'Import avoidance model - RR'!F147)","v":3.5},{"$f":"IF('Import avoidance model - RR'!H147=0,\"\",'Import avoidance model - RR'!H147)","v":4603},"Ex VAT, Sungift solar 23/03/19"]
[null,{"$f":"'Import avoidance model - RR'!C148","v":"LG Chem"},{"$f":"'Import avoidance model - RR'!D148","v":10},{"$f":"IF('Import avoidance model - RR'!F148=0,\"\",'Import avoidance model - RR'!F148)","v":10},{"$f":"IF('Import avoidance model - RR'!H148=0,\"\",'Import avoidance model - RR'!H148)","v":5373},"Ex VAT, Sungift solar 23/03/20"]
[]
[null,null,null,{"$f":"IF('Import avoidance model - RR'!F149=0,\"\",'Import avoidance model - RR'!F149)","v":""},{"$f":"IF('Import avoidance model - RR'!H149=0,\"\",'Import avoidance model - RR'!H149)","v":""}]
[null,null,null,{"$f":"IF('Import avoidance model - RR'!F150=0,\"\",'Import avoidance model - RR'!F150)","v":""},{"$f":"IF('Import avoidance model - RR'!H150=0,\"\",'Import avoidance model - RR'!H150)","v":""}]
[]
[]
[null,null,null,null,"Average lifetime",{"$f":"'Import avoidance model - RR'!N19","v":10}]
[]
[null,null,null,null,"Size of battery","Cost (linear trend)"]
[null,null,null,null,{"$f":"('Import avoidance model - RR'!N14)*'Import avoidance model - RR'!N15","v":60},{"$f":"TREND(E57:E61,D57:D61,E70, )","v":14995.587732782851}]
[]
[null,null,null,null,"If battery capcity is >50kW, cost is multiplied by 75%"]
[null,null,null,null,"If battery capcity is >75kW, cost is multiplied by 70%"]
[null,null,null,null,"If battery capcity is >100kW, cost is multiplied by 65%"]
[]
[null,null,null,null,null,{"$f":"IF(E70>50,F70*75%,IF(E70>75,F70*70%,IF(E70>100,F70*65%,F70*100%)))","v":11246.690799587139}]

{"sheet":"PV Generation factor calcs","index":6,"n_rows":51,"n_cols":21,"rows_kept":51,"cut":false,"hidden":true,"merged":[]}
["SUMMER",null,145,47.84,null,null,null,"AUTUMN",null,145,47.84,null,null,null,"SPRING",null,145,47.84]
["145kW","47.84kW","kWh","kWh","Factor 1","Factor 2","Average","145kW","47.84kW","kWh","kWh","Factor 1","Factor 2","Average","145kW","47.84kW","kWh","kWh","Factor 1","Factor 2","Average"]
["Output kW",null,null,null,null,null,null,"Output kW",null,null,null,null,null,null,"Output kW"]
[0,0,{"$f":"A4*0.5","v":0},{"$f":"B4*0.5","v":0},{"$f":"$C$1/C4","v":{"$error":"#DIV/0!"}},{"$f":"$D$1/D4","v":{"$error":"#DIV/0!"}},{"$f":"AVERAGE(E4:F4)","v":{"$error":"#DIV/0!"}},0,0,{"$f":"H4*0.5","v":0},{"$f":"0.5*I4","v":0},{"$f":"$J$1/J4","v":{"$error":"#DIV/0!"}},{"$f":"$K$1/K4","v":{"$error":"#DIV/0!"}},{"$f":"AVERAGE(L4:M4)","v":{"$error":"#DIV/0!"}},0,0,{"$f":"0.5*O4","v":0},{"$f":"P4*0.5","v":0},{"$f":"$Q$1/Q4","v":{"$error":"#DIV/0!"}},{"$f":"$R$1/R4","v":{"$error":"#DIV/0!"}},{"$f":"AVERAGE(S4:T4)","v":{"$error":"#DIV/0!"}}]
[0,0,{"$f":"A5*0.5","v":0},{"$f":"B5*0.5","v":0},{"$f":"$C$1/C5","v":{"$error":"#DIV/0!"}},{"$f":"$D$1/D5","v":{"$error":"#DIV/0!"}},{"$f":"AVERAGE(E5:F5)","v":{"$error":"#DIV/0!"}},0,0,{"$f":"H5*0.5","v":0},{"$f":"0.5*I5","v":0},{"$f":"$J$1/J5","v":{"$error":"#DIV/0!"}},{"$f":"$K$1/K5","v":{"$error":"#DIV/0!"}},{"$f":"AVERAGE(L5:M5)","v":{"$error":"#DIV/0!"}},0,0,{"$f":"0.5*O5","v":0},{"$f":"P5*0.5","v":0},{"$f":"$Q$1/Q5","v":{"$error":"#DIV/0!"}},{"$f":"$R$1/R5","v":{"$error":"#DIV/0!"}},{"$f":"AVERAGE(S5:T5)","v":{"$error":"#DIV/0!"}}]
[0,0,0,0,{"$error":"#DIV/0!"},{"$error":"#DIV/0!"},{"$error":"#DIV/0!"},0,0,0,0,{"$error":"#DIV/0!"},{"$error":"#DIV/0!"},{"$error":"#DIV/0!"},0,0,0,0,{"$error":"#DIV/0!"},{"$error":"#DIV/0!"},{"$error":"#DIV/0!"}]
[0,0,0,0,{"$error":"#DIV/0!"},{"$error":"#DIV/0!"},{"$error":"#DIV/0!"},0,0,0,0,{"$error":"#DIV/0!"},{"$error":"#DIV/0!"},{"$error":"#DIV/0!"},0,0,0,0,{"$error":"#DIV/0!"},{"$error":"#DIV/0!"},{"$error":"#DIV/0!"}]
[0,0,0,0,{"$error":"#DIV/0!"},{"$error":"#DIV/0!"},{"$error":"#DIV/0!"},0,0,0,0,{"$error":"#DIV/0!"},{"$error":"#DIV/0!"},{"$error":"#DIV/0!"},0,0,0,0,{"$error":"#DIV/0!"},{"$error":"#DIV/0!"},{"$error":"#DIV/0!"}]
[0,0,0,0,{"$error":"#DIV/0!"},{"$error":"#DIV/0!"},{"$error":"#DIV/0!"},0,0,0,0,{"$error":"#DIV/0!"},{"$error":"#DIV/0!"},{"$error":"#DIV/0!"},0,0,0,0,{"$error":"#DIV/0!"},{"$error":"#DIV/0!"},{"$error":"#DIV/0!"}]
[0,0,0,0,{"$error":"#DIV/0!"},{"$error":"#DIV/0!"},{"$error":"#DIV/0!"},0,0,0,0,{"$error":"#DIV/0!"},{"$error":"#DIV/0!"},{"$error":"#DIV/0!"},0,0,0,0,{"$error":"#DIV/0!"},{"$error":"#DIV/0!"},{"$error":"#DIV/0!"}]
[0,0,0,0,{"$error":"#DIV/0!"},{"$error":"#DIV/0!"},{"$error":"#DIV/0!"},0,0,0,0,{"$error":"#DIV/0!"},{"$error":"#DIV/0!"},{"$error":"#DIV/0!"},0,0,0,0,{"$error":"#DIV/0!"},{"$error":"#DIV/0!"},{"$error":"#DIV/0!"}]
[0,0,0,0,{"$error":"#DIV/0!"},{"$error":"#DIV/0!"},{"$error":"#DIV/0!"},0,0,0,0,{"$error":"#DIV/0!"},{"$error":"#DIV/0!"},{"$error":"#DIV/0!"},0,0,0,0,{"$error":"#DIV/0!"},{"$error":"#DIV/0!"},{"$error":"#DIV/0!"}]
[0,0,0,0,{"$error":"#DIV/0!"},{"$error":"#DIV/0!"},{"$error":"#DIV/0!"},0,0,0,0,{"$error":"#DIV/0!"},{"$error":"#DIV/0!"},{"$error":"#DIV/0!"},0,0,0,0,{"$error":"#DIV/0!"},{"$error":"#DIV/0!"},{"$error":"#DIV/0!"}]
[0,0,0,0,{"$error":"#DIV/0!"},{"$error":"#DIV/0!"},{"$error":"#DIV/0!"},0,0,0,0,{"$error":"#DIV/0!"},{"$error":"#DIV/0!"},{"$error":"#DIV/0!"},0,0,0,0,{"$error":"#DIV/0!"},{"$error":"#DIV/0!"},{"$error":"#DIV/0!"}]
[6.2159591988438612,0,3.1079795994219306,0,46.654102886315378,{"$error":"#DIV/0!"},{"$error":"#DIV/0!"},0,0,0,0,{"$error":"#DIV/0!"},{"$error":"#DIV/0!"},{"$error":"#DIV/0!"},0,0,0,0,{"$error":"#DIV/0!"},{"$error":"#DIV/0!"},{"$error":"#DIV/0!"}]
[13.691131751766077,3.7757515823004497,6.8455658758830387,1.8878757911502249,21.181594426084729,25.340650176382926,23.261122301233826,0,0,0,0,{"$error":"#DIV/0!"},{"$error":"#DIV/0!"},{"$error":"#DIV/0!"},0,2.0861129755768721,0,1.0430564877884361,{"$error":"#DIV/0!"},45.865205346101476,{"$error":"#DIV/0!"}]
[26.762098780493655,5.5318716037973523,13.381049390246828,2.7659358018986762,10.836220371900541,17.296135350343359,14.06617786112195,0,0,0,0,{"$error":"#DIV/0!"},{"$error":"#DIV/0!"},{"$error":"#DIV/0!"},14.38974684295054,5.9958648964455028,7.1948734214752701,2.9979324482227514,20.153238494398494,15.957664432486043,18.055451463442267]
[65.427640726899369,16.887345722898687,32.713820363449685,8.4436728614493433,4.4323774597113337,5.6657808497555102,5.0490791547334215,0,0,0,0,{"$error":"#DIV/0!"},{"$error":"#DIV/0!"},{"$error":"#DIV/0!"},29.094333092536768,8.7088188577866497,14.547166546268384,4.3544094288933248,9.967576815651098,10.986564488530092,10.477070652090596]
[66.132288764187578,18.457297055487601,33.066144382093789,9.2286485277438004,4.3851499081496002,5.183857620775143,4.7845037644623716,6.4109898523004363,0,3.2054949261502181,0,45.234824368960773,{"$error":"#DIV/0!"},{"$error":"#DIV/0!"},49.141522844947936,17.575355071207383,24.570761422473968,8.7876775356036916,5.9013230199440976,5.4439867423644053,5.6726548811542514]
[56.290116189048533,23.419963067457129,28.145058094524266,11.709981533728564,5.1518813538427315,4.0854035390410486,4.61864244644189,32.971991735269292,12.095868644525433,16.485995867634646,6.0479343222627167,8.7953437065130178,7.9101388095268863,{"$f":"AVERAGE(L20:M20)","v":8.352741258019952},44.730478257091406,16.238467328663237,22.365239128545703,8.1192336643316185,6.4832751917653475,5.8921816981526947,6.1877284449590206]
[101.83950541343393,17.191832779374717,50.919752706716963,8.5959163896873587,2.8476179143123108,5.5654333792025152,4.206525646757413,27.859802055037452,8.6265529192239114,13.929901027518726,4.3132764596119557,10.409262758834421,11.091336353687826,10.750299556261123,85.346967316998089,27.684619434441061,42.673483658499045,13.84230971722053,3.3978946073487757,3.4560706253006774,3.4269826163247266]
[100.16269185877474,32.45836097971155,50.081345929387368,16.229180489855775,2.8952895995336072,2.9477766933396863,2.921533146436647,52.45129181453003,7.7777744024947646,26.225645907265015,3.8888872012473823,5.5289391351018038,12.301719624229538,8.9153293796656712,61.156747444331423,28.0027118046692,30.578373722165711,14.0013559023346,4.7419133966203084,3.4168119383368518,4.0793626674785806]
[144.74534595944914,22.557928878679512,72.37267297972457,11.278964439339756,2.0035186490987034,4.2415241449950383,3.1225213970468708,83.192314875993077,11.550615310622518,41.596157437996538,5.7753076553112592,3.4858989130459417,8.2835413895230268,5.8847201512844842,76.155021285765827,29.37141447161919,38.077510642882913,14.685707235809595,3.8080220463966183,3.2575891124498968,3.5328055794232576]
[91.973413730374844,29.682063262598145,45.986706865187422,14.841031631299073,3.1530850953314733,3.2234955890200774,3.1882903421757751,54.391909037741414,24.886409125370378,27.195954518870707,12.443204562685189,5.3316753379399691,3.8446687715368029,4.5881720547383864,78.022558531336585,38.941574994781448,39.011279265668293,19.470787497390724,3.7168737536788909,2.4570141298296759,3.0869439417542832]
[98.178030828635869,20.417286357180949,49.089015414317934,10.208643178590474,2.9538176469049211,4.6862251097511036,3.8200213783280121,101.55858764181663,27.255007482960558,50.779293820908315,13.627503741480279,2.8554946138360124,3.5105475593729989,3.1830210866045059,105.47042726379721,41.558385326576008,52.735213631898603,20.779192663288004,2.7495859031144998,2.3023031151986064,2.5259445091565533]
[91.906877011655254,21.052105023211684,45.953438505827627,10.526052511605842,3.1553677965058413,4.5449136746422703,3.8501407355740556,77.679151507140887,26.050138856500574,38.839575753570443,13.025069428250287,3.7333054542098196,3.6729170822106361,3.7031112682102281,123.53029218065723,36.127975559401222,61.765146090328614,18.063987779700611,2.3476023158424062,2.6483631733719482,2.4979827446071772]
[117.92758855101745,26.148379059653998,58.963794275508725,13.074189529826999,2.4591361831717702,3.6591178283640069,3.0591270057678885,71.186664004676786,25.461434702067855,35.593332002338393,12.730717351033928,4.0737967434595292,3.7578400871585345,3.9158184153090319,129.30889609645723,31.469662364402414,64.654448048228616,15.734831182201207,2.2426917927106591,3.0403885142482654,2.641540153479462]
[64.906971549017101,43.27814488940794,32.45348577450855,21.63907244470397,4.4679329982449554,2.2108156494345739,3.3393743238397646,101.67104952870555,31.954046014777298,50.835524764352776,15.977023007388649,2.8523360518484875,2.9943000005618177,2.9233180262051528,124.46213312359713,39.050802230518968,62.231066561798563,19.525401115259484,2.3300259502383387,2.4501417265436922,2.3900838383910155]
[63.369956339665272,49.284646278583857,31.684978169832636,24.642323139291928,4.5763010857320063,1.941375402375096,3.258838244053551,51.327897843082305,29.277583949376456,25.663948921541152,14.638791974688228,5.649948900821478,3.2680292255480925,4.4589890631847853,119.93848354186878,46.668408999312739,59.969241770934389,23.334204499656369,2.4179061751999327,2.0502091682921746,2.2340576717460534]
[146.29457664952736,23.932576990755589,73.147288324763679,11.966288495377794,1.9823017820731834,3.9978979295442452,2.9900998558087144,81.970196518674484,21.643707390261156,40.985098259337242,10.821853695130578,3.5378712302334434,4.4206844176359716,3.9792778239347077,88.57704499049909,37.125717878976886,44.288522495249545,18.562858939488443,3.2739859410652707,2.5771892226272763,2.9255875818462735]
[102.81363823148607,41.454603577498709,51.406819115743033,20.727301788749354,2.8206374658881512,2.3080669393238269,2.5643522026059893,81.898604020464447,32.191374537415498,40.949302010232223,16.095687268707749,3.5409638963752803,2.9722247457558155,3.2565943210655481,109.85329587210023,42.214522948485836,54.926647936050117,21.107261474242918,2.6398843812355035,2.2665185655836457,2.4532014734095746]
[132.05385905528007,24.772605618209802,66.026929527640036,12.386302809104901,2.1960736480908212,3.862330893834911,3.0292022709628661,96.463236232615102,11.04166074059523,48.231618116307551,5.5208303702976149,3.0063266724815558,8.6653631412734491,5.8358449068775027,115.21639507286733,37.997705417815432,57.608197536433664,18.998852708907716,2.5170028954350872,2.5180467859288136,2.5175248406819506]
[131.4737378999169,43.074514963210675,65.736868949958449,21.537257481605337,2.2057637109303125,2.2212670318335315,2.2135153713819218,59.303739415953622,22.046586102380893,29.651869707976811,11.023293051190446,4.890079493401819,4.3399009513616793,4.6149902223817492,104.7832960714974,32.695245377337699,52.391648035748702,16.347622688668849,2.7676166991552029,2.9264193889891832,2.8470180440721933]
[66.12621331307588,39.362827196905464,33.06310665653794,19.681413598452732,4.3855528007779485,2.4307197123158359,3.408136256546892,24.413920202779028,7.5426849959860816,12.206960101389514,3.7713424979930408,11.878469233588689,12.685137991433702,12.281803612511196,74.864995568673052,28.324071235379172,37.432497784336526,14.162035617689586,3.8736394465419473,3.3780454513363729,3.6258424489391601]
[46.892725864870521,15.081511028361991,23.44636293243526,7.5407555141809954,6.1843280519815593,6.3441918929785013,6.2642599724800299,42.467638939760697,9.1385550043696,21.233819469880348,4.5692775021848,6.8287290567614995,10.469926586232793,8.6493278214971454,54.996554249956759,29.143630516236691,27.49827712497838,14.571815258118345,5.2730576297919249,3.2830501315439795,4.2780538806679527]
[65.219896037777787,21.923080634158001,32.609948018888893,10.961540317079001,4.4464958949339817,4.3643501384072145,4.4054230166705981,16.450835516845274,10.336952770800302,8.2254177584226369,5.168476385400151,17.628283967890063,9.2561127173063706,13.442198342598218,47.02054156176996,19.822253143561557,23.51027078088498,9.9111265717807786,6.1675172247651107,4.826898299958283,5.4972077623616968]
[35.287211194697257,12.703010885644854,17.643605597348628,6.3515054428224271,8.2182748418378662,7.5320725819517333,7.8751737118947993,7.597363287516365,1.8551536199142433,3.7986816437581825,0.92757680995712166,38.171137673054879,51.57524367411844,44.873190673586663,50.232132890200447,13.068823678414093,25.116066445100223,6.5344118392070465,5.7731970217926927,7.3212404080434279,6.5472187149180598]
[38.847874038946095,9.2319860741427995,19.423937019473048,4.6159930370713997,7.4650159673928815,10.363967106491113,8.9144915369419984,0,0,0,0,{"$error":"#DIV/0!"},{"$error":"#DIV/0!"},{"$error":"#DIV/0!"},28.576392025793236,10.950539575512378,14.288196012896618,5.4752697877561891,10.148237039100112,8.737468993213799,9.4428530161569562]
[21.939630382424433,9.220753577932264,10.969815191212216,4.610376788966132,13.218089591532745,10.376592237427092,11.797340914479918,0,0,0,0,{"$error":"#DIV/0!"},{"$error":"#DIV/0!"},{"$error":"#DIV/0!"},9.071176751579781,3.5596436208886559,4.5355883757898905,1.779821810444328,31.969391396711057,26.879095266315939,29.424243331513498]
[0,4.2552946329976287,0,2.1276473164988143,{"$error":"#DIV/0!"},22.484929541200426,{"$error":"#DIV/0!"},0,0,0,0,{"$error":"#DIV/0!"},{"$error":"#DIV/0!"},{"$error":"#DIV/0!"},0,1.8679909885756742,0,0.93399549428783712,{"$error":"#DIV/0!"},51.220803839613339,{"$error":"#DIV/0!"}]
[7.6966279450262913,0,3.8483139725131457,0,37.678838326517209,{"$error":"#DIV/0!"},{"$error":"#DIV/0!"},0,0,0,0,{"$error":"#DIV/0!"},{"$error":"#DIV/0!"},{"$error":"#DIV/0!"},0,0,0,0,{"$error":"#DIV/0!"},{"$error":"#DIV/0!"},{"$error":"#DIV/0!"}]
[5.848052786299526,0,2.924026393149763,0,49.589155672362423,{"$error":"#DIV/0!"},{"$error":"#DIV/0!"},0,0,0,0,{"$error":"#DIV/0!"},{"$error":"#DIV/0!"},{"$error":"#DIV/0!"},0,0,0,0,{"$error":"#DIV/0!"},{"$error":"#DIV/0!"},{"$error":"#DIV/0!"}]
[0,0,0,0,{"$error":"#DIV/0!"},{"$error":"#DIV/0!"},{"$error":"#DIV/0!"},0,0,0,0,{"$error":"#DIV/0!"},{"$error":"#DIV/0!"},{"$error":"#DIV/0!"},0,0,0,0,{"$error":"#DIV/0!"},{"$error":"#DIV/0!"},{"$error":"#DIV/0!"}]
[0,0,0,0,{"$error":"#DIV/0!"},{"$error":"#DIV/0!"},{"$error":"#DIV/0!"},0,0,0,0,{"$error":"#DIV/0!"},{"$error":"#DIV/0!"},{"$error":"#DIV/0!"},0,0,0,0,{"$error":"#DIV/0!"},{"$error":"#DIV/0!"},{"$error":"#DIV/0!"}]
[0,0,0,0,{"$error":"#DIV/0!"},{"$error":"#DIV/0!"},{"$error":"#DIV/0!"},0,0,0,0,{"$error":"#DIV/0!"},{"$error":"#DIV/0!"},{"$error":"#DIV/0!"},0,0,0,0,{"$error":"#DIV/0!"},{"$error":"#DIV/0!"},{"$error":"#DIV/0!"}]
[0,0,0,0,{"$error":"#DIV/0!"},{"$error":"#DIV/0!"},{"$error":"#DIV/0!"},0,0,0,0,{"$error":"#DIV/0!"},{"$error":"#DIV/0!"},{"$error":"#DIV/0!"},0,0,0,0,{"$error":"#DIV/0!"},{"$error":"#DIV/0!"},{"$error":"#DIV/0!"}]
[0,0,0,0,{"$error":"#DIV/0!"},{"$error":"#DIV/0!"},{"$error":"#DIV/0!"},0,0,0,0,{"$error":"#DIV/0!"},{"$error":"#DIV/0!"},{"$error":"#DIV/0!"},0,0,0,0,{"$error":"#DIV/0!"},{"$error":"#DIV/0!"},{"$error":"#DIV/0!"}]
[0,0,0,0,{"$error":"#DIV/0!"},{"$error":"#DIV/0!"},{"$error":"#DIV/0!"},0,0,0,0,{"$error":"#DIV/0!"},{"$error":"#DIV/0!"},{"$error":"#DIV/0!"},0,0,0,0,{"$error":"#DIV/0!"},{"$error":"#DIV/0!"},{"$error":"#DIV/0!"}]
[0,0,0,0,{"$error":"#DIV/0!"},{"$error":"#DIV/0!"},{"$error":"#DIV/0!"},0,0,0,0,{"$error":"#DIV/0!"},{"$error":"#DIV/0!"},{"$error":"#DIV/0!"},0,0,0,0,{"$error":"#DIV/0!"},{"$error":"#DIV/0!"},{"$error":"#DIV/0!"}]
[0,0,0,0,{"$error":"#DIV/0!"},{"$error":"#DIV/0!"},{"$error":"#DIV/0!"},0,0,0,0,{"$error":"#DIV/0!"},{"$error":"#DIV/0!"},{"$error":"#DIV/0!"},0,0,0,0,{"$error":"#DIV/0!"},{"$error":"#DIV/0!"},{"$error":"#DIV/0!"}]
[0,0,0,0,{"$error":"#DIV/0!"},{"$error":"#DIV/0!"},{"$error":"#DIV/0!"},0,0,0,0,{"$error":"#DIV/0!"},{"$error":"#DIV/0!"},{"$error":"#DIV/0!"},0,0,0,0,{"$error":"#DIV/0!"},{"$error":"#DIV/0!"},{"$error":"#DIV/0!"}]

{"sheet":"Sheet2","index":7,"n_rows":50,"n_cols":29,"rows_kept":50,"cut":false,"hidden":true,"merged":[[0,1,0,4],[0,8,0,11],[0,15,0,18],[0,22,0,25]]}
[null,"Jan",null,null,null,null,null,null,"April",null,null,null,null,null,null,"July",null,null,null,null,null,null,"Oct"]
[null,47,"145kW","kWH","kWh","Factoe 1","Foactor 2","Average","47kW","145kW","kWH","kWh","Factoe 1","Foactor 2","Average","47kW","145kW","kWH","kWh","Factoe 1","Foactor 2","Average","47kW","145kW","kWH","kWh","Factoe 1","Foactor 2","Average"]
[null,0,0,{"$f":"0.5*B3","v":0},{"$f":"0.5*C3","v":0},{"$f":"$B$2/D3","v":{"$error":"#DIV/0!"}},{"$f":"$B$2/E3","v":{"$error":"#DIV/0!"}},{"$f":"AVERAGE(F3:G3)","v":{"$error":"#DIV/0!"}},0,0,{"$f":"0.5*I3","v":0},{"$f":"0.5*J3","v":0},{"$f":"$B$2/K3","v":{"$error":"#DIV/0!"}},{"$f":"$B$2/L3","v":{"$error":"#DIV/0!"}},{"$f":"AVERAGE(M3:N3)","v":{"$error":"#DIV/0!"}},0,0,{"$f":"0.5*P3","v":0},{"$f":"0.5*Q3","v":0},{"$f":"$B$2/R3","v":{"$error":"#DIV/0!"}},{"$f":"$B$2/S3","v":{"$error":"#DIV/0!"}},{"$f":"AVERAGE(T3:U3)","v":{"$error":"#DIV/0!"}},0,0,{"$f":"0.5*W3","v":0},{"$f":"0.5*X3","v":0},{"$f":"$B$2/Y3","v":{"$error":"#DIV/0!"}},{"$f":"$B$2/Z3","v":{"$error":"#DIV/0!"}},{"$f":"AVERAGE(AA3:AB3)","v":{"$error":"#DIV/0!"}}]
[null,0,0,{"$f":"0.5*B4","v":0},{"$f":"0.5*C4","v":0},{"$f":"$B$2/D4","v":{"$error":"#DIV/0!"}},{"$f":"$B$2/E4","v":{"$error":"#DIV/0!"}},{"$f":"AVERAGE(F4:G4)","v":{"$error":"#DIV/0!"}},0,0,{"$f":"0.5*I4","v":0},{"$f":"0.5*J4","v":0},{"$f":"$B$2/K4","v":{"$error":"#DIV/0!"}},{"$f":"$B$2/L4","v":{"$error":"#DIV/0!"}},{"$f":"AVERAGE(M4:N4)","v":{"$error":"#DIV/0!"}},0,0,{"$f":"0.5*P4","v":0},{"$f":"0.5*Q4","v":0},{"$f":"$B$2/R4","v":{"$error":"#DIV/0!"}},{"$f":"$B$2/S4","v":{"$error":"#DIV/0!"}},{"$f":"AVERAGE(T4:U4)","v":{"$error":"#DIV/0!"}},0,0,{"$f":"0.5*W4","v":0},{"$f":"0.5*X4","v":0},{"$f":"$B$2/Y4","v":{"$error":"#DIV/0!"}},{"$f":"$B$2/Z4","v":{"$error":"#DIV/0!"}},{"$f":"AVERAGE(AA4:AB4)","v":{"$error":"#DIV/0!"}}]
[null,0,0,0,0,{"$error":"#DIV/0!"},{"$error":"#DIV/0!"},{"$error":"#DIV/0!"},0,0,0,0,{"$error":"#DIV/0!"},{"$error":"#DIV/0!"},{"$error":"#DIV/0!"},0,0,0,0,{"$error":"#DIV/0!"},{"$error":"#DIV/0!"},{"$error":"#DIV/0!"},0,0,0,0,{"$error":"#DIV/0!"},{"$error":"#DIV/0!"},{"$error":"#DIV/0!"}]
[null,0,0,0,0,{"$error":"#DIV/0!"},{"$error":"#DIV/0!"},{"$error":"#DIV/0!"},0,0,0,0,{"$error":"#DIV/0!"},{"$error":"#DIV/0!"},{"$error":"#DIV/0!"},0,0,0,0,{"$error":"#DIV/0!"},{"$error":"#DIV/0!"},{"$error":"#DIV/0!"},0,0,0,0,{"$error":"#DIV/0!"},{"$error":"#DIV/0!"},{"$error":"#DIV/0!"}]
[null,0,0,0,0,{"$error":"#DIV/0!"},{"$error":"#DIV/0!"},{"$error":"#DIV/0!"},0,0,0,0,{"$error":"#DIV/0!"},{"$error":"#DIV/0!"},{"$error":"#DIV/0!"},0,0,0,0,{"$error":"#DIV/0!"},{"$error":"#DIV/0!"},{"$error":"#DIV/0!"},0,0,0,0,{"$error":"#DIV/0!"},{"$error":"#DIV/0!"},{"$error":"#DIV/0!"}]
[null,0,0,0,0,{"$error":"#DIV/0!"},{"$error":"#DIV/0!"},{"$error":"#DIV/0!"},0,0,0,0,{"$error":"#DIV/0!"},{"$error":"#DIV/0!"},{"$error":"#DIV/0!"},0,0,0,0,{"$error":"#DIV/0!"},{"$error":"#DIV/0!"},{"$error":"#DIV/0!"},0,0,0,0,{"$error":"#DIV/0!"},{"$error":"#DIV/0!"},{"$error":"#DIV/0!"}]
[null,0,0,0,0,{"$error":"#DIV/0!"},{"$error":"#DIV/0!"},{"$error":"#DIV/0!"},0,0,0,0,{"$error":"#DIV/0!"},{"$error":"#DIV/0!"},{"$error":"#DIV/0!"},0,0,0,0,{"$error":"#DIV/0!"},{"$error":"#DIV/0!"},{"$error":"#DIV/0!"},0,0,0,0,{"$error":"#DIV/0!"},{"$error":"#DIV/0!"},{"$error":"#DIV/0!"}]
[null,0,0,0,0,{"$error":"#DIV/0!"},{"$error":"#DIV/0!"},{"$error":"#DIV/0!"},0,0,0,0,{"$error":"#DIV/0!"},{"$error":"#DIV/0!"},{"$error":"#DIV/0!"},0,0,0,0,{"$error":"#DIV/0!"},{"$error":"#DIV/0!"},{"$error":"#DIV/0!"},0,0,0,0,{"$error":"#DIV/0!"},{"$error":"#DIV/0!"},{"$error":"#DIV/0!"}]
[null,0,0,0,0,{"$error":"#DIV/0!"},{"$error":"#DIV/0!"},{"$error":"#DIV/0!"},0,0,0,0,{"$error":"#DIV/0!"},{"$error":"#DIV/0!"},{"$error":"#DIV/0!"},0,0,0,0,{"$error":"#DIV/0!"},{"$error":"#DIV/0!"},{"$error":"#DIV/0!"},0,0,0,0,{"$error":"#DIV/0!"},{"$error":"#DIV/0!"},{"$error":"#DIV/0!"}]
[null,0,0,0,0,{"$error":"#DIV/0!"},{"$error":"#DIV/0!"},{"$error":"#DIV/0!"},0,0,0,0,{"$error":"#DIV/0!"},{"$error":"#DIV/0!"},{"$error":"#DIV/0!"},0,0,0,0,{"$error":"#DIV/0!"},{"$error":"#DIV/0!"},{"$error":"#DIV/0!"},0,0,0,0,{"$error":"#DIV/0!"},{"$error":"#DIV/0!"},{"$error":"#DIV/0!"}]
[null,0,0,0,0,{"$error":"#DIV/0!"},{"$error":"#DIV/0!"},{"$error":"#DIV/0!"},0,0,0,0,{"$error":"#DIV/0!"},{"$error":"#DIV/0!"},{"$error":"#DIV/0!"},0,0,0,0,{"$error":"#DIV/0!"},{"$error":"#DIV/0!"},{"$error":"#DIV/0!"},0,0,0,0,{"$error":"#DIV/0!"},{"$error":"#DIV/0!"},{"$error":"#DIV/0!"}]
[null,0,0,0,0,{"$error":"#DIV/0!"},{"$error":"#DIV/0!"},{"$error":"#DIV/0!"},0,0,0,0,{"$error":"#DIV/0!"},{"$error":"#DIV/0!"},{"$error":"#DIV/0!"},0,0,0,0,{"$error":"#DIV/0!"},{"$error":"#DIV/0!"},{"$error":"#DIV/0!"},0,0,0,0,{"$error":"#DIV/0!"},{"$error":"#DIV/0!"},{"$error":"#DIV/0!"}]
[null,0,0,0,0,{"$error":"#DIV/0!"},{"$error":"#DIV/0!"},{"$error":"#DIV/0!"},0,6.1280000489778503,0,3.0640000244889252,{"$error":"#DIV/0!"},15.33942546486748,{"$error":"#DIV/0!"},2.3778849418109895,8.9266574093049407,1.1889424709054948,4.4633287046524703,39.530928661506181,10.530257372935202,25.030593017220692,0,0,0,0,{"$error":"#DIV/0!"},{"$error":"#DIV/0!"},{"$error":"#DIV/0!"}]
[null,0,0,0,0,{"$error":"#DIV/0!"},{"$error":"#DIV/0!"},{"$error":"#DIV/0!"},0,8.8876995915194836,0,4.4438497957597418,{"$error":"#DIV/0!"},10.576415081546349,{"$error":"#DIV/0!"},6.2530787317147194,19.563290224342911,3.1265393658573597,9.7816451121714554,15.0325949876891,4.8049177271333594,9.9187563574112296,0,0,0,0,{"$error":"#DIV/0!"},{"$error":"#DIV/0!"},{"$error":"#DIV/0!"}]
[null,0,0,0,0,{"$error":"#DIV/0!"},{"$error":"#DIV/0!"},{"$error":"#DIV/0!"},9.403853025824505,15.441988546759454,4.7019265129122525,7.720994273379727,9.995902715818799,6.0872989068319292,8.0416008113253632,14.869706950880811,20.130882189775676,7.4348534754404056,10.065441094887838,6.3215771709900368,4.6694426560074893,5.4955099134987631,0,0,0,0,{"$error":"#DIV/0!"},{"$error":"#DIV/0!"},{"$error":"#DIV/0!"}]
[null,0,0,0,0,{"$error":"#DIV/0!"},{"$error":"#DIV/0!"},{"$error":"#DIV/0!"},11.694188574004636,31.432352018579184,5.8470942870023181,15.716176009289592,8.0381806232332718,2.9905493532408274,5.51436498823705,7.4491966612411584,36.629572332534934,3.7245983306205792,18.314786166267467,12.618810359658038,2.5662325278230944,7.5925214437405666,2.2087908113648291,0,1.1043954056824146,0,42.557221587641727,{"$error":"#DIV/0!"},{"$error":"#DIV/0!"}]
[null,0,0,0,0,{"$error":"#DIV/0!"},{"$error":"#DIV/0!"},{"$error":"#DIV/0!"},9.2783935689077683,25.801241888804189,4.6391967844538842,12.900620944402094,10.13106410090184,3.6432354847535064,6.8871497928276728,17.757945953257689,55.899143389783838,8.8789729766288445,27.949571694891919,5.2934050057042628,1.6816000085106759,3.4875025071074695,5.2097907252796594,25.255620796695862,2.6048953626398297,12.627810398347931,18.042951234851017,3.7219437509252522,10.882447492888135]
[null,1.9478824872523572,9.7100023766310155,0.97394124362617862,4.8550011883155078,48.257531250047045,9.6807391341354396,28.969135192091244,12.119872520404186,68.760335120215885,6.0599362602020932,34.380167560107942,7.7558571545821167,1.3670672173958549,4.5614621859889857,31.086901252999212,41.546865069601822,15.543450626499606,20.773432534800911,3.0237815996835979,2.2625052417920224,2.6431434207378102,9.0534045479093468,14.440585892013987,4.5267022739546734,7.2202929460069933,10.382834380432818,6.5094311756411773,8.446132778036997]
[null,5.639084152664922,14.317756368590695,2.819542076332461,7.1588781842953475,16.669373510870098,6.5652744452483285,11.617323978059213,9.2471024050839521,83.227916210587296,4.623551202541976,41.613958105293648,10.165346492574784,1.1294287335292241,5.647387613052004,34.666843045555957,38.68756988794884,17.333421522777979,19.34378494397442,2.7115246657007073,2.4297209742626134,2.5706228199816605,7.2055950307323178,33.984479145228818,3.6027975153661589,16.992239572614409,13.045418122873137,2.7659685351745913,7.9056933290238645]
[null,5.3396312205911309,22.511470444898993,2.6698156102955655,11.255735222449497,17.604211998294819,4.1756490421219912,10.889930520208406,11.948556784869584,35.773857074453694,5.9742783924347922,17.886928537226847,7.8670589002875957,2.6276171396437404,5.2473380199656683,18.701364741349671,101.98416384532851,9.3506823706748357,50.992081922664255,5.0263711392228618,0.92171172911279176,2.9740414341678267,7.2249012451427994,56.693796028062451,3.6124506225713997,28.346898014031225,13.010558457556066,1.6580297419751471,7.3342940997656063]
[null,5.2969045460520654,19.576283600144102,2.6484522730260327,9.7881418000720508,17.746213695706654,4.8017285568598966,11.273971126283275,20.672395151118877,68.258992321099811,10.336197575559439,34.129496160549905,4.5471267026797486,1.3771079355788158,2.9621173191292822,30.892094301234387,89.19815274549326,15.446047150617193,44.59907637274663,3.0428497039853961,1.0538334831687348,2.0483415935770655,20.67358317674913,41.896125489026623,10.336791588374565,20.948062744513312,4.546865398046652,2.2436442249205206,3.3952548114835865]
[null,6.7967773431796346,13.263712576256875,3.3983886715898173,6.6318562881284375,13.830083766731924,7.0870052000574599,10.458544483394693,23.836957299538096,50.266628200069086,11.918478649769048,25.133314100034543,3.9434563236735545,1.8700279562389825,2.9067421399562683,15.11532686689706,41.508545470703581,7.5576634334485302,20.75427273535179,6.2188532757344683,2.2645939272033635,4.2417236014689159,20.23501326231284,36.275267611701686,10.11750663115642,18.137633805850843,4.6454133131245552,2.5912972167758026,3.6183552649501789]
[null,15.059775672844179,44.864628246529847,7.5298878364220894,22.432314123264923,6.2417928422068734,2.0951917729814387,4.168492307594156,12.181006683263799,78.877507566730969,6.0905033416318997,39.438753783365485,7.7169319781387298,1.1917212257306087,4.4543266019346692,24.384391846091887,50.627614224744391,12.192195923045944,25.313807112372196,3.8549249287537792,1.8566942456090936,2.8558095871814366,17.459218149433678,76.273807726878971,8.7296090747168389,38.136903863439485,5.3839753415904861,1.2324020892806995,3.3081887154355929]
[null,6.5408771900839664,43.165546962770641,3.2704385950419832,21.58277348138532,14.371161125377023,2.1776626641861618,8.2744118947815934,21.224165932605693,93.062987501882517,10.612082966302847,46.531493750941259,4.4289137343951968,1.0100685839050516,2.7194911591501243,39.863783691605917,122.67169769353963,19.931891845802959,61.335848846769814,2.3580300537250181,0.76627292005717806,1.5621514868910982,15.979066232665675,66.327616557962187,7.9895331163328374,33.163808278981094,5.882696687734966,1.4172075656880501,3.6499521267115078]
[null,17.768671237734022,45.093228896420356,8.8843356188670111,22.546614448210178,5.2902098723273747,2.0845701738484737,3.6873900230879242,13.090411378512933,96.133609329352282,6.5452056892564663,48.066804664676141,7.1808285684814264,0.97780579191568096,4.0793171801985535,27.365834743632565,66.698946949980652,13.682917371816282,33.349473474990326,3.4349399855917699,1.4093176024277136,2.4221287940097418,10.14893453041574,83.69810899483403,5.0744672652078702,41.849054497417015,9.2620560038384045,1.1230839158600563,5.1925699598492301]
[null,15.222549865788704,45.671986892579717,7.6112749328943519,22.835993446289859,6.1750495698001586,2.058154382928151,4.116601976364155,28.43724944671828,101.97602154350683,14.21862472335914,50.988010771753416,3.3055236293553629,0.92178532342425268,2.113654476389808,32.327961654553299,47.768523072754611,16.163980827276649,23.884261536377306,2.9076995637539795,1.9678230339429126,2.4377612988484461,12.855208515712134,55.399330067800697,6.4276042578560668,27.699665033900349,7.3122112243538924,1.6967714209712954,4.5044913226625942]
[null,7.9802084670617877,16.071676179499939,3.9901042335308938,8.0358380897499693,11.779140906905358,5.848798778057807,8.8139698424815833,11.64575858210971,89.560409116662626,5.8228792910548552,44.780204558331313,8.0716081599358755,1.0495709089219802,4.560589534428928,44.692124679179805,52.158786316796345,22.346062339589903,26.079393158398172,2.1032788365908832,1.8021891734419022,1.9527340050163926,9.0784618294987531,81.209675843650004,4.5392309147493766,40.604837921825002,10.354176926157765,1.1574975398371832,5.7558372329974734]
[null,12.148439263039904,16.532465465863122,6.0742196315199521,8.2662327329315612,7.7376194558574412,5.685782328963267,6.7117008924103541,25.100133755612333,98.942230881755435,12.550066877806167,49.471115440877718,3.7449999635552467,0.95004932840394685,2.3475246459795969,22.072899587602141,62.161439542806392,11.03644979380107,31.080719771403196,4.2586158482231182,1.5121914918857138,2.8854036700544161,13.261828846278011,81.226157862048183,6.6309144231390054,40.613078931024091,7.08801184886212,1.157262666044681,4.1226372574534]
[null,9.4194915646131285,25.795197112670149,4.7097457823065643,12.897598556335074,9.9793072009466481,3.6440892306199455,6.8116982157832968,20.717909983484599,83.802522494157884,10.3589549917423,41.901261247078942,4.5371371955439832,1.1216846128534259,2.8294109041987046,30.686712644913367,71.082796970457636,15.343356322456684,35.541398485228818,3.0632150497091923,1.32240153745029,2.1928082935797413,21.69507754192129,39.012295340976706,10.847538770960645,19.506147670488353,4.3327800888641335,2.4094967798848472,3.3711384343744903]
[null,3.838708670496108,28.585949129361218,1.919354335248054,14.292974564680609,24.487401381218024,3.2883288070869288,13.887865094152477,21.231889268734825,90.910615421002888,10.615944634367413,45.455307710501444,4.4273026677103289,1.0339826604922904,2.7306426641013095,32.481762392515925,80.983023715710672,16.240881196257963,40.491511857855336,2.8939316427503452,1.1607370988021535,2.0273343707762495,16.592763957842468,54.919537047929992,8.2963819789212341,27.459768523964996,5.6651200631086827,1.7115949087109614,3.688357485909822]
[null,2.9995119081841635,10.052486454267328,1.4997559540920817,5.0262432271336639,31.338432010728528,9.3509203347492758,20.3446761727389,20.505172309028978,82.160854503182037,10.252586154514489,41.080427251591018,4.5842092221097444,1.1440971563454156,2.8641531892275802,25.221376921222674,92.479674144667598,12.610688460611337,46.239837072333799,3.7269971537875537,1.0164395676065439,2.3717183606970487,15.173728102892658,26.061697604167424,7.5868640514463292,13.030848802083712,6.194917910917372,3.6068256729741512,4.9008717919457618]
[null,2.7749954816611924,7.0503634432620235,1.3874977408305962,3.5251817216310117,33.873929028428144,13.332646005623307,23.603287517025727,15.395426889537376,28.510156494754625,7.6977134447686879,14.255078247377313,6.1057092261521984,3.2970706427828405,4.7013899344675192,22.376105052857337,81.641104983876986,11.188052526428669,40.820552491938493,4.2009098445842605,1.1513807905780271,2.6761453175811436,9.6785896251083958,23.160253308310548,4.8392948125541979,11.580126654155274,9.7121588620870209,4.0586775433181534,6.8854182027025868]
[null,0,0,0,0,{"$error":"#DIV/0!"},{"$error":"#DIV/0!"},{"$error":"#DIV/0!"},17.812064817422794,40.011242337480887,8.9060324087113969,20.005621168740443,5.2773219143046406,2.3493396982563741,3.8133308062805074,18.919691108017265,24.47019694676484,9.4598455540086324,12.23509847338242,4.9683686410803647,3.8414075785535338,4.404888109816949,6.8948634688509145,12.159988402682744,3.4474317344254573,6.0799942013413721,13.633337400322137,7.730270530460511,10.681803965391325]
[null,0,0,{"$f":"0.5*B36","v":0},{"$f":"0.5*C36","v":0},{"$f":"$B$2/D36","v":{"$error":"#DIV/0!"}},{"$f":"$B$2/E36","v":{"$error":"#DIV/0!"}},{"$f":"AVERAGE(F36:G36)","v":{"$error":"#DIV/0!"}},12.516323763717427,26.000346276914613,{"$f":"0.5*I36","v":6.2581618818587135},{"$f":"0.5*J36","v":13.000173138457306},{"$f":"$B$2/K36","v":7.5101924314621122},{"$f":"$B$2/L36","v":3.6153364650939839},{"$f":"AVERAGE(M36:N36)","v":5.5627644482780481},10.298181569815291,47.089814968716219,{"$f":"0.5*P36","v":5.1490907849076457},{"$f":"0.5*Q36","v":23.544907484358109},{"$f":"$B$2/R36","v":9.1278250788974962},{"$f":"$B$2/S36","v":1.9961853760191717},{"$f":"AVERAGE(T36:U36)","v":5.562005227458334},1.9821435894337172,6.4217709482919663,{"$f":"0.5*W36","v":0.99107179471685858},{"$f":"0.5*X36","v":3.2108854741459831},{"$f":"$B$2/Y36","v":47.423405903128874},{"$f":"$B$2/Z36","v":14.637706756732221},{"$f":"AVERAGE(AA36:AB36)","v":31.030556329930548}]
[null,0,0,0,0,{"$error":"#DIV/0!"},{"$error":"#DIV/0!"},{"$error":"#DIV/0!"},6.7338428005700521,28.595040388875159,3.3669214002850261,14.297520194437579,13.959339827778939,3.2872833443022693,8.6233115860406038,10.445091913118249,16.438212220828753,5.2225459565591246,8.2191061104143763,8.9994421094507633,5.718383406736482,7.3589127580936227,0,0,0,0,{"$error":"#DIV/0!"},{"$error":"#DIV/0!"},{"$error":"#DIV/0!"}]
[null,0,0,0,0,{"$error":"#DIV/0!"},{"$error":"#DIV/0!"},{"$error":"#DIV/0!"},0,16.012214585179539,0,8.0061072925897694,{"$error":"#DIV/0!"},5.8705183783262429,{"$error":"#DIV/0!"},6.0403313734208268,12.232241786931981,3.0201656867104134,6.1161208934659905,15.562060123659224,7.6846093821021935,11.623334752880709,0,0,0,0,{"$error":"#DIV/0!"},{"$error":"#DIV/0!"},{"$error":"#DIV/0!"}]
[null,0,0,0,0,{"$error":"#DIV/0!"},{"$error":"#DIV/0!"},{"$error":"#DIV/0!"},2.5083446937983092,0,1.2541723468991546,0,37.474913329259664,{"$error":"#DIV/0!"},{"$error":"#DIV/0!"},4.9694298805466364,0,2.4847149402733182,0,18.915650740535252,{"$error":"#DIV/0!"},{"$error":"#DIV/0!"},0,0,0,0,{"$error":"#DIV/0!"},{"$error":"#DIV/0!"},{"$error":"#DIV/0!"}]
[null,0,0,0,0,{"$error":"#DIV/0!"},{"$error":"#DIV/0!"},{"$error":"#DIV/0!"},0,0,0,0,{"$error":"#DIV/0!"},{"$error":"#DIV/0!"},{"$error":"#DIV/0!"},0,0,0,0,{"$error":"#DIV/0!"},{"$error":"#DIV/0!"},{"$error":"#DIV/0!"},0,0,0,0,{"$error":"#DIV/0!"},{"$error":"#DIV/0!"},{"$error":"#DIV/0!"}]
[null,0,0,0,0,{"$error":"#DIV/0!"},{"$error":"#DIV/0!"},{"$error":"#DIV/0!"},0,0,0,0,{"$error":"#DIV/0!"},{"$error":"#DIV/0!"},{"$error":"#DIV/0!"},0,0,0,0,{"$error":"#DIV/0!"},{"$error":"#DIV/0!"},{"$error":"#DIV/0!"},0,0,0,0,{"$error":"#DIV/0!"},{"$error":"#DIV/0!"},{"$error":"#DIV/0!"}]
[null,0,0,0,0,{"$error":"#DIV/0!"},{"$error":"#DIV/0!"},{"$error":"#DIV/0!"},0,0,0,0,{"$error":"#DIV/0!"},{"$error":"#DIV/0!"},{"$error":"#DIV/0!"},0,0,0,0,{"$error":"#DIV/0!"},{"$error":"#DIV/0!"},{"$error":"#DIV/0!"},0,0,0,0,{"$error":"#DIV/0!"},{"$error":"#DIV/0!"},{"$error":"#DIV/0!"}]
[null,0,0,0,0,{"$error":"#DIV/0!"},{"$error":"#DIV/0!"},{"$error":"#DIV/0!"},0,0,0,0,{"$error":"#DIV/0!"},{"$error":"#DIV/0!"},{"$error":"#DIV/0!"},0,0,0,0,{"$error":"#DIV/0!"},{"$error":"#DIV/0!"},{"$error":"#DIV/0!"},0,0,0,0,{"$error":"#DIV/0!"},{"$error":"#DIV/0!"},{"$error":"#DIV/0!"}]
[null,0,0,0,0,{"$error":"#DIV/0!"},{"$error":"#DIV/0!"},{"$error":"#DIV/0!"},0,0,0,0,{"$error":"#DIV/0!"},{"$error":"#DIV/0!"},{"$error":"#DIV/0!"},0,0,0,0,{"$error":"#DIV/0!"},{"$error":"#DIV/0!"},{"$error":"#DIV/0!"},0,0,0,0,{"$error":"#DIV/0!"},{"$error":"#DIV/0!"},{"$error":"#DIV/0!"}]
[null,0,0,0,0,{"$error":"#DIV/0!"},{"$error":"#DIV/0!"},{"$error":"#DIV/0!"},0,0,0,0,{"$error":"#DIV/0!"},{"$error":"#DIV/0!"},{"$error":"#DIV/0!"},0,0,0,0,{"$error":"#DIV/0!"},{"$error":"#DIV/0!"},{"$error":"#DIV/0!"},0,0,0,0,{"$error":"#DIV/0!"},{"$error":"#DIV/0!"},{"$error":"#DIV/0!"}]
[null,0,0,0,0,{"$error":"#DIV/0!"},{"$error":"#DIV/0!"},{"$error":"#DIV/0!"},0,0,0,0,{"$error":"#DIV/0!"},{"$error":"#DIV/0!"},{"$error":"#DIV/0!"},0,0,0,0,{"$error":"#DIV/0!"},{"$error":"#DIV/0!"},{"$error":"#DIV/0!"},0,0,0,0,{"$error":"#DIV/0!"},{"$error":"#DIV/0!"},{"$error":"#DIV/0!"}]
[null,0,0,0,0,{"$error":"#DIV/0!"},{"$error":"#DIV/0!"},{"$error":"#DIV/0!"},0,0,0,0,{"$error":"#DIV/0!"},{"$error":"#DIV/0!"},{"$error":"#DIV/0!"},0,0,0,0,{"$error":"#DIV/0!"},{"$error":"#DIV/0!"},{"$error":"#DIV/0!"},0,0,0,0,{"$error":"#DIV/0!"},{"$error":"#DIV/0!"},{"$error":"#DIV/0!"}]
[null,0,0,0,0,{"$error":"#DIV/0!"},{"$error":"#DIV/0!"},{"$error":"#DIV/0!"},0,0,0,0,{"$error":"#DIV/0!"},{"$error":"#DIV/0!"},{"$error":"#DIV/0!"},0,0,0,0,{"$error":"#DIV/0!"},{"$error":"#DIV/0!"},{"$error":"#DIV/0!"},0,0,0,0,{"$error":"#DIV/0!"},{"$error":"#DIV/0!"},{"$error":"#DIV/0!"}]
[null,0,0,0,0,{"$error":"#DIV/0!"},{"$error":"#DIV/0!"},{"$error":"#DIV/0!"},0,0,0,0,{"$error":"#DIV/0!"},{"$error":"#DIV/0!"},{"$error":"#DIV/0!"},0,0,0,0,{"$error":"#DIV/0!"},{"$error":"#DIV/0!"},{"$error":"#DIV/0!"},0,0,0,0,{"$error":"#DIV/0!"},{"$error":"#DIV/0!"},{"$error":"#DIV/0!"}]
[null,0,0,0,0,{"$error":"#DIV/0!"},{"$error":"#DIV/0!"},{"$error":"#DIV/0!"},0,0,0,0,{"$error":"#DIV/0!"},{"$error":"#DIV/0!"},{"$error":"#DIV/0!"},0,0,0,0,{"$error":"#DIV/0!"},{"$error":"#DIV/0!"},{"$error":"#DIV/0!"},0,0,0,0,{"$error":"#DIV/0!"},{"$error":"#DIV/0!"},{"$error":"#DIV/0!"}]

{"sheet":"LOGIC","index":8,"n_rows":208,"n_cols":66,"rows_kept":208,"cut":false,"hidden":true,"merged":[[54,54,54,58],[54,60,54,65],[157,2,157,15],[158,3,158,8],[158,10,158,15],[54,30,54,33],[54,34,54,37],[54,38,54,41],[54,42,54,46],[54,48,54,52],[53,2,53,15],[54,3,54,8],[54,10,54,15],[105,2,105,15],[106,3,106,8],[106,10,106,15],[2,3,2,8],[2,10,2,15],[1,2,1,15],[1,18,1,21],[1,23,1,26],[0,18,0,26],[54,18,54,19],[54,20,54,21],[54,22,54,23],[54,24,54,25],[53,18,53,25],[54,26,54,29]]}
[null,null,null,null,null,null,null,null,null,null,null,null,null,null,null,null,null,null,"Summary of energy balance"]
["Min charge (kWh)",null,"Winter",null,null,null,null,null,null,null,null,null,null,null,null,null,null,null,"In use day",null,null,null,null,"Not in use day"]
[{"$f":"'Import avoidance model - RR'!N17","v":12},null,null,"Use' day logic",null,null,null,null,null,null,"Non Use' day logic",null,null,null,null,null,null,{"$f":"'Import avoidance model - RR'!D101","v":"Autumn"},"Demand","Generation","Import","Battery discharge","Battery status","Demand","Generation","Import","Battery Discharge","Battery status"]
["Max charge (kWh)",null,"Generation (kWh)","Use' Demand (kWh)","Available to charge battery (kWh)","Battery Recharge / kWh","Battery Discharge / kWh","Discharge/Recharge / kWh","Battery charge","Generation (kWh)","Use' Demand (kWh)","Available to charge battery (kWh)","Battery Recharge / kWh","Battery Discharge / kWh","Discharge/Recharge / kWh","Battery charge",null,"00:00:00",{"$f":"D5","v":17.610195718866162},{"$f":"IF($R$3=\"Spring\",C57,IF($R$3=\"Summer\",C109,IF($R$3=\"Autumn\",C161,IF($R$3=\"Winter\",C5,\"\"))))","v":0},{"$f":"IF(T4>=S4,0,IF(S4-T4-V4<0,0,S4-T4-V4))","v":17.610195718866162},{"$f":"IF($R$3=\"Spring\",G57,IF($R$3=\"Summer\",G109,IF($R$3=\"Autumn\",G161,IF($R$3=\"Winter\",H5,\"\"))))","v":0},{"$f":"IF($R$3=\"Spring\",I57,IF($R$3=\"Summer\",I109,IF($R$3=\"Autumn\",I161,IF($R$3=\"Winter\",I5,\"\"))))","v":12},{"$f":"K5","v":20.304095030490508},{"$f":"T4","v":0},{"$f":"IF(Y4>=X4,0,IF(X4-Y4-AA4<0,0,X4-Y4-AA4))","v":20.304095030490508},{"$f":"IF($R$3=\"Spring\",N57,IF($R$3=\"Summer\",N109,IF($R$3=\"Autumn\",N161,IF($R$3=\"Winter\",N5,\"\"))))","v":0},{"$f":"IF($R$3=\"Spring\",P57,IF($R$3=\"Summer\",P109,IF($R$3=\"Autumn\",P161,IF($R$3=\"Winter\",P5,\"\"))))","v":12}]
[{"$f":"'Import avoidance model - RR'!N14*'Import avoidance model - RR'!N15","v":60},"00:00:00",{"$f":"'PV data'!D5","v":0},{"$f":"IF($A$10=\"Secondary School\",Data!E6,IF($A$10=\"Primary school\",Data!I6,IF($A$10=\"Retail\",Data!M6,IF($A$10=\"Leisure Centre\",Data!Q6,\"\"))))","v":17.610195718866162},{"$f":"IF(C5>D5,(C5-D5),0)","v":0},{"$f":"IF(($A$3+E5)<$A$5,E5,$A$5)","v":0},{"$f":"IF(AND(D5>C5,I5>'Import avoidance model - RR'!$N$17,I5),D5-C5,0)","v":0},{"$f":"F5-G5","v":0},{"$f":"A3","v":12},{"$f":"C5","v":0},{"$f":"IF($A$10=\"Secondary School\",Data!G6,IF($A$10=\"Primary school\",Data!K6,IF($A$10=\"Retail\",Data!O6,IF($A$10=\"Leisure Centre\",Data!S6,\"\"))))","v":20.304095030490508},{"$f":"IF(J5>K5,(J5-K5),0)","v":0},{"$f":"IF(($A$3+L5)<$A$5,E5,$A$5)","v":0},{"$f":"IF(AND(K5>J5,P5>'Import avoidance model - RR'!$N$17,P5),K5-J5,0)","v":0},{"$f":"M5-N5","v":0},{"$f":"A3","v":12},null,"00:30:00",{"$f":"D6","v":17.552350993331668},{"$f":"IF($R$3=\"Spring\",C58,IF($R$3=\"Summer\",C110,IF($R$3=\"Autumn\",C162,IF($R$3=\"Winter\",C6,\"\"))))","v":0},{"$f":"IF(T5>=S5,0,IF(S5-T5-V5<0,0,S5-T5-V5))","v":17.552350993331668},{"$f":"IF($R$3=\"Spring\",G58,IF($R$3=\"Summer\",G110,IF($R$3=\"Autumn\",G162,IF($R$3=\"Winter\",H6,\"\"))))","v":0},{"$f":"IF($R$3=\"Spring\",I58,IF($R$3=\"Summer\",I110,IF($R$3=\"Autumn\",I162,IF($R$3=\"Winter\",I6,\"\"))))","v":12},{"$f":"K6","v":20.285042509324644},{"$f":"T5","v":0},{"$f":"IF(Y5>=X5,0,IF(X5-Y5-AA5<0,0,X5-Y5-AA5))","v":20.285042509324644},{"$f":"IF($R$3=\"Spring\",N58,IF($R$3=\"Summer\",N110,IF($R$3=\"Autumn\",N162,IF($R$3=\"Winter\",N6,\"\"))))","v":0},{"$f":"IF($R$3=\"Spring\",P58,IF($R$3=\"Summer\",P110,IF($R$3=\"Autumn\",P162,IF($R$3=\"Winter\",P6,\"\"))))","v":12}]
["max charge/discharge rate in HH","00:30:00",{"$f":"'PV data'!D6","v":0},{"$f":"IF($A$10=\"Secondary School\",Data!E7,IF($A$10=\"Primary school\",Data!I7,IF($A$10=\"Retail\",Data!M7,IF($A$10=\"Leisure Centre\",Data!Q7,\"\"))))","v":17.552350993331668},{"$f":"IF(C6>D6,(C6-D6),0)","v":0},{"$f":"IF(AND((I5+E6)<$A$5,E6<=$A$7),E6,IF(E6>$A$7,$A$7,$A$5-I5))","v":0},{"$f":"IF(AND(D6>C6,I5>$A$3),IF(D6-C6<=$A$7,D6-C6,$A$7),0)","v":0},{"$f":"F6-G6","v":0},{"$f":"IF(AND(I5+H6<=$A$5,I5+H6>$A$3),LOGIC!I5+LOGIC!H6,IF(I5+H6>$A$5,$A$5,$A$3))","v":12},{"$f":"C6","v":0},{"$f":"IF($A$10=\"Secondary School\",Data!G7,IF($A$10=\"Primary school\",Data!K7,IF($A$10=\"Retail\",Data!O7,IF($A$10=\"Leisure Centre\",Data!S7,\"\"))))","v":20.285042509324644},0,{"$f":"IF(AND((P5+L6)<$A$5,L6<=$A$7),L6,IF(L6>$A$7,$A$7,$A$5-P5))","v":0},{"$f":"IF(AND(K6>J6,P5>$A$3),IF(K6-J6<=$A$7,K6-J6,$A$7),0)","v":0},{"$f":"M6-N6","v":0},{"$f":"IF(AND(P5+O6<=$A$5,P5+O6>$A$3),LOGIC!P5+LOGIC!O6,IF(P5+O6>$A$5,$A$5,$A$3))","v":12},null,"01:00:00",17.491514038415222,0,17.491514038415222,0,12,20.402303902479492,0,20.402303902479492,0,12]
[{"$f":"0.5*'Import avoidance model - RR'!N14","v":15},"01:00:00",{"$f":"'PV data'!D7","v":0},{"$f":"IF($A$10=\"Secondary School\",Data!E8,IF($A$10=\"Primary school\",Data!I8,IF($A$10=\"Retail\",Data!M8,IF($A$10=\"Leisure Centre\",Data!Q8,\"\"))))","v":17.491514038415222},0,{"$f":"IF(AND((I6+E7)<$A$5,E7<=$A$7),E7,IF(E7>$A$7,$A$7,$A$5-I6))","v":0},{"$f":"IF(AND(D7>C7,I6>$A$3),IF(D7-C7<=$A$7,D7-C7,$A$7),0)","v":0},{"$f":"F7-G7","v":0},{"$f":"IF(AND(I6+H7<=$A$5,I6+H7>$A$3),LOGIC!I6+LOGIC!H7,IF(I6+H7>$A$5,$A$5,$A$3))","v":12},0,{"$f":"IF($A$10=\"Secondary School\",Data!G8,IF($A$10=\"Primary school\",Data!K8,IF($A$10=\"Retail\",Data!O8,IF($A$10=\"Leisure Centre\",Data!S8,\"\"))))","v":20.402303902479492},0,{"$f":"IF(AND((P6+L7)<$A$5,L7<=$A$7),L7,IF(L7>$A$7,$A$7,$A$5-P6))","v":0},0,{"$f":"M7-N7","v":0},{"$f":"IF(AND(P6+O7<=$A$5,P6+O7>$A$3),LOGIC!P6+LOGIC!O7,IF(P6+O7>$A$5,$A$5,$A$3))","v":12},null,"01:30:00",17.477508952662877,0,17.477508952662877,0,12,20.378733773202136,0,20.378733773202136,0,12]
[null,"01:30:00",{"$f":"'PV data'!D8","v":0},{"$f":"IF($A$10=\"Secondary School\",Data!E9,IF($A$10=\"Primary school\",Data!I9,IF($A$10=\"Retail\",Data!M9,IF($A$10=\"Leisure Centre\",Data!Q9,\"\"))))","v":17.477508952662877},0,0,0,0,{"$f":"IF(AND(I7+H8<=$A$5,I7+H8>$A$3),LOGIC!I7+LOGIC!H8,IF(I7+H8>$A$5,$A$5,$A$3))","v":12},0,{"$f":"IF($A$10=\"Secondary School\",Data!G9,IF($A$10=\"Primary school\",Data!K9,IF($A$10=\"Retail\",Data!O9,IF($A$10=\"Leisure Centre\",Data!S9,\"\"))))","v":20.378733773202136},0,0,0,0,{"$f":"IF(AND(P7+O8<=$A$5,P7+O8>$A$3),LOGIC!P7+LOGIC!O8,IF(P7+O8>$A$5,$A$5,$A$3))","v":12},null,"02:00:00",17.498493889966461,0,17.498493889966461,0,12,20.402893155711425,0,20.402893155711425,0,12]
["Source","02:00:00",{"$f":"'PV data'!D9","v":0},{"$f":"IF($A$10=\"Secondary School\",Data!E10,IF($A$10=\"Primary school\",Data!I10,IF($A$10=\"Retail\",Data!M10,IF($A$10=\"Leisure Centre\",Data!Q10,\"\"))))","v":17.498493889966461},0,0,0,0,{"$f":"IF(AND(I8+H9<=$A$5,I8+H9>$A$3),LOGIC!I8+LOGIC!H9,IF(I8+H9>$A$5,$A$5,$A$3))","v":12},0,{"$f":"IF($A$10=\"Secondary School\",Data!G10,IF($A$10=\"Primary school\",Data!K10,IF($A$10=\"Retail\",Data!O10,IF($A$10=\"Leisure Centre\",Data!S10,\"\"))))","v":20.402893155711425},0,0,0,0,{"$f":"IF(AND(P8+O9<=$A$5,P8+O9>$A$3),LOGIC!P8+LOGIC!O9,IF(P8+O9>$A$5,$A$5,$A$3))","v":12},null,"02:30:00",17.768302820021095,0,17.768302820021095,0,12,20.447872819082381,0,20.447872819082381,0,12]
[{"$f":"'Import avoidance model - RR'!D17","v":"Secondary school"},"02:30:00",{"$f":"'PV data'!D10","v":0},{"$f":"IF($A$10=\"Secondary School\",Data!E11,IF($A$10=\"Primary school\",Data!I11,IF($A$10=\"Retail\",Data!M11,IF($A$10=\"Leisure Centre\",Data!Q11,\"\"))))","v":17.768302820021095},0,0,0,0,{"$f":"IF(AND(I9+H10<=$A$5,I9+H10>$A$3),LOGIC!I9+LOGIC!H10,IF(I9+H10>$A$5,$A$5,$A$3))","v":12},0,{"$f":"IF($A$10=\"Secondary School\",Data!G11,IF($A$10=\"Primary school\",Data!K11,IF($A$10=\"Retail\",Data!O11,IF($A$10=\"Leisure Centre\",Data!S11,\"\"))))","v":20.447872819082381},0,0,0,0,{"$f":"IF(AND(P9+O10<=$A$5,P9+O10>$A$3),LOGIC!P9+LOGIC!O10,IF(P9+O10>$A$5,$A$5,$A$3))","v":12},null,"03:00:00",19.066745815680321,0,19.066745815680321,0,12,20.430195222124361,0,20.430195222124361,0,12]
[null,"03:00:00",{"$f":"'PV data'!D11","v":0},{"$f":"IF($A$10=\"Secondary School\",Data!E12,IF($A$10=\"Primary school\",Data!I12,IF($A$10=\"Retail\",Data!M12,IF($A$10=\"Leisure Centre\",Data!Q12,\"\"))))","v":19.066745815680321},0,0,0,0,{"$f":"IF(AND(I10+H11<=$A$5,I10+H11>$A$3),LOGIC!I10+LOGIC!H11,IF(I10+H11>$A$5,$A$5,$A$3))","v":12},0,{"$f":"IF($A$10=\"Secondary School\",Data!G12,IF($A$10=\"Primary school\",Data!K12,IF($A$10=\"Retail\",Data!O12,IF($A$10=\"Leisure Centre\",Data!S12,\"\"))))","v":20.430195222124361},0,0,0,0,{"$f":"IF(AND(P10+O11<=$A$5,P10+O11>$A$3),LOGIC!P10+LOGIC!O11,IF(P10+O11>$A$5,$A$5,$A$3))","v":12},null,"03:30:00",21.084413046605953,0,21.084413046605953,0,12,20.453568933657738,0,20.453568933657738,0,12]
[null,"03:30:00",{"$f":"'PV data'!D12","v":0},{"$f":"IF($A$10=\"Secondary School\",Data!E13,IF($A$10=\"Primary school\",Data!I13,IF($A$10=\"Retail\",Data!M13,IF($A$10=\"Leisure Centre\",Data!Q13,\"\"))))","v":21.084413046605953},0,0,0,0,{"$f":"IF(AND(I11+H12<=$A$5,I11+H12>$A$3),LOGIC!I11+LOGIC!H12,IF(I11+H12>$A$5,$A$5,$A$3))","v":12},0,{"$f":"IF($A$10=\"Secondary School\",Data!G13,IF($A$10=\"Primary school\",Data!K13,IF($A$10=\"Retail\",Data!O13,IF($A$10=\"Leisure Centre\",Data!S13,\"\"))))","v":20.453568933657738},0,0,0,0,{"$f":"IF(AND(P11+O12<=$A$5,P11+O12>$A$3),LOGIC!P11+LOGIC!O12,IF(P11+O12>$A$5,$A$5,$A$3))","v":12},null,"04:00:00",24.817120871520817,0,24.817120871520817,0,12,20.024788998553838,0,20.024788998553838,0,12]
[null,"04:00:00",{"$f":"'PV data'!D13","v":0},{"$f":"IF($A$10=\"Secondary School\",Data!E14,IF($A$10=\"Primary school\",Data!I14,IF($A$10=\"Retail\",Data!M14,IF($A$10=\"Leisure Centre\",Data!Q14,\"\"))))","v":24.817120871520817},0,0,0,0,{"$f":"IF(AND(I12+H13<=$A$5,I12+H13>$A$3),LOGIC!I12+LOGIC!H13,IF(I12+H13>$A$5,$A$5,$A$3))","v":12},0,{"$f":"IF($A$10=\"Secondary School\",Data!G14,IF($A$10=\"Primary school\",Data!K14,IF($A$10=\"Retail\",Data!O14,IF($A$10=\"Leisure Centre\",Data!S14,\"\"))))","v":20.024788998553838},0,0,0,0,{"$f":"IF(AND(P12+O13<=$A$5,P12+O13>$A$3),LOGIC!P12+LOGIC!O13,IF(P12+O13>$A$5,$A$5,$A$3))","v":12},null,"04:30:00",29.045794498382314,0,29.045794498382314,0,12,19.336737641399015,0,19.336737641399015,0,12]
[null,"04:30:00",{"$f":"'PV data'!D14","v":0},{"$f":"IF($A$10=\"Secondary School\",Data!E15,IF($A$10=\"Primary school\",Data!I15,IF($A$10=\"Retail\",Data!M15,IF($A$10=\"Leisure Centre\",Data!Q15,\"\"))))","v":29.045794498382314},0,0,0,0,{"$f":"IF(AND(I13+H14<=$A$5,I13+H14>$A$3),LOGIC!I13+LOGIC!H14,IF(I13+H14>$A$5,$A$5,$A$3))","v":12},0,{"$f":"IF($A$10=\"Secondary School\",Data!G15,IF($A$10=\"Primary school\",Data!K15,IF($A$10=\"Retail\",Data!O15,IF($A$10=\"Leisure Centre\",Data!S15,\"\"))))","v":19.336737641399015},0,0,0,0,{"$f":"IF(AND(P13+O14<=$A$5,P13+O14>$A$3),LOGIC!P13+LOGIC!O14,IF(P13+O14>$A$5,$A$5,$A$3))","v":12},null,"05:00:00",34.49894345262188,0,34.49894345262188,0,12,18.729610394763117,0,18.729610394763117,0,12]
[null,"05:00:00",{"$f":"'PV data'!D15","v":0},{"$f":"IF($A$10=\"Secondary School\",Data!E16,IF($A$10=\"Primary school\",Data!I16,IF($A$10=\"Retail\",Data!M16,IF($A$10=\"Leisure Centre\",Data!Q16,\"\"))))","v":34.49894345262188},0,0,0,0,{"$f":"IF(AND(I14+H15<=$A$5,I14+H15>$A$3),LOGIC!I14+LOGIC!H15,IF(I14+H15>$A$5,$A$5,$A$3))","v":12},0,{"$f":"IF($A$10=\"Secondary School\",Data!G16,IF($A$10=\"Primary school\",Data!K16,IF($A$10=\"Retail\",Data!O16,IF($A$10=\"Leisure Centre\",Data!S16,\"\"))))","v":18.729610394763117},0,0,0,0,{"$f":"IF(AND(P14+O15<=$A$5,P14+O15>$A$3),LOGIC!P14+LOGIC!O15,IF(P14+O15>$A$5,$A$5,$A$3))","v":12},null,"05:30:00",36.371894489616572,0,36.371894489616572,0,12,18.577975896412124,0,18.577975896412124,0,12]
[null,"05:30:00",{"$f":"'PV data'!D16","v":0},{"$f":"IF($A$10=\"Secondary School\",Data!E17,IF($A$10=\"Primary school\",Data!I17,IF($A$10=\"Retail\",Data!M17,IF($A$10=\"Leisure Centre\",Data!Q17,\"\"))))","v":36.371894489616572},0,0,0,0,{"$f":"IF(AND(I15+H16<=$A$5,I15+H16>$A$3),LOGIC!I15+LOGIC!H16,IF(I15+H16>$A$5,$A$5,$A$3))","v":12},0,{"$f":"IF($A$10=\"Secondary School\",Data!G17,IF($A$10=\"Primary school\",Data!K17,IF($A$10=\"Retail\",Data!O17,IF($A$10=\"Leisure Centre\",Data!S17,\"\"))))","v":18.577975896412124},0,0,0,0,{"$f":"IF(AND(P15+O16<=$A$5,P15+O16>$A$3),LOGIC!P15+LOGIC!O16,IF(P15+O16>$A$5,$A$5,$A$3))","v":12},null,"06:00:00",36.144433622918086,0,36.144433622918086,0,12,18.405717534943449,0,18.405717534943449,0,12]
[null,"06:00:00",{"$f":"'PV data'!D17","v":0},{"$f":"IF($A$10=\"Secondary School\",Data!E18,IF($A$10=\"Primary school\",Data!I18,IF($A$10=\"Retail\",Data!M18,IF($A$10=\"Leisure Centre\",Data!Q18,\"\"))))","v":36.144433622918086},0,0,0,0,{"$f":"IF(AND(I16+H17<=$A$5,I16+H17>$A$3),LOGIC!I16+LOGIC!H17,IF(I16+H17>$A$5,$A$5,$A$3))","v":12},0,{"$f":"IF($A$10=\"Secondary School\",Data!G18,IF($A$10=\"Primary school\",Data!K18,IF($A$10=\"Retail\",Data!O18,IF($A$10=\"Leisure Centre\",Data!S18,\"\"))))","v":18.405717534943449},0,0,0,0,{"$f":"IF(AND(P16+O17<=$A$5,P16+O17>$A$3),LOGIC!P16+LOGIC!O17,IF(P16+O17>$A$5,$A$5,$A$3))","v":12},null,"06:30:00",40.652504020998443,0,40.652504020998443,0,12,18.034684416569064,0,18.034684416569064,0,12]
[null,"06:30:00",{"$f":"'PV data'!D18","v":0},{"$f":"IF($A$10=\"Secondary School\",Data!E19,IF($A$10=\"Primary school\",Data!I19,IF($A$10=\"Retail\",Data!M19,IF($A$10=\"Leisure Centre\",Data!Q19,\"\"))))","v":40.652504020998443},0,0,0,0,{"$f":"IF(AND(I17+H18<=$A$5,I17+H18>$A$3),LOGIC!I17+LOGIC!H18,IF(I17+H18>$A$5,$A$5,$A$3))","v":12},0,{"$f":"IF($A$10=\"Secondary School\",Data!G19,IF($A$10=\"Primary school\",Data!K19,IF($A$10=\"Retail\",Data!O19,IF($A$10=\"Leisure Centre\",Data!S19,\"\"))))","v":18.034684416569064},0,0,0,0,{"$f":"IF(AND(P17+O18<=$A$5,P17+O18>$A$3),LOGIC!P17+LOGIC!O18,IF(P17+O18>$A$5,$A$5,$A$3))","v":12},null,"07:00:00",45.104366494449891,0,45.104366494449891,0,12,18.268225114158874,0,18.268225114158874,0,12]
[null,"07:00:00",{"$f":"'PV data'!D19","v":0},{"$f":"IF($A$10=\"Secondary School\",Data!E20,IF($A$10=\"Primary school\",Data!I20,IF($A$10=\"Retail\",Data!M20,IF($A$10=\"Leisure Centre\",Data!Q20,\"\"))))","v":45.104366494449891},0,0,0,0,{"$f":"IF(AND(I18+H19<=$A$5,I18+H19>$A$3),LOGIC!I18+LOGIC!H19,IF(I18+H19>$A$5,$A$5,$A$3))","v":12},0,{"$f":"IF($A$10=\"Secondary School\",Data!G20,IF($A$10=\"Primary school\",Data!K20,IF($A$10=\"Retail\",Data!O20,IF($A$10=\"Leisure Centre\",Data!S20,\"\"))))","v":18.268225114158874},0,0,0,0,{"$f":"IF(AND(P18+O19<=$A$5,P18+O19>$A$3),LOGIC!P18+LOGIC!O19,IF(P18+O19>$A$5,$A$5,$A$3))","v":12},null,"07:30:00",49.087244664062197,0,49.087244664062197,0,12,18.512372369923483,0,18.512372369923483,0,12]
[null,"07:30:00",{"$f":"'PV data'!D20","v":0},{"$f":"IF($A$10=\"Secondary School\",Data!E21,IF($A$10=\"Primary school\",Data!I21,IF($A$10=\"Retail\",Data!M21,IF($A$10=\"Leisure Centre\",Data!Q21,\"\"))))","v":49.087244664062197},0,0,0,0,{"$f":"IF(AND(I19+H20<=$A$5,I19+H20>$A$3),LOGIC!I19+LOGIC!H20,IF(I19+H20>$A$5,$A$5,$A$3))","v":12},0,{"$f":"IF($A$10=\"Secondary School\",Data!G21,IF($A$10=\"Primary school\",Data!K21,IF($A$10=\"Retail\",Data!O21,IF($A$10=\"Leisure Centre\",Data!S21,\"\"))))","v":18.512372369923483},0,0,0,0,{"$f":"IF(AND(P19+O20<=$A$5,P19+O20>$A$3),LOGIC!P19+LOGIC!O20,IF(P19+O20>$A$5,$A$5,$A$3))","v":12},null,"08:00:00",53.260439514202844,18.378218698569729,34.882220815633119,0,12,18.726271293115492,18.378218698569729,0.34805259454576287,0,12]
[null,"08:00:00",{"$f":"'PV data'!D21","v":0},{"$f":"IF($A$10=\"Secondary School\",Data!E22,IF($A$10=\"Primary school\",Data!I22,IF($A$10=\"Retail\",Data!M22,IF($A$10=\"Leisure Centre\",Data!Q22,\"\"))))","v":53.260439514202844},0,0,0,0,{"$f":"IF(AND(I20+H21<=$A$5,I20+H21>$A$3),LOGIC!I20+LOGIC!H21,IF(I20+H21>$A$5,$A$5,$A$3))","v":12},0,{"$f":"IF($A$10=\"Secondary School\",Data!G22,IF($A$10=\"Primary school\",Data!K22,IF($A$10=\"Retail\",Data!O22,IF($A$10=\"Leisure Centre\",Data!S22,\"\"))))","v":18.726271293115492},0,0,0,0,{"$f":"IF(AND(P20+O21<=$A$5,P20+O21>$A$3),LOGIC!P20+LOGIC!O21,IF(P20+O21>$A$5,$A$5,$A$3))","v":12},null,"08:30:00",55.514432356103129,23.679476188211535,31.834956167891594,0,12,19.46460559272867,23.679476188211535,0,0,16.214870595482864]
[null,"08:30:00",{"$f":"'PV data'!D22","v":6.9038995701397834},{"$f":"IF($A$10=\"Secondary School\",Data!E23,IF($A$10=\"Primary school\",Data!I23,IF($A$10=\"Retail\",Data!M23,IF($A$10=\"Leisure Centre\",Data!Q23,\"\"))))","v":55.514432356103129},0,0,0,0,{"$f":"IF(AND(I21+H22<=$A$5,I21+H22>$A$3),LOGIC!I21+LOGIC!H22,IF(I21+H22>$A$5,$A$5,$A$3))","v":12},6.9038995701397834,{"$f":"IF($A$10=\"Secondary School\",Data!G23,IF($A$10=\"Primary school\",Data!K23,IF($A$10=\"Retail\",Data!O23,IF($A$10=\"Leisure Centre\",Data!S23,\"\"))))","v":19.46460559272867},0,0,0,0,{"$f":"IF(AND(P21+O22<=$A$5,P21+O22>$A$3),LOGIC!P21+LOGIC!O22,IF(P21+O22>$A$5,$A$5,$A$3))","v":12},null,"09:00:00",56.747121943109128,25.298223909817978,31.448898033291151,0,12,20.123390706030776,25.298223909817978,0,0,21.389703799270066]
[null,"09:00:00",{"$f":"'PV data'!D23","v":17.215668632270678},{"$f":"IF($A$10=\"Secondary School\",Data!E24,IF($A$10=\"Primary school\",Data!I24,IF($A$10=\"Retail\",Data!M24,IF($A$10=\"Leisure Centre\",Data!Q24,\"\"))))","v":56.747121943109128},0,0,0,0,{"$f":"IF(AND(I22+H23<=$A$5,I22+H23>$A$3),LOGIC!I22+LOGIC!H23,IF(I22+H23>$A$5,$A$5,$A$3))","v":12},17.215668632270678,{"$f":"IF($A$10=\"Secondary School\",Data!G24,IF($A$10=\"Primary school\",Data!K24,IF($A$10=\"Retail\",Data!O24,IF($A$10=\"Leisure Centre\",Data!S24,\"\"))))","v":20.123390706030776},0,0,0,0,{"$f":"IF(AND(P22+O23<=$A$5,P22+O23>$A$3),LOGIC!P22+LOGIC!O23,IF(P22+O23>$A$5,$A$5,$A$3))","v":12},null,"09:30:00",58.652028416637918,27.269154642488594,31.382873774149324,0,12,20.657057716418915,27.269154642488594,0,0,28.001800725339745]
[null,"09:30:00",{"$f":"'PV data'!D24","v":18.36559008607637},{"$f":"IF($A$10=\"Secondary School\",Data!E25,IF($A$10=\"Primary school\",Data!I25,IF($A$10=\"Retail\",Data!M25,IF($A$10=\"Leisure Centre\",Data!Q25,\"\"))))","v":58.652028416637918},0,0,0,0,{"$f":"IF(AND(I23+H24<=$A$5,I23+H24>$A$3),LOGIC!I23+LOGIC!H24,IF(I23+H24>$A$5,$A$5,$A$3))","v":12},18.36559008607637,{"$f":"IF($A$10=\"Secondary School\",Data!G25,IF($A$10=\"Primary school\",Data!K25,IF($A$10=\"Retail\",Data!O25,IF($A$10=\"Leisure Centre\",Data!S25,\"\"))))","v":20.657057716418915},0,0,0,0,{"$f":"IF(AND(P23+O24<=$A$5,P23+O24>$A$3),LOGIC!P23+LOGIC!O24,IF(P23+O24>$A$5,$A$5,$A$3))","v":12},null,"10:00:00",58.088636099012554,58.905740836755704,0,0,12.817104737743151,20.861135752412025,58.905740836755704,0,0,43.001800725339749]
[null,"10:00:00",{"$f":"'PV data'!D25","v":17.739978021917697},{"$f":"IF($A$10=\"Secondary School\",Data!E26,IF($A$10=\"Primary school\",Data!I26,IF($A$10=\"Retail\",Data!M26,IF($A$10=\"Leisure Centre\",Data!Q26,\"\"))))","v":58.088636099012554},0,0,0,0,{"$f":"IF(AND(I24+H25<=$A$5,I24+H25>$A$3),LOGIC!I24+LOGIC!H25,IF(I24+H25>$A$5,$A$5,$A$3))","v":12},17.739978021917697,{"$f":"IF($A$10=\"Secondary School\",Data!G26,IF($A$10=\"Primary school\",Data!K26,IF($A$10=\"Retail\",Data!O26,IF($A$10=\"Leisure Centre\",Data!S26,\"\"))))","v":20.861135752412025},0,0,0,0,{"$f":"IF(AND(P24+O25<=$A$5,P24+O25>$A$3),LOGIC!P24+LOGIC!O25,IF(P24+O25>$A$5,$A$5,$A$3))","v":12},null,"10:30:00",57.937263783099503,55.273732222298463,0,2.6635315608010401,12,20.986253855325995,55.273732222298463,0,0,58.001800725339749]
[null,"10:30:00",{"$f":"'PV data'!D26","v":19.123119887049796},{"$f":"IF($A$10=\"Secondary School\",Data!E27,IF($A$10=\"Primary school\",Data!I27,IF($A$10=\"Retail\",Data!M27,IF($A$10=\"Leisure Centre\",Data!Q27,\"\"))))","v":57.937263783099503},0,0,0,0,{"$f":"IF(AND(I25+H26<=$A$5,I25+H26>$A$3),LOGIC!I25+LOGIC!H26,IF(I25+H26>$A$5,$A$5,$A$3))","v":12},19.123119887049796,{"$f":"IF($A$10=\"Secondary School\",Data!G27,IF($A$10=\"Primary school\",Data!K27,IF($A$10=\"Retail\",Data!O27,IF($A$10=\"Leisure Centre\",Data!S27,\"\"))))","v":20.986253855325995},0,0,0,0,{"$f":"IF(AND(P25+O26<=$A$5,P25+O26>$A$3),LOGIC!P25+LOGIC!O26,IF(P25+O26>$A$5,$A$5,$A$3))","v":12},null,"11:00:00",58.232583813405562,60.456043232003402,0,0,14.223459418597841,20.95070224366598,60.456043232003402,0,0,60]
[null,"11:00:00",{"$f":"'PV data'!D27","v":47.978977827460582},{"$f":"IF($A$10=\"Secondary School\",Data!E28,IF($A$10=\"Primary school\",Data!I28,IF($A$10=\"Retail\",Data!M28,IF($A$10=\"Leisure Centre\",Data!Q28,\"\"))))","v":58.232583813405562},0,0,0,0,{"$f":"IF(AND(I26+H27<=$A$5,I26+H27>$A$3),LOGIC!I26+LOGIC!H27,IF(I26+H27>$A$5,$A$5,$A$3))","v":12},47.978977827460582,{"$f":"IF($A$10=\"Secondary School\",Data!G28,IF($A$10=\"Primary school\",Data!K28,IF($A$10=\"Retail\",Data!O28,IF($A$10=\"Leisure Centre\",Data!S28,\"\"))))","v":20.95070224366598},27.028275583794603,15,0,15,{"$f":"IF(AND(P26+O27<=$A$5,P26+O27>$A$3),LOGIC!P26+LOGIC!O27,IF(P26+O27>$A$5,$A$5,$A$3))","v":27},null,"11:30:00",60.052839542871915,54.795239240629087,0,5.2576003022428281,12,20.574758681692153,54.795239240629087,0,0,60]
[null,"11:30:00",{"$f":"'PV data'!D28","v":24.170902118872473},{"$f":"IF($A$10=\"Secondary School\",Data!E29,IF($A$10=\"Primary school\",Data!I29,IF($A$10=\"Retail\",Data!M29,IF($A$10=\"Leisure Centre\",Data!Q29,\"\"))))","v":60.052839542871915},0,0,0,0,{"$f":"IF(AND(I27+H28<=$A$5,I27+H28>$A$3),LOGIC!I27+LOGIC!H28,IF(I27+H28>$A$5,$A$5,$A$3))","v":12},24.170902118872473,{"$f":"IF($A$10=\"Secondary School\",Data!G29,IF($A$10=\"Primary school\",Data!K29,IF($A$10=\"Retail\",Data!O29,IF($A$10=\"Leisure Centre\",Data!S29,\"\"))))","v":20.574758681692153},3.59614343718032,3.59614343718032,0,3.59614343718032,{"$f":"IF(AND(P27+O28<=$A$5,P27+O28>$A$3),LOGIC!P27+LOGIC!O28,IF(P27+O28>$A$5,$A$5,$A$3))","v":30.59614343718032},null,"12:00:00",59.064865306048034,38.516573016150012,20.548292289898022,0,12,20.494816659893111,38.516573016150012,0,0,60]
[null,"12:00:00",{"$f":"'PV data'!D29","v":54.238905770134501},{"$f":"IF($A$10=\"Secondary School\",Data!E30,IF($A$10=\"Primary school\",Data!I30,IF($A$10=\"Retail\",Data!M30,IF($A$10=\"Leisure Centre\",Data!Q30,\"\"))))","v":59.064865306048034},0,0,0,0,{"$f":"IF(AND(I28+H29<=$A$5,I28+H29>$A$3),LOGIC!I28+LOGIC!H29,IF(I28+H29>$A$5,$A$5,$A$3))","v":12},54.238905770134501,{"$f":"IF($A$10=\"Secondary School\",Data!G30,IF($A$10=\"Primary school\",Data!K30,IF($A$10=\"Retail\",Data!O30,IF($A$10=\"Leisure Centre\",Data!S30,\"\"))))","v":20.494816659893111},33.74408911024139,15,0,15,{"$f":"IF(AND(P28+O29<=$A$5,P28+O29>$A$3),LOGIC!P28+LOGIC!O29,IF(P28+O29>$A$5,$A$5,$A$3))","v":45.596143437180316},null,"12:30:00",56.193023992178787,44.400129931159569,11.792894061019219,0,12,20.616988496647409,44.400129931159569,0,0,60]
[null,"12:30:00",{"$f":"'PV data'!D30","v":48.583759408443711},{"$f":"IF($A$10=\"Secondary School\",Data!E31,IF($A$10=\"Primary school\",Data!I31,IF($A$10=\"Retail\",Data!M31,IF($A$10=\"Leisure Centre\",Data!Q31,\"\"))))","v":56.193023992178787},0,0,0,0,{"$f":"IF(AND(I29+H30<=$A$5,I29+H30>$A$3),LOGIC!I29+LOGIC!H30,IF(I29+H30>$A$5,$A$5,$A$3))","v":12},48.583759408443711,{"$f":"IF($A$10=\"Secondary School\",Data!G31,IF($A$10=\"Primary school\",Data!K31,IF($A$10=\"Retail\",Data!O31,IF($A$10=\"Leisure Centre\",Data!S31,\"\"))))","v":20.616988496647409},27.966770911796303,15,0,15,{"$f":"IF(AND(P29+O30<=$A$5,P29+O30>$A$3),LOGIC!P29+LOGIC!O30,IF(P29+O30>$A$5,$A$5,$A$3))","v":60},null,"13:00:00",54.093834394522318,34.747334211159718,19.3465001833626,0,12,20.396804205648106,34.747334211159718,0,0,60]
[null,"13:00:00",{"$f":"'PV data'!D31","v":22.691250772840149},{"$f":"IF($A$10=\"Secondary School\",Data!E32,IF($A$10=\"Primary school\",Data!I32,IF($A$10=\"Retail\",Data!M32,IF($A$10=\"Leisure Centre\",Data!Q32,\"\"))))","v":54.093834394522318},0,0,0,0,{"$f":"IF(AND(I30+H31<=$A$5,I30+H31>$A$3),LOGIC!I30+LOGIC!H31,IF(I30+H31>$A$5,$A$5,$A$3))","v":12},22.691250772840149,{"$f":"IF($A$10=\"Secondary School\",Data!G32,IF($A$10=\"Primary school\",Data!K32,IF($A$10=\"Retail\",Data!O32,IF($A$10=\"Leisure Centre\",Data!S32,\"\"))))","v":20.396804205648106},2.2944465671920433,0,0,0,{"$f":"IF(AND(P30+O31<=$A$5,P30+O31>$A$3),LOGIC!P30+LOGIC!O31,IF(P30+O31>$A$5,$A$5,$A$3))","v":60},null,"13:30:00",50.031799806992829,48.512635846972934,1.5191639600198954,0,12,20.362823935939918,48.512635846972934,0,0,60]
[null,"13:30:00",{"$f":"'PV data'!D32","v":29.798705753732506},{"$f":"IF($A$10=\"Secondary School\",Data!E33,IF($A$10=\"Primary school\",Data!I33,IF($A$10=\"Retail\",Data!M33,IF($A$10=\"Leisure Centre\",Data!Q33,\"\"))))","v":50.031799806992829},0,0,0,0,{"$f":"IF(AND(I31+H32<=$A$5,I31+H32>$A$3),LOGIC!I31+LOGIC!H32,IF(I31+H32>$A$5,$A$5,$A$3))","v":12},29.798705753732506,{"$f":"IF($A$10=\"Secondary School\",Data!G33,IF($A$10=\"Primary school\",Data!K33,IF($A$10=\"Retail\",Data!O33,IF($A$10=\"Leisure Centre\",Data!S33,\"\"))))","v":20.362823935939918},9.4358818177925876,0,0,0,{"$f":"IF(AND(P31+O32<=$A$5,P31+O32>$A$3),LOGIC!P31+LOGIC!O32,IF(P31+O32>$A$5,$A$5,$A$3))","v":60},null,"14:00:00",47.432190856681693,59.327139449587655,0,0,23.894948592905962,20.201172132646054,59.327139449587655,0,0,60]
[null,"14:00:00",{"$f":"'PV data'!D33","v":29.361253781998535},{"$f":"IF($A$10=\"Secondary School\",Data!E34,IF($A$10=\"Primary school\",Data!I34,IF($A$10=\"Retail\",Data!M34,IF($A$10=\"Leisure Centre\",Data!Q34,\"\"))))","v":47.432190856681693},0,0,0,0,{"$f":"IF(AND(I32+H33<=$A$5,I32+H33>$A$3),LOGIC!I32+LOGIC!H33,IF(I32+H33>$A$5,$A$5,$A$3))","v":12},29.361253781998535,{"$f":"IF($A$10=\"Secondary School\",Data!G34,IF($A$10=\"Primary school\",Data!K34,IF($A$10=\"Retail\",Data!O34,IF($A$10=\"Leisure Centre\",Data!S34,\"\"))))","v":20.201172132646054},9.160081649352481,0,0,0,{"$f":"IF(AND(P32+O33<=$A$5,P32+O33>$A$3),LOGIC!P32+LOGIC!O33,IF(P32+O33>$A$5,$A$5,$A$3))","v":60},null,"14:30:00",44.051104777511519,54.224678807310674,0,0,34.068522622705117,19.940525786387283,54.224678807310674,0,0,60]
[null,"14:30:00",{"$f":"'PV data'!D34","v":14.40106154863288},{"$f":"IF($A$10=\"Secondary School\",Data!E35,IF($A$10=\"Primary school\",Data!I35,IF($A$10=\"Retail\",Data!M35,IF($A$10=\"Leisure Centre\",Data!Q35,\"\"))))","v":44.051104777511519},0,0,0,0,{"$f":"IF(AND(I33+H34<=$A$5,I33+H34>$A$3),LOGIC!I33+LOGIC!H34,IF(I33+H34>$A$5,$A$5,$A$3))","v":12},14.40106154863288,{"$f":"IF($A$10=\"Secondary School\",Data!G35,IF($A$10=\"Primary school\",Data!K35,IF($A$10=\"Retail\",Data!O35,IF($A$10=\"Leisure Centre\",Data!S35,\"\"))))","v":19.940525786387283},0,0,5.5394642377544034,-5.5394642377544034,{"$f":"IF(AND(P33+O34<=$A$5,P33+O34>$A$3),LOGIC!P33+LOGIC!O34,IF(P33+O34>$A$5,$A$5,$A$3))","v":54.460535762245598},null,"15:00:00",41.353714369773279,40.809065915310399,0,0.54464845446288024,33.523874168242237,19.844084674094105,40.809065915310399,0,0,60]
[null,"15:00:00",{"$f":"'PV data'!D35","v":9.8305816372733652},{"$f":"IF($A$10=\"Secondary School\",Data!E36,IF($A$10=\"Primary school\",Data!I36,IF($A$10=\"Retail\",Data!M36,IF($A$10=\"Leisure Centre\",Data!Q36,\"\"))))","v":41.353714369773279},0,0,0,0,{"$f":"IF(AND(I34+H35<=$A$5,I34+H35>$A$3),LOGIC!I34+LOGIC!H35,IF(I34+H35>$A$5,$A$5,$A$3))","v":12},9.8305816372733652,{"$f":"IF($A$10=\"Secondary School\",Data!G36,IF($A$10=\"Primary school\",Data!K36,IF($A$10=\"Retail\",Data!O36,IF($A$10=\"Leisure Centre\",Data!S36,\"\"))))","v":19.844084674094105},0,0,10.01350303682074,-10.01350303682074,{"$f":"IF(AND(P34+O35<=$A$5,P34+O35>$A$3),LOGIC!P34+LOGIC!O35,IF(P34+O35>$A$5,$A$5,$A$3))","v":44.447032725424862},null,"15:30:00",38.270184172793144,29.046892158489118,0,9.2232920143040253,24.300582153938212,19.910277453814679,29.046892158489118,0,0,60]
[null,"15:30:00",{"$f":"'PV data'!D36","v":8.4733959138418449},{"$f":"IF($A$10=\"Secondary School\",Data!E37,IF($A$10=\"Primary school\",Data!I37,IF($A$10=\"Retail\",Data!M37,IF($A$10=\"Leisure Centre\",Data!Q37,\"\"))))","v":38.270184172793144},0,0,0,0,{"$f":"IF(AND(I35+H36<=$A$5,I35+H36>$A$3),LOGIC!I35+LOGIC!H36,IF(I35+H36>$A$5,$A$5,$A$3))","v":12},8.4733959138418449,{"$f":"IF($A$10=\"Secondary School\",Data!G37,IF($A$10=\"Primary school\",Data!K37,IF($A$10=\"Retail\",Data!O37,IF($A$10=\"Leisure Centre\",Data!S37,\"\"))))","v":19.910277453814679},0,0,11.436881539972834,-11.436881539972834,{"$f":"IF(AND(P35+O36<=$A$5,P35+O36>$A$3),LOGIC!P35+LOGIC!O36,IF(P35+O36>$A$5,$A$5,$A$3))","v":33.010151185452031},null,"16:00:00",35.825478308555581,18.723429174322341,2.1020491342332406,15,12,19.999451109580679,18.723429174322341,0,1.2760219352583384,58.723978064741658]
[null,"16:00:00",{"$f":"'PV data'!D37","v":0},{"$f":"IF($A$10=\"Secondary School\",Data!E38,IF($A$10=\"Primary school\",Data!I38,IF($A$10=\"Retail\",Data!M38,IF($A$10=\"Leisure Centre\",Data!Q38,\"\"))))","v":35.825478308555581},0,0,0,0,{"$f":"IF(AND(I36+H37<=$A$5,I36+H37>$A$3),LOGIC!I36+LOGIC!H37,IF(I36+H37>$A$5,$A$5,$A$3))","v":12},0,{"$f":"IF($A$10=\"Secondary School\",Data!G38,IF($A$10=\"Primary school\",Data!K38,IF($A$10=\"Retail\",Data!O38,IF($A$10=\"Leisure Centre\",Data!S38,\"\"))))","v":19.999451109580679},0,0,15,-15,{"$f":"IF(AND(P36+O37<=$A$5,P36+O37>$A$3),LOGIC!P36+LOGIC!O37,IF(P36+O37>$A$5,$A$5,$A$3))","v":18.010151185452031},null,"16:30:00",33.731447205435238,6.4452598874964364,27.286187317938801,0,12,20.107480868768565,6.4452598874964364,0,13.662220981272128,45.06175708346953]
[null,"16:30:00",{"$f":"'PV data'!D38","v":0},{"$f":"IF($A$10=\"Secondary School\",Data!E39,IF($A$10=\"Primary school\",Data!I39,IF($A$10=\"Retail\",Data!M39,IF($A$10=\"Leisure Centre\",Data!Q39,\"\"))))","v":33.731447205435238},0,0,0,0,{"$f":"IF(AND(I37+H38<=$A$5,I37+H38>$A$3),LOGIC!I37+LOGIC!H38,IF(I37+H38>$A$5,$A$5,$A$3))","v":12},0,{"$f":"IF($A$10=\"Secondary School\",Data!G39,IF($A$10=\"Primary school\",Data!K39,IF($A$10=\"Retail\",Data!O39,IF($A$10=\"Leisure Centre\",Data!S39,\"\"))))","v":20.107480868768565},0,0,15,-15,{"$f":"IF(AND(P37+O38<=$A$5,P37+O38>$A$3),LOGIC!P37+LOGIC!O38,IF(P37+O38>$A$5,$A$5,$A$3))","v":12},null,"17:00:00",32.139078939576216,0,{"$f":"IF(T38>=S38,0,IF(S38-T38-V38<0,0,S38-T38-V38))","v":32.139078939576216},0,12,21.0333941138807,0,6.0333941138806999,15,30.06175708346953]
[null,"17:00:00",{"$f":"'PV data'!D39","v":0},{"$f":"IF($A$10=\"Secondary School\",Data!E40,IF($A$10=\"Primary school\",Data!I40,IF($A$10=\"Retail\",Data!M40,IF($A$10=\"Leisure Centre\",Data!Q40,\"\"))))","v":32.139078939576216},0,0,0,0,{"$f":"IF(AND(I38+H39<=$A$5,I38+H39>$A$3),LOGIC!I38+LOGIC!H39,IF(I38+H39>$A$5,$A$5,$A$3))","v":12},0,{"$f":"IF($A$10=\"Secondary School\",Data!G40,IF($A$10=\"Primary school\",Data!K40,IF($A$10=\"Retail\",Data!O40,IF($A$10=\"Leisure Centre\",Data!S40,\"\"))))","v":21.0333941138807},0,0,0,0,{"$f":"IF(AND(P38+O39<=$A$5,P38+O39>$A$3),LOGIC!P38+LOGIC!O39,IF(P38+O39>$A$5,$A$5,$A$3))","v":12},null,"17:30:00",31.258241037074296,0,31.258241037074296,0,12,22.057712648725804,0,7.0577126487258042,15,15.06175708346953]
[null,"17:30:00",{"$f":"'PV data'!D40","v":0},{"$f":"IF($A$10=\"Secondary School\",Data!E41,IF($A$10=\"Primary school\",Data!I41,IF($A$10=\"Retail\",Data!M41,IF($A$10=\"Leisure Centre\",Data!Q41,\"\"))))","v":31.258241037074296},0,0,0,0,{"$f":"IF(AND(I39+H40<=$A$5,I39+H40>$A$3),LOGIC!I39+LOGIC!H40,IF(I39+H40>$A$5,$A$5,$A$3))","v":12},0,{"$f":"IF($A$10=\"Secondary School\",Data!G41,IF($A$10=\"Primary school\",Data!K41,IF($A$10=\"Retail\",Data!O41,IF($A$10=\"Leisure Centre\",Data!S41,\"\"))))","v":22.057712648725804},0,0,0,0,{"$f":"IF(AND(P39+O40<=$A$5,P39+O40>$A$3),LOGIC!P39+LOGIC!O40,IF(P39+O40>$A$5,$A$5,$A$3))","v":12},null,"18:00:00",30.511750905761172,0,30.511750905761172,0,12,22.704516279645254,0,7.7045162796452544,15,12]
[null,"18:00:00",{"$f":"'PV data'!D41","v":0},{"$f":"IF($A$10=\"Secondary School\",Data!E42,IF($A$10=\"Primary school\",Data!I42,IF($A$10=\"Retail\",Data!M42,IF($A$10=\"Leisure Centre\",Data!Q42,\"\"))))","v":30.511750905761172},0,0,0,0,{"$f":"IF(AND(I40+H41<=$A$5,I40+H41>$A$3),LOGIC!I40+LOGIC!H41,IF(I40+H41>$A$5,$A$5,$A$3))","v":12},0,{"$f":"IF($A$10=\"Secondary School\",Data!G42,IF($A$10=\"Primary school\",Data!K42,IF($A$10=\"Retail\",Data!O42,IF($A$10=\"Leisure Centre\",Data!S42,\"\"))))","v":22.704516279645254},0,0,0,0,{"$f":"IF(AND(P40+O41<=$A$5,P40+O41>$A$3),LOGIC!P40+LOGIC!O41,IF(P40+O41>$A$5,$A$5,$A$3))","v":12},null,"18:30:00",30.010181859309615,0,30.010181859309615,0,12,23.146063368107729,0,23.146063368107729,0,12]
[null,"18:30:00",{"$f":"'PV data'!D42","v":0},{"$f":"IF($A$10=\"Secondary School\",Data!E43,IF($A$10=\"Primary school\",Data!I43,IF($A$10=\"Retail\",Data!M43,IF($A$10=\"Leisure Centre\",Data!Q43,\"\"))))","v":30.010181859309615},0,0,0,0,{"$f":"IF(AND(I41+H42<=$A$5,I41+H42>$A$3),LOGIC!I41+LOGIC!H42,IF(I41+H42>$A$5,$A$5,$A$3))","v":12},0,{"$f":"IF($A$10=\"Secondary School\",Data!G43,IF($A$10=\"Primary school\",Data!K43,IF($A$10=\"Retail\",Data!O43,IF($A$10=\"Leisure Centre\",Data!S43,\"\"))))","v":23.146063368107729},0,0,0,0,{"$f":"IF(AND(P41+O42<=$A$5,P41+O42>$A$3),LOGIC!P41+LOGIC!O42,IF(P41+O42>$A$5,$A$5,$A$3))","v":12},null,"19:00:00",29.576650481555134,0,29.576650481555134,0,12,23.294751600299055,0,23.294751600299055,0,12]
[null,"19:00:00",{"$f":"'PV data'!D43","v":0},{"$f":"IF($A$10=\"Secondary School\",Data!E44,IF($A$10=\"Primary school\",Data!I44,IF($A$10=\"Retail\",Data!M44,IF($A$10=\"Leisure Centre\",Data!Q44,\"\"))))","v":29.576650481555134},0,0,0,0,{"$f":"IF(AND(I42+H43<=$A$5,I42+H43>$A$3),LOGIC!I42+LOGIC!H43,IF(I42+H43>$A$5,$A$5,$A$3))","v":12},0,{"$f":"IF($A$10=\"Secondary School\",Data!G44,IF($A$10=\"Primary school\",Data!K44,IF($A$10=\"Retail\",Data!O44,IF($A$10=\"Leisure Centre\",Data!S44,\"\"))))","v":23.294751600299055},0,0,0,0,{"$f":"IF(AND(P42+O43<=$A$5,P42+O43>$A$3),LOGIC!P42+LOGIC!O43,IF(P42+O43>$A$5,$A$5,$A$3))","v":12},null,"19:30:00",29.406392932272865,0,29.406392932272865,0,12,22.465083049736112,0,22.465083049736112,0,12]
[null,"19:30:00",{"$f":"'PV data'!D44","v":0},{"$f":"IF($A$10=\"Secondary School\",Data!E45,IF($A$10=\"Primary school\",Data!I45,IF($A$10=\"Retail\",Data!M45,IF($A$10=\"Leisure Centre\",Data!Q45,\"\"))))","v":29.406392932272865},0,0,0,0,{"$f":"IF(AND(I43+H44<=$A$5,I43+H44>$A$3),LOGIC!I43+LOGIC!H44,IF(I43+H44>$A$5,$A$5,$A$3))","v":12},0,{"$f":"IF($A$10=\"Secondary School\",Data!G45,IF($A$10=\"Primary school\",Data!K45,IF($A$10=\"Retail\",Data!O45,IF($A$10=\"Leisure Centre\",Data!S45,\"\"))))","v":22.465083049736112},0,0,0,0,{"$f":"IF(AND(P43+O44<=$A$5,P43+O44>$A$3),LOGIC!P43+LOGIC!O44,IF(P43+O44>$A$5,$A$5,$A$3))","v":12},null,"20:00:00",28.18661622191215,0,28.18661622191215,0,12,21.699446683709994,0,21.699446683709994,0,12]
[null,"20:00:00",{"$f":"'PV data'!D45","v":0},{"$f":"IF($A$10=\"Secondary School\",Data!E46,IF($A$10=\"Primary school\",Data!I46,IF($A$10=\"Retail\",Data!M46,IF($A$10=\"Leisure Centre\",Data!Q46,\"\"))))","v":28.18661622191215},0,0,0,0,{"$f":"IF(AND(I44+H45<=$A$5,I44+H45>$A$3),LOGIC!I44+LOGIC!H45,IF(I44+H45>$A$5,$A$5,$A$3))","v":12},0,{"$f":"IF($A$10=\"Secondary School\",Data!G46,IF($A$10=\"Primary school\",Data!K46,IF($A$10=\"Retail\",Data!O46,IF($A$10=\"Leisure Centre\",Data!S46,\"\"))))","v":21.699446683709994},0,0,0,0,{"$f":"IF(AND(P44+O45<=$A$5,P44+O45>$A$3),LOGIC!P44+LOGIC!O45,IF(P44+O45>$A$5,$A$5,$A$3))","v":12},null,"20:30:00",26.632103137071358,0,26.632103137071358,0,12,21.367697114131207,0,21.367697114131207,0,12]
[null,"20:30:00",{"$f":"'PV data'!D46","v":0},{"$f":"IF($A$10=\"Secondary School\",Data!E47,IF($A$10=\"Primary school\",Data!I47,IF($A$10=\"Retail\",Data!M47,IF($A$10=\"Leisure Centre\",Data!Q47,\"\"))))","v":26.632103137071358},0,0,0,0,{"$f":"IF(AND(I45+H46<=$A$5,I45+H46>$A$3),LOGIC!I45+LOGIC!H46,IF(I45+H46>$A$5,$A$5,$A$3))","v":12},0,{"$f":"IF($A$10=\"Secondary School\",Data!G47,IF($A$10=\"Primary school\",Data!K47,IF($A$10=\"Retail\",Data!O47,IF($A$10=\"Leisure Centre\",Data!S47,\"\"))))","v":21.367697114131207},0,0,0,0,{"$f":"IF(AND(P45+O46<=$A$5,P45+O46>$A$3),LOGIC!P45+LOGIC!O46,IF(P45+O46>$A$5,$A$5,$A$3))","v":12},null,"21:00:00",22.920071647440903,0,22.920071647440903,0,12,20.857010979788491,0,20.857010979788491,0,12]
[null,"21:00:00",{"$f":"'PV data'!D47","v":0},{"$f":"IF($A$10=\"Secondary School\",Data!E48,IF($A$10=\"Primary school\",Data!I48,IF($A$10=\"Retail\",Data!M48,IF($A$10=\"Leisure Centre\",Data!Q48,\"\"))))","v":22.920071647440903},0,0,0,0,{"$f":"IF(AND(I46+H47<=$A$5,I46+H47>$A$3),LOGIC!I46+LOGIC!H47,IF(I46+H47>$A$5,$A$5,$A$3))","v":12},0,{"$f":"IF($A$10=\"Secondary School\",Data!G48,IF($A$10=\"Primary school\",Data!K48,IF($A$10=\"Retail\",Data!O48,IF($A$10=\"Leisure Centre\",Data!S48,\"\"))))","v":20.857010979788491},0,0,0,0,{"$f":"IF(AND(P46+O47<=$A$5,P46+O47>$A$3),LOGIC!P46+LOGIC!O47,IF(P46+O47>$A$5,$A$5,$A$3))","v":12},null,"21:30:00",20.000257847140631,0,20.000257847140631,0,12,20.676895908560692,0,20.676895908560692,0,12]
[null,"21:30:00",{"$f":"'PV data'!D48","v":0},{"$f":"IF($A$10=\"Secondary School\",Data!E49,IF($A$10=\"Primary school\",Data!I49,IF($A$10=\"Retail\",Data!M49,IF($A$10=\"Leisure Centre\",Data!Q49,\"\"))))","v":20.000257847140631},0,0,0,0,{"$f":"IF(AND(I47+H48<=$A$5,I47+H48>$A$3),LOGIC!I47+LOGIC!H48,IF(I47+H48>$A$5,$A$5,$A$3))","v":12},0,{"$f":"IF($A$10=\"Secondary School\",Data!G49,IF($A$10=\"Primary school\",Data!K49,IF($A$10=\"Retail\",Data!O49,IF($A$10=\"Leisure Centre\",Data!S49,\"\"))))","v":20.676895908560692},0,0,0,0,{"$f":"IF(AND(P47+O48<=$A$5,P47+O48>$A$3),LOGIC!P47+LOGIC!O48,IF(P47+O48>$A$5,$A$5,$A$3))","v":12},null,"22:00:00",18.716083156603052,0,18.716083156603052,0,12,20.534100208688709,0,20.534100208688709,0,12]
[null,"22:00:00",{"$f":"'PV data'!D49","v":0},{"$f":"IF($A$10=\"Secondary School\",Data!E50,IF($A$10=\"Primary school\",Data!I50,IF($A$10=\"Retail\",Data!M50,IF($A$10=\"Leisure Centre\",Data!Q50,\"\"))))","v":18.716083156603052},0,0,0,0,{"$f":"IF(AND(I48+H49<=$A$5,I48+H49>$A$3),LOGIC!I48+LOGIC!H49,IF(I48+H49>$A$5,$A$5,$A$3))","v":12},0,{"$f":"IF($A$10=\"Secondary School\",Data!G50,IF($A$10=\"Primary school\",Data!K50,IF($A$10=\"Retail\",Data!O50,IF($A$10=\"Leisure Centre\",Data!S50,\"\"))))","v":20.534100208688709},0,0,0,0,{"$f":"IF(AND(P48+O49<=$A$5,P48+O49>$A$3),LOGIC!P48+LOGIC!O49,IF(P48+O49>$A$5,$A$5,$A$3))","v":12},null,"22:30:00",17.7738818604461,0,17.7738818604461,0,12,20.409767776750655,0,20.409767776750655,0,12]
[null,"22:30:00",{"$f":"'PV data'!D50","v":0},{"$f":"IF($A$10=\"Secondary School\",Data!E51,IF($A$10=\"Primary school\",Data!I51,IF($A$10=\"Retail\",Data!M51,IF($A$10=\"Leisure Centre\",Data!Q51,\"\"))))","v":17.7738818604461},0,0,0,0,{"$f":"IF(AND(I49+H50<=$A$5,I49+H50>$A$3),LOGIC!I49+LOGIC!H50,IF(I49+H50>$A$5,$A$5,$A$3))","v":12},0,{"$f":"IF($A$10=\"Secondary School\",Data!G51,IF($A$10=\"Primary school\",Data!K51,IF($A$10=\"Retail\",Data!O51,IF($A$10=\"Leisure Centre\",Data!S51,\"\"))))","v":20.409767776750655},0,0,0,0,{"$f":"IF(AND(P49+O50<=$A$5,P49+O50>$A$3),LOGIC!P49+LOGIC!O50,IF(P49+O50>$A$5,$A$5,$A$3))","v":12},null,"23:00:00",17.984499713019865,0,17.984499713019865,0,12,19.460480820105133,0,19.460480820105133,0,12]
[null,"23:00:00",{"$f":"'PV data'!D51","v":0},{"$f":"IF($A$10=\"Secondary School\",Data!E52,IF($A$10=\"Primary school\",Data!I52,IF($A$10=\"Retail\",Data!M52,IF($A$10=\"Leisure Centre\",Data!Q52,\"\"))))","v":17.984499713019865},0,0,0,0,{"$f":"IF(AND(I50+H51<=$A$5,I50+H51>$A$3),LOGIC!I50+LOGIC!H51,IF(I50+H51>$A$5,$A$5,$A$3))","v":12},0,{"$f":"IF($A$10=\"Secondary School\",Data!G52,IF($A$10=\"Primary school\",Data!K52,IF($A$10=\"Retail\",Data!O52,IF($A$10=\"Leisure Centre\",Data!S52,\"\"))))","v":19.460480820105133},0,0,0,0,{"$f":"IF(AND(P50+O51<=$A$5,P50+O51>$A$3),LOGIC!P50+LOGIC!O51,IF(P50+O51>$A$5,$A$5,$A$3))","v":12},null,"23:30:00",17.994756191892289,0,17.994756191892289,0,12,19.441428298939272,0,19.441428298939272,0,12]
[null,"23:30:00",{"$f":"'PV data'!D52","v":0},{"$f":"IF($A$10=\"Secondary School\",Data!E53,IF($A$10=\"Primary school\",Data!I53,IF($A$10=\"Retail\",Data!M53,IF($A$10=\"Leisure Centre\",Data!Q53,\"\"))))","v":17.994756191892289},0,0,0,0,{"$f":"IF(AND(I51+H52<=$A$5,I51+H52>$A$3),LOGIC!I51+LOGIC!H52,IF(I51+H52>$A$5,$A$5,$A$3))","v":12},0,{"$f":"IF($A$10=\"Secondary School\",Data!G53,IF($A$10=\"Primary school\",Data!K53,IF($A$10=\"Retail\",Data!O53,IF($A$10=\"Leisure Centre\",Data!S53,\"\"))))","v":19.441428298939272},0,0,0,0,{"$f":"IF(AND(P51+O52<=$A$5,P51+O52>$A$3),LOGIC!P51+LOGIC!O52,IF(P51+O52>$A$5,$A$5,$A$3))","v":12}]
[]
[null,null,"Spring",null,null,null,null,null,null,null,null,null,null,null,null,null,null,null,"Import cost - No PV or storage",null,null,null,null,null,null,null,"Import cost - PV but no storage",null,null,null,null,null,null,null,null,null,null,null,null,null,null,null,"Import cost - PV + storage"]
[null,null,null,"Use' day logic",null,null,null,null,null,null,"Non Use' day logic",null,null,null,null,null,null,null,"Spring",null,"Summer",null,"Autumn",null,"Winter",null,"Spring",null,null,null,"Summer",null,null,null,"Autumn",null,null,null,"Winter",null,null,null,"Spring",null,null,null,null,null,"Summer",null,null,null,null,null,"Autumn",null,null,null,null,null,"Winter"]
[null,null,"Generation (kWh)","Use' Demand (kWh)","Available to charge battery (kWh)","Battery Recharge / kWh","Battery Discharge / kWh","Discharge/Recharge / kWh","Battery charge","Generation (kWh)","Use' Demand (kWh)","Available to charge battery (kWh)","Battery Recharge / kWh","Battery Discharge / kWh","Discharge/Recharge / kWh","Battery charge",null,null,"In Use day","Not in use Day","In Use day","Not in use Day","In Use day","Not in use Day","In Use day","Not in use Day","In Use day (import)","In Use day (PV PPA)","Not In Use day (import)","Not In Use day (PV PPA)","In Use day (import)","In Use day (PV PPA)","Not In Use day (import)","Not In Use day (PV PPA)","In Use day (import)","In Use day (PV PPA)","Not In Use day (import)","Not In Use day (PV PPA)","In Use day",null,"Not in use Day",null,"In Use day","In Use day Solar PPA cost","In Use Day Storage PPA cost","Not in use Day","Not in Use day Solar PPA cost","Not in Use Day Storage PPA cost","In Use day",null,null,"Not in use Day","Not in Use day Solar PPA cost","Not in Use Day Storage PPA cost","In Use day",null,null,"Not in use Day",null,null,"In Use day",null,null,"Not in use Day"]
[null,"00:00:00",{"$f":"'PV data'!J5","v":0},{"$f":"D5","v":17.610195718866162},{"$f":"IF(C57>D57,(C57-D57),0)","v":0},{"$f":"IF(($A$3+E57)<$A$5,E57,$A$7)","v":0},{"$f":"IF(AND(D57>C57,I57>'Import avoidance model - RR'!$N$17,I57),D57-C57,0)","v":0},{"$f":"F57-G57","v":0},{"$f":"A3","v":12},{"$f":"C57","v":0},{"$f":"K5","v":20.304095030490508},{"$f":"IF(J57>K57,(J57-K57),0)","v":0},{"$f":"IF(($A$3+L57)<$A$5,E57,$A$7)","v":0},{"$f":"IF(AND(K57>J57,P57>'Import avoidance model - RR'!$N$17,P57),K57-J57,0)","v":0},{"$f":"M57-N57","v":0},{"$f":"A3","v":12},null,"00:00:00",{"$f":"(IF(AND($R57>'Import avoidance model - RR'!$I$15,'Import avoidance model - RR'!$J$15),'Import avoidance model - RR'!$H$15,'Import avoidance model - RR'!$H$16))*D57/100","v":1.0566117431319697},{"$f":"(IF(AND($R57>'Import avoidance model - RR'!$I$15,'Import avoidance model - RR'!$J$15),'Import avoidance model - RR'!$H$15,'Import avoidance model - RR'!$H$16))*K57/100","v":1.2182457018294306},{"$f":"(IF(AND($R57>'Import avoidance model - RR'!$I$15,'Import avoidance model - RR'!$J$15),'Import avoidance model - RR'!$H$15,'Import avoidance model - RR'!$H$16))*D109/100","v":1.0566117431319697},{"$f":"(IF(AND($R57>'Import avoidance model - RR'!$I$15,'Import avoidance model - RR'!$J$15),'Import avoidance model - RR'!$H$15,'Import avoidance model - RR'!$H$16))*K109/100","v":1.2182457018294306},{"$f":"(IF(AND($R57>'Import avoidance model - RR'!$I$15,'Import avoidance model - RR'!$J$15),'Import avoidance model - RR'!$H$15,'Import avoidance model - RR'!$H$16))*D161/100","v":1.0566117431319697},{"$f":"(IF(AND($R57>'Import avoidance model - RR'!$I$15,'Import avoidance model - RR'!$J$15),'Import avoidance model - RR'!$H$15,'Import avoidance model - RR'!$H$16))*K161/100","v":1.2182457018294306},{"$f":"(IF(AND($R57>'Import avoidance model - RR'!$I$15,'Import avoidance model - RR'!$J$15),'Import avoidance model - RR'!$H$15,'Import avoidance model - RR'!$H$16))*D5/100","v":1.0566117431319697},{"$f":"(IF(AND($R57>'Import avoidance model - RR'!$I$15,'Import avoidance model - RR'!$J$15),'Import avoidance model - RR'!$H$15,'Import avoidance model - RR'!$H$16))*K5/100","v":1.2182457018294306},{"$f":"IF(C57<LOGIC!D57,(LOGIC!D57-LOGIC!C57)*IF(AND(LOGIC!B57>'Import avoidance model - RR'!$I$15,LOGIC!B57<'Import avoidance model - RR'!$J$15),'Import avoidance model - RR'!$H$15,'Import avoidance model - RR'!$H$16),0)/100","v":1.0566117431319697},{"$f":"IF('Import avoidance model - RR'!$H$17=\"N\",0,IF(D57<=C57,D57,C57)*'Import avoidance model - RR'!$H$18/100)","v":0},{"$f":"IF(J57<LOGIC!K57,(LOGIC!K57-LOGIC!J57)*IF(AND(LOGIC!B57>'Import avoidance model - RR'!$I$15,LOGIC!B57<'Import avoidance model - RR'!$J$15),'Import avoidance model - RR'!$H$15,'Import avoidance model - RR'!$H$16),0)/100","v":1.2182457018294306},{"$f":"IF('Import avoidance model - RR'!$H$17=\"N\",0,IF(K57<=C57,K57,C57)*'Import avoidance model - RR'!$H$18/100)","v":0},{"$f":"IF(C109<LOGIC!D109,(LOGIC!D109-LOGIC!C109)*IF(AND(LOGIC!B109>'Import avoidance model - RR'!$I$15,LOGIC!B109<'Import avoidance model - RR'!$J$15),'Import avoidance model - RR'!$H$15,'Import avoidance model - RR'!$H$16),0)/100","v":1.0566117431319697},{"$f":"IF('Import avoidance model - RR'!$H$17=\"N\",0,IF(D109<=C109,D109,C109)*'Import avoidance model - RR'!$H$18/100)","v":0},{"$f":"IF(J109<LOGIC!K109,(LOGIC!K109-LOGIC!J109)*IF(AND(LOGIC!B109>'Import avoidance model - RR'!$I$15,LOGIC!B109<'Import avoidance model - RR'!$J$15),'Import avoidance model - RR'!$H$15,'Import avoidance model - RR'!$H$16),0)/100","v":1.2182457018294306},{"$f":"IF('Import avoidance model - RR'!$H$17=\"N\",0,IF(K109<=C109,K109,C109)*'Import avoidance model - RR'!$H$18/100)","v":0},{"$f":"IF(C161<LOGIC!D161,(LOGIC!D161-LOGIC!C161)*IF(AND(LOGIC!B161>'Import avoidance model - RR'!$I$15,LOGIC!B161<'Import avoidance model - RR'!$J$15),'Import avoidance model - RR'!$H$15,'Import avoidance model - RR'!$H$16),0)/100","v":1.0566117431319697},{"$f":"IF('Import avoidance model - RR'!$H$17=\"N\",0,IF(D161<=C161,D161,C161)*'Import avoidance model - RR'!$H$18/100)","v":0},{"$f":"IF(J161<LOGIC!K161,(LOGIC!K161-LOGIC!J161)*IF(AND(LOGIC!B161>'Import avoidance model - RR'!$I$15,LOGIC!B161<'Import avoidance model - RR'!$J$15),'Import avoidance model - RR'!$H$15,'Import avoidance model - RR'!$H$16),0)/100","v":1.2182457018294306},{"$f":"IF('Import avoidance model - RR'!$H$17=\"N\",0,IF(K161<=C161,K161,C161)*'Import avoidance model - RR'!$H$18/100)","v":0},{"$f":"IF(C5<LOGIC!D5,(LOGIC!D5-LOGIC!C5)*IF(AND(LOGIC!B5>'Import avoidance model - RR'!$I$15,LOGIC!B5<'Import avoidance model - RR'!$J$15),'Import avoidance model - RR'!$H$15,'Import avoidance model - RR'!$H$16),0)/100","v":1.0566117431319697},{"$f":"IF('Import avoidance model - RR'!$H$17=\"N\",0,IF(D5<=C5,D5,C5)*'Import avoidance model - RR'!$H$18/100)","v":0},{"$f":"IF(J5<LOGIC!K5,(LOGIC!K5-LOGIC!J5)*IF(AND(LOGIC!B161>'Import avoidance model - RR'!$I$15,LOGIC!B161<'Import avoidance model - RR'!$J$15),'Import avoidance model - RR'!$H$15,'Import avoidance model - RR'!$H$16),0)/100","v":1.2182457018294306},{"$f":"IF('Import avoidance model - RR'!$H$17=\"N\",0,IF(K5<=C5,K5,C5)*'Import avoidance model - RR'!$H$18/100)","v":0},{"$f":"AA57-(IF(AND($R57>'Import avoidance model - RR'!$I$15,$R57<'Import avoidance model - RR'!$J$15),'Import avoidance model - RR'!$H$15*LOGIC!G57,LOGIC!G57*'Import avoidance model - RR'!$H$16)/100)","v":1.0566117431319697},{"$f":"AB57","v":0},{"$f":"IF('Import avoidance model - RR'!H19=\"N\",0,LOGIC!G57*'Import avoidance model - RR'!$H$20)/100","v":0},{"$f":"AC57-(IF(AND($R57>'Import avoidance model - RR'!$I$15,$R57<'Import avoidance model - RR'!$J$15),'Import avoidance model - RR'!$H$15*LOGIC!N57,LOGIC!N57*'Import avoidance model - RR'!$H$16)/100)","v":1.2182457018294306},{"$f":"AD57","v":0},{"$f":"IF('Import avoidance model - RR'!H19=\"N\",0,LOGIC!N57*'Import avoidance model - RR'!$H$20)/100","v":0},{"$f":"AE57-(IF(AND($R57>'Import avoidance model - RR'!$I$15,$R57<'Import avoidance model - RR'!$J$15),'Import avoidance model - RR'!$H$15*LOGIC!G109,LOGIC!G109*'Import avoidance model - RR'!$H$16)/100)","v":1.0566117431319697},{"$f":"AF57","v":0},{"$f":"IF('Import avoidance model - RR'!H19=\"N\",0,LOGIC!G109*'Import avoidance model - RR'!$H$20)/100","v":0},{"$f":"AG57-(IF(AND($R57>'Import avoidance model - RR'!$I$15,$R57<'Import avoidance model - RR'!$J$15),'Import avoidance model - RR'!$H$15*LOGIC!N109,LOGIC!N109*'Import avoidance model - RR'!$H$16)/100)","v":1.2182457018294306},{"$f":"AH57","v":0},{"$f":"IF('Import avoidance model - RR'!H19=\"N\",0,LOGIC!N109*'Import avoidance model - RR'!$H$20)/100","v":0},{"$f":"AI57-(IF(AND($R57>'Import avoidance model - RR'!$I$15,$R57<'Import avoidance model - RR'!$J$15),'Import avoidance model - RR'!$H$15*LOGIC!G161,LOGIC!G161*'Import avoidance model - RR'!$H$16)/100)","v":1.0566117431319697},{"$f":"AJ57","v":0},{"$f":"IF('Import avoidance model - RR'!H19=\"N\",0,LOGIC!G161*'Import avoidance model - RR'!$H$20)/100","v":0},{"$f":"AK57-(IF(AND($R57>'Import avoidance model - RR'!$I$15,$R57<'Import avoidance model - RR'!$J$15),'Import avoidance model - RR'!$H$15*LOGIC!N161,LOGIC!N161*'Import avoidance model - RR'!$H$16)/100)","v":1.2182457018294306},{"$f":"AL57","v":0},{"$f":"IF('Import avoidance model - RR'!H19=\"N\",0,LOGIC!N161*'Import avoidance model - RR'!$H$20)/100","v":0},{"$f":"AM57-(IF(AND($R57>'Import avoidance model - RR'!$I$15,$R57<'Import avoidance model - RR'!$J$15),'Import avoidance model - RR'!$H$15*LOGIC!G5,LOGIC!G5*'Import avoidance model - RR'!$H$16)/100)","v":1.0566117431319697},{"$f":"AN57","v":0},{"$f":"IF('Import avoidance model - RR'!H19=\"N\",0,LOGIC!G5*'Import avoidance model - RR'!$H$20)/100","v":0},{"$f":"AO57-(IF(AND($R57>'Import avoidance model - RR'!$I$15,$R57<'Import avoidance model - RR'!$J$15),'Import avoidance model - RR'!$H$15*LOGIC!N5,LOGIC!N5*'Import avoidance model - RR'!$H$16)/100)","v":1.2182457018294306},{"$f":"AP57","v":0},{"$f":"IF('Import avoidance model - RR'!H19=\"N\",0,LOGIC!N5*'Import avoidance model - RR'!$H$20)/100","v":0}]
[null,"00:30:00",{"$f":"'PV data'!J6","v":0},{"$f":"D6","v":17.552350993331668},{"$f":"IF(C58>D58,(C58-D58),0)","v":0},{"$f":"IF(AND((I57+E58)<$A$5,E58<=$A$7),E58,IF(E58>$A$7,$A$7,$A$5-I57))","v":0},{"$f":"IF(AND(D58>C58,I57>$A$3),IF(D58-C58<=$A$7,D58-C58,$A$7),0)","v":0},{"$f":"F58-G58","v":0},{"$f":"IF(AND(I57+H58<=$A$5,I57+H58>$A$3),LOGIC!I57+LOGIC!H58,IF(I57+H58>$A$5,$A$5,$A$3))","v":12},{"$f":"C58","v":0},{"$f":"K6","v":20.285042509324644},0,{"$f":"IF(AND((P57+L58)<$A$5,L58<=$A$7),L58,IF(L58>$A$7,$A$7,$A$5-P57))","v":0},{"$f":"IF(AND(K58>J58,P57>$A$3),IF(K58-J58<=$A$7,K58-J58,$A$7),0)","v":0},{"$f":"M58-N58","v":0},{"$f":"IF(AND(P57+O58<=$A$5,P57+O58>$A$3),LOGIC!P57+LOGIC!O58,IF(P57+O58>$A$5,$A$5,$A$3))","v":12},null,"00:30:00",{"$f":"(IF(AND($R58>'Import avoidance model - RR'!$I$15,'Import avoidance model - RR'!$J$15),'Import avoidance model - RR'!$H$15,'Import avoidance model - RR'!$H$16))*D58/100","v":1.0531410595999},{"$f":"(IF(AND($R58>'Import avoidance model - RR'!$I$15,'Import avoidance model - RR'!$J$15),'Import avoidance model - RR'!$H$15,'Import avoidance model - RR'!$H$16))*K58/100","v":1.2171025505594786},{"$f":"(IF(AND($R58>'Import avoidance model - RR'!$I$15,'Import avoidance model - RR'!$J$15),'Import avoidance model - RR'!$H$15,'Import avoidance model - RR'!$H$16))*D110/100","v":1.0531410595999},{"$f":"(IF(AND($R58>'Import avoidance model - RR'!$I$15,'Import avoidance model - RR'!$J$15),'Import avoidance model - RR'!$H$15,'Import avoidance model - RR'!$H$16))*K110/100","v":1.2171025505594786},{"$f":"(IF(AND($R58>'Import avoidance model - RR'!$I$15,'Import avoidance model - RR'!$J$15),'Import avoidance model - RR'!$H$15,'Import avoidance model - RR'!$H$16))*D162/100","v":1.0531410595999},{"$f":"(IF(AND($R58>'Import avoidance model - RR'!$I$15,'Import avoidance model - RR'!$J$15),'Import avoidance model - RR'!$H$15,'Import avoidance model - RR'!$H$16))*K162/100","v":1.2171025505594786},{"$f":"(IF(AND($R58>'Import avoidance model - RR'!$I$15,'Import avoidance model - RR'!$J$15),'Import avoidance model - RR'!$H$15,'Import avoidance model - RR'!$H$16))*D6/100","v":1.0531410595999},{"$f":"(IF(AND($R58>'Import avoidance model - RR'!$I$15,'Import avoidance model - RR'!$J$15),'Import avoidance model - RR'!$H$15,'Import avoidance model - RR'!$H$16))*K6/100","v":1.2171025505594786},{"$f":"IF(C58<LOGIC!D58,(LOGIC!D58-LOGIC!C58)*IF(AND(LOGIC!B58>'Import avoidance model - RR'!$I$15,LOGIC!B58<'Import avoidance model - RR'!$J$15),'Import avoidance model - RR'!$H$15,'Import avoidance model - RR'!$H$16),0)/100","v":1.0531410595999},{"$f":"IF('Import avoidance model - RR'!$H$17=\"N\",0,IF(D58<=C58,D58,C58)*'Import avoidance model - RR'!$H$18/100)","v":0},{"$f":"IF(J58<LOGIC!K58,(LOGIC!K58-LOGIC!J58)*IF(AND(LOGIC!B58>'Import avoidance model - RR'!$I$15,LOGIC!B58<'Import avoidance model - RR'!$J$15),'Import avoidance model - RR'!$H$15,'Import avoidance model - RR'!$H$16),0)/100","v":1.2171025505594786},{"$f":"IF('Import avoidance model - RR'!$H$17=\"N\",0,IF(K58<=C58,K58,C58)*'Import avoidance model - RR'!$H$18/100)","v":0},{"$f":"IF(C110<LOGIC!D110,(LOGIC!D110-LOGIC!C110)*IF(AND(LOGIC!B110>'Import avoidance model - RR'!$I$15,LOGIC!B110<'Import avoidance model - RR'!$J$15),'Import avoidance model - RR'!$H$15,'Import avoidance model - RR'!$H$16),0)/100","v":1.0531410595999},{"$f":"IF('Import avoidance model - RR'!$H$17=\"N\",0,IF(D110<=C110,D110,C110)*'Import avoidance model - RR'!$H$18/100)","v":0},{"$f":"IF(J110<LOGIC!K110,(LOGIC!K110-LOGIC!J110)*IF(AND(LOGIC!B110>'Import avoidance model - RR'!$I$15,LOGIC!B110<'Import avoidance model - RR'!$J$15),'Import avoidance model - RR'!$H$15,'Import avoidance model - RR'!$H$16),0)/100","v":1.2171025505594786},{"$f":"IF('Import avoidance model - RR'!$H$17=\"N\",0,IF(K110<=C110,K110,C110)*'Import avoidance model - RR'!$H$18/100)","v":0},{"$f":"IF(C162<LOGIC!D162,(LOGIC!D162-LOGIC!C162)*IF(AND(LOGIC!B162>'Import avoidance model - RR'!$I$15,LOGIC!B162<'Import avoidance model - RR'!$J$15),'Import avoidance model - RR'!$H$15,'Import avoidance model - RR'!$H$16),0)/100","v":1.0531410595999},{"$f":"IF('Import avoidance model - RR'!$H$17=\"N\",0,IF(D162<=C162,D162,C162)*'Import avoidance model - RR'!$H$18/100)","v":0},{"$f":"IF(J162<LOGIC!K162,(LOGIC!K162-LOGIC!J162)*IF(AND(LOGIC!B162>'Import avoidance model - RR'!$I$15,LOGIC!B162<'Import avoidance model - RR'!$J$15),'Import avoidance model - RR'!$H$15,'Import avoidance model - RR'!$H$16),0)/100","v":1.2171025505594786},{"$f":"IF('Import avoidance model - RR'!$H$17=\"N\",0,IF(K162<=C162,K162,C162)*'Import avoidance model - RR'!$H$18/100)","v":0},{"$f":"IF(C6<LOGIC!D6,(LOGIC!D6-LOGIC!C6)*IF(AND(LOGIC!B6>'Import avoidance model - RR'!$I$15,LOGIC!B6<'Import avoidance model - RR'!$J$15),'Import avoidance model - RR'!$H$15,'Import avoidance model - RR'!$H$16),0)/100","v":1.0531410595999},{"$f":"IF('Import avoidance model - RR'!$H$17=\"N\",0,IF(D6<=C6,D6,C6)*'Import avoidance model - RR'!$H$18/100)","v":0},{"$f":"IF(J6<LOGIC!K6,(LOGIC!K6-LOGIC!J6)*IF(AND(LOGIC!B162>'Import avoidance model - RR'!$I$15,LOGIC!B162<'Import avoidance model - RR'!$J$15),'Import avoidance model - RR'!$H$15,'Import avoidance model - RR'!$H$16),0)/100","v":1.2171025505594786},{"$f":"IF('Import avoidance model - RR'!$H$17=\"N\",0,IF(K6<=C6,K6,C6)*'Import avoidance model - RR'!$H$18/100)","v":0},{"$f":"AA58-(IF(AND($R58>'Import avoidance model - RR'!$I$15,$R58<'Import avoidance model - RR'!$J$15),'Import avoidance model - RR'!$H$15*LOGIC!G58,LOGIC!G58*'Import avoidance model - RR'!$H$16)/100)","v":1.0531410595999},{"$f":"AB58","v":0},{"$f":"IF('Import avoidance model - RR'!H20=\"N\",0,LOGIC!G58*'Import avoidance model - RR'!$H$20)/100","v":0},{"$f":"AC58-(IF(AND($R58>'Import avoidance model - RR'!$I$15,$R58<'Import avoidance model - RR'!$J$15),'Import avoidance model - RR'!$H$15*LOGIC!N58,LOGIC!N58*'Import avoidance model - RR'!$H$16)/100)","v":1.2171025505594786},{"$f":"AD58","v":0},{"$f":"IF('Import avoidance model - RR'!H20=\"N\",0,LOGIC!N58*'Import avoidance model - RR'!$H$20)/100","v":0},{"$f":"AE58-(IF(AND($R58>'Import avoidance model - RR'!$I$15,$R58<'Import avoidance model - RR'!$J$15),'Import avoidance model - RR'!$H$15*LOGIC!G110,LOGIC!G110*'Import avoidance model - RR'!$H$16)/100)","v":1.0531410595999},{"$f":"AF58","v":0},{"$f":"IF('Import avoidance model - RR'!H20=\"N\",0,LOGIC!G110*'Import avoidance model - RR'!$H$20)/100","v":0},{"$f":"AG58-(IF(AND($R58>'Import avoidance model - RR'!$I$15,$R58<'Import avoidance model - RR'!$J$15),'Import avoidance model - RR'!$H$15*LOGIC!N110,LOGIC!N110*'Import avoidance model - RR'!$H$16)/100)","v":1.2171025505594786},{"$f":"AH58","v":0},{"$f":"IF('Import avoidance model - RR'!H20=\"N\",0,LOGIC!N110*'Import avoidance model - RR'!$H$20)/100","v":0},{"$f":"AI58-(IF(AND($R58>'Import avoidance model - RR'!$I$15,$R58<'Import avoidance model - RR'!$J$15),'Import avoidance model - RR'!$H$15*LOGIC!G162,LOGIC!G162*'Import avoidance model - RR'!$H$16)/100)","v":1.0531410595999},{"$f":"AJ58","v":0},{"$f":"IF('Import avoidance model - RR'!H20=\"N\",0,LOGIC!G162*'Import avoidance model - RR'!$H$20)/100","v":0},{"$f":"AK58-(IF(AND($R58>'Import avoidance model - RR'!$I$15,$R58<'Import avoidance model - RR'!$J$15),'Import avoidance model - RR'!$H$15*LOGIC!N162,LOGIC!N162*'Import avoidance model - RR'!$H$16)/100)","v":1.2171025505594786},{"$f":"AL58","v":0},{"$f":"IF('Import avoidance model - RR'!H20=\"N\",0,LOGIC!N162*'Import avoidance model - RR'!$H$20)/100","v":0},{"$f":"AM58-(IF(AND($R58>'Import avoidance model - RR'!$I$15,$R58<'Import avoidance model - RR'!$J$15),'Import avoidance model - RR'!$H$15*LOGIC!G6,LOGIC!G6*'Import avoidance model - RR'!$H$16)/100)","v":1.0531410595999},{"$f":"AN58","v":0},{"$f":"IF('Import avoidance model - RR'!H20=\"N\",0,LOGIC!G6*'Import avoidance model - RR'!$H$20)/100","v":0},{"$f":"AO58-(IF(AND($R58>'Import avoidance model - RR'!$I$15,$R58<'Import avoidance model - RR'!$J$15),'Import avoidance model - RR'!$H$15*LOGIC!N6,LOGIC!N6*'Import avoidance model - RR'!$H$16)/100)","v":1.2171025505594786},{"$f":"AP58","v":0},{"$f":"IF('Import avoidance model - RR'!H20=\"N\",0,LOGIC!N6*'Import avoidance model - RR'!$H$20)/100","v":0}]
[null,"01:00:00",{"$f":"'PV data'!J7","v":0},17.491514038415222,0,{"$f":"IF(AND((I58+E59)<$A$5,E59<=$A$7),E59,IF(E59>$A$7,$A$7,$A$5-I58))","v":0},{"$f":"IF(AND(D59>C59,I58>$A$3),IF(D59-C59<=$A$7,D59-C59,$A$7),0)","v":0},{"$f":"F59-G59","v":0},{"$f":"IF(AND(I58+H59<=$A$5,I58+H59>$A$3),LOGIC!I58+LOGIC!H59,IF(I58+H59>$A$5,$A$5,$A$3))","v":12},0,20.402303902479492,0,{"$f":"IF(AND((P58+L59)<$A$5,L59<=$A$7),L59,IF(L59>$A$7,$A$7,$A$5-P58))","v":0},0,{"$f":"M59-N59","v":0},{"$f":"IF(AND(P58+O59<=$A$5,P58+O59>$A$3),LOGIC!P58+LOGIC!O59,IF(P58+O59>$A$5,$A$5,$A$3))","v":12},null,"01:00:00",{"$f":"(IF(AND($R59>'Import avoidance model - RR'!$I$15,'Import avoidance model - RR'!$J$15),'Import avoidance model - RR'!$H$15,'Import avoidance model - RR'!$H$16))*D59/100","v":1.0494908423049134},{"$f":"(IF(AND($R59>'Import avoidance model - RR'!$I$15,'Import avoidance model - RR'!$J$15),'Import avoidance model - RR'!$H$15,'Import avoidance model - RR'!$H$16))*K59/100","v":1.2241382341487697},{"$f":"(IF(AND($R59>'Import avoidance model - RR'!$I$15,'Import avoidance model - RR'!$J$15),'Import avoidance model - RR'!$H$15,'Import avoidance model - RR'!$H$16))*D111/100","v":1.0494908423049134},{"$f":"(IF(AND($R59>'Import avoidance model - RR'!$I$15,'Import avoidance model - RR'!$J$15),'Import avoidance model - RR'!$H$15,'Import avoidance model - RR'!$H$16))*K111/100","v":1.2241382341487697},{"$f":"(IF(AND($R59>'Import avoidance model - RR'!$I$15,'Import avoidance model - RR'!$J$15),'Import avoidance model - RR'!$H$15,'Import avoidance model - RR'!$H$16))*D163/100","v":1.0494908423049134},{"$f":"(IF(AND($R59>'Import avoidance model - RR'!$I$15,'Import avoidance model - RR'!$J$15),'Import avoidance model - RR'!$H$15,'Import avoidance model - RR'!$H$16))*K163/100","v":1.2241382341487697},{"$f":"(IF(AND($R59>'Import avoidance model - RR'!$I$15,'Import avoidance model - RR'!$J$15),'Import avoidance model - RR'!$H$15,'Import avoidance model - RR'!$H$16))*D7/100","v":1.0494908423049134},{"$f":"(IF(AND($R59>'Import avoidance model - RR'!$I$15,'Import avoidance model - RR'!$J$15),'Import avoidance model - RR'!$H$15,'Import avoidance model - RR'!$H$16))*K7/100","v":1.2241382341487697},{"$f":"IF(C59<LOGIC!D59,(LOGIC!D59-LOGIC!C59)*IF(AND(LOGIC!B59>'Import avoidance model - RR'!$I$15,LOGIC!B59<'Import avoidance model - RR'!$J$15),'Import avoidance model - RR'!$H$15,'Import avoidance model - RR'!$H$16),0)/100","v":1.0494908423049134},{"$f":"IF('Import avoidance model - RR'!$H$17=\"N\",0,IF(D59<=C59,D59,C59)*'Import avoidance model - RR'!$H$18/100)","v":0},{"$f":"IF(J59<LOGIC!K59,(LOGIC!K59-LOGIC!J59)*IF(AND(LOGIC!B59>'Import avoidance model - RR'!$I$15,LOGIC!B59<'Import avoidance model - RR'!$J$15),'Import avoidance model - RR'!$H$15,'Import avoidance model - RR'!$H$16),0)/100","v":1.2241382341487697},{"$f":"IF('Import avoidance model - RR'!$H$17=\"N\",0,IF(K59<=C59,K59,C59)*'Import avoidance model - RR'!$H$18/100)","v":0},{"$f":"IF(C111<LOGIC!D111,(LOGIC!D111-LOGIC!C111)*IF(AND(LOGIC!B111>'Import avoidance model - RR'!$I$15,LOGIC!B111<'Import avoidance model - RR'!$J$15),'Import avoidance model - RR'!$H$15,'Import avoidance model - RR'!$H$16),0)/100","v":1.0494908423049134},{"$f":"IF('Import avoidance model - RR'!$H$17=\"N\",0,IF(D111<=C111,D111,C111)*'Import avoidance model - RR'!$H$18/100)","v":0},{"$f":"IF(J111<LOGIC!K111,(LOGIC!K111-LOGIC!J111)*IF(AND(LOGIC!B111>'Import avoidance model - RR'!$I$15,LOGIC!B111<'Import avoidance model - RR'!$J$15),'Import avoidance model - RR'!$H$15,'Import avoidance model - RR'!$H$16),0)/100","v":1.2241382341487697},{"$f":"IF('Import avoidance model - RR'!$H$17=\"N\",0,IF(K111<=C111,K111,C111)*'Import avoidance model - RR'!$H$18/100)","v":0},{"$f":"IF(C163<LOGIC!D163,(LOGIC!D163-LOGIC!C163)*IF(AND(LOGIC!B163>'Import avoidance model - RR'!$I$15,LOGIC!B163<'Import avoidance model - RR'!$J$15),'Import avoidance model - RR'!$H$15,'Import avoidance model - RR'!$H$16),0)/100","v":1.0494908423049134},{"$f":"IF('Import avoidance model - RR'!$H$17=\"N\",0,IF(D163<=C163,D163,C163)*'Import avoidance model - RR'!$H$18/100)","v":0},{"$f":"IF(J163<LOGIC!K163,(LOGIC!K163-LOGIC!J163)*IF(AND(LOGIC!B163>'Import avoidance model - RR'!$I$15,LOGIC!B163<'Import avoidance model - RR'!$J$15),'Import avoidance model - RR'!$H$15,'Import avoidance model - RR'!$H$16),0)/100","v":1.2241382341487697},{"$f":"IF('Import avoidance model - RR'!$H$17=\"N\",0,IF(K163<=C163,K163,C163)*'Import avoidance model - RR'!$H$18/100)","v":0},{"$f":"IF(C7<LOGIC!D7,(LOGIC!D7-LOGIC!C7)*IF(AND(LOGIC!B7>'Import avoidance model - RR'!$I$15,LOGIC!B7<'Import avoidance model - RR'!$J$15),'Import avoidance model - RR'!$H$15,'Import avoidance model - RR'!$H$16),0)/100","v":1.0494908423049134},{"$f":"IF('Import avoidance model - RR'!$H$17=\"N\",0,IF(D7<=C7,D7,C7)*'Import avoidance model - RR'!$H$18/100)","v":0},{"$f":"IF(J7<LOGIC!K7,(LOGIC!K7-LOGIC!J7)*IF(AND(LOGIC!B163>'Import avoidance model - RR'!$I$15,LOGIC!B163<'Import avoidance model - RR'!$J$15),'Import avoidance model - RR'!$H$15,'Import avoidance model - RR'!$H$16),0)/100","v":1.2241382341487697},{"$f":"IF('Import avoidance model - RR'!$H$17=\"N\",0,IF(K7<=C7,K7,C7)*'Import avoidance model - RR'!$H$18/100)","v":0},{"$f":"AA59-(IF(AND($R59>'Import avoidance model - RR'!$I$15,$R59<'Import avoidance model - RR'!$J$15),'Import avoidance model - RR'!$H$15*LOGIC!G59,LOGIC!G59*'Import avoidance model - RR'!$H$16)/100)","v":1.0494908423049134},0,{"$f":"IF('Import avoidance model - RR'!H21=\"N\",0,LOGIC!G59*'Import avoidance model - RR'!$H$20)/100","v":0},{"$f":"AC59-(IF(AND($R59>'Import avoidance model - RR'!$I$15,$R59<'Import avoidance model - RR'!$J$15),'Import avoidance model - RR'!$H$15*LOGIC!N59,LOGIC!N59*'Import avoidance model - RR'!$H$16)/100)","v":1.2241382341487697},0,{"$f":"IF('Import avoidance model - RR'!H21=\"N\",0,LOGIC!N59*'Import avoidance model - RR'!$H$20)/100","v":0},{"$f":"AE59-(IF(AND($R59>'Import avoidance model - RR'!$I$15,$R59<'Import avoidance model - RR'!$J$15),'Import avoidance model - RR'!$H$15*LOGIC!G111,LOGIC!G111*'Import avoidance model - RR'!$H$16)/100)","v":1.0494908423049134},0,{"$f":"IF('Import avoidance model - RR'!H21=\"N\",0,LOGIC!G111*'Import avoidance model - RR'!$H$20)/100","v":0},{"$f":"AG59-(IF(AND($R59>'Import avoidance model - RR'!$I$15,$R59<'Import avoidance model - RR'!$J$15),'Import avoidance model - RR'!$H$15*LOGIC!N111,LOGIC!N111*'Import avoidance model - RR'!$H$16)/100)","v":1.2241382341487697},0,{"$f":"IF('Import avoidance model - RR'!H21=\"N\",0,LOGIC!N111*'Import avoidance model - RR'!$H$20)/100","v":0},{"$f":"AI59-(IF(AND($R59>'Import avoidance model - RR'!$I$15,$R59<'Import avoidance model - RR'!$J$15),'Import avoidance model - RR'!$H$15*LOGIC!G163,LOGIC!G163*'Import avoidance model - RR'!$H$16)/100)","v":1.0494908423049134},0,{"$f":"IF('Import avoidance model - RR'!H21=\"N\",0,LOGIC!G163*'Import avoidance model - RR'!$H$20)/100","v":0},{"$f":"AK59-(IF(AND($R59>'Import avoidance model - RR'!$I$15,$R59<'Import avoidance model - RR'!$J$15),'Import avoidance model - RR'!$H$15*LOGIC!N163,LOGIC!N163*'Import avoidance model - RR'!$H$16)/100)","v":1.2241382341487697},0,{"$f":"IF('Import avoidance model - RR'!H21=\"N\",0,LOGIC!N163*'Import avoidance model - RR'!$H$20)/100","v":0},{"$f":"AM59-(IF(AND($R59>'Import avoidance model - RR'!$I$15,$R59<'Import avoidance model - RR'!$J$15),'Import avoidance model - RR'!$H$15*LOGIC!G7,LOGIC!G7*'Import avoidance model - RR'!$H$16)/100)","v":1.0494908423049134},0,{"$f":"IF('Import avoidance model - RR'!H21=\"N\",0,LOGIC!G7*'Import avoidance model - RR'!$H$20)/100","v":0},{"$f":"AO59-(IF(AND($R59>'Import avoidance model - RR'!$I$15,$R59<'Import avoidance model - RR'!$J$15),'Import avoidance model - RR'!$H$15*LOGIC!N7,LOGIC!N7*'Import avoidance model - RR'!$H$16)/100)","v":1.2241382341487697},0,{"$f":"IF('Import avoidance model - RR'!H21=\"N\",0,LOGIC!N7*'Import avoidance model - RR'!$H$20)/100","v":0}]
[null,"01:30:00",{"$f":"'PV data'!J8","v":0},17.477508952662877,0,0,0,0,{"$f":"IF(AND(I59+H60<=$A$5,I59+H60>$A$3),LOGIC!I59+LOGIC!H60,IF(I59+H60>$A$5,$A$5,$A$3))","v":12},0,20.378733773202136,0,0,0,0,{"$f":"IF(AND(P59+O60<=$A$5,P59+O60>$A$3),LOGIC!P59+LOGIC!O60,IF(P59+O60>$A$5,$A$5,$A$3))","v":12},null,"01:30:00",{"$f":"(IF(AND($R60>'Import avoidance model - RR'!$I$15,'Import avoidance model - RR'!$J$15),'Import avoidance model - RR'!$H$15,'Import avoidance model - RR'!$H$16))*D60/100","v":1.0486505371597727},{"$f":"(IF(AND($R60>'Import avoidance model - RR'!$I$15,'Import avoidance model - RR'!$J$15),'Import avoidance model - RR'!$H$15,'Import avoidance model - RR'!$H$16))*K60/100","v":1.2227240263921282},{"$f":"(IF(AND($R60>'Import avoidance model - RR'!$I$15,'Import avoidance model - RR'!$J$15),'Import avoidance model - RR'!$H$15,'Import avoidance model - RR'!$H$16))*D112/100","v":1.0486505371597727},{"$f":"(IF(AND($R60>'Import avoidance model - RR'!$I$15,'Import avoidance model - RR'!$J$15),'Import avoidance model - RR'!$H$15,'Import avoidance model - RR'!$H$16))*K112/100","v":1.2227240263921282},{"$f":"(IF(AND($R60>'Import avoidance model - RR'!$I$15,'Import avoidance model - RR'!$J$15),'Import avoidance model - RR'!$H$15,'Import avoidance model - RR'!$H$16))*D164/100","v":1.0486505371597727},{"$f":"(IF(AND($R60>'Import avoidance model - RR'!$I$15,'Import avoidance model - RR'!$J$15),'Import avoidance model - RR'!$H$15,'Import avoidance model - RR'!$H$16))*K164/100","v":1.2227240263921282},{"$f":"(IF(AND($R60>'Import avoidance model - RR'!$I$15,'Import avoidance model - RR'!$J$15),'Import avoidance model - RR'!$H$15,'Import avoidance model - RR'!$H$16))*D8/100","v":1.0486505371597727},{"$f":"(IF(AND($R60>'Import avoidance model - RR'!$I$15,'Import avoidance model - RR'!$J$15),'Import avoidance model - RR'!$H$15,'Import avoidance model - RR'!$H$16))*K8/100","v":1.2227240263921282},{"$f":"IF(C60<LOGIC!D60,(LOGIC!D60-LOGIC!C60)*IF(AND(LOGIC!B60>'Import avoidance model - RR'!$I$15,LOGIC!B60<'Import avoidance model - RR'!$J$15),'Import avoidance model - RR'!$H$15,'Import avoidance model - RR'!$H$16),0)/100","v":1.0486505371597727},{"$f":"IF('Import avoidance model - RR'!$H$17=\"N\",0,IF(D60<=C60,D60,C60)*'Import avoidance model - RR'!$H$18/100)","v":0},{"$f":"IF(J60<LOGIC!K60,(LOGIC!K60-LOGIC!J60)*IF(AND(LOGIC!B60>'Import avoidance model - RR'!$I$15,LOGIC!B60<'Import avoidance model - RR'!$J$15),'Import avoidance model - RR'!$H$15,'Import avoidance model - RR'!$H$16),0)/100","v":1.2227240263921282},{"$f":"IF('Import avoidance model - RR'!$H$17=\"N\",0,IF(K60<=C60,K60,C60)*'Import avoidance model - RR'!$H$18/100)","v":0},{"$f":"IF(C112<LOGIC!D112,(LOGIC!D112-LOGIC!C112)*IF(AND(LOGIC!B112>'Import avoidance model - RR'!$I$15,LOGIC!B112<'Import avoidance model - RR'!$J$15),'Import avoidance model - RR'!$H$15,'Import avoidance model - RR'!$H$16),0)/100","v":1.0486505371597727},{"$f":"IF('Import avoidance model - RR'!$H$17=\"N\",0,IF(D112<=C112,D112,C112)*'Import avoidance model - RR'!$H$18/100)","v":0},{"$f":"IF(J112<LOGIC!K112,(LOGIC!K112-LOGIC!J112)*IF(AND(LOGIC!B112>'Import avoidance model - RR'!$I$15,LOGIC!B112<'Import avoidance model - RR'!$J$15),'Import avoidance model - RR'!$H$15,'Import avoidance model - RR'!$H$16),0)/100","v":1.2227240263921282},{"$f":"IF('Import avoidance model - RR'!$H$17=\"N\",0,IF(K112<=C112,K112,C112)*'Import avoidance model - RR'!$H$18/100)","v":0},{"$f":"IF(C164<LOGIC!D164,(LOGIC!D164-LOGIC!C164)*IF(AND(LOGIC!B164>'Import avoidance model - RR'!$I$15,LOGIC!B164<'Import avoidance model - RR'!$J$15),'Import avoidance model - RR'!$H$15,'Import avoidance model - RR'!$H$16),0)/100","v":1.0486505371597727},{"$f":"IF('Import avoidance model - RR'!$H$17=\"N\",0,IF(D164<=C164,D164,C164)*'Import avoidance model - RR'!$H$18/100)","v":0},{"$f":"IF(J164<LOGIC!K164,(LOGIC!K164-LOGIC!J164)*IF(AND(LOGIC!B164>'Import avoidance model - RR'!$I$15,LOGIC!B164<'Import avoidance model - RR'!$J$15),'Import avoidance model - RR'!$H$15,'Import avoidance model - RR'!$H$16),0)/100","v":1.2227240263921282},{"$f":"IF('Import avoidance model - RR'!$H$17=\"N\",0,IF(K164<=C164,K164,C164)*'Import avoidance model - RR'!$H$18/100)","v":0},{"$f":"IF(C8<LOGIC!D8,(LOGIC!D8-LOGIC!C8)*IF(AND(LOGIC!B8>'Import avoidance model - RR'!$I$15,LOGIC!B8<'Import avoidance model - RR'!$J$15),'Import avoidance model - RR'!$H$15,'Import avoidance model - RR'!$H$16),0)/100","v":1.0486505371597727},{"$f":"IF('Import avoidance model - RR'!$H$17=\"N\",0,IF(D8<=C8,D8,C8)*'Import avoidance model - RR'!$H$18/100)","v":0},{"$f":"IF(J8<LOGIC!K8,(LOGIC!K8-LOGIC!J8)*IF(AND(LOGIC!B164>'Import avoidance model - RR'!$I$15,LOGIC!B164<'Import avoidance model - RR'!$J$15),'Import avoidance model - RR'!$H$15,'Import avoidance model - RR'!$H$16),0)/100","v":1.2227240263921282},{"$f":"IF('Import avoidance model - RR'!$H$17=\"N\",0,IF(K8<=C8,K8,C8)*'Import avoidance model - RR'!$H$18/100)","v":0},{"$f":"AA60-(IF(AND($R60>'Import avoidance model - RR'!$I$15,$R60<'Import avoidance model - RR'!$J$15),'Import avoidance model - RR'!$H$15*LOGIC!G60,LOGIC!G60*'Import avoidance model - RR'!$H$16)/100)","v":1.0486505371597727},0,{"$f":"IF('Import avoidance model - RR'!H22=\"N\",0,LOGIC!G60*'Import avoidance model - RR'!$H$20)/100","v":0},{"$f":"AC60-(IF(AND($R60>'Import avoidance model - RR'!$I$15,$R60<'Import avoidance model - RR'!$J$15),'Import avoidance model - RR'!$H$15*LOGIC!N60,LOGIC!N60*'Import avoidance model - RR'!$H$16)/100)","v":1.2227240263921282},0,{"$f":"IF('Import avoidance model - RR'!H22=\"N\",0,LOGIC!N60*'Import avoidance model - RR'!$H$20)/100","v":0},{"$f":"AE60-(IF(AND($R60>'Import avoidance model - RR'!$I$15,$R60<'Import avoidance model - RR'!$J$15),'Import avoidance model - RR'!$H$15*LOGIC!G112,LOGIC!G112*'Import avoidance model - RR'!$H$16)/100)","v":1.0486505371597727},0,{"$f":"IF('Import avoidance model - RR'!H22=\"N\",0,LOGIC!G112*'Import avoidance model - RR'!$H$20)/100","v":0},{"$f":"AG60-(IF(AND($R60>'Import avoidance model - RR'!$I$15,$R60<'Import avoidance model - RR'!$J$15),'Import avoidance model - RR'!$H$15*LOGIC!N112,LOGIC!N112*'Import avoidance model - RR'!$H$16)/100)","v":1.2227240263921282},0,{"$f":"IF('Import avoidance model - RR'!H22=\"N\",0,LOGIC!N112*'Import avoidance model - RR'!$H$20)/100","v":0},{"$f":"AI60-(IF(AND($R60>'Import avoidance model - RR'!$I$15,$R60<'Import avoidance model - RR'!$J$15),'Import avoidance model - RR'!$H$15*LOGIC!G164,LOGIC!G164*'Import avoidance model - RR'!$H$16)/100)","v":1.0486505371597727},0,{"$f":"IF('Import avoidance model - RR'!H22=\"N\",0,LOGIC!G164*'Import avoidance model - RR'!$H$20)/100","v":0},{"$f":"AK60-(IF(AND($R60>'Import avoidance model - RR'!$I$15,$R60<'Import avoidance model - RR'!$J$15),'Import avoidance model - RR'!$H$15*LOGIC!N164,LOGIC!N164*'Import avoidance model - RR'!$H$16)/100)","v":1.2227240263921282},0,{"$f":"IF('Import avoidance model - RR'!H22=\"N\",0,LOGIC!N164*'Import avoidance model - RR'!$H$20)/100","v":0},{"$f":"AM60-(IF(AND($R60>'Import avoidance model - RR'!$I$15,$R60<'Import avoidance model - RR'!$J$15),'Import avoidance model - RR'!$H$15*LOGIC!G8,LOGIC!G8*'Import avoidance model - RR'!$H$16)/100)","v":1.0486505371597727},0,{"$f":"IF('Import avoidance model - RR'!H22=\"N\",0,LOGIC!G8*'Import avoidance model - RR'!$H$20)/100","v":0},{"$f":"AO60-(IF(AND($R60>'Import avoidance model - RR'!$I$15,$R60<'Import avoidance model - RR'!$J$15),'Import avoidance model - RR'!$H$15*LOGIC!N8,LOGIC!N8*'Import avoidance model - RR'!$H$16)/100)","v":1.2227240263921282},0,{"$f":"IF('Import avoidance model - RR'!H22=\"N\",0,LOGIC!N8*'Import avoidance model - RR'!$H$20)/100","v":0}]
[null,"02:00:00",{"$f":"'PV data'!J9","v":0},17.498493889966461,0,0,0,0,{"$f":"IF(AND(I60+H61<=$A$5,I60+H61>$A$3),LOGIC!I60+LOGIC!H61,IF(I60+H61>$A$5,$A$5,$A$3))","v":12},0,20.402893155711425,0,0,0,0,{"$f":"IF(AND(P60+O61<=$A$5,P60+O61>$A$3),LOGIC!P60+LOGIC!O61,IF(P60+O61>$A$5,$A$5,$A$3))","v":12},null,"02:00:00",{"$f":"(IF(AND($R61>'Import avoidance model - RR'!$I$15,'Import avoidance model - RR'!$J$15),'Import avoidance model - RR'!$H$15,'Import avoidance model - RR'!$H$16))*D61/100","v":1.0499096333979876},{"$f":"(IF(AND($R61>'Import avoidance model - RR'!$I$15,'Import avoidance model - RR'!$J$15),'Import avoidance model - RR'!$H$15,'Import avoidance model - RR'!$H$16))*K61/100","v":1.2241735893426855},{"$f":"(IF(AND($R61>'Import avoidance model - RR'!$I$15,'Import avoidance model - RR'!$J$15),'Import avoidance model - RR'!$H$15,'Import avoidance model - RR'!$H$16))*D113/100","v":1.0499096333979876},{"$f":"(IF(AND($R61>'Import avoidance model - RR'!$I$15,'Import avoidance model - RR'!$J$15),'Import avoidance model - RR'!$H$15,'Import avoidance model - RR'!$H$16))*K113/100","v":1.2241735893426855},{"$f":"(IF(AND($R61>'Import avoidance model - RR'!$I$15,'Import avoidance model - RR'!$J$15),'Import avoidance model - RR'!$H$15,'Import avoidance model - RR'!$H$16))*D165/100","v":1.0499096333979876},{"$f":"(IF(AND($R61>'Import avoidance model - RR'!$I$15,'Import avoidance model - RR'!$J$15),'Import avoidance model - RR'!$H$15,'Import avoidance model - RR'!$H$16))*K165/100","v":1.2241735893426855},{"$f":"(IF(AND($R61>'Import avoidance model - RR'!$I$15,'Import avoidance model - RR'!$J$15),'Import avoidance model - RR'!$H$15,'Import avoidance model - RR'!$H$16))*D9/100","v":1.0499096333979876},{"$f":"(IF(AND($R61>'Import avoidance model - RR'!$I$15,'Import avoidance model - RR'!$J$15),'Import avoidance model - RR'!$H$15,'Import avoidance model - RR'!$H$16))*K9/100","v":1.2241735893426855},{"$f":"IF(C61<LOGIC!D61,(LOGIC!D61-LOGIC!C61)*IF(AND(LOGIC!B61>'Import avoidance model - RR'!$I$15,LOGIC!B61<'Import avoidance model - RR'!$J$15),'Import avoidance model - RR'!$H$15,'Import avoidance model - RR'!$H$16),0)/100","v":1.0499096333979876},{"$f":"IF('Import avoidance model - RR'!$H$17=\"N\",0,IF(D61<=C61,D61,C61)*'Import avoidance model - RR'!$H$18/100)","v":0},{"$f":"IF(J61<LOGIC!K61,(LOGIC!K61-LOGIC!J61)*IF(AND(LOGIC!B61>'Import avoidance model - RR'!$I$15,LOGIC!B61<'Import avoidance model - RR'!$J$15),'Import avoidance model - RR'!$H$15,'Import avoidance model - RR'!$H$16),0)/100","v":1.2241735893426855},{"$f":"IF('Import avoidance model - RR'!$H$17=\"N\",0,IF(K61<=C61,K61,C61)*'Import avoidance model - RR'!$H$18/100)","v":0},{"$f":"IF(C113<LOGIC!D113,(LOGIC!D113-LOGIC!C113)*IF(AND(LOGIC!B113>'Import avoidance model - RR'!$I$15,LOGIC!B113<'Import avoidance model - RR'!$J$15),'Import avoidance model - RR'!$H$15,'Import avoidance model - RR'!$H$16),0)/100","v":1.0499096333979876},{"$f":"IF('Import avoidance model - RR'!$H$17=\"N\",0,IF(D113<=C113,D113,C113)*'Import avoidance model - RR'!$H$18/100)","v":0},{"$f":"IF(J113<LOGIC!K113,(LOGIC!K113-LOGIC!J113)*IF(AND(LOGIC!B113>'Import avoidance model - RR'!$I$15,LOGIC!B113<'Import avoidance model - RR'!$J$15),'Import avoidance model - RR'!$H$15,'Import avoidance model - RR'!$H$16),0)/100","v":1.2241735893426855},{"$f":"IF('Import avoidance model - RR'!$H$17=\"N\",0,IF(K113<=C113,K113,C113)*'Import avoidance model - RR'!$H$18/100)","v":0},{"$f":"IF(C165<LOGIC!D165,(LOGIC!D165-LOGIC!C165)*IF(AND(LOGIC!B165>'Import avoidance model - RR'!$I$15,LOGIC!B165<'Import avoidance model - RR'!$J$15),'Import avoidance model - RR'!$H$15,'Import avoidance model - RR'!$H$16),0)/100","v":1.0499096333979876},{"$f":"IF('Import avoidance model - RR'!$H$17=\"N\",0,IF(D165<=C165,D165,C165)*'Import avoidance model - RR'!$H$18/100)","v":0},{"$f":"IF(J165<LOGIC!K165,(LOGIC!K165-LOGIC!J165)*IF(AND(LOGIC!B165>'Import avoidance model - RR'!$I$15,LOGIC!B165<'Import avoidance model - RR'!$J$15),'Import avoidance model - RR'!$H$15,'Import avoidance model - RR'!$H$16),0)/100","v":1.2241735893426855},{"$f":"IF('Import avoidance model - RR'!$H$17=\"N\",0,IF(K165<=C165,K165,C165)*'Import avoidance model - RR'!$H$18/100)","v":0},{"$f":"IF(C9<LOGIC!D9,(LOGIC!D9-LOGIC!C9)*IF(AND(LOGIC!B9>'Import avoidance model - RR'!$I$15,LOGIC!B9<'Import avoidance model - RR'!$J$15),'Import avoidance model - RR'!$H$15,'Import avoidance model - RR'!$H$16),0)/100","v":1.0499096333979876},{"$f":"IF('Import avoidance model - RR'!$H$17=\"N\",0,IF(D9<=C9,D9,C9)*'Import avoidance model - RR'!$H$18/100)","v":0},{"$f":"IF(J9<LOGIC!K9,(LOGIC!K9-LOGIC!J9)*IF(AND(LOGIC!B165>'Import avoidance model - RR'!$I$15,LOGIC!B165<'Import avoidance model - RR'!$J$15),'Import avoidance model - RR'!$H$15,'Import avoidance model - RR'!$H$16),0)/100","v":1.2241735893426855},{"$f":"IF('Import avoidance model - RR'!$H$17=\"N\",0,IF(K9<=C9,K9,C9)*'Import avoidance model - RR'!$H$18/100)","v":0},{"$f":"AA61-(IF(AND($R61>'Import avoidance model - RR'!$I$15,$R61<'Import avoidance model - RR'!$J$15),'Import avoidance model - RR'!$H$15*LOGIC!G61,LOGIC!G61*'Import avoidance model - RR'!$H$16)/100)","v":1.0499096333979876},0,{"$f":"IF('Import avoidance model - RR'!H24=\"N\",0,LOGIC!G61*'Import avoidance model - RR'!$H$20)/100","v":0},{"$f":"AC61-(IF(AND($R61>'Import avoidance model - RR'!$I$15,$R61<'Import avoidance model - RR'!$J$15),'Import avoidance model - RR'!$H$15*LOGIC!N61,LOGIC!N61*'Import avoidance model - RR'!$H$16)/100)","v":1.2241735893426855},0,{"$f":"IF('Import avoidance model - RR'!H24=\"N\",0,LOGIC!N61*'Import avoidance model - RR'!$H$20)/100","v":0},{"$f":"AE61-(IF(AND($R61>'Import avoidance model - RR'!$I$15,$R61<'Import avoidance model - RR'!$J$15),'Import avoidance model - RR'!$H$15*LOGIC!G113,LOGIC!G113*'Import avoidance model - RR'!$H$16)/100)","v":1.0499096333979876},0,{"$f":"IF('Import avoidance model - RR'!H24=\"N\",0,LOGIC!G113*'Import avoidance model - RR'!$H$20)/100","v":0},{"$f":"AG61-(IF(AND($R61>'Import avoidance model - RR'!$I$15,$R61<'Import avoidance model - RR'!$J$15),'Import avoidance model - RR'!$H$15*LOGIC!N113,LOGIC!N113*'Import avoidance model - RR'!$H$16)/100)","v":1.2241735893426855},0,{"$f":"IF('Import avoidance model - RR'!H24=\"N\",0,LOGIC!N113*'Import avoidance model - RR'!$H$20)/100","v":0},{"$f":"AI61-(IF(AND($R61>'Import avoidance model - RR'!$I$15,$R61<'Import avoidance model - RR'!$J$15),'Import avoidance model - RR'!$H$15*LOGIC!G165,LOGIC!G165*'Import avoidance model - RR'!$H$16)/100)","v":1.0499096333979876},0,{"$f":"IF('Import avoidance model - RR'!H24=\"N\",0,LOGIC!G165*'Import avoidance model - RR'!$H$20)/100","v":0},{"$f":"AK61-(IF(AND($R61>'Import avoidance model - RR'!$I$15,$R61<'Import avoidance model - RR'!$J$15),'Import avoidance model - RR'!$H$15*LOGIC!N165,LOGIC!N165*'Import avoidance model - RR'!$H$16)/100)","v":1.2241735893426855},0,{"$f":"IF('Import avoidance model - RR'!H24=\"N\",0,LOGIC!N165*'Import avoidance model - RR'!$H$20)/100","v":0},{"$f":"AM61-(IF(AND($R61>'Import avoidance model - RR'!$I$15,$R61<'Import avoidance model - RR'!$J$15),'Import avoidance model - RR'!$H$15*LOGIC!G9,LOGIC!G9*'Import avoidance model - RR'!$H$16)/100)","v":1.0499096333979876},0,{"$f":"IF('Import avoidance model - RR'!H24=\"N\",0,LOGIC!G9*'Import avoidance model - RR'!$H$20)/100","v":0},{"$f":"AO61-(IF(AND($R61>'Import avoidance model - RR'!$I$15,$R61<'Import avoidance model - RR'!$J$15),'Import avoidance model - RR'!$H$15*LOGIC!N9,LOGIC!N9*'Import avoidance model - RR'!$H$16)/100)","v":1.2241735893426855},0,{"$f":"IF('Import avoidance model - RR'!H24=\"N\",0,LOGIC!N9*'Import avoidance model - RR'!$H$20)/100","v":0}]
[null,"02:30:00",{"$f":"'PV data'!J10","v":0},17.768302820021095,0,0,0,0,{"$f":"IF(AND(I61+H62<=$A$5,I61+H62>$A$3),LOGIC!I61+LOGIC!H62,IF(I61+H62>$A$5,$A$5,$A$3))","v":12},0,20.447872819082381,0,0,0,0,{"$f":"IF(AND(P61+O62<=$A$5,P61+O62>$A$3),LOGIC!P61+LOGIC!O62,IF(P61+O62>$A$5,$A$5,$A$3))","v":12},null,"02:30:00",{"$f":"(IF(AND($R62>'Import avoidance model - RR'!$I$15,'Import avoidance model - RR'!$J$15),'Import avoidance model - RR'!$H$15,'Import avoidance model - RR'!$H$16))*D62/100","v":1.0660981692012657},{"$f":"(IF(AND($R62>'Import avoidance model - RR'!$I$15,'Import avoidance model - RR'!$J$15),'Import avoidance model - RR'!$H$15,'Import avoidance model - RR'!$H$16))*K62/100","v":1.226872369144943},{"$f":"(IF(AND($R62>'Import avoidance model - RR'!$I$15,'Import avoidance model - RR'!$J$15),'Import avoidance model - RR'!$H$15,'Import avoidance model - RR'!$H$16))*D114/100","v":1.0660981692012657},{"$f":"(IF(AND($R62>'Import avoidance model - RR'!$I$15,'Import avoidance model - RR'!$J$15),'Import avoidance model - RR'!$H$15,'Import avoidance model - RR'!$H$16))*K114/100","v":1.226872369144943},{"$f":"(IF(AND($R62>'Import avoidance model - RR'!$I$15,'Import avoidance model - RR'!$J$15),'Import avoidance model - RR'!$H$15,'Import avoidance model - RR'!$H$16))*D166/100","v":1.0660981692012657},{"$f":"(IF(AND($R62>'Import avoidance model - RR'!$I$15,'Import avoidance model - RR'!$J$15),'Import avoidance model - RR'!$H$15,'Import avoidance model - RR'!$H$16))*K166/100","v":1.226872369144943},{"$f":"(IF(AND($R62>'Import avoidance model - RR'!$I$15,'Import avoidance model - RR'!$J$15),'Import avoidance model - RR'!$H$15,'Import avoidance model - RR'!$H$16))*D10/100","v":1.0660981692012657},{"$f":"(IF(AND($R62>'Import avoidance model - RR'!$I$15,'Import avoidance model - RR'!$J$15),'Import avoidance model - RR'!$H$15,'Import avoidance model - RR'!$H$16))*K10/100","v":1.226872369144943},{"$f":"IF(C62<LOGIC!D62,(LOGIC!D62-LOGIC!C62)*IF(AND(LOGIC!B62>'Import avoidance model - RR'!$I$15,LOGIC!B62<'Import avoidance model - RR'!$J$15),'Import avoidance model - RR'!$H$15,'Import avoidance model - RR'!$H$16),0)/100","v":1.0660981692012657},{"$f":"IF('Import avoidance model - RR'!$H$17=\"N\",0,IF(D62<=C62,D62,C62)*'Import avoidance model - RR'!$H$18/100)","v":0},{"$f":"IF(J62<LOGIC!K62,(LOGIC!K62-LOGIC!J62)*IF(AND(LOGIC!B62>'Import avoidance model - RR'!$I$15,LOGIC!B62<'Import avoidance model - RR'!$J$15),'Import avoidance model - RR'!$H$15,'Import avoidance model - RR'!$H$16),0)/100","v":1.226872369144943},{"$f":"IF('Import avoidance model - RR'!$H$17=\"N\",0,IF(K62<=C62,K62,C62)*'Import avoidance model - RR'!$H$18/100)","v":0},{"$f":"IF(C114<LOGIC!D114,(LOGIC!D114-LOGIC!C114)*IF(AND(LOGIC!B114>'Import avoidance model - RR'!$I$15,LOGIC!B114<'Import avoidance model - RR'!$J$15),'Import avoidance model - RR'!$H$15,'Import avoidance model - RR'!$H$16),0)/100","v":1.0660981692012657},{"$f":"IF('Import avoidance model - RR'!$H$17=\"N\",0,IF(D114<=C114,D114,C114)*'Import avoidance model - RR'!$H$18/100)","v":0},{"$f":"IF(J114<LOGIC!K114,(LOGIC!K114-LOGIC!J114)*IF(AND(LOGIC!B114>'Import avoidance model - RR'!$I$15,LOGIC!B114<'Import avoidance model - RR'!$J$15),'Import avoidance model - RR'!$H$15,'Import avoidance model - RR'!$H$16),0)/100","v":1.226872369144943},{"$f":"IF('Import avoidance model - RR'!$H$17=\"N\",0,IF(K114<=C114,K114,C114)*'Import avoidance model - RR'!$H$18/100)","v":0},{"$f":"IF(C166<LOGIC!D166,(LOGIC!D166-LOGIC!C166)*IF(AND(LOGIC!B166>'Import avoidance model - RR'!$I$15,LOGIC!B166<'Import avoidance model - RR'!$J$15),'Import avoidance model - RR'!$H$15,'Import avoidance model - RR'!$H$16),0)/100","v":1.0660981692012657},{"$f":"IF('Import avoidance model - RR'!$H$17=\"N\",0,IF(D166<=C166,D166,C166)*'Import avoidance model - RR'!$H$18/100)","v":0},{"$f":"IF(J166<LOGIC!K166,(LOGIC!K166-LOGIC!J166)*IF(AND(LOGIC!B166>'Import avoidance model - RR'!$I$15,LOGIC!B166<'Import avoidance model - RR'!$J$15),'Import avoidance model - RR'!$H$15,'Import avoidance model - RR'!$H$16),0)/100","v":1.226872369144943},{"$f":"IF('Import avoidance model - RR'!$H$17=\"N\",0,IF(K166<=C166,K166,C166)*'Import avoidance model - RR'!$H$18/100)","v":0},{"$f":"IF(C10<LOGIC!D10,(LOGIC!D10-LOGIC!C10)*IF(AND(LOGIC!B10>'Import avoidance model - RR'!$I$15,LOGIC!B10<'Import avoidance model - RR'!$J$15),'Import avoidance model - RR'!$H$15,'Import avoidance model - RR'!$H$16),0)/100","v":1.0660981692012657},{"$f":"IF('Import avoidance model - RR'!$H$17=\"N\",0,IF(D10<=C10,D10,C10)*'Import avoidance model - RR'!$H$18/100)","v":0},{"$f":"IF(J10<LOGIC!K10,(LOGIC!K10-LOGIC!J10)*IF(AND(LOGIC!B166>'Import avoidance model - RR'!$I$15,LOGIC!B166<'Import avoidance model - RR'!$J$15),'Import avoidance model - RR'!$H$15,'Import avoidance model - RR'!$H$16),0)/100","v":1.226872369144943},{"$f":"IF('Import avoidance model - RR'!$H$17=\"N\",0,IF(K10<=C10,K10,C10)*'Import avoidance model - RR'!$H$18/100)","v":0},{"$f":"AA62-(IF(AND($R62>'Import avoidance model - RR'!$I$15,$R62<'Import avoidance model - RR'!$J$15),'Import avoidance model - RR'!$H$15*LOGIC!G62,LOGIC!G62*'Import avoidance model - RR'!$H$16)/100)","v":1.0660981692012657},0,{"$f":"IF('Import avoidance model - RR'!H25=\"N\",0,LOGIC!G62*'Import avoidance model - RR'!$H$20)/100","v":0},{"$f":"AC62-(IF(AND($R62>'Import avoidance model - RR'!$I$15,$R62<'Import avoidance model - RR'!$J$15),'Import avoidance model - RR'!$H$15*LOGIC!N62,LOGIC!N62*'Import avoidance model - RR'!$H$16)/100)","v":1.226872369144943},0,{"$f":"IF('Import avoidance model - RR'!H25=\"N\",0,LOGIC!N62*'Import avoidance model - RR'!$H$20)/100","v":0},{"$f":"AE62-(IF(AND($R62>'Import avoidance model - RR'!$I$15,$R62<'Import avoidance model - RR'!$J$15),'Import avoidance model - RR'!$H$15*LOGIC!G114,LOGIC!G114*'Import avoidance model - RR'!$H$16)/100)","v":1.0660981692012657},0,{"$f":"IF('Import avoidance model - RR'!H25=\"N\",0,LOGIC!G114*'Import avoidance model - RR'!$H$20)/100","v":0},{"$f":"AG62-(IF(AND($R62>'Import avoidance model - RR'!$I$15,$R62<'Import avoidance model - RR'!$J$15),'Import avoidance model - RR'!$H$15*LOGIC!N114,LOGIC!N114*'Import avoidance model - RR'!$H$16)/100)","v":1.226872369144943},0,{"$f":"IF('Import avoidance model - RR'!H25=\"N\",0,LOGIC!N114*'Import avoidance model - RR'!$H$20)/100","v":0},{"$f":"AI62-(IF(AND($R62>'Import avoidance model - RR'!$I$15,$R62<'Import avoidance model - RR'!$J$15),'Import avoidance model - RR'!$H$15*LOGIC!G166,LOGIC!G166*'Import avoidance model - RR'!$H$16)/100)","v":1.0660981692012657},0,{"$f":"IF('Import avoidance model - RR'!H25=\"N\",0,LOGIC!G166*'Import avoidance model - RR'!$H$20)/100","v":0},{"$f":"AK62-(IF(AND($R62>'Import avoidance model - RR'!$I$15,$R62<'Import avoidance model - RR'!$J$15),'Import avoidance model - RR'!$H$15*LOGIC!N166,LOGIC!N166*'Import avoidance model - RR'!$H$16)/100)","v":1.226872369144943},0,{"$f":"IF('Import avoidance model - RR'!H25=\"N\",0,LOGIC!N166*'Import avoidance model - RR'!$H$20)/100","v":0},{"$f":"AM62-(IF(AND($R62>'Import avoidance model - RR'!$I$15,$R62<'Import avoidance model - RR'!$J$15),'Import avoidance model - RR'!$H$15*LOGIC!G10,LOGIC!G10*'Import avoidance model - RR'!$H$16)/100)","v":1.0660981692012657},0,{"$f":"IF('Import avoidance model - RR'!H25=\"N\",0,LOGIC!G10*'Import avoidance model - RR'!$H$20)/100","v":0},{"$f":"AO62-(IF(AND($R62>'Import avoidance model - RR'!$I$15,$R62<'Import avoidance model - RR'!$J$15),'Import avoidance model - RR'!$H$15*LOGIC!N10,LOGIC!N10*'Import avoidance model - RR'!$H$16)/100)","v":1.226872369144943},0,{"$f":"IF('Import avoidance model - RR'!H25=\"N\",0,LOGIC!N10*'Import avoidance model - RR'!$H$20)/100","v":0}]
[null,"03:00:00",{"$f":"'PV data'!J11","v":0},19.066745815680321,0,0,0,0,{"$f":"IF(AND(I62+H63<=$A$5,I62+H63>$A$3),LOGIC!I62+LOGIC!H63,IF(I62+H63>$A$5,$A$5,$A$3))","v":12},0,20.430195222124361,0,0,0,0,{"$f":"IF(AND(P62+O63<=$A$5,P62+O63>$A$3),LOGIC!P62+LOGIC!O63,IF(P62+O63>$A$5,$A$5,$A$3))","v":12},null,"03:00:00",{"$f":"(IF(AND($R63>'Import avoidance model - RR'!$I$15,'Import avoidance model - RR'!$J$15),'Import avoidance model - RR'!$H$15,'Import avoidance model - RR'!$H$16))*D63/100","v":1.1440047489408192},{"$f":"(IF(AND($R63>'Import avoidance model - RR'!$I$15,'Import avoidance model - RR'!$J$15),'Import avoidance model - RR'!$H$15,'Import avoidance model - RR'!$H$16))*K63/100","v":1.2258117133274617},{"$f":"(IF(AND($R63>'Import avoidance model - RR'!$I$15,'Import avoidance model - RR'!$J$15),'Import avoidance model - RR'!$H$15,'Import avoidance model - RR'!$H$16))*D115/100","v":1.1440047489408192},{"$f":"(IF(AND($R63>'Import avoidance model - RR'!$I$15,'Import avoidance model - RR'!$J$15),'Import avoidance model - RR'!$H$15,'Import avoidance model - RR'!$H$16))*K115/100","v":1.2258117133274617},{"$f":"(IF(AND($R63>'Import avoidance model - RR'!$I$15,'Import avoidance model - RR'!$J$15),'Import avoidance model - RR'!$H$15,'Import avoidance model - RR'!$H$16))*D167/100","v":1.1440047489408192},{"$f":"(IF(AND($R63>'Import avoidance model - RR'!$I$15,'Import avoidance model - RR'!$J$15),'Import avoidance model - RR'!$H$15,'Import avoidance model - RR'!$H$16))*K167/100","v":1.2258117133274617},{"$f":"(IF(AND($R63>'Import avoidance model - RR'!$I$15,'Import avoidance model - RR'!$J$15),'Import avoidance model - RR'!$H$15,'Import avoidance model - RR'!$H$16))*D11/100","v":1.1440047489408192},{"$f":"(IF(AND($R63>'Import avoidance model - RR'!$I$15,'Import avoidance model - RR'!$J$15),'Import avoidance model - RR'!$H$15,'Import avoidance model - RR'!$H$16))*K11/100","v":1.2258117133274617},{"$f":"IF(C63<LOGIC!D63,(LOGIC!D63-LOGIC!C63)*IF(AND(LOGIC!B63>'Import avoidance model - RR'!$I$15,LOGIC!B63<'Import avoidance model - RR'!$J$15),'Import avoidance model - RR'!$H$15,'Import avoidance model - RR'!$H$16),0)/100","v":1.1440047489408192},{"$f":"IF('Import avoidance model - RR'!$H$17=\"N\",0,IF(D63<=C63,D63,C63)*'Import avoidance model - RR'!$H$18/100)","v":0},{"$f":"IF(J63<LOGIC!K63,(LOGIC!K63-LOGIC!J63)*IF(AND(LOGIC!B63>'Import avoidance model - RR'!$I$15,LOGIC!B63<'Import avoidance model - RR'!$J$15),'Import avoidance model - RR'!$H$15,'Import avoidance model - RR'!$H$16),0)/100","v":1.2258117133274617},{"$f":"IF('Import avoidance model - RR'!$H$17=\"N\",0,IF(K63<=C63,K63,C63)*'Import avoidance model - RR'!$H$18/100)","v":0},{"$f":"IF(C115<LOGIC!D115,(LOGIC!D115-LOGIC!C115)*IF(AND(LOGIC!B115>'Import avoidance model - RR'!$I$15,LOGIC!B115<'Import avoidance model - RR'!$J$15),'Import avoidance model - RR'!$H$15,'Import avoidance model - RR'!$H$16),0)/100","v":1.1440047489408192},{"$f":"IF('Import avoidance model - RR'!$H$17=\"N\",0,IF(D115<=C115,D115,C115)*'Import avoidance model - RR'!$H$18/100)","v":0},{"$f":"IF(J115<LOGIC!K115,(LOGIC!K115-LOGIC!J115)*IF(AND(LOGIC!B115>'Import avoidance model - RR'!$I$15,LOGIC!B115<'Import avoidance model - RR'!$J$15),'Import avoidance model - RR'!$H$15,'Import avoidance model - RR'!$H$16),0)/100","v":1.2258117133274617},{"$f":"IF('Import avoidance model - RR'!$H$17=\"N\",0,IF(K115<=C115,K115,C115)*'Import avoidance model - RR'!$H$18/100)","v":0},{"$f":"IF(C167<LOGIC!D167,(LOGIC!D167-LOGIC!C167)*IF(AND(LOGIC!B167>'Import avoidance model - RR'!$I$15,LOGIC!B167<'Import avoidance model - RR'!$J$15),'Import avoidance model - RR'!$H$15,'Import avoidance model - RR'!$H$16),0)/100","v":1.1440047489408192},{"$f":"IF('Import avoidance model - RR'!$H$17=\"N\",0,IF(D167<=C167,D167,C167)*'Import avoidance model - RR'!$H$18/100)","v":0},{"$f":"IF(J167<LOGIC!K167,(LOGIC!K167-LOGIC!J167)*IF(AND(LOGIC!B167>'Import avoidance model - RR'!$I$15,LOGIC!B167<'Import avoidance model - RR'!$J$15),'Import avoidance model - RR'!$H$15,'Import avoidance model - RR'!$H$16),0)/100","v":1.2258117133274617},{"$f":"IF('Import avoidance model - RR'!$H$17=\"N\",0,IF(K167<=C167,K167,C167)*'Import avoidance model - RR'!$H$18/100)","v":0},{"$f":"IF(C11<LOGIC!D11,(LOGIC!D11-LOGIC!C11)*IF(AND(LOGIC!B11>'Import avoidance model - RR'!$I$15,LOGIC!B11<'Import avoidance model - RR'!$J$15),'Import avoidance model - RR'!$H$15,'Import avoidance model - RR'!$H$16),0)/100","v":1.1440047489408192},{"$f":"IF('Import avoidance model - RR'!$H$17=\"N\",0,IF(D11<=C11,D11,C11)*'Import avoidance model - RR'!$H$18/100)","v":0},{"$f":"IF(J11<LOGIC!K11,(LOGIC!K11-LOGIC!J11)*IF(AND(LOGIC!B167>'Import avoidance model - RR'!$I$15,LOGIC!B167<'Import avoidance model - RR'!$J$15),'Import avoidance model - RR'!$H$15,'Import avoidance model - RR'!$H$16),0)/100","v":1.2258117133274617},{"$f":"IF('Import avoidance model - RR'!$H$17=\"N\",0,IF(K11<=C11,K11,C11)*'Import avoidance model - RR'!$H$18/100)","v":0},{"$f":"AA63-(IF(AND($R63>'Import avoidance model - RR'!$I$15,$R63<'Import avoidance model - RR'!$J$15),'Import avoidance model - RR'!$H$15*LOGIC!G63,LOGIC!G63*'Import avoidance model - RR'!$H$16)/100)","v":1.1440047489408192},0,{"$f":"IF('Import avoidance model - RR'!H26=\"N\",0,LOGIC!G63*'Import avoidance model - RR'!$H$20)/100","v":0},{"$f":"AC63-(IF(AND($R63>'Import avoidance model - RR'!$I$15,$R63<'Import avoidance model - RR'!$J$15),'Import avoidance model - RR'!$H$15*LOGIC!N63,LOGIC!N63*'Import avoidance model - RR'!$H$16)/100)","v":1.2258117133274617},0,{"$f":"IF('Import avoidance model - RR'!H26=\"N\",0,LOGIC!N63*'Import avoidance model - RR'!$H$20)/100","v":0},{"$f":"AE63-(IF(AND($R63>'Import avoidance model - RR'!$I$15,$R63<'Import avoidance model - RR'!$J$15),'Import avoidance model - RR'!$H$15*LOGIC!G115,LOGIC!G115*'Import avoidance model - RR'!$H$16)/100)","v":1.1440047489408192},0,{"$f":"IF('Import avoidance model - RR'!H26=\"N\",0,LOGIC!G115*'Import avoidance model - RR'!$H$20)/100","v":0},{"$f":"AG63-(IF(AND($R63>'Import avoidance model - RR'!$I$15,$R63<'Import avoidance model - RR'!$J$15),'Import avoidance model - RR'!$H$15*LOGIC!N115,LOGIC!N115*'Import avoidance model - RR'!$H$16)/100)","v":1.2258117133274617},0,{"$f":"IF('Import avoidance model - RR'!H26=\"N\",0,LOGIC!N115*'Import avoidance model - RR'!$H$20)/100","v":0},{"$f":"AI63-(IF(AND($R63>'Import avoidance model - RR'!$I$15,$R63<'Import avoidance model - RR'!$J$15),'Import avoidance model - RR'!$H$15*LOGIC!G167,LOGIC!G167*'Import avoidance model - RR'!$H$16)/100)","v":1.1440047489408192},0,{"$f":"IF('Import avoidance model - RR'!H26=\"N\",0,LOGIC!G167*'Import avoidance model - RR'!$H$20)/100","v":0},{"$f":"AK63-(IF(AND($R63>'Import avoidance model - RR'!$I$15,$R63<'Import avoidance model - RR'!$J$15),'Import avoidance model - RR'!$H$15*LOGIC!N167,LOGIC!N167*'Import avoidance model - RR'!$H$16)/100)","v":1.2258117133274617},0,{"$f":"IF('Import avoidance model - RR'!H26=\"N\",0,LOGIC!N167*'Import avoidance model - RR'!$H$20)/100","v":0},{"$f":"AM63-(IF(AND($R63>'Import avoidance model - RR'!$I$15,$R63<'Import avoidance model - RR'!$J$15),'Import avoidance model - RR'!$H$15*LOGIC!G11,LOGIC!G11*'Import avoidance model - RR'!$H$16)/100)","v":1.1440047489408192},0,{"$f":"IF('Import avoidance model - RR'!H26=\"N\",0,LOGIC!G11*'Import avoidance model - RR'!$H$20)/100","v":0},{"$f":"AO63-(IF(AND($R63>'Import avoidance model - RR'!$I$15,$R63<'Import avoidance model - RR'!$J$15),'Import avoidance model - RR'!$H$15*LOGIC!N11,LOGIC!N11*'Import avoidance model - RR'!$H$16)/100)","v":1.2258117133274617},0,{"$f":"IF('Import avoidance model - RR'!H26=\"N\",0,LOGIC!N11*'Import avoidance model - RR'!$H$20)/100","v":0}]
[null,"03:30:00",{"$f":"'PV data'!J12","v":0},21.084413046605953,0,0,0,0,{"$f":"IF(AND(I63+H64<=$A$5,I63+H64>$A$3),LOGIC!I63+LOGIC!H64,IF(I63+H64>$A$5,$A$5,$A$3))","v":12},0,20.453568933657738,0,0,0,0,{"$f":"IF(AND(P63+O64<=$A$5,P63+O64>$A$3),LOGIC!P63+LOGIC!O64,IF(P63+O64>$A$5,$A$5,$A$3))","v":12},null,"03:30:00",{"$f":"(IF(AND($R64>'Import avoidance model - RR'!$I$15,'Import avoidance model - RR'!$J$15),'Import avoidance model - RR'!$H$15,'Import avoidance model - RR'!$H$16))*D64/100","v":1.2650647827963573},{"$f":"(IF(AND($R64>'Import avoidance model - RR'!$I$15,'Import avoidance model - RR'!$J$15),'Import avoidance model - RR'!$H$15,'Import avoidance model - RR'!$H$16))*K64/100","v":1.2272141360194644},{"$f":"(IF(AND($R64>'Import avoidance model - RR'!$I$15,'Import avoidance model - RR'!$J$15),'Import avoidance model - RR'!$H$15,'Import avoidance model - RR'!$H$16))*D116/100","v":1.2650647827963573},{"$f":"(IF(AND($R64>'Import avoidance model - RR'!$I$15,'Import avoidance model - RR'!$J$15),'Import avoidance model - RR'!$H$15,'Import avoidance model - RR'!$H$16))*K116/100","v":1.2272141360194644},{"$f":"(IF(AND($R64>'Import avoidance model - RR'!$I$15,'Import avoidance model - RR'!$J$15),'Import avoidance model - RR'!$H$15,'Import avoidance model - RR'!$H$16))*D168/100","v":1.2650647827963573},{"$f":"(IF(AND($R64>'Import avoidance model - RR'!$I$15,'Import avoidance model - RR'!$J$15),'Import avoidance model - RR'!$H$15,'Import avoidance model - RR'!$H$16))*K168/100","v":1.2272141360194644},{"$f":"(IF(AND($R64>'Import avoidance model - RR'!$I$15,'Import avoidance model - RR'!$J$15),'Import avoidance model - RR'!$H$15,'Import avoidance model - RR'!$H$16))*D12/100","v":1.2650647827963573},{"$f":"(IF(AND($R64>'Import avoidance model - RR'!$I$15,'Import avoidance model - RR'!$J$15),'Import avoidance model - RR'!$H$15,'Import avoidance model - RR'!$H$16))*K12/100","v":1.2272141360194644},{"$f":"IF(C64<LOGIC!D64,(LOGIC!D64-LOGIC!C64)*IF(AND(LOGIC!B64>'Import avoidance model - RR'!$I$15,LOGIC!B64<'Import avoidance model - RR'!$J$15),'Import avoidance model - RR'!$H$15,'Import avoidance model - RR'!$H$16),0)/100","v":1.2650647827963573},{"$f":"IF('Import avoidance model - RR'!$H$17=\"N\",0,IF(D64<=C64,D64,C64)*'Import avoidance model - RR'!$H$18/100)","v":0},{"$f":"IF(J64<LOGIC!K64,(LOGIC!K64-LOGIC!J64)*IF(AND(LOGIC!B64>'Import avoidance model - RR'!$I$15,LOGIC!B64<'Import avoidance model - RR'!$J$15),'Import avoidance model - RR'!$H$15,'Import avoidance model - RR'!$H$16),0)/100","v":1.2272141360194644},{"$f":"IF('Import avoidance model - RR'!$H$17=\"N\",0,IF(K64<=C64,K64,C64)*'Import avoidance model - RR'!$H$18/100)","v":0},{"$f":"IF(C116<LOGIC!D116,(LOGIC!D116-LOGIC!C116)*IF(AND(LOGIC!B116>'Import avoidance model - RR'!$I$15,LOGIC!B116<'Import avoidance model - RR'!$J$15),'Import avoidance model - RR'!$H$15,'Import avoidance model - RR'!$H$16),0)/100","v":1.2650647827963573},{"$f":"IF('Import avoidance model - RR'!$H$17=\"N\",0,IF(D116<=C116,D116,C116)*'Import avoidance model - RR'!$H$18/100)","v":0},{"$f":"IF(J116<LOGIC!K116,(LOGIC!K116-LOGIC!J116)*IF(AND(LOGIC!B116>'Import avoidance model - RR'!$I$15,LOGIC!B116<'Import avoidance model - RR'!$J$15),'Import avoidance model - RR'!$H$15,'Import avoidance model - RR'!$H$16),0)/100","v":1.2272141360194644},{"$f":"IF('Import avoidance model - RR'!$H$17=\"N\",0,IF(K116<=C116,K116,C116)*'Import avoidance model - RR'!$H$18/100)","v":0},{"$f":"IF(C168<LOGIC!D168,(LOGIC!D168-LOGIC!C168)*IF(AND(LOGIC!B168>'Import avoidance model - RR'!$I$15,LOGIC!B168<'Import avoidance model - RR'!$J$15),'Import avoidance model - RR'!$H$15,'Import avoidance model - RR'!$H$16),0)/100","v":1.2650647827963573},{"$f":"IF('Import avoidance model - RR'!$H$17=\"N\",0,IF(D168<=C168,D168,C168)*'Import avoidance model - RR'!$H$18/100)","v":0},{"$f":"IF(J168<LOGIC!K168,(LOGIC!K168-LOGIC!J168)*IF(AND(LOGIC!B168>'Import avoidance model - RR'!$I$15,LOGIC!B168<'Import avoidance model - RR'!$J$15),'Import avoidance model - RR'!$H$15,'Import avoidance model - RR'!$H$16),0)/100","v":1.2272141360194644},{"$f":"IF('Import avoidance model - RR'!$H$17=\"N\",0,IF(K168<=C168,K168,C168)*'Import avoidance model - RR'!$H$18/100)","v":0},{"$f":"IF(C12<LOGIC!D12,(LOGIC!D12-LOGIC!C12)*IF(AND(LOGIC!B12>'Import avoidance model - RR'!$I$15,LOGIC!B12<'Import avoidance model - RR'!$J$15),'Import avoidance model - RR'!$H$15,'Import avoidance model - RR'!$H$16),0)/100","v":1.2650647827963573},{"$f":"IF('Import avoidance model - RR'!$H$17=\"N\",0,IF(D12<=C12,D12,C12)*'Import avoidance model - RR'!$H$18/100)","v":0},{"$f":"IF(J12<LOGIC!K12,(LOGIC!K12-LOGIC!J12)*IF(AND(LOGIC!B168>'Import avoidance model - RR'!$I$15,LOGIC!B168<'Import avoidance model - RR'!$J$15),'Import avoidance model - RR'!$H$15,'Import avoidance model - RR'!$H$16),0)/100","v":1.2272141360194644},{"$f":"IF('Import avoidance model - RR'!$H$17=\"N\",0,IF(K12<=C12,K12,C12)*'Import avoidance model - RR'!$H$18/100)","v":0},{"$f":"AA64-(IF(AND($R64>'Import avoidance model - RR'!$I$15,$R64<'Import avoidance model - RR'!$J$15),'Import avoidance model - RR'!$H$15*LOGIC!G64,LOGIC!G64*'Import avoidance model - RR'!$H$16)/100)","v":1.2650647827963573},0,{"$f":"IF('Import avoidance model - RR'!H27=\"N\",0,LOGIC!G64*'Import avoidance model - RR'!$H$20)/100","v":0},{"$f":"AC64-(IF(AND($R64>'Import avoidance model - RR'!$I$15,$R64<'Import avoidance model - RR'!$J$15),'Import avoidance model - RR'!$H$15*LOGIC!N64,LOGIC!N64*'Import avoidance model - RR'!$H$16)/100)","v":1.2272141360194644},0,{"$f":"IF('Import avoidance model - RR'!H27=\"N\",0,LOGIC!N64*'Import avoidance model - RR'!$H$20)/100","v":0},{"$f":"AE64-(IF(AND($R64>'Import avoidance model - RR'!$I$15,$R64<'Import avoidance model - RR'!$J$15),'Import avoidance model - RR'!$H$15*LOGIC!G116,LOGIC!G116*'Import avoidance model - RR'!$H$16)/100)","v":1.2650647827963573},0,{"$f":"IF('Import avoidance model - RR'!H27=\"N\",0,LOGIC!G116*'Import avoidance model - RR'!$H$20)/100","v":0},{"$f":"AG64-(IF(AND($R64>'Import avoidance model - RR'!$I$15,$R64<'Import avoidance model - RR'!$J$15),'Import avoidance model - RR'!$H$15*LOGIC!N116,LOGIC!N116*'Import avoidance model - RR'!$H$16)/100)","v":1.2272141360194644},0,{"$f":"IF('Import avoidance model - RR'!H27=\"N\",0,LOGIC!N116*'Import avoidance model - RR'!$H$20)/100","v":0},{"$f":"AI64-(IF(AND($R64>'Import avoidance model - RR'!$I$15,$R64<'Import avoidance model - RR'!$J$15),'Import avoidance model - RR'!$H$15*LOGIC!G168,LOGIC!G168*'Import avoidance model - RR'!$H$16)/100)","v":1.2650647827963573},0,{"$f":"IF('Import avoidance model - RR'!H27=\"N\",0,LOGIC!G168*'Import avoidance model - RR'!$H$20)/100","v":0},{"$f":"AK64-(IF(AND($R64>'Import avoidance model - RR'!$I$15,$R64<'Import avoidance model - RR'!$J$15),'Import avoidance model - RR'!$H$15*LOGIC!N168,LOGIC!N168*'Import avoidance model - RR'!$H$16)/100)","v":1.2272141360194644},0,{"$f":"IF('Import avoidance model - RR'!H27=\"N\",0,LOGIC!N168*'Import avoidance model - RR'!$H$20)/100","v":0},{"$f":"AM64-(IF(AND($R64>'Import avoidance model - RR'!$I$15,$R64<'Import avoidance model - RR'!$J$15),'Import avoidance model - RR'!$H$15*LOGIC!G12,LOGIC!G12*'Import avoidance model - RR'!$H$16)/100)","v":1.2650647827963573},0,{"$f":"IF('Import avoidance model - RR'!H27=\"N\",0,LOGIC!G12*'Import avoidance model - RR'!$H$20)/100","v":0},{"$f":"AO64-(IF(AND($R64>'Import avoidance model - RR'!$I$15,$R64<'Import avoidance model - RR'!$J$15),'Import avoidance model - RR'!$H$15*LOGIC!N12,LOGIC!N12*'Import avoidance model - RR'!$H$16)/100)","v":1.2272141360194644},0,{"$f":"IF('Import avoidance model - RR'!H27=\"N\",0,LOGIC!N12*'Import avoidance model - RR'!$H$20)/100","v":0}]
[null,"04:00:00",{"$f":"'PV data'!J13","v":0},24.817120871520817,0,0,0,0,{"$f":"IF(AND(I64+H65<=$A$5,I64+H65>$A$3),LOGIC!I64+LOGIC!H65,IF(I64+H65>$A$5,$A$5,$A$3))","v":12},0,20.024788998553838,0,0,0,0,{"$f":"IF(AND(P64+O65<=$A$5,P64+O65>$A$3),LOGIC!P64+LOGIC!O65,IF(P64+O65>$A$5,$A$5,$A$3))","v":12},null,"04:00:00",{"$f":"(IF(AND($R65>'Import avoidance model - RR'!$I$15,'Import avoidance model - RR'!$J$15),'Import avoidance model - RR'!$H$15,'Import avoidance model - RR'!$H$16))*D65/100","v":1.4890272522912491},{"$f":"(IF(AND($R65>'Import avoidance model - RR'!$I$15,'Import avoidance model - RR'!$J$15),'Import avoidance model - RR'!$H$15,'Import avoidance model - RR'!$H$16))*K65/100","v":1.2014873399132302},{"$f":"(IF(AND($R65>'Import avoidance model - RR'!$I$15,'Import avoidance model - RR'!$J$15),'Import avoidance model - RR'!$H$15,'Import avoidance model - RR'!$H$16))*D117/100","v":1.4890272522912491},{"$f":"(IF(AND($R65>'Import avoidance model - RR'!$I$15,'Import avoidance model - RR'!$J$15),'Import avoidance model - RR'!$H$15,'Import avoidance model - RR'!$H$16))*K117/100","v":1.2014873399132302},{"$f":"(IF(AND($R65>'Import avoidance model - RR'!$I$15,'Import avoidance model - RR'!$J$15),'Import avoidance model - RR'!$H$15,'Import avoidance model - RR'!$H$16))*D169/100","v":1.4890272522912491},{"$f":"(IF(AND($R65>'Import avoidance model - RR'!$I$15,'Import avoidance model - RR'!$J$15),'Import avoidance model - RR'!$H$15,'Import avoidance model - RR'!$H$16))*K169/100","v":1.2014873399132302},{"$f":"(IF(AND($R65>'Import avoidance model - RR'!$I$15,'Import avoidance model - RR'!$J$15),'Import avoidance model - RR'!$H$15,'Import avoidance model - RR'!$H$16))*D13/100","v":1.4890272522912491},{"$f":"(IF(AND($R65>'Import avoidance model - RR'!$I$15,'Import avoidance model - RR'!$J$15),'Import avoidance model - RR'!$H$15,'Import avoidance model - RR'!$H$16))*K13/100","v":1.2014873399132302},{"$f":"IF(C65<LOGIC!D65,(LOGIC!D65-LOGIC!C65)*IF(AND(LOGIC!B65>'Import avoidance model - RR'!$I$15,LOGIC!B65<'Import avoidance model - RR'!$J$15),'Import avoidance model - RR'!$H$15,'Import avoidance model - RR'!$H$16),0)/100","v":1.4890272522912491},{"$f":"IF('Import avoidance model - RR'!$H$17=\"N\",0,IF(D65<=C65,D65,C65)*'Import avoidance model - RR'!$H$18/100)","v":0},{"$f":"IF(J65<LOGIC!K65,(LOGIC!K65-LOGIC!J65)*IF(AND(LOGIC!B65>'Import avoidance model - RR'!$I$15,LOGIC!B65<'Import avoidance model - RR'!$J$15),'Import avoidance model - RR'!$H$15,'Import avoidance model - RR'!$H$16),0)/100","v":1.2014873399132302},{"$f":"IF('Import avoidance model - RR'!$H$17=\"N\",0,IF(K65<=C65,K65,C65)*'Import avoidance model - RR'!$H$18/100)","v":0},{"$f":"IF(C117<LOGIC!D117,(LOGIC!D117-LOGIC!C117)*IF(AND(LOGIC!B117>'Import avoidance model - RR'!$I$15,LOGIC!B117<'Import avoidance model - RR'!$J$15),'Import avoidance model - RR'!$H$15,'Import avoidance model - RR'!$H$16),0)/100","v":1.4890272522912491},{"$f":"IF('Import avoidance model - RR'!$H$17=\"N\",0,IF(D117<=C117,D117,C117)*'Import avoidance model - RR'!$H$18/100)","v":0},{"$f":"IF(J117<LOGIC!K117,(LOGIC!K117-LOGIC!J117)*IF(AND(LOGIC!B117>'Import avoidance model - RR'!$I$15,LOGIC!B117<'Import avoidance model - RR'!$J$15),'Import avoidance model - RR'!$H$15,'Import avoidance model - RR'!$H$16),0)/100","v":1.2014873399132302},{"$f":"IF('Import avoidance model - RR'!$H$17=\"N\",0,IF(K117<=C117,K117,C117)*'Import avoidance model - RR'!$H$18/100)","v":0},{"$f":"IF(C169<LOGIC!D169,(LOGIC!D169-LOGIC!C169)*IF(AND(LOGIC!B169>'Import avoidance model - RR'!$I$15,LOGIC!B169<'Import avoidance model - RR'!$J$15),'Import avoidance model - RR'!$H$15,'Import avoidance model - RR'!$H$16),0)/100","v":1.4890272522912491},{"$f":"IF('Import avoidance model - RR'!$H$17=\"N\",0,IF(D169<=C169,D169,C169)*'Import avoidance model - RR'!$H$18/100)","v":0},{"$f":"IF(J169<LOGIC!K169,(LOGIC!K169-LOGIC!J169)*IF(AND(LOGIC!B169>'Import avoidance model - RR'!$I$15,LOGIC!B169<'Import avoidance model - RR'!$J$15),'Import avoidance model - RR'!$H$15,'Import avoidance model - RR'!$H$16),0)/100","v":1.2014873399132302},{"$f":"IF('Import avoidance model - RR'!$H$17=\"N\",0,IF(K169<=C169,K169,C169)*'Import avoidance model - RR'!$H$18/100)","v":0},{"$f":"IF(C13<LOGIC!D13,(LOGIC!D13-LOGIC!C13)*IF(AND(LOGIC!B13>'Import avoidance model - RR'!$I$15,LOGIC!B13<'Import avoidance model - RR'!$J$15),'Import avoidance model - RR'!$H$15,'Import avoidance model - RR'!$H$16),0)/100","v":1.4890272522912491},{"$f":"IF('Import avoidance model - RR'!$H$17=\"N\",0,IF(D13<=C13,D13,C13)*'Import avoidance model - RR'!$H$18/100)","v":0},{"$f":"IF(J13<LOGIC!K13,(LOGIC!K13-LOGIC!J13)*IF(AND(LOGIC!B169>'Import avoidance model - RR'!$I$15,LOGIC!B169<'Import avoidance model - RR'!$J$15),'Import avoidance model - RR'!$H$15,'Import avoidance model - RR'!$H$16),0)/100","v":1.2014873399132302},{"$f":"IF('Import avoidance model - RR'!$H$17=\"N\",0,IF(K13<=C13,K13,C13)*'Import avoidance model - RR'!$H$18/100)","v":0},{"$f":"AA65-(IF(AND($R65>'Import avoidance model - RR'!$I$15,$R65<'Import avoidance model - RR'!$J$15),'Import avoidance model - RR'!$H$15*LOGIC!G65,LOGIC!G65*'Import avoidance model - RR'!$H$16)/100)","v":1.4890272522912491},0,{"$f":"IF('Import avoidance model - RR'!H28=\"N\",0,LOGIC!G65*'Import avoidance model - RR'!$H$20)/100","v":0},{"$f":"AC65-(IF(AND($R65>'Import avoidance model - RR'!$I$15,$R65<'Import avoidance model - RR'!$J$15),'Import avoidance model - RR'!$H$15*LOGIC!N65,LOGIC!N65*'Import avoidance model - RR'!$H$16)/100)","v":1.2014873399132302},0,{"$f":"IF('Import avoidance model - RR'!H28=\"N\",0,LOGIC!N65*'Import avoidance model - RR'!$H$20)/100","v":0},{"$f":"AE65-(IF(AND($R65>'Import avoidance model - RR'!$I$15,$R65<'Import avoidance model - RR'!$J$15),'Import avoidance model - RR'!$H$15*LOGIC!G117,LOGIC!G117*'Import avoidance model - RR'!$H$16)/100)","v":1.4890272522912491},0,{"$f":"IF('Import avoidance model - RR'!H28=\"N\",0,LOGIC!G117*'Import avoidance model - RR'!$H$20)/100","v":0},{"$f":"AG65-(IF(AND($R65>'Import avoidance model - RR'!$I$15,$R65<'Import avoidance model - RR'!$J$15),'Import avoidance model - RR'!$H$15*LOGIC!N117,LOGIC!N117*'Import avoidance model - RR'!$H$16)/100)","v":1.2014873399132302},0,{"$f":"IF('Import avoidance model - RR'!H28=\"N\",0,LOGIC!N117*'Import avoidance model - RR'!$H$20)/100","v":0},{"$f":"AI65-(IF(AND($R65>'Import avoidance model - RR'!$I$15,$R65<'Import avoidance model - RR'!$J$15),'Import avoidance model - RR'!$H$15*LOGIC!G169,LOGIC!G169*'Import avoidance model - RR'!$H$16)/100)","v":1.4890272522912491},0,{"$f":"IF('Import avoidance model - RR'!H28=\"N\",0,LOGIC!G169*'Import avoidance model - RR'!$H$20)/100","v":0},{"$f":"AK65-(IF(AND($R65>'Import avoidance model - RR'!$I$15,$R65<'Import avoidance model - RR'!$J$15),'Import avoidance model - RR'!$H$15*LOGIC!N169,LOGIC!N169*'Import avoidance model - RR'!$H$16)/100)","v":1.2014873399132302},0,{"$f":"IF('Import avoidance model - RR'!H28=\"N\",0,LOGIC!N169*'Import avoidance model - RR'!$H$20)/100","v":0},{"$f":"AM65-(IF(AND($R65>'Import avoidance model - RR'!$I$15,$R65<'Import avoidance model - RR'!$J$15),'Import avoidance model - RR'!$H$15*LOGIC!G13,LOGIC!G13*'Import avoidance model - RR'!$H$16)/100)","v":1.4890272522912491},0,{"$f":"IF('Import avoidance model - RR'!H28=\"N\",0,LOGIC!G13*'Import avoidance model - RR'!$H$20)/100","v":0},{"$f":"AO65-(IF(AND($R65>'Import avoidance model - RR'!$I$15,$R65<'Import avoidance model - RR'!$J$15),'Import avoidance model - RR'!$H$15*LOGIC!N13,LOGIC!N13*'Import avoidance model - RR'!$H$16)/100)","v":1.2014873399132302},0,{"$f":"IF('Import avoidance model - RR'!H28=\"N\",0,LOGIC!N13*'Import avoidance model - RR'!$H$20)/100","v":0}]
[null,"04:30:00",{"$f":"'PV data'!J14","v":0},29.045794498382314,0,0,0,0,{"$f":"IF(AND(I65+H66<=$A$5,I65+H66>$A$3),LOGIC!I65+LOGIC!H66,IF(I65+H66>$A$5,$A$5,$A$3))","v":12},0,19.336737641399015,0,0,0,0,{"$f":"IF(AND(P65+O66<=$A$5,P65+O66>$A$3),LOGIC!P65+LOGIC!O66,IF(P65+O66>$A$5,$A$5,$A$3))","v":12},null,"04:30:00",{"$f":"(IF(AND($R66>'Import avoidance model - RR'!$I$15,'Import avoidance model - RR'!$J$15),'Import avoidance model - RR'!$H$15,'Import avoidance model - RR'!$H$16))*D66/100","v":1.7427476699029387},{"$f":"(IF(AND($R66>'Import avoidance model - RR'!$I$15,'Import avoidance model - RR'!$J$15),'Import avoidance model - RR'!$H$15,'Import avoidance model - RR'!$H$16))*K66/100","v":1.1602042584839409},{"$f":"(IF(AND($R66>'Import avoidance model - RR'!$I$15,'Import avoidance model - RR'!$J$15),'Import avoidance model - RR'!$H$15,'Import avoidance model - RR'!$H$16))*D118/100","v":1.7427476699029387},{"$f":"(IF(AND($R66>'Import avoidance model - RR'!$I$15,'Import avoidance model - RR'!$J$15),'Import avoidance model - RR'!$H$15,'Import avoidance model - RR'!$H$16))*K118/100","v":1.1602042584839409},{"$f":"(IF(AND($R66>'Import avoidance model - RR'!$I$15,'Import avoidance model - RR'!$J$15),'Import avoidance model - RR'!$H$15,'Import avoidance model - RR'!$H$16))*D170/100","v":1.7427476699029387},{"$f":"(IF(AND($R66>'Import avoidance model - RR'!$I$15,'Import avoidance model - RR'!$J$15),'Import avoidance model - RR'!$H$15,'Import avoidance model - RR'!$H$16))*K170/100","v":1.1602042584839409},{"$f":"(IF(AND($R66>'Import avoidance model - RR'!$I$15,'Import avoidance model - RR'!$J$15),'Import avoidance model - RR'!$H$15,'Import avoidance model - RR'!$H$16))*D14/100","v":1.7427476699029387},{"$f":"(IF(AND($R66>'Import avoidance model - RR'!$I$15,'Import avoidance model - RR'!$J$15),'Import avoidance model - RR'!$H$15,'Import avoidance model - RR'!$H$16))*K14/100","v":1.1602042584839409},{"$f":"IF(C66<LOGIC!D66,(LOGIC!D66-LOGIC!C66)*IF(AND(LOGIC!B66>'Import avoidance model - RR'!$I$15,LOGIC!B66<'Import avoidance model - RR'!$J$15),'Import avoidance model - RR'!$H$15,'Import avoidance model - RR'!$H$16),0)/100","v":1.7427476699029387},{"$f":"IF('Import avoidance model - RR'!$H$17=\"N\",0,IF(D66<=C66,D66,C66)*'Import avoidance model - RR'!$H$18/100)","v":0},{"$f":"IF(J66<LOGIC!K66,(LOGIC!K66-LOGIC!J66)*IF(AND(LOGIC!B66>'Import avoidance model - RR'!$I$15,LOGIC!B66<'Import avoidance model - RR'!$J$15),'Import avoidance model - RR'!$H$15,'Import avoidance model - RR'!$H$16),0)/100","v":1.1602042584839409},{"$f":"IF('Import avoidance model - RR'!$H$17=\"N\",0,IF(K66<=C66,K66,C66)*'Import avoidance model - RR'!$H$18/100)","v":0},{"$f":"IF(C118<LOGIC!D118,(LOGIC!D118-LOGIC!C118)*IF(AND(LOGIC!B118>'Import avoidance model - RR'!$I$15,LOGIC!B118<'Import avoidance model - RR'!$J$15),'Import avoidance model - RR'!$H$15,'Import avoidance model - RR'!$H$16),0)/100","v":1.7427476699029387},{"$f":"IF('Import avoidance model - RR'!$H$17=\"N\",0,IF(D118<=C118,D118,C118)*'Import avoidance model - RR'!$H$18/100)","v":0},{"$f":"IF(J118<LOGIC!K118,(LOGIC!K118-LOGIC!J118)*IF(AND(LOGIC!B118>'Import avoidance model - RR'!$I$15,LOGIC!B118<'Import avoidance model - RR'!$J$15),'Import avoidance model - RR'!$H$15,'Import avoidance model - RR'!$H$16),0)/100","v":1.1602042584839409},{"$f":"IF('Import avoidance model - RR'!$H$17=\"N\",0,IF(K118<=C118,K118,C118)*'Import avoidance model - RR'!$H$18/100)","v":0},{"$f":"IF(C170<LOGIC!D170,(LOGIC!D170-LOGIC!C170)*IF(AND(LOGIC!B170>'Import avoidance model - RR'!$I$15,LOGIC!B170<'Import avoidance model - RR'!$J$15),'Import avoidance model - RR'!$H$15,'Import avoidance model - RR'!$H$16),0)/100","v":1.7427476699029387},{"$f":"IF('Import avoidance model - RR'!$H$17=\"N\",0,IF(D170<=C170,D170,C170)*'Import avoidance model - RR'!$H$18/100)","v":0},{"$f":"IF(J170<LOGIC!K170,(LOGIC!K170-LOGIC!J170)*IF(AND(LOGIC!B170>'Import avoidance model - RR'!$I$15,LOGIC!B170<'Import avoidance model - RR'!$J$15),'Import avoidance model - RR'!$H$15,'Import avoidance model - RR'!$H$16),0)/100","v":1.1602042584839409},{"$f":"IF('Import avoidance model - RR'!$H$17=\"N\",0,IF(K170<=C170,K170,C170)*'Import avoidance model - RR'!$H$18/100)","v":0},{"$f":"IF(C14<LOGIC!D14,(LOGIC!D14-LOGIC!C14)*IF(AND(LOGIC!B14>'Import avoidance model - RR'!$I$15,LOGIC!B14<'Import avoidance model - RR'!$J$15),'Import avoidance model - RR'!$H$15,'Import avoidance model - RR'!$H$16),0)/100","v":1.7427476699029387},{"$f":"IF('Import avoidance model - RR'!$H$17=\"N\",0,IF(D14<=C14,D14,C14)*'Import avoidance model - RR'!$H$18/100)","v":0},{"$f":"IF(J14<LOGIC!K14,(LOGIC!K14-LOGIC!J14)*IF(AND(LOGIC!B170>'Import avoidance model - RR'!$I$15,LOGIC!B170<'Import avoidance model - RR'!$J$15),'Import avoidance model - RR'!$H$15,'Import avoidance model - RR'!$H$16),0)/100","v":1.1602042584839409},{"$f":"IF('Import avoidance model - RR'!$H$17=\"N\",0,IF(K14<=C14,K14,C14)*'Import avoidance model - RR'!$H$18/100)","v":0},{"$f":"AA66-(IF(AND($R66>'Import avoidance model - RR'!$I$15,$R66<'Import avoidance model - RR'!$J$15),'Import avoidance model - RR'!$H$15*LOGIC!G66,LOGIC!G66*'Import avoidance model - RR'!$H$16)/100)","v":1.7427476699029387},0,{"$f":"IF('Import avoidance model - RR'!H29=\"N\",0,LOGIC!G66*'Import avoidance model - RR'!$H$20)/100","v":0},{"$f":"AC66-(IF(AND($R66>'Import avoidance model - RR'!$I$15,$R66<'Import avoidance model - RR'!$J$15),'Import avoidance model - RR'!$H$15*LOGIC!N66,LOGIC!N66*'Import avoidance model - RR'!$H$16)/100)","v":1.1602042584839409},0,{"$f":"IF('Import avoidance model - RR'!H29=\"N\",0,LOGIC!N66*'Import avoidance model - RR'!$H$20)/100","v":0},{"$f":"AE66-(IF(AND($R66>'Import avoidance model - RR'!$I$15,$R66<'Import avoidance model - RR'!$J$15),'Import avoidance model - RR'!$H$15*LOGIC!G118,LOGIC!G118*'Import avoidance model - RR'!$H$16)/100)","v":1.7427476699029387},0,{"$f":"IF('Import avoidance model - RR'!H29=\"N\",0,LOGIC!G118*'Import avoidance model - RR'!$H$20)/100","v":0},{"$f":"AG66-(IF(AND($R66>'Import avoidance model - RR'!$I$15,$R66<'Import avoidance model - RR'!$J$15),'Import avoidance model - RR'!$H$15*LOGIC!N118,LOGIC!N118*'Import avoidance model - RR'!$H$16)/100)","v":1.1602042584839409},0,{"$f":"IF('Import avoidance model - RR'!H29=\"N\",0,LOGIC!N118*'Import avoidance model - RR'!$H$20)/100","v":0},{"$f":"AI66-(IF(AND($R66>'Import avoidance model - RR'!$I$15,$R66<'Import avoidance model - RR'!$J$15),'Import avoidance model - RR'!$H$15*LOGIC!G170,LOGIC!G170*'Import avoidance model - RR'!$H$16)/100)","v":1.7427476699029387},0,{"$f":"IF('Import avoidance model - RR'!H29=\"N\",0,LOGIC!G170*'Import avoidance model - RR'!$H$20)/100","v":0},{"$f":"AK66-(IF(AND($R66>'Import avoidance model - RR'!$I$15,$R66<'Import avoidance model - RR'!$J$15),'Import avoidance model - RR'!$H$15*LOGIC!N170,LOGIC!N170*'Import avoidance model - RR'!$H$16)/100)","v":1.1602042584839409},0,{"$f":"IF('Import avoidance model - RR'!H29=\"N\",0,LOGIC!N170*'Import avoidance model - RR'!$H$20)/100","v":0},{"$f":"AM66-(IF(AND($R66>'Import avoidance model - RR'!$I$15,$R66<'Import avoidance model - RR'!$J$15),'Import avoidance model - RR'!$H$15*LOGIC!G14,LOGIC!G14*'Import avoidance model - RR'!$H$16)/100)","v":1.7427476699029387},0,{"$f":"IF('Import avoidance model - RR'!H29=\"N\",0,LOGIC!G14*'Import avoidance model - RR'!$H$20)/100","v":0},{"$f":"AO66-(IF(AND($R66>'Import avoidance model - RR'!$I$15,$R66<'Import avoidance model - RR'!$J$15),'Import avoidance model - RR'!$H$15*LOGIC!N14,LOGIC!N14*'Import avoidance model - RR'!$H$16)/100)","v":1.1602042584839409},0,{"$f":"IF('Import avoidance model - RR'!H29=\"N\",0,LOGIC!N14*'Import avoidance model - RR'!$H$20)/100","v":0}]
[null,"05:00:00",{"$f":"'PV data'!J15","v":0},34.49894345262188,0,0,0,0,{"$f":"IF(AND(I66+H67<=$A$5,I66+H67>$A$3),LOGIC!I66+LOGIC!H67,IF(I66+H67>$A$5,$A$5,$A$3))","v":12},0,18.729610394763117,0,0,0,0,{"$f":"IF(AND(P66+O67<=$A$5,P66+O67>$A$3),LOGIC!P66+LOGIC!O67,IF(P66+O67>$A$5,$A$5,$A$3))","v":12},null,"05:00:00",{"$f":"(IF(AND($R67>'Import avoidance model - RR'!$I$15,'Import avoidance model - RR'!$J$15),'Import avoidance model - RR'!$H$15,'Import avoidance model - RR'!$H$16))*D67/100","v":2.0699366071573126},{"$f":"(IF(AND($R67>'Import avoidance model - RR'!$I$15,'Import avoidance model - RR'!$J$15),'Import avoidance model - RR'!$H$15,'Import avoidance model - RR'!$H$16))*K67/100","v":1.1237766236857871},{"$f":"(IF(AND($R67>'Import avoidance model - RR'!$I$15,'Import avoidance model - RR'!$J$15),'Import avoidance model - RR'!$H$15,'Import avoidance model - RR'!$H$16))*D119/100","v":2.0699366071573126},{"$f":"(IF(AND($R67>'Import avoidance model - RR'!$I$15,'Import avoidance model - RR'!$J$15),'Import avoidance model - RR'!$H$15,'Import avoidance model - RR'!$H$16))*K119/100","v":1.1237766236857871},{"$f":"(IF(AND($R67>'Import avoidance model - RR'!$I$15,'Import avoidance model - RR'!$J$15),'Import avoidance model - RR'!$H$15,'Import avoidance model - RR'!$H$16))*D171/100","v":2.0699366071573126},{"$f":"(IF(AND($R67>'Import avoidance model - RR'!$I$15,'Import avoidance model - RR'!$J$15),'Import avoidance model - RR'!$H$15,'Import avoidance model - RR'!$H$16))*K171/100","v":1.1237766236857871},{"$f":"(IF(AND($R67>'Import avoidance model - RR'!$I$15,'Import avoidance model - RR'!$J$15),'Import avoidance model - RR'!$H$15,'Import avoidance model - RR'!$H$16))*D15/100","v":2.0699366071573126},{"$f":"(IF(AND($R67>'Import avoidance model - RR'!$I$15,'Import avoidance model - RR'!$J$15),'Import avoidance model - RR'!$H$15,'Import avoidance model - RR'!$H$16))*K15/100","v":1.1237766236857871},{"$f":"IF(C67<LOGIC!D67,(LOGIC!D67-LOGIC!C67)*IF(AND(LOGIC!B67>'Import avoidance model - RR'!$I$15,LOGIC!B67<'Import avoidance model - RR'!$J$15),'Import avoidance model - RR'!$H$15,'Import avoidance model - RR'!$H$16),0)/100","v":2.0699366071573126},{"$f":"IF('Import avoidance model - RR'!$H$17=\"N\",0,IF(D67<=C67,D67,C67)*'Import avoidance model - RR'!$H$18/100)","v":0},{"$f":"IF(J67<LOGIC!K67,(LOGIC!K67-LOGIC!J67)*IF(AND(LOGIC!B67>'Import avoidance model - RR'!$I$15,LOGIC!B67<'Import avoidance model - RR'!$J$15),'Import avoidance model - RR'!$H$15,'Import avoidance model - RR'!$H$16),0)/100","v":1.1237766236857871},{"$f":"IF('Import avoidance model - RR'!$H$17=\"N\",0,IF(K67<=C67,K67,C67)*'Import avoidance model - RR'!$H$18/100)","v":0},{"$f":"IF(C119<LOGIC!D119,(LOGIC!D119-LOGIC!C119)*IF(AND(LOGIC!B119>'Import avoidance model - RR'!$I$15,LOGIC!B119<'Import avoidance model - RR'!$J$15),'Import avoidance model - RR'!$H$15,'Import avoidance model - RR'!$H$16),0)/100","v":2.0699366071573126},{"$f":"IF('Import avoidance model - RR'!$H$17=\"N\",0,IF(D119<=C119,D119,C119)*'Import avoidance model - RR'!$H$18/100)","v":0},{"$f":"IF(J119<LOGIC!K119,(LOGIC!K119-LOGIC!J119)*IF(AND(LOGIC!B119>'Import avoidance model - RR'!$I$15,LOGIC!B119<'Import avoidance model - RR'!$J$15),'Import avoidance model - RR'!$H$15,'Import avoidance model - RR'!$H$16),0)/100","v":1.1237766236857871},{"$f":"IF('Import avoidance model - RR'!$H$17=\"N\",0,IF(K119<=C119,K119,C119)*'Import avoidance model - RR'!$H$18/100)","v":0},{"$f":"IF(C171<LOGIC!D171,(LOGIC!D171-LOGIC!C171)*IF(AND(LOGIC!B171>'Import avoidance model - RR'!$I$15,LOGIC!B171<'Import avoidance model - RR'!$J$15),'Import avoidance model - RR'!$H$15,'Import avoidance model - RR'!$H$16),0)/100","v":2.0699366071573126},{"$f":"IF('Import avoidance model - RR'!$H$17=\"N\",0,IF(D171<=C171,D171,C171)*'Import avoidance model - RR'!$H$18/100)","v":0},{"$f":"IF(J171<LOGIC!K171,(LOGIC!K171-LOGIC!J171)*IF(AND(LOGIC!B171>'Import avoidance model - RR'!$I$15,LOGIC!B171<'Import avoidance model - RR'!$J$15),'Import avoidance model - RR'!$H$15,'Import avoidance model - RR'!$H$16),0)/100","v":1.1237766236857871},{"$f":"IF('Import avoidance model - RR'!$H$17=\"N\",0,IF(K171<=C171,K171,C171)*'Import avoidance model - RR'!$H$18/100)","v":0},{"$f":"IF(C15<LOGIC!D15,(LOGIC!D15-LOGIC!C15)*IF(AND(LOGIC!B15>'Import avoidance model - RR'!$I$15,LOGIC!B15<'Import avoidance model - RR'!$J$15),'Import avoidance model - RR'!$H$15,'Import avoidance model - RR'!$H$16),0)/100","v":2.0699366071573126},{"$f":"IF('Import avoidance model - RR'!$H$17=\"N\",0,IF(D15<=C15,D15,C15)*'Import avoidance model - RR'!$H$18/100)","v":0},{"$f":"IF(J15<LOGIC!K15,(LOGIC!K15-LOGIC!J15)*IF(AND(LOGIC!B171>'Import avoidance model - RR'!$I$15,LOGIC!B171<'Import avoidance model - RR'!$J$15),'Import avoidance model - RR'!$H$15,'Import avoidance model - RR'!$H$16),0)/100","v":1.1237766236857871},{"$f":"IF('Import avoidance model - RR'!$H$17=\"N\",0,IF(K15<=C15,K15,C15)*'Import avoidance model - RR'!$H$18/100)","v":0},{"$f":"AA67-(IF(AND($R67>'Import avoidance model - RR'!$I$15,$R67<'Import avoidance model - RR'!$J$15),'Import avoidance model - RR'!$H$15*LOGIC!G67,LOGIC!G67*'Import avoidance model - RR'!$H$16)/100)","v":2.0699366071573126},0,{"$f":"IF('Import avoidance model - RR'!H30=\"N\",0,LOGIC!G67*'Import avoidance model - RR'!$H$20)/100","v":0},{"$f":"AC67-(IF(AND($R67>'Import avoidance model - RR'!$I$15,$R67<'Import avoidance model - RR'!$J$15),'Import avoidance model - RR'!$H$15*LOGIC!N67,LOGIC!N67*'Import avoidance model - RR'!$H$16)/100)","v":1.1237766236857871},0,{"$f":"IF('Import avoidance model - RR'!H30=\"N\",0,LOGIC!N67*'Import avoidance model - RR'!$H$20)/100","v":0},{"$f":"AE67-(IF(AND($R67>'Import avoidance model - RR'!$I$15,$R67<'Import avoidance model - RR'!$J$15),'Import avoidance model - RR'!$H$15*LOGIC!G119,LOGIC!G119*'Import avoidance model - RR'!$H$16)/100)","v":2.0699366071573126},0,{"$f":"IF('Import avoidance model - RR'!H30=\"N\",0,LOGIC!G119*'Import avoidance model - RR'!$H$20)/100","v":0},{"$f":"AG67-(IF(AND($R67>'Import avoidance model - RR'!$I$15,$R67<'Import avoidance model - RR'!$J$15),'Import avoidance model - RR'!$H$15*LOGIC!N119,LOGIC!N119*'Import avoidance model - RR'!$H$16)/100)","v":1.1237766236857871},0,{"$f":"IF('Import avoidance model - RR'!H30=\"N\",0,LOGIC!N119*'Import avoidance model - RR'!$H$20)/100","v":0},{"$f":"AI67-(IF(AND($R67>'Import avoidance model - RR'!$I$15,$R67<'Import avoidance model - RR'!$J$15),'Import avoidance model - RR'!$H$15*LOGIC!G171,LOGIC!G171*'Import avoidance model - RR'!$H$16)/100)","v":2.0699366071573126},0,{"$f":"IF('Import avoidance model - RR'!H30=\"N\",0,LOGIC!G171*'Import avoidance model - RR'!$H$20)/100","v":0},{"$f":"AK67-(IF(AND($R67>'Import avoidance model - RR'!$I$15,$R67<'Import avoidance model - RR'!$J$15),'Import avoidance model - RR'!$H$15*LOGIC!N171,LOGIC!N171*'Import avoidance model - RR'!$H$16)/100)","v":1.1237766236857871},0,{"$f":"IF('Import avoidance model - RR'!H30=\"N\",0,LOGIC!N171*'Import avoidance model - RR'!$H$20)/100","v":0},{"$f":"AM67-(IF(AND($R67>'Import avoidance model - RR'!$I$15,$R67<'Import avoidance model - RR'!$J$15),'Import avoidance model - RR'!$H$15*LOGIC!G15,LOGIC!G15*'Import avoidance model - RR'!$H$16)/100)","v":2.0699366071573126},0,{"$f":"IF('Import avoidance model - RR'!H30=\"N\",0,LOGIC!G15*'Import avoidance model - RR'!$H$20)/100","v":0},{"$f":"AO67-(IF(AND($R67>'Import avoidance model - RR'!$I$15,$R67<'Import avoidance model - RR'!$J$15),'Import avoidance model - RR'!$H$15*LOGIC!N15,LOGIC!N15*'Import avoidance model - RR'!$H$16)/100)","v":1.1237766236857871},0,{"$f":"IF('Import avoidance model - RR'!H30=\"N\",0,LOGIC!N15*'Import avoidance model - RR'!$H$20)/100","v":0}]
[null,"05:30:00",{"$f":"'PV data'!J16","v":0},36.371894489616572,0,0,0,0,{"$f":"IF(AND(I67+H68<=$A$5,I67+H68>$A$3),LOGIC!I67+LOGIC!H68,IF(I67+H68>$A$5,$A$5,$A$3))","v":12},0,18.577975896412124,0,0,0,0,{"$f":"IF(AND(P67+O68<=$A$5,P67+O68>$A$3),LOGIC!P67+LOGIC!O68,IF(P67+O68>$A$5,$A$5,$A$3))","v":12},null,"05:30:00",{"$f":"(IF(AND($R68>'Import avoidance model - RR'!$I$15,'Import avoidance model - RR'!$J$15),'Import avoidance model - RR'!$H$15,'Import avoidance model - RR'!$H$16))*D68/100","v":2.182313669376994},{"$f":"(IF(AND($R68>'Import avoidance model - RR'!$I$15,'Import avoidance model - RR'!$J$15),'Import avoidance model - RR'!$H$15,'Import avoidance model - RR'!$H$16))*K68/100","v":1.1146785537847272},{"$f":"(IF(AND($R68>'Import avoidance model - RR'!$I$15,'Import avoidance model - RR'!$J$15),'Import avoidance model - RR'!$H$15,'Import avoidance model - RR'!$H$16))*D120/100","v":2.182313669376994},{"$f":"(IF(AND($R68>'Import avoidance model - RR'!$I$15,'Import avoidance model - RR'!$J$15),'Import avoidance model - RR'!$H$15,'Import avoidance model - RR'!$H$16))*K120/100","v":1.1146785537847272},{"$f":"(IF(AND($R68>'Import avoidance model - RR'!$I$15,'Import avoidance model - RR'!$J$15),'Import avoidance model - RR'!$H$15,'Import avoidance model - RR'!$H$16))*D172/100","v":2.182313669376994},{"$f":"(IF(AND($R68>'Import avoidance model - RR'!$I$15,'Import avoidance model - RR'!$J$15),'Import avoidance model - RR'!$H$15,'Import avoidance model - RR'!$H$16))*K172/100","v":1.1146785537847272},{"$f":"(IF(AND($R68>'Import avoidance model - RR'!$I$15,'Import avoidance model - RR'!$J$15),'Import avoidance model - RR'!$H$15,'Import avoidance model - RR'!$H$16))*D16/100","v":2.182313669376994},{"$f":"(IF(AND($R68>'Import avoidance model - RR'!$I$15,'Import avoidance model - RR'!$J$15),'Import avoidance model - RR'!$H$15,'Import avoidance model - RR'!$H$16))*K16/100","v":1.1146785537847272},{"$f":"IF(C68<LOGIC!D68,(LOGIC!D68-LOGIC!C68)*IF(AND(LOGIC!B68>'Import avoidance model - RR'!$I$15,LOGIC!B68<'Import avoidance model - RR'!$J$15),'Import avoidance model - RR'!$H$15,'Import avoidance model - RR'!$H$16),0)/100","v":2.182313669376994},{"$f":"IF('Import avoidance model - RR'!$H$17=\"N\",0,IF(D68<=C68,D68,C68)*'Import avoidance model - RR'!$H$18/100)","v":0},{"$f":"IF(J68<LOGIC!K68,(LOGIC!K68-LOGIC!J68)*IF(AND(LOGIC!B68>'Import avoidance model - RR'!$I$15,LOGIC!B68<'Import avoidance model - RR'!$J$15),'Import avoidance model - RR'!$H$15,'Import avoidance model - RR'!$H$16),0)/100","v":1.1146785537847272},{"$f":"IF('Import avoidance model - RR'!$H$17=\"N\",0,IF(K68<=C68,K68,C68)*'Import avoidance model - RR'!$H$18/100)","v":0},{"$f":"IF(C120<LOGIC!D120,(LOGIC!D120-LOGIC!C120)*IF(AND(LOGIC!B120>'Import avoidance model - RR'!$I$15,LOGIC!B120<'Import avoidance model - RR'!$J$15),'Import avoidance model - RR'!$H$15,'Import avoidance model - RR'!$H$16),0)/100","v":2.182313669376994},{"$f":"IF('Import avoidance model - RR'!$H$17=\"N\",0,IF(D120<=C120,D120,C120)*'Import avoidance model - RR'!$H$18/100)","v":0},{"$f":"IF(J120<LOGIC!K120,(LOGIC!K120-LOGIC!J120)*IF(AND(LOGIC!B120>'Import avoidance model - RR'!$I$15,LOGIC!B120<'Import avoidance model - RR'!$J$15),'Import avoidance model - RR'!$H$15,'Import avoidance model - RR'!$H$16),0)/100","v":1.1146785537847272},{"$f":"IF('Import avoidance model - RR'!$H$17=\"N\",0,IF(K120<=C120,K120,C120)*'Import avoidance model - RR'!$H$18/100)","v":0},{"$f":"IF(C172<LOGIC!D172,(LOGIC!D172-LOGIC!C172)*IF(AND(LOGIC!B172>'Import avoidance model - RR'!$I$15,LOGIC!B172<'Import avoidance model - RR'!$J$15),'Import avoidance model - RR'!$H$15,'Import avoidance model - RR'!$H$16),0)/100","v":2.182313669376994},{"$f":"IF('Import avoidance model - RR'!$H$17=\"N\",0,IF(D172<=C172,D172,C172)*'Import avoidance model - RR'!$H$18/100)","v":0},{"$f":"IF(J172<LOGIC!K172,(LOGIC!K172-LOGIC!J172)*IF(AND(LOGIC!B172>'Import avoidance model - RR'!$I$15,LOGIC!B172<'Import avoidance model - RR'!$J$15),'Import avoidance model - RR'!$H$15,'Import avoidance model - RR'!$H$16),0)/100","v":1.1146785537847272},{"$f":"IF('Import avoidance model - RR'!$H$17=\"N\",0,IF(K172<=C172,K172,C172)*'Import avoidance model - RR'!$H$18/100)","v":0},{"$f":"IF(C16<LOGIC!D16,(LOGIC!D16-LOGIC!C16)*IF(AND(LOGIC!B16>'Import avoidance model - RR'!$I$15,LOGIC!B16<'Import avoidance model - RR'!$J$15),'Import avoidance model - RR'!$H$15,'Import avoidance model - RR'!$H$16),0)/100","v":2.182313669376994},{"$f":"IF('Import avoidance model - RR'!$H$17=\"N\",0,IF(D16<=C16,D16,C16)*'Import avoidance model - RR'!$H$18/100)","v":0},{"$f":"IF(J16<LOGIC!K16,(LOGIC!K16-LOGIC!J16)*IF(AND(LOGIC!B172>'Import avoidance model - RR'!$I$15,LOGIC!B172<'Import avoidance model - RR'!$J$15),'Import avoidance model - RR'!$H$15,'Import avoidance model - RR'!$H$16),0)/100","v":1.1146785537847272},{"$f":"IF('Import avoidance model - RR'!$H$17=\"N\",0,IF(K16<=C16,K16,C16)*'Import avoidance model - RR'!$H$18/100)","v":0},{"$f":"AA68-(IF(AND($R68>'Import avoidance model - RR'!$I$15,$R68<'Import avoidance model - RR'!$J$15),'Import avoidance model - RR'!$H$15*LOGIC!G68,LOGIC!G68*'Import avoidance model - RR'!$H$16)/100)","v":2.182313669376994},0,{"$f":"IF('Import avoidance model - RR'!H31=\"N\",0,LOGIC!G68*'Import avoidance model - RR'!$H$20)/100","v":0},{"$f":"AC68-(IF(AND($R68>'Import avoidance model - RR'!$I$15,$R68<'Import avoidance model - RR'!$J$15),'Import avoidance model - RR'!$H$15*LOGIC!N68,LOGIC!N68*'Import avoidance model - RR'!$H$16)/100)","v":1.1146785537847272},0,{"$f":"IF('Import avoidance model - RR'!H31=\"N\",0,LOGIC!N68*'Import avoidance model - RR'!$H$20)/100","v":0},{"$f":"AE68-(IF(AND($R68>'Import avoidance model - RR'!$I$15,$R68<'Import avoidance model - RR'!$J$15),'Import avoidance model - RR'!$H$15*LOGIC!G120,LOGIC!G120*'Import avoidance model - RR'!$H$16)/100)","v":2.182313669376994},0,{"$f":"IF('Import avoidance model - RR'!H31=\"N\",0,LOGIC!G120*'Import avoidance model - RR'!$H$20)/100","v":0},{"$f":"AG68-(IF(AND($R68>'Import avoidance model - RR'!$I$15,$R68<'Import avoidance model - RR'!$J$15),'Import avoidance model - RR'!$H$15*LOGIC!N120,LOGIC!N120*'Import avoidance model - RR'!$H$16)/100)","v":1.1146785537847272},0,{"$f":"IF('Import avoidance model - RR'!H31=\"N\",0,LOGIC!N120*'Import avoidance model - RR'!$H$20)/100","v":0},{"$f":"AI68-(IF(AND($R68>'Import avoidance model - RR'!$I$15,$R68<'Import avoidance model - RR'!$J$15),'Import avoidance model - RR'!$H$15*LOGIC!G172,LOGIC!G172*'Import avoidance model - RR'!$H$16)/100)","v":2.182313669376994},0,{"$f":"IF('Import avoidance model - RR'!H31=\"N\",0,LOGIC!G172*'Import avoidance model - RR'!$H$20)/100","v":0},{"$f":"AK68-(IF(AND($R68>'Import avoidance model - RR'!$I$15,$R68<'Import avoidance model - RR'!$J$15),'Import avoidance model - RR'!$H$15*LOGIC!N172,LOGIC!N172*'Import avoidance model - RR'!$H$16)/100)","v":1.1146785537847272},0,{"$f":"IF('Import avoidance model - RR'!H31=\"N\",0,LOGIC!N172*'Import avoidance model - RR'!$H$20)/100","v":0},{"$f":"AM68-(IF(AND($R68>'Import avoidance model - RR'!$I$15,$R68<'Import avoidance model - RR'!$J$15),'Import avoidance model - RR'!$H$15*LOGIC!G16,LOGIC!G16*'Import avoidance model - RR'!$H$16)/100)","v":2.182313669376994},0,{"$f":"IF('Import avoidance model - RR'!H31=\"N\",0,LOGIC!G16*'Import avoidance model - RR'!$H$20)/100","v":0},{"$f":"AO68-(IF(AND($R68>'Import avoidance model - RR'!$I$15,$R68<'Import avoidance model - RR'!$J$15),'Import avoidance model - RR'!$H$15*LOGIC!N16,LOGIC!N16*'Import avoidance model - RR'!$H$16)/100)","v":1.1146785537847272},0,{"$f":"IF('Import avoidance model - RR'!H31=\"N\",0,LOGIC!N16*'Import avoidance model - RR'!$H$20)/100","v":0}]
[null,"06:00:00",{"$f":"'PV data'!J17","v":0},36.144433622918086,0,0,0,0,{"$f":"IF(AND(I68+H69<=$A$5,I68+H69>$A$3),LOGIC!I68+LOGIC!H69,IF(I68+H69>$A$5,$A$5,$A$3))","v":12},0,18.405717534943449,0,0,0,0,{"$f":"IF(AND(P68+O69<=$A$5,P68+O69>$A$3),LOGIC!P68+LOGIC!O69,IF(P68+O69>$A$5,$A$5,$A$3))","v":12},null,"06:00:00",{"$f":"(IF(AND($R69>'Import avoidance model - RR'!$I$15,'Import avoidance model - RR'!$J$15),'Import avoidance model - RR'!$H$15,'Import avoidance model - RR'!$H$16))*D69/100","v":2.1686660173750854},{"$f":"(IF(AND($R69>'Import avoidance model - RR'!$I$15,'Import avoidance model - RR'!$J$15),'Import avoidance model - RR'!$H$15,'Import avoidance model - RR'!$H$16))*K69/100","v":1.1043430520966069},{"$f":"(IF(AND($R69>'Import avoidance model - RR'!$I$15,'Import avoidance model - RR'!$J$15),'Import avoidance model - RR'!$H$15,'Import avoidance model - RR'!$H$16))*D121/100","v":2.1686660173750854},{"$f":"(IF(AND($R69>'Import avoidance model - RR'!$I$15,'Import avoidance model - RR'!$J$15),'Import avoidance model - RR'!$H$15,'Import avoidance model - RR'!$H$16))*K121/100","v":1.1043430520966069},{"$f":"(IF(AND($R69>'Import avoidance model - RR'!$I$15,'Import avoidance model - RR'!$J$15),'Import avoidance model - RR'!$H$15,'Import avoidance model - RR'!$H$16))*D173/100","v":2.1686660173750854},{"$f":"(IF(AND($R69>'Import avoidance model - RR'!$I$15,'Import avoidance model - RR'!$J$15),'Import avoidance model - RR'!$H$15,'Import avoidance model - RR'!$H$16))*K173/100","v":1.1043430520966069},{"$f":"(IF(AND($R69>'Import avoidance model - RR'!$I$15,'Import avoidance model - RR'!$J$15),'Import avoidance model - RR'!$H$15,'Import avoidance model - RR'!$H$16))*D17/100","v":2.1686660173750854},{"$f":"(IF(AND($R69>'Import avoidance model - RR'!$I$15,'Import avoidance model - RR'!$J$15),'Import avoidance model - RR'!$H$15,'Import avoidance model - RR'!$H$16))*K17/100","v":1.1043430520966069},{"$f":"IF(C69<LOGIC!D69,(LOGIC!D69-LOGIC!C69)*IF(AND(LOGIC!B69>'Import avoidance model - RR'!$I$15,LOGIC!B69<'Import avoidance model - RR'!$J$15),'Import avoidance model - RR'!$H$15,'Import avoidance model - RR'!$H$16),0)/100","v":2.1686660173750854},{"$f":"IF('Import avoidance model - RR'!$H$17=\"N\",0,IF(D69<=C69,D69,C69)*'Import avoidance model - RR'!$H$18/100)","v":0},{"$f":"IF(J69<LOGIC!K69,(LOGIC!K69-LOGIC!J69)*IF(AND(LOGIC!B69>'Import avoidance model - RR'!$I$15,LOGIC!B69<'Import avoidance model - RR'!$J$15),'Import avoidance model - RR'!$H$15,'Import avoidance model - RR'!$H$16),0)/100","v":1.1043430520966069},{"$f":"IF('Import avoidance model - RR'!$H$17=\"N\",0,IF(K69<=C69,K69,C69)*'Import avoidance model - RR'!$H$18/100)","v":0},{"$f":"IF(C121<LOGIC!D121,(LOGIC!D121-LOGIC!C121)*IF(AND(LOGIC!B121>'Import avoidance model - RR'!$I$15,LOGIC!B121<'Import avoidance model - RR'!$J$15),'Import avoidance model - RR'!$H$15,'Import avoidance model - RR'!$H$16),0)/100","v":1.6892526853879377},{"$f":"IF('Import avoidance model - RR'!$H$17=\"N\",0,IF(D121<=C121,D121,C121)*'Import avoidance model - RR'!$H$18/100)","v":0.59926666498393433},{"$f":"IF(J121<LOGIC!K121,(LOGIC!K121-LOGIC!J121)*IF(AND(LOGIC!B121>'Import avoidance model - RR'!$I$15,LOGIC!B121<'Import avoidance model - RR'!$J$15),'Import avoidance model - RR'!$H$15,'Import avoidance model - RR'!$H$16),0)/100","v":0.62492972010945946},{"$f":"IF('Import avoidance model - RR'!$H$17=\"N\",0,IF(K121<=C121,K121,C121)*'Import avoidance model - RR'!$H$18/100)","v":0.59926666498393433},{"$f":"IF(C173<LOGIC!D173,(LOGIC!D173-LOGIC!C173)*IF(AND(LOGIC!B173>'Import avoidance model - RR'!$I$15,LOGIC!B173<'Import avoidance model - RR'!$J$15),'Import avoidance model - RR'!$H$15,'Import avoidance model - RR'!$H$16),0)/100","v":2.1686660173750854},{"$f":"IF('Import avoidance model - RR'!$H$17=\"N\",0,IF(D173<=C173,D173,C173)*'Import avoidance model - RR'!$H$18/100)","v":0},{"$f":"IF(J173<LOGIC!K173,(LOGIC!K173-LOGIC!J173)*IF(AND(LOGIC!B173>'Import avoidance model - RR'!$I$15,LOGIC!B173<'Import avoidance model - RR'!$J$15),'Import avoidance model - RR'!$H$15,'Import avoidance model - RR'!$H$16),0)/100","v":1.1043430520966069},{"$f":"IF('Import avoidance model - RR'!$H$17=\"N\",0,IF(K173<=C173,K173,C173)*'Import avoidance model - RR'!$H$18/100)","v":0},{"$f":"IF(C17<LOGIC!D17,(LOGIC!D17-LOGIC!C17)*IF(AND(LOGIC!B17>'Import avoidance model - RR'!$I$15,LOGIC!B17<'Import avoidance model - RR'!$J$15),'Import avoidance model - RR'!$H$15,'Import avoidance model - RR'!$H$16),0)/100","v":2.1686660173750854},{"$f":"IF('Import avoidance model - RR'!$H$17=\"N\",0,IF(D17<=C17,D17,C17)*'Import avoidance model - RR'!$H$18/100)","v":0},{"$f":"IF(J17<LOGIC!K17,(LOGIC!K17-LOGIC!J17)*IF(AND(LOGIC!B173>'Import avoidance model - RR'!$I$15,LOGIC!B173<'Import avoidance model - RR'!$J$15),'Import avoidance model - RR'!$H$15,'Import avoidance model - RR'!$H$16),0)/100","v":1.1043430520966069},{"$f":"IF('Import avoidance model - RR'!$H$17=\"N\",0,IF(K17<=C17,K17,C17)*'Import avoidance model - RR'!$H$18/100)","v":0},{"$f":"AA69-(IF(AND($R69>'Import avoidance model - RR'!$I$15,$R69<'Import avoidance model - RR'!$J$15),'Import avoidance model - RR'!$H$15*LOGIC!G69,LOGIC!G69*'Import avoidance model - RR'!$H$16)/100)","v":2.1686660173750854},0,{"$f":"IF('Import avoidance model - RR'!H32=\"N\",0,LOGIC!G69*'Import avoidance model - RR'!$H$20)/100","v":0},{"$f":"AC69-(IF(AND($R69>'Import avoidance model - RR'!$I$15,$R69<'Import avoidance model - RR'!$J$15),'Import avoidance model - RR'!$H$15*LOGIC!N69,LOGIC!N69*'Import avoidance model - RR'!$H$16)/100)","v":1.1043430520966069},0,{"$f":"IF('Import avoidance model - RR'!H32=\"N\",0,LOGIC!N69*'Import avoidance model - RR'!$H$20)/100","v":0},{"$f":"AE69-(IF(AND($R69>'Import avoidance model - RR'!$I$15,$R69<'Import avoidance model - RR'!$J$15),'Import avoidance model - RR'!$H$15*LOGIC!G121,LOGIC!G121*'Import avoidance model - RR'!$H$16)/100)","v":1.6892526853879377},0.59926666498393433,{"$f":"IF('Import avoidance model - RR'!H32=\"N\",0,LOGIC!G121*'Import avoidance model - RR'!$H$20)/100","v":0},{"$f":"AG69-(IF(AND($R69>'Import avoidance model - RR'!$I$15,$R69<'Import avoidance model - RR'!$J$15),'Import avoidance model - RR'!$H$15*LOGIC!N121,LOGIC!N121*'Import avoidance model - RR'!$H$16)/100)","v":0.62492972010945946},0.59926666498393433,{"$f":"IF('Import avoidance model - RR'!H32=\"N\",0,LOGIC!N121*'Import avoidance model - RR'!$H$20)/100","v":0},{"$f":"AI69-(IF(AND($R69>'Import avoidance model - RR'!$I$15,$R69<'Import avoidance model - RR'!$J$15),'Import avoidance model - RR'!$H$15*LOGIC!G173,LOGIC!G173*'Import avoidance model - RR'!$H$16)/100)","v":2.1686660173750854},0,{"$f":"IF('Import avoidance model - RR'!H32=\"N\",0,LOGIC!G173*'Import avoidance model - RR'!$H$20)/100","v":0},{"$f":"AK69-(IF(AND($R69>'Import avoidance model - RR'!$I$15,$R69<'Import avoidance model - RR'!$J$15),'Import avoidance model - RR'!$H$15*LOGIC!N173,LOGIC!N173*'Import avoidance model - RR'!$H$16)/100)","v":1.1043430520966069},0,{"$f":"IF('Import avoidance model - RR'!H32=\"N\",0,LOGIC!N173*'Import avoidance model - RR'!$H$20)/100","v":0},{"$f":"AM69-(IF(AND($R69>'Import avoidance model - RR'!$I$15,$R69<'Import avoidance model - RR'!$J$15),'Import avoidance model - RR'!$H$15*LOGIC!G17,LOGIC!G17*'Import avoidance model - RR'!$H$16)/100)","v":2.1686660173750854},0,{"$f":"IF('Import avoidance model - RR'!H32=\"N\",0,LOGIC!G17*'Import avoidance model - RR'!$H$20)/100","v":0},{"$f":"AO69-(IF(AND($R69>'Import avoidance model - RR'!$I$15,$R69<'Import avoidance model - RR'!$J$15),'Import avoidance model - RR'!$H$15*LOGIC!N17,LOGIC!N17*'Import avoidance model - RR'!$H$16)/100)","v":1.1043430520966069},0,{"$f":"IF('Import avoidance model - RR'!H32=\"N\",0,LOGIC!N17*'Import avoidance model - RR'!$H$20)/100","v":0}]
[null,"06:30:00",{"$f":"'PV data'!J18","v":0},40.652504020998443,0,0,0,0,{"$f":"IF(AND(I69+H70<=$A$5,I69+H70>$A$3),LOGIC!I69+LOGIC!H70,IF(I69+H70>$A$5,$A$5,$A$3))","v":12},0,18.034684416569064,0,0,0,0,{"$f":"IF(AND(P69+O70<=$A$5,P69+O70>$A$3),LOGIC!P69+LOGIC!O70,IF(P69+O70>$A$5,$A$5,$A$3))","v":12},null,"06:30:00",{"$f":"(IF(AND($R70>'Import avoidance model - RR'!$I$15,'Import avoidance model - RR'!$J$15),'Import avoidance model - RR'!$H$15,'Import avoidance model - RR'!$H$16))*D70/100","v":2.4391502412599069},{"$f":"(IF(AND($R70>'Import avoidance model - RR'!$I$15,'Import avoidance model - RR'!$J$15),'Import avoidance model - RR'!$H$15,'Import avoidance model - RR'!$H$16))*K70/100","v":1.0820810649941439},{"$f":"(IF(AND($R70>'Import avoidance model - RR'!$I$15,'Import avoidance model - RR'!$J$15),'Import avoidance model - RR'!$H$15,'Import avoidance model - RR'!$H$16))*D122/100","v":2.4391502412599069},{"$f":"(IF(AND($R70>'Import avoidance model - RR'!$I$15,'Import avoidance model - RR'!$J$15),'Import avoidance model - RR'!$H$15,'Import avoidance model - RR'!$H$16))*K122/100","v":1.0820810649941439},{"$f":"(IF(AND($R70>'Import avoidance model - RR'!$I$15,'Import avoidance model - RR'!$J$15),'Import avoidance model - RR'!$H$15,'Import avoidance model - RR'!$H$16))*D174/100","v":2.4391502412599069},{"$f":"(IF(AND($R70>'Import avoidance model - RR'!$I$15,'Import avoidance model - RR'!$J$15),'Import avoidance model - RR'!$H$15,'Import avoidance model - RR'!$H$16))*K174/100","v":1.0820810649941439},{"$f":"(IF(AND($R70>'Import avoidance model - RR'!$I$15,'Import avoidance model - RR'!$J$15),'Import avoidance model - RR'!$H$15,'Import avoidance model - RR'!$H$16))*D18/100","v":2.4391502412599069},{"$f":"(IF(AND($R70>'Import avoidance model - RR'!$I$15,'Import avoidance model - RR'!$J$15),'Import avoidance model - RR'!$H$15,'Import avoidance model - RR'!$H$16))*K18/100","v":1.0820810649941439},{"$f":"IF(C70<LOGIC!D70,(LOGIC!D70-LOGIC!C70)*IF(AND(LOGIC!B70>'Import avoidance model - RR'!$I$15,LOGIC!B70<'Import avoidance model - RR'!$J$15),'Import avoidance model - RR'!$H$15,'Import avoidance model - RR'!$H$16),0)/100","v":2.4391502412599069},{"$f":"IF('Import avoidance model - RR'!$H$17=\"N\",0,IF(D70<=C70,D70,C70)*'Import avoidance model - RR'!$H$18/100)","v":0},{"$f":"IF(J70<LOGIC!K70,(LOGIC!K70-LOGIC!J70)*IF(AND(LOGIC!B70>'Import avoidance model - RR'!$I$15,LOGIC!B70<'Import avoidance model - RR'!$J$15),'Import avoidance model - RR'!$H$15,'Import avoidance model - RR'!$H$16),0)/100","v":1.0820810649941439},{"$f":"IF('Import avoidance model - RR'!$H$17=\"N\",0,IF(K70<=C70,K70,C70)*'Import avoidance model - RR'!$H$18/100)","v":0},{"$f":"IF(C122<LOGIC!D122,(LOGIC!D122-LOGIC!C122)*IF(AND(LOGIC!B122>'Import avoidance model - RR'!$I$15,LOGIC!B122<'Import avoidance model - RR'!$J$15),'Import avoidance model - RR'!$H$15,'Import avoidance model - RR'!$H$16),0)/100","v":1.2293211490235922},{"$f":"IF('Import avoidance model - RR'!$H$17=\"N\",0,IF(D122<=C122,D122,C122)*'Import avoidance model - RR'!$H$18/100)","v":1.5122863652953931},{"$f":"IF(J122<LOGIC!K122,(LOGIC!K122-LOGIC!J122)*IF(AND(LOGIC!B122>'Import avoidance model - RR'!$I$15,LOGIC!B122<'Import avoidance model - RR'!$J$15),'Import avoidance model - RR'!$H$15,'Import avoidance model - RR'!$H$16),0)/100","v":0},{"$f":"IF('Import avoidance model - RR'!$H$17=\"N\",0,IF(K122<=C122,K122,C122)*'Import avoidance model - RR'!$H$18/100)","v":1.3526013312426799},{"$f":"IF(C174<LOGIC!D174,(LOGIC!D174-LOGIC!C174)*IF(AND(LOGIC!B174>'Import avoidance model - RR'!$I$15,LOGIC!B174<'Import avoidance model - RR'!$J$15),'Import avoidance model - RR'!$H$15,'Import avoidance model - RR'!$H$16),0)/100","v":2.4391502412599069},{"$f":"IF('Import avoidance model - RR'!$H$17=\"N\",0,IF(D174<=C174,D174,C174)*'Import avoidance model - RR'!$H$18/100)","v":0},{"$f":"IF(J174<LOGIC!K174,(LOGIC!K174-LOGIC!J174)*IF(AND(LOGIC!B174>'Import avoidance model - RR'!$I$15,LOGIC!B174<'Import avoidance model - RR'!$J$15),'Import avoidance model - RR'!$H$15,'Import avoidance model - RR'!$H$16),0)/100","v":1.0820810649941439},{"$f":"IF('Import avoidance model - RR'!$H$17=\"N\",0,IF(K174<=C174,K174,C174)*'Import avoidance model - RR'!$H$18/100)","v":0},{"$f":"IF(C18<LOGIC!D18,(LOGIC!D18-LOGIC!C18)*IF(AND(LOGIC!B18>'Import avoidance model - RR'!$I$15,LOGIC!B18<'Import avoidance model - RR'!$J$15),'Import avoidance model - RR'!$H$15,'Import avoidance model - RR'!$H$16),0)/100","v":2.4391502412599069},{"$f":"IF('Import avoidance model - RR'!$H$17=\"N\",0,IF(D18<=C18,D18,C18)*'Import avoidance model - RR'!$H$18/100)","v":0},{"$f":"IF(J18<LOGIC!K18,(LOGIC!K18-LOGIC!J18)*IF(AND(LOGIC!B174>'Import avoidance model - RR'!$I$15,LOGIC!B174<'Import avoidance model - RR'!$J$15),'Import avoidance model - RR'!$H$15,'Import avoidance model - RR'!$H$16),0)/100","v":1.0820810649941439},{"$f":"IF('Import avoidance model - RR'!$H$17=\"N\",0,IF(K18<=C18,K18,C18)*'Import avoidance model - RR'!$H$18/100)","v":0},{"$f":"AA70-(IF(AND($R70>'Import avoidance model - RR'!$I$15,$R70<'Import avoidance model - RR'!$J$15),'Import avoidance model - RR'!$H$15*LOGIC!G70,LOGIC!G70*'Import avoidance model - RR'!$H$16)/100)","v":2.4391502412599069},0,{"$f":"IF('Import avoidance model - RR'!H33=\"N\",0,LOGIC!G70*'Import avoidance model - RR'!$H$20)/100","v":0},{"$f":"AC70-(IF(AND($R70>'Import avoidance model - RR'!$I$15,$R70<'Import avoidance model - RR'!$J$15),'Import avoidance model - RR'!$H$15*LOGIC!N70,LOGIC!N70*'Import avoidance model - RR'!$H$16)/100)","v":1.0820810649941439},0,{"$f":"IF('Import avoidance model - RR'!H33=\"N\",0,LOGIC!N70*'Import avoidance model - RR'!$H$20)/100","v":0},{"$f":"AE70-(IF(AND($R70>'Import avoidance model - RR'!$I$15,$R70<'Import avoidance model - RR'!$J$15),'Import avoidance model - RR'!$H$15*LOGIC!G122,LOGIC!G122*'Import avoidance model - RR'!$H$16)/100)","v":1.2293211490235922},1.5122863652953931,{"$f":"IF('Import avoidance model - RR'!H33=\"N\",0,LOGIC!G122*'Import avoidance model - RR'!$H$20)/100","v":0},{"$f":"AG70-(IF(AND($R70>'Import avoidance model - RR'!$I$15,$R70<'Import avoidance model - RR'!$J$15),'Import avoidance model - RR'!$H$15*LOGIC!N122,LOGIC!N122*'Import avoidance model - RR'!$H$16)/100)","v":0},1.3526013312426799,{"$f":"IF('Import avoidance model - RR'!H33=\"N\",0,LOGIC!N122*'Import avoidance model - RR'!$H$20)/100","v":0},{"$f":"AI70-(IF(AND($R70>'Import avoidance model - RR'!$I$15,$R70<'Import avoidance model - RR'!$J$15),'Import avoidance model - RR'!$H$15*LOGIC!G174,LOGIC!G174*'Import avoidance model - RR'!$H$16)/100)","v":2.4391502412599069},0,{"$f":"IF('Import avoidance model - RR'!H33=\"N\",0,LOGIC!G174*'Import avoidance model - RR'!$H$20)/100","v":0},{"$f":"AK70-(IF(AND($R70>'Import avoidance model - RR'!$I$15,$R70<'Import avoidance model - RR'!$J$15),'Import avoidance model - RR'!$H$15*LOGIC!N174,LOGIC!N174*'Import avoidance model - RR'!$H$16)/100)","v":1.0820810649941439},0,{"$f":"IF('Import avoidance model - RR'!H33=\"N\",0,LOGIC!N174*'Import avoidance model - RR'!$H$20)/100","v":0},{"$f":"AM70-(IF(AND($R70>'Import avoidance model - RR'!$I$15,$R70<'Import avoidance model - RR'!$J$15),'Import avoidance model - RR'!$H$15*LOGIC!G18,LOGIC!G18*'Import avoidance model - RR'!$H$16)/100)","v":2.4391502412599069},0,{"$f":"IF('Import avoidance model - RR'!H33=\"N\",0,LOGIC!G18*'Import avoidance model - RR'!$H$20)/100","v":0},{"$f":"AO70-(IF(AND($R70>'Import avoidance model - RR'!$I$15,$R70<'Import avoidance model - RR'!$J$15),'Import avoidance model - RR'!$H$15*LOGIC!N18,LOGIC!N18*'Import avoidance model - RR'!$H$16)/100)","v":1.0820810649941439},0,{"$f":"IF('Import avoidance model - RR'!H33=\"N\",0,LOGIC!N18*'Import avoidance model - RR'!$H$20)/100","v":0}]
[null,"07:00:00",{"$f":"'PV data'!J19","v":24.870669993756795},45.104366494449891,0,{"$f":"IF(AND((I70+E71)<$A$5,E71<=$A$7),E71,IF(E71>$A$7,$A$7,$A$5-I70))","v":0},0,0,{"$f":"IF(AND(I70+H71<=$A$5,I70+H71>$A$3),LOGIC!I70+LOGIC!H71,IF(I70+H71>$A$5,$A$5,$A$3))","v":12},24.870669993756795,18.268225114158874,6.6024448795979218,6.6024448795979218,0,6.6024448795979218,{"$f":"IF(AND(P70+O71<=$A$5,P70+O71>$A$3),LOGIC!P70+LOGIC!O71,IF(P70+O71>$A$5,$A$5,$A$3))","v":18.602444879597922},null,"07:00:00",{"$f":"(IF(AND($R71>'Import avoidance model - RR'!$I$15,'Import avoidance model - RR'!$J$15),'Import avoidance model - RR'!$H$15,'Import avoidance model - RR'!$H$16))*D71/100","v":2.7062619896669933},{"$f":"(IF(AND($R71>'Import avoidance model - RR'!$I$15,'Import avoidance model - RR'!$J$15),'Import avoidance model - RR'!$H$15,'Import avoidance model - RR'!$H$16))*K71/100","v":1.0960935068495323},{"$f":"(IF(AND($R71>'Import avoidance model - RR'!$I$15,'Import avoidance model - RR'!$J$15),'Import avoidance model - RR'!$H$15,'Import avoidance model - RR'!$H$16))*D123/100","v":2.7062619896669933},{"$f":"(IF(AND($R71>'Import avoidance model - RR'!$I$15,'Import avoidance model - RR'!$J$15),'Import avoidance model - RR'!$H$15,'Import avoidance model - RR'!$H$16))*K123/100","v":1.0960935068495323},{"$f":"(IF(AND($R71>'Import avoidance model - RR'!$I$15,'Import avoidance model - RR'!$J$15),'Import avoidance model - RR'!$H$15,'Import avoidance model - RR'!$H$16))*D175/100","v":2.7062619896669933},{"$f":"(IF(AND($R71>'Import avoidance model - RR'!$I$15,'Import avoidance model - RR'!$J$15),'Import avoidance model - RR'!$H$15,'Import avoidance model - RR'!$H$16))*K175/100","v":1.0960935068495323},{"$f":"(IF(AND($R71>'Import avoidance model - RR'!$I$15,'Import avoidance model - RR'!$J$15),'Import avoidance model - RR'!$H$15,'Import avoidance model - RR'!$H$16))*D19/100","v":2.7062619896669933},{"$f":"(IF(AND($R71>'Import avoidance model - RR'!$I$15,'Import avoidance model - RR'!$J$15),'Import avoidance model - RR'!$H$15,'Import avoidance model - RR'!$H$16))*K19/100","v":1.0960935068495323},{"$f":"IF(C71<LOGIC!D71,(LOGIC!D71-LOGIC!C71)*IF(AND(LOGIC!B71>'Import avoidance model - RR'!$I$15,LOGIC!B71<'Import avoidance model - RR'!$J$15),'Import avoidance model - RR'!$H$15,'Import avoidance model - RR'!$H$16),0)/100","v":1.2140217900415857},{"$f":"IF('Import avoidance model - RR'!$H$17=\"N\",0,IF(D71<=C71,D71,C71)*'Import avoidance model - RR'!$H$18/100)","v":1.8653002495317597},{"$f":"IF(J71<LOGIC!K71,(LOGIC!K71-LOGIC!J71)*IF(AND(LOGIC!B71>'Import avoidance model - RR'!$I$15,LOGIC!B71<'Import avoidance model - RR'!$J$15),'Import avoidance model - RR'!$H$15,'Import avoidance model - RR'!$H$16),0)/100","v":0},{"$f":"IF('Import avoidance model - RR'!$H$17=\"N\",0,IF(K71<=C71,K71,C71)*'Import avoidance model - RR'!$H$18/100)","v":1.3701168835619155},{"$f":"IF(C123<LOGIC!D123,(LOGIC!D123-LOGIC!C123)*IF(AND(LOGIC!B123>'Import avoidance model - RR'!$I$15,LOGIC!B123<'Import avoidance model - RR'!$J$15),'Import avoidance model - RR'!$H$15,'Import avoidance model - RR'!$H$16),0)/100","v":0.52266116119353567},{"$f":"IF('Import avoidance model - RR'!$H$17=\"N\",0,IF(D123<=C123,D123,C123)*'Import avoidance model - RR'!$H$18/100)","v":2.7295010355918223},{"$f":"IF(J123<LOGIC!K123,(LOGIC!K123-LOGIC!J123)*IF(AND(LOGIC!B123>'Import avoidance model - RR'!$I$15,LOGIC!B123<'Import avoidance model - RR'!$J$15),'Import avoidance model - RR'!$H$15,'Import avoidance model - RR'!$H$16),0)/100","v":0},{"$f":"IF('Import avoidance model - RR'!$H$17=\"N\",0,IF(K123<=C123,K123,C123)*'Import avoidance model - RR'!$H$18/100)","v":1.3701168835619155},{"$f":"IF(C175<LOGIC!D175,(LOGIC!D175-LOGIC!C175)*IF(AND(LOGIC!B175>'Import avoidance model - RR'!$I$15,LOGIC!B175<'Import avoidance model - RR'!$J$15),'Import avoidance model - RR'!$H$15,'Import avoidance model - RR'!$H$16),0)/100","v":2.7062619896669933},{"$f":"IF('Import avoidance model - RR'!$H$17=\"N\",0,IF(D175<=C175,D175,C175)*'Import avoidance model - RR'!$H$18/100)","v":0},{"$f":"IF(J175<LOGIC!K175,(LOGIC!K175-LOGIC!J175)*IF(AND(LOGIC!B175>'Import avoidance model - RR'!$I$15,LOGIC!B175<'Import avoidance model - RR'!$J$15),'Import avoidance model - RR'!$H$15,'Import avoidance model - RR'!$H$16),0)/100","v":1.0960935068495323},{"$f":"IF('Import avoidance model - RR'!$H$17=\"N\",0,IF(K175<=C175,K175,C175)*'Import avoidance model - RR'!$H$18/100)","v":0},{"$f":"IF(C19<LOGIC!D19,(LOGIC!D19-LOGIC!C19)*IF(AND(LOGIC!B19>'Import avoidance model - RR'!$I$15,LOGIC!B19<'Import avoidance model - RR'!$J$15),'Import avoidance model - RR'!$H$15,'Import avoidance model - RR'!$H$16),0)/100","v":2.7062619896669933},{"$f":"IF('Import avoidance model - RR'!$H$17=\"N\",0,IF(D19<=C19,D19,C19)*'Import avoidance model - RR'!$H$18/100)","v":0},{"$f":"IF(J19<LOGIC!K19,(LOGIC!K19-LOGIC!J19)*IF(AND(LOGIC!B175>'Import avoidance model - RR'!$I$15,LOGIC!B175<'Import avoidance model - RR'!$J$15),'Import avoidance model - RR'!$H$15,'Import avoidance model - RR'!$H$16),0)/100","v":1.0960935068495323},{"$f":"IF('Import avoidance model - RR'!$H$17=\"N\",0,IF(K19<=C19,K19,C19)*'Import avoidance model - RR'!$H$18/100)","v":0},{"$f":"AA71-(IF(AND($R71>'Import avoidance model - RR'!$I$15,$R71<'Import avoidance model - RR'!$J$15),'Import avoidance model - RR'!$H$15*LOGIC!G71,LOGIC!G71*'Import avoidance model - RR'!$H$16)/100)","v":1.2140217900415857},{"$f":"AB71","v":1.8653002495317597},{"$f":"IF('Import avoidance model - RR'!H34=\"N\",0,LOGIC!G71*'Import avoidance model - RR'!$H$20)/100","v":0},{"$f":"AC71-(IF(AND($R71>'Import avoidance model - RR'!$I$15,$R71<'Import avoidance model - RR'!$J$15),'Import avoidance model - RR'!$H$15*LOGIC!N71,LOGIC!N71*'Import avoidance model - RR'!$H$16)/100)","v":0},1.3701168835619155,{"$f":"IF('Import avoidance model - RR'!H34=\"N\",0,LOGIC!N71*'Import avoidance model - RR'!$H$20)/100","v":0},{"$f":"AE71-(IF(AND($R71>'Import avoidance model - RR'!$I$15,$R71<'Import avoidance model - RR'!$J$15),'Import avoidance model - RR'!$H$15*LOGIC!G123,LOGIC!G123*'Import avoidance model - RR'!$H$16)/100)","v":0.52266116119353567},2.7295010355918223,{"$f":"IF('Import avoidance model - RR'!H34=\"N\",0,LOGIC!G123*'Import avoidance model - RR'!$H$20)/100","v":0},{"$f":"AG71-(IF(AND($R71>'Import avoidance model - RR'!$I$15,$R71<'Import avoidance model - RR'!$J$15),'Import avoidance model - RR'!$H$15*LOGIC!N123,LOGIC!N123*'Import avoidance model - RR'!$H$16)/100)","v":0},1.3701168835619155,{"$f":"IF('Import avoidance model - RR'!H34=\"N\",0,LOGIC!N123*'Import avoidance model - RR'!$H$20)/100","v":0},{"$f":"AI71-(IF(AND($R71>'Import avoidance model - RR'!$I$15,$R71<'Import avoidance model - RR'!$J$15),'Import avoidance model - RR'!$H$15*LOGIC!G175,LOGIC!G175*'Import avoidance model - RR'!$H$16)/100)","v":2.7062619896669933},0,{"$f":"IF('Import avoidance model - RR'!H34=\"N\",0,LOGIC!G175*'Import avoidance model - RR'!$H$20)/100","v":0},{"$f":"AK71-(IF(AND($R71>'Import avoidance model - RR'!$I$15,$R71<'Import avoidance model - RR'!$J$15),'Import avoidance model - RR'!$H$15*LOGIC!N175,LOGIC!N175*'Import avoidance model - RR'!$H$16)/100)","v":1.0960935068495323},0,{"$f":"IF('Import avoidance model - RR'!H34=\"N\",0,LOGIC!N175*'Import avoidance model - RR'!$H$20)/100","v":0},{"$f":"AM71-(IF(AND($R71>'Import avoidance model - RR'!$I$15,$R71<'Import avoidance model - RR'!$J$15),'Import avoidance model - RR'!$H$15*LOGIC!G19,LOGIC!G19*'Import avoidance model - RR'!$H$16)/100)","v":2.7062619896669933},0,{"$f":"IF('Import avoidance model - RR'!H34=\"N\",0,LOGIC!G19*'Import avoidance model - RR'!$H$20)/100","v":0},{"$f":"AO71-(IF(AND($R71>'Import avoidance model - RR'!$I$15,$R71<'Import avoidance model - RR'!$J$15),'Import avoidance model - RR'!$H$15*LOGIC!N19,LOGIC!N19*'Import avoidance model - RR'!$H$16)/100)","v":1.0960935068495323},0,{"$f":"IF('Import avoidance model - RR'!H34=\"N\",0,LOGIC!N19*'Import avoidance model - RR'!$H$20)/100","v":0}]
[null,"07:30:00",{"$f":"'PV data'!J20","v":36.268908646168569},49.087244664062197,0,0,0,0,{"$f":"IF(AND(I71+H72<=$A$5,I71+H72>$A$3),LOGIC!I71+LOGIC!H72,IF(I71+H72>$A$5,$A$5,$A$3))","v":12},36.268908646168569,18.512372369923483,17.756536276245086,15,0,15,{"$f":"IF(AND(P71+O72<=$A$5,P71+O72>$A$3),LOGIC!P71+LOGIC!O72,IF(P71+O72>$A$5,$A$5,$A$3))","v":33.602444879597925},null,"07:30:00",{"$f":"(IF(AND($R72>'Import avoidance model - RR'!$I$15,'Import avoidance model - RR'!$J$15),'Import avoidance model - RR'!$H$15,'Import avoidance model - RR'!$H$16))*D72/100","v":2.9452346798437317},{"$f":"(IF(AND($R72>'Import avoidance model - RR'!$I$15,'Import avoidance model - RR'!$J$15),'Import avoidance model - RR'!$H$15,'Import avoidance model - RR'!$H$16))*K72/100","v":1.110742342195409},{"$f":"(IF(AND($R72>'Import avoidance model - RR'!$I$15,'Import avoidance model - RR'!$J$15),'Import avoidance model - RR'!$H$15,'Import avoidance model - RR'!$H$16))*D124/100","v":2.9452346798437317},{"$f":"(IF(AND($R72>'Import avoidance model - RR'!$I$15,'Import avoidance model - RR'!$J$15),'Import avoidance model - RR'!$H$15,'Import avoidance model - RR'!$H$16))*K124/100","v":1.110742342195409},{"$f":"(IF(AND($R72>'Import avoidance model - RR'!$I$15,'Import avoidance model - RR'!$J$15),'Import avoidance model - RR'!$H$15,'Import avoidance model - RR'!$H$16))*D176/100","v":2.9452346798437317},{"$f":"(IF(AND($R72>'Import avoidance model - RR'!$I$15,'Import avoidance model - RR'!$J$15),'Import avoidance model - RR'!$H$15,'Import avoidance model - RR'!$H$16))*K176/100","v":1.110742342195409},{"$f":"(IF(AND($R72>'Import avoidance model - RR'!$I$15,'Import avoidance model - RR'!$J$15),'Import avoidance model - RR'!$H$15,'Import avoidance model - RR'!$H$16))*D20/100","v":2.9452346798437317},{"$f":"(IF(AND($R72>'Import avoidance model - RR'!$I$15,'Import avoidance model - RR'!$J$15),'Import avoidance model - RR'!$H$15,'Import avoidance model - RR'!$H$16))*K20/100","v":1.110742342195409},{"$f":"IF(C72<LOGIC!D72,(LOGIC!D72-LOGIC!C72)*IF(AND(LOGIC!B72>'Import avoidance model - RR'!$I$15,LOGIC!B72<'Import avoidance model - RR'!$J$15),'Import avoidance model - RR'!$H$15,'Import avoidance model - RR'!$H$16),0)/100","v":0.76910016107361767},{"$f":"IF('Import avoidance model - RR'!$H$17=\"N\",0,IF(D72<=C72,D72,C72)*'Import avoidance model - RR'!$H$18/100)","v":2.7201681484626423},{"$f":"IF(J72<LOGIC!K72,(LOGIC!K72-LOGIC!J72)*IF(AND(LOGIC!B72>'Import avoidance model - RR'!$I$15,LOGIC!B72<'Import avoidance model - RR'!$J$15),'Import avoidance model - RR'!$H$15,'Import avoidance model - RR'!$H$16),0)/100","v":0},{"$f":"IF('Import avoidance model - RR'!$H$17=\"N\",0,IF(K72<=C72,K72,C72)*'Import avoidance model - RR'!$H$18/100)","v":1.3884279277442613},{"$f":"IF(C124<LOGIC!D124,(LOGIC!D124-LOGIC!C124)*IF(AND(LOGIC!B124>'Import avoidance model - RR'!$I$15,LOGIC!B124<'Import avoidance model - RR'!$J$15),'Import avoidance model - RR'!$H$15,'Import avoidance model - RR'!$H$16),0)/100","v":1.3647320643531886},{"$f":"IF('Import avoidance model - RR'!$H$17=\"N\",0,IF(D124<=C124,D124,C124)*'Import avoidance model - RR'!$H$18/100)","v":1.9756282693631788},{"$f":"IF(J124<LOGIC!K124,(LOGIC!K124-LOGIC!J124)*IF(AND(LOGIC!B124>'Import avoidance model - RR'!$I$15,LOGIC!B124<'Import avoidance model - RR'!$J$15),'Import avoidance model - RR'!$H$15,'Import avoidance model - RR'!$H$16),0)/100","v":0},{"$f":"IF('Import avoidance model - RR'!$H$17=\"N\",0,IF(K124<=C124,K124,C124)*'Import avoidance model - RR'!$H$18/100)","v":1.3884279277442613},{"$f":"IF(C176<LOGIC!D176,(LOGIC!D176-LOGIC!C176)*IF(AND(LOGIC!B176>'Import avoidance model - RR'!$I$15,LOGIC!B176<'Import avoidance model - RR'!$J$15),'Import avoidance model - RR'!$H$15,'Import avoidance model - RR'!$H$16),0)/100","v":2.9452346798437317},{"$f":"IF('Import avoidance model - RR'!$H$17=\"N\",0,IF(D176<=C176,D176,C176)*'Import avoidance model - RR'!$H$18/100)","v":0},{"$f":"IF(J176<LOGIC!K176,(LOGIC!K176-LOGIC!J176)*IF(AND(LOGIC!B176>'Import avoidance model - RR'!$I$15,LOGIC!B176<'Import avoidance model - RR'!$J$15),'Import avoidance model - RR'!$H$15,'Import avoidance model - RR'!$H$16),0)/100","v":1.110742342195409},{"$f":"IF('Import avoidance model - RR'!$H$17=\"N\",0,IF(K176<=C176,K176,C176)*'Import avoidance model - RR'!$H$18/100)","v":0},{"$f":"IF(C20<LOGIC!D20,(LOGIC!D20-LOGIC!C20)*IF(AND(LOGIC!B20>'Import avoidance model - RR'!$I$15,LOGIC!B20<'Import avoidance model - RR'!$J$15),'Import avoidance model - RR'!$H$15,'Import avoidance model - RR'!$H$16),0)/100","v":2.9452346798437317},{"$f":"IF('Import avoidance model - RR'!$H$17=\"N\",0,IF(D20<=C20,D20,C20)*'Import avoidance model - RR'!$H$18/100)","v":0},{"$f":"IF(J20<LOGIC!K20,(LOGIC!K20-LOGIC!J20)*IF(AND(LOGIC!B176>'Import avoidance model - RR'!$I$15,LOGIC!B176<'Import avoidance model - RR'!$J$15),'Import avoidance model - RR'!$H$15,'Import avoidance model - RR'!$H$16),0)/100","v":1.110742342195409},{"$f":"IF('Import avoidance model - RR'!$H$17=\"N\",0,IF(K20<=C20,K20,C20)*'Import avoidance model - RR'!$H$18/100)","v":0},{"$f":"AA72-(IF(AND($R72>'Import avoidance model - RR'!$I$15,$R72<'Import avoidance model - RR'!$J$15),'Import avoidance model - RR'!$H$15*LOGIC!G72,LOGIC!G72*'Import avoidance model - RR'!$H$16)/100)","v":0.76910016107361767},2.7201681484626423,{"$f":"IF('Import avoidance model - RR'!H35=\"N\",0,LOGIC!G72*'Import avoidance model - RR'!$H$20)/100","v":0},{"$f":"AC72-(IF(AND($R72>'Import avoidance model - RR'!$I$15,$R72<'Import avoidance model - RR'!$J$15),'Import avoidance model - RR'!$H$15*LOGIC!N72,LOGIC!N72*'Import avoidance model - RR'!$H$16)/100)","v":0},1.3884279277442613,{"$f":"IF('Import avoidance model - RR'!H35=\"N\",0,LOGIC!N72*'Import avoidance model - RR'!$H$20)/100","v":0},{"$f":"AE72-(IF(AND($R72>'Import avoidance model - RR'!$I$15,$R72<'Import avoidance model - RR'!$J$15),'Import avoidance model - RR'!$H$15*LOGIC!G124,LOGIC!G124*'Import avoidance model - RR'!$H$16)/100)","v":1.3647320643531886},1.9756282693631788,{"$f":"IF('Import avoidance model - RR'!H35=\"N\",0,LOGIC!G124*'Import avoidance model - RR'!$H$20)/100","v":0},{"$f":"AG72-(IF(AND($R72>'Import avoidance model - RR'!$I$15,$R72<'Import avoidance model - RR'!$J$15),'Import avoidance model - RR'!$H$15*LOGIC!N124,LOGIC!N124*'Import avoidance model - RR'!$H$16)/100)","v":0},1.3884279277442613,{"$f":"IF('Import avoidance model - RR'!H35=\"N\",0,LOGIC!N124*'Import avoidance model - RR'!$H$20)/100","v":0},{"$f":"AI72-(IF(AND($R72>'Import avoidance model - RR'!$I$15,$R72<'Import avoidance model - RR'!$J$15),'Import avoidance model - RR'!$H$15*LOGIC!G176,LOGIC!G176*'Import avoidance model - RR'!$H$16)/100)","v":2.9452346798437317},0,{"$f":"IF('Import avoidance model - RR'!H35=\"N\",0,LOGIC!G176*'Import avoidance model - RR'!$H$20)/100","v":0},{"$f":"AK72-(IF(AND($R72>'Import avoidance model - RR'!$I$15,$R72<'Import avoidance model - RR'!$J$15),'Import avoidance model - RR'!$H$15*LOGIC!N176,LOGIC!N176*'Import avoidance model - RR'!$H$16)/100)","v":1.110742342195409},0,{"$f":"IF('Import avoidance model - RR'!H35=\"N\",0,LOGIC!N176*'Import avoidance model - RR'!$H$20)/100","v":0},{"$f":"AM72-(IF(AND($R72>'Import avoidance model - RR'!$I$15,$R72<'Import avoidance model - RR'!$J$15),'Import avoidance model - RR'!$H$15*LOGIC!G20,LOGIC!G20*'Import avoidance model - RR'!$H$16)/100)","v":2.9452346798437317},0,{"$f":"IF('Import avoidance model - RR'!H35=\"N\",0,LOGIC!G20*'Import avoidance model - RR'!$H$20)/100","v":0},{"$f":"AO72-(IF(AND($R72>'Import avoidance model - RR'!$I$15,$R72<'Import avoidance model - RR'!$J$15),'Import avoidance model - RR'!$H$15*LOGIC!N20,LOGIC!N20*'Import avoidance model - RR'!$H$16)/100)","v":1.110742342195409},0,{"$f":"IF('Import avoidance model - RR'!H35=\"N\",0,LOGIC!N20*'Import avoidance model - RR'!$H$20)/100","v":0}]
[null,"08:00:00",{"$f":"'PV data'!J21","v":29.039589092178804},53.260439514202844,0,0,0,0,{"$f":"IF(AND(I72+H73<=$A$5,I72+H73>$A$3),LOGIC!I72+LOGIC!H73,IF(I72+H73>$A$5,$A$5,$A$3))","v":12},29.039589092178804,18.726271293115492,10.313317799063313,10.313317799063313,0,10.313317799063313,{"$f":"IF(AND(P72+O73<=$A$5,P72+O73>$A$3),LOGIC!P72+LOGIC!O73,IF(P72+O73>$A$5,$A$5,$A$3))","v":43.915762678661238},null,"08:00:00",{"$f":"(IF(AND($R73>'Import avoidance model - RR'!$I$15,'Import avoidance model - RR'!$J$15),'Import avoidance model - RR'!$H$15,'Import avoidance model - RR'!$H$16))*D73/100","v":5.3260439514202851},{"$f":"(IF(AND($R73>'Import avoidance model - RR'!$I$15,'Import avoidance model - RR'!$J$15),'Import avoidance model - RR'!$H$15,'Import avoidance model - RR'!$H$16))*K73/100","v":1.8726271293115491},{"$f":"(IF(AND($R73>'Import avoidance model - RR'!$I$15,'Import avoidance model - RR'!$J$15),'Import avoidance model - RR'!$H$15,'Import avoidance model - RR'!$H$16))*D125/100","v":5.3260439514202851},{"$f":"(IF(AND($R73>'Import avoidance model - RR'!$I$15,'Import avoidance model - RR'!$J$15),'Import avoidance model - RR'!$H$15,'Import avoidance model - RR'!$H$16))*K125/100","v":1.8726271293115491},{"$f":"(IF(AND($R73>'Import avoidance model - RR'!$I$15,'Import avoidance model - RR'!$J$15),'Import avoidance model - RR'!$H$15,'Import avoidance model - RR'!$H$16))*D177/100","v":5.3260439514202851},{"$f":"(IF(AND($R73>'Import avoidance model - RR'!$I$15,'Import avoidance model - RR'!$J$15),'Import avoidance model - RR'!$H$15,'Import avoidance model - RR'!$H$16))*K177/100","v":1.8726271293115491},{"$f":"(IF(AND($R73>'Import avoidance model - RR'!$I$15,'Import avoidance model - RR'!$J$15),'Import avoidance model - RR'!$H$15,'Import avoidance model - RR'!$H$16))*D21/100","v":5.3260439514202851},{"$f":"(IF(AND($R73>'Import avoidance model - RR'!$I$15,'Import avoidance model - RR'!$J$15),'Import avoidance model - RR'!$H$15,'Import avoidance model - RR'!$H$16))*K21/100","v":1.8726271293115491},{"$f":"IF(C73<LOGIC!D73,(LOGIC!D73-LOGIC!C73)*IF(AND(LOGIC!B73>'Import avoidance model - RR'!$I$15,LOGIC!B73<'Import avoidance model - RR'!$J$15),'Import avoidance model - RR'!$H$15,'Import avoidance model - RR'!$H$16),0)/100","v":2.4220850422024038},{"$f":"IF('Import avoidance model - RR'!$H$17=\"N\",0,IF(D73<=C73,D73,C73)*'Import avoidance model - RR'!$H$18/100)","v":2.1779691819134102},{"$f":"IF(J73<LOGIC!K73,(LOGIC!K73-LOGIC!J73)*IF(AND(LOGIC!B73>'Import avoidance model - RR'!$I$15,LOGIC!B73<'Import avoidance model - RR'!$J$15),'Import avoidance model - RR'!$H$15,'Import avoidance model - RR'!$H$16),0)/100","v":0},{"$f":"IF('Import avoidance model - RR'!$H$17=\"N\",0,IF(K73<=C73,K73,C73)*'Import avoidance model - RR'!$H$18/100)","v":1.4044703469836619},{"$f":"IF(C125<LOGIC!D125,(LOGIC!D125-LOGIC!C125)*IF(AND(LOGIC!B125>'Import avoidance model - RR'!$I$15,LOGIC!B125<'Import avoidance model - RR'!$J$15),'Import avoidance model - RR'!$H$15,'Import avoidance model - RR'!$H$16),0)/100","v":0},{"$f":"IF('Import avoidance model - RR'!$H$17=\"N\",0,IF(D125<=C125,D125,C125)*'Import avoidance model - RR'!$H$18/100)","v":3.9945329635652134},{"$f":"IF(J125<LOGIC!K125,(LOGIC!K125-LOGIC!J125)*IF(AND(LOGIC!B125>'Import avoidance model - RR'!$I$15,LOGIC!B125<'Import avoidance model - RR'!$J$15),'Import avoidance model - RR'!$H$15,'Import avoidance model - RR'!$H$16),0)/100","v":0},{"$f":"IF('Import avoidance model - RR'!$H$17=\"N\",0,IF(K125<=C125,K125,C125)*'Import avoidance model - RR'!$H$18/100)","v":1.4044703469836619},{"$f":"IF(C177<LOGIC!D177,(LOGIC!D177-LOGIC!C177)*IF(AND(LOGIC!B177>'Import avoidance model - RR'!$I$15,LOGIC!B177<'Import avoidance model - RR'!$J$15),'Import avoidance model - RR'!$H$15,'Import avoidance model - RR'!$H$16),0)/100","v":3.4882220815633116},{"$f":"IF('Import avoidance model - RR'!$H$17=\"N\",0,IF(D177<=C177,D177,C177)*'Import avoidance model - RR'!$H$18/100)","v":1.3783664023927296},{"$f":"IF(J177<LOGIC!K177,(LOGIC!K177-LOGIC!J177)*IF(AND(LOGIC!B177>'Import avoidance model - RR'!$I$15,LOGIC!B177<'Import avoidance model - RR'!$J$15),'Import avoidance model - RR'!$H$15,'Import avoidance model - RR'!$H$16),0)/100","v":3.4805259454576284E-2},{"$f":"IF('Import avoidance model - RR'!$H$17=\"N\",0,IF(K177<=C177,K177,C177)*'Import avoidance model - RR'!$H$18/100)","v":1.3783664023927296},{"$f":"IF(C21<LOGIC!D21,(LOGIC!D21-LOGIC!C21)*IF(AND(LOGIC!B21>'Import avoidance model - RR'!$I$15,LOGIC!B21<'Import avoidance model - RR'!$J$15),'Import avoidance model - RR'!$H$15,'Import avoidance model - RR'!$H$16),0)/100","v":5.3260439514202851},{"$f":"IF('Import avoidance model - RR'!$H$17=\"N\",0,IF(D21<=C21,D21,C21)*'Import avoidance model - RR'!$H$18/100)","v":0},{"$f":"IF(J21<LOGIC!K21,(LOGIC!K21-LOGIC!J21)*IF(AND(LOGIC!B177>'Import avoidance model - RR'!$I$15,LOGIC!B177<'Import avoidance model - RR'!$J$15),'Import avoidance model - RR'!$H$15,'Import avoidance model - RR'!$H$16),0)/100","v":1.8726271293115491},{"$f":"IF('Import avoidance model - RR'!$H$17=\"N\",0,IF(K21<=C21,K21,C21)*'Import avoidance model - RR'!$H$18/100)","v":0},{"$f":"AA73-(IF(AND($R73>'Import avoidance model - RR'!$I$15,$R73<'Import avoidance model - RR'!$J$15),'Import avoidance model - RR'!$H$15*LOGIC!G73,LOGIC!G73*'Import avoidance model - RR'!$H$16)/100)","v":2.4220850422024038},2.1779691819134102,{"$f":"IF('Import avoidance model - RR'!H36=\"N\",0,LOGIC!G73*'Import avoidance model - RR'!$H$20)/100","v":0},{"$f":"AC73-(IF(AND($R73>'Import avoidance model - RR'!$I$15,$R73<'Import avoidance model - RR'!$J$15),'Import avoidance model - RR'!$H$15*LOGIC!N73,LOGIC!N73*'Import avoidance model - RR'!$H$16)/100)","v":0},1.4044703469836619,{"$f":"IF('Import avoidance model - RR'!H36=\"N\",0,LOGIC!N73*'Import avoidance model - RR'!$H$20)/100","v":0},{"$f":"AE73-(IF(AND($R73>'Import avoidance model - RR'!$I$15,$R73<'Import avoidance model - RR'!$J$15),'Import avoidance model - RR'!$H$15*LOGIC!G125,LOGIC!G125*'Import avoidance model - RR'!$H$16)/100)","v":0},3.9945329635652134,{"$f":"IF('Import avoidance model - RR'!H36=\"N\",0,LOGIC!G125*'Import avoidance model - RR'!$H$20)/100","v":0},{"$f":"AG73-(IF(AND($R73>'Import avoidance model - RR'!$I$15,$R73<'Import avoidance model - RR'!$J$15),'Import avoidance model - RR'!$H$15*LOGIC!N125,LOGIC!N125*'Import avoidance model - RR'!$H$16)/100)","v":0},1.4044703469836619,{"$f":"IF('Import avoidance model - RR'!H36=\"N\",0,LOGIC!N125*'Import avoidance model - RR'!$H$20)/100","v":0},{"$f":"AI73-(IF(AND($R73>'Import avoidance model - RR'!$I$15,$R73<'Import avoidance model - RR'!$J$15),'Import avoidance model - RR'!$H$15*LOGIC!G177,LOGIC!G177*'Import avoidance model - RR'!$H$16)/100)","v":3.4882220815633116},1.3783664023927296,{"$f":"IF('Import avoidance model - RR'!H36=\"N\",0,LOGIC!G177*'Import avoidance model - RR'!$H$20)/100","v":0},{"$f":"AK73-(IF(AND($R73>'Import avoidance model - RR'!$I$15,$R73<'Import avoidance model - RR'!$J$15),'Import avoidance model - RR'!$H$15*LOGIC!N177,LOGIC!N177*'Import avoidance model - RR'!$H$16)/100)","v":3.4805259454576284E-2},1.3783664023927296,{"$f":"IF('Import avoidance model - RR'!H36=\"N\",0,LOGIC!N177*'Import avoidance model - RR'!$H$20)/100","v":0},{"$f":"AM73-(IF(AND($R73>'Import avoidance model - RR'!$I$15,$R73<'Import avoidance model - RR'!$J$15),'Import avoidance model - RR'!$H$15*LOGIC!G21,LOGIC!G21*'Import avoidance model - RR'!$H$16)/100)","v":5.3260439514202851},0,{"$f":"IF('Import avoidance model - RR'!H36=\"N\",0,LOGIC!G21*'Import avoidance model - RR'!$H$20)/100","v":0},{"$f":"AO73-(IF(AND($R73>'Import avoidance model - RR'!$I$15,$R73<'Import avoidance model - RR'!$J$15),'Import avoidance model - RR'!$H$15*LOGIC!N21,LOGIC!N21*'Import avoidance model - RR'!$H$16)/100)","v":1.8726271293115491},0,{"$f":"IF('Import avoidance model - RR'!H36=\"N\",0,LOGIC!N21*'Import avoidance model - RR'!$H$20)/100","v":0}]
[null,"08:30:00",{"$f":"'PV data'!J22","v":43.845589823000438},55.514432356103129,0,0,0,0,{"$f":"IF(AND(I73+H74<=$A$5,I73+H74>$A$3),LOGIC!I73+LOGIC!H74,IF(I73+H74>$A$5,$A$5,$A$3))","v":12},43.845589823000438,19.46460559272867,24.380984230271768,15,0,15,{"$f":"IF(AND(P73+O74<=$A$5,P73+O74>$A$3),LOGIC!P73+LOGIC!O74,IF(P73+O74>$A$5,$A$5,$A$3))","v":58.915762678661238},null,"08:30:00",{"$f":"(IF(AND($R74>'Import avoidance model - RR'!$I$15,'Import avoidance model - RR'!$J$15),'Import avoidance model - RR'!$H$15,'Import avoidance model - RR'!$H$16))*D74/100","v":5.5514432356103134},{"$f":"(IF(AND($R74>'Import avoidance model - RR'!$I$15,'Import avoidance model - RR'!$J$15),'Import avoidance model - RR'!$H$15,'Import avoidance model - RR'!$H$16))*K74/100","v":1.9464605592728672},{"$f":"(IF(AND($R74>'Import avoidance model - RR'!$I$15,'Import avoidance model - RR'!$J$15),'Import avoidance model - RR'!$H$15,'Import avoidance model - RR'!$H$16))*D126/100","v":5.5514432356103134},{"$f":"(IF(AND($R74>'Import avoidance model - RR'!$I$15,'Import avoidance model - RR'!$J$15),'Import avoidance model - RR'!$H$15,'Import avoidance model - RR'!$H$16))*K126/100","v":1.9464605592728672},{"$f":"(IF(AND($R74>'Import avoidance model - RR'!$I$15,'Import avoidance model - RR'!$J$15),'Import avoidance model - RR'!$H$15,'Import avoidance model - RR'!$H$16))*D178/100","v":5.5514432356103134},{"$f":"(IF(AND($R74>'Import avoidance model - RR'!$I$15,'Import avoidance model - RR'!$J$15),'Import avoidance model - RR'!$H$15,'Import avoidance model - RR'!$H$16))*K178/100","v":1.9464605592728672},{"$f":"(IF(AND($R74>'Import avoidance model - RR'!$I$15,'Import avoidance model - RR'!$J$15),'Import avoidance model - RR'!$H$15,'Import avoidance model - RR'!$H$16))*D22/100","v":5.5514432356103134},{"$f":"(IF(AND($R74>'Import avoidance model - RR'!$I$15,'Import avoidance model - RR'!$J$15),'Import avoidance model - RR'!$H$15,'Import avoidance model - RR'!$H$16))*K22/100","v":1.9464605592728672},{"$f":"IF(C74<LOGIC!D74,(LOGIC!D74-LOGIC!C74)*IF(AND(LOGIC!B74>'Import avoidance model - RR'!$I$15,LOGIC!B74<'Import avoidance model - RR'!$J$15),'Import avoidance model - RR'!$H$15,'Import avoidance model - RR'!$H$16),0)/100","v":1.166884253310269},{"$f":"IF('Import avoidance model - RR'!$H$17=\"N\",0,IF(D74<=C74,D74,C74)*'Import avoidance model - RR'!$H$18/100)","v":3.2884192367250331},{"$f":"IF(J74<LOGIC!K74,(LOGIC!K74-LOGIC!J74)*IF(AND(LOGIC!B74>'Import avoidance model - RR'!$I$15,LOGIC!B74<'Import avoidance model - RR'!$J$15),'Import avoidance model - RR'!$H$15,'Import avoidance model - RR'!$H$16),0)/100","v":0},{"$f":"IF('Import avoidance model - RR'!$H$17=\"N\",0,IF(K74<=C74,K74,C74)*'Import avoidance model - RR'!$H$18/100)","v":1.4598454194546502},{"$f":"IF(C126<LOGIC!D126,(LOGIC!D126-LOGIC!C126)*IF(AND(LOGIC!B126>'Import avoidance model - RR'!$I$15,LOGIC!B126<'Import avoidance model - RR'!$J$15),'Import avoidance model - RR'!$H$15,'Import avoidance model - RR'!$H$16),0)/100","v":0},{"$f":"IF('Import avoidance model - RR'!$H$17=\"N\",0,IF(D126<=C126,D126,C126)*'Import avoidance model - RR'!$H$18/100)","v":4.1635824267077348},{"$f":"IF(J126<LOGIC!K126,(LOGIC!K126-LOGIC!J126)*IF(AND(LOGIC!B126>'Import avoidance model - RR'!$I$15,LOGIC!B126<'Import avoidance model - RR'!$J$15),'Import avoidance model - RR'!$H$15,'Import avoidance model - RR'!$H$16),0)/100","v":0},{"$f":"IF('Import avoidance model - RR'!$H$17=\"N\",0,IF(K126<=C126,K126,C126)*'Import avoidance model - RR'!$H$18/100)","v":1.4598454194546502},{"$f":"IF(C178<LOGIC!D178,(LOGIC!D178-LOGIC!C178)*IF(AND(LOGIC!B178>'Import avoidance model - RR'!$I$15,LOGIC!B178<'Import avoidance model - RR'!$J$15),'Import avoidance model - RR'!$H$15,'Import avoidance model - RR'!$H$16),0)/100","v":3.1834956167891595},{"$f":"IF('Import avoidance model - RR'!$H$17=\"N\",0,IF(D178<=C178,D178,C178)*'Import avoidance model - RR'!$H$18/100)","v":1.7759607141158651},{"$f":"IF(J178<LOGIC!K178,(LOGIC!K178-LOGIC!J178)*IF(AND(LOGIC!B178>'Import avoidance model - RR'!$I$15,LOGIC!B178<'Import avoidance model - RR'!$J$15),'Import avoidance model - RR'!$H$15,'Import avoidance model - RR'!$H$16),0)/100","v":0},{"$f":"IF('Import avoidance model - RR'!$H$17=\"N\",0,IF(K178<=C178,K178,C178)*'Import avoidance model - RR'!$H$18/100)","v":1.4598454194546502},{"$f":"IF(C22<LOGIC!D22,(LOGIC!D22-LOGIC!C22)*IF(AND(LOGIC!B22>'Import avoidance model - RR'!$I$15,LOGIC!B22<'Import avoidance model - RR'!$J$15),'Import avoidance model - RR'!$H$15,'Import avoidance model - RR'!$H$16),0)/100","v":4.8610532785963345},{"$f":"IF('Import avoidance model - RR'!$H$17=\"N\",0,IF(D22<=C22,D22,C22)*'Import avoidance model - RR'!$H$18/100)","v":0.51779246776048371},{"$f":"IF(J22<LOGIC!K22,(LOGIC!K22-LOGIC!J22)*IF(AND(LOGIC!B178>'Import avoidance model - RR'!$I$15,LOGIC!B178<'Import avoidance model - RR'!$J$15),'Import avoidance model - RR'!$H$15,'Import avoidance model - RR'!$H$16),0)/100","v":1.2560706022588888},{"$f":"IF('Import avoidance model - RR'!$H$17=\"N\",0,IF(K22<=C22,K22,C22)*'Import avoidance model - RR'!$H$18/100)","v":0.51779246776048371},{"$f":"AA74-(IF(AND($R74>'Import avoidance model - RR'!$I$15,$R74<'Import avoidance model - RR'!$J$15),'Import avoidance model - RR'!$H$15*LOGIC!G74,LOGIC!G74*'Import avoidance model - RR'!$H$16)/100)","v":1.166884253310269},3.2884192367250331,{"$f":"IF('Import avoidance model - RR'!H37=\"N\",0,LOGIC!G74*'Import avoidance model - RR'!$H$20)/100","v":0},{"$f":"AC74-(IF(AND($R74>'Import avoidance model - RR'!$I$15,$R74<'Import avoidance model - RR'!$J$15),'Import avoidance model - RR'!$H$15*LOGIC!N74,LOGIC!N74*'Import avoidance model - RR'!$H$16)/100)","v":0},1.4598454194546502,{"$f":"IF('Import avoidance model - RR'!H37=\"N\",0,LOGIC!N74*'Import avoidance model - RR'!$H$20)/100","v":0},{"$f":"AE74-(IF(AND($R74>'Import avoidance model - RR'!$I$15,$R74<'Import avoidance model - RR'!$J$15),'Import avoidance model - RR'!$H$15*LOGIC!G126,LOGIC!G126*'Import avoidance model - RR'!$H$16)/100)","v":0},4.1635824267077348,{"$f":"IF('Import avoidance model - RR'!H37=\"N\",0,LOGIC!G126*'Import avoidance model - RR'!$H$20)/100","v":0},{"$f":"AG74-(IF(AND($R74>'Import avoidance model - RR'!$I$15,$R74<'Import avoidance model - RR'!$J$15),'Import avoidance model - RR'!$H$15*LOGIC!N126,LOGIC!N126*'Import avoidance model - RR'!$H$16)/100)","v":0},1.4598454194546502,{"$f":"IF('Import avoidance model - RR'!H37=\"N\",0,LOGIC!N126*'Import avoidance model - RR'!$H$20)/100","v":0},{"$f":"AI74-(IF(AND($R74>'Import avoidance model - RR'!$I$15,$R74<'Import avoidance model - RR'!$J$15),'Import avoidance model - RR'!$H$15*LOGIC!G178,LOGIC!G178*'Import avoidance model - RR'!$H$16)/100)","v":3.1834956167891595},1.7759607141158651,{"$f":"IF('Import avoidance model - RR'!H37=\"N\",0,LOGIC!G178*'Import avoidance model - RR'!$H$20)/100","v":0},{"$f":"AK74-(IF(AND($R74>'Import avoidance model - RR'!$I$15,$R74<'Import avoidance model - RR'!$J$15),'Import avoidance model - RR'!$H$15*LOGIC!N178,LOGIC!N178*'Import avoidance model - RR'!$H$16)/100)","v":0},1.4598454194546502,{"$f":"IF('Import avoidance model - RR'!H37=\"N\",0,LOGIC!N178*'Import avoidance model - RR'!$H$20)/100","v":0},{"$f":"AM74-(IF(AND($R74>'Import avoidance model - RR'!$I$15,$R74<'Import avoidance model - RR'!$J$15),'Import avoidance model - RR'!$H$15*LOGIC!G22,LOGIC!G22*'Import avoidance model - RR'!$H$16)/100)","v":4.8610532785963345},0.51779246776048371,{"$f":"IF('Import avoidance model - RR'!H37=\"N\",0,LOGIC!G22*'Import avoidance model - RR'!$H$20)/100","v":0},{"$f":"AO74-(IF(AND($R74>'Import avoidance model - RR'!$I$15,$R74<'Import avoidance model - RR'!$J$15),'Import avoidance model - RR'!$H$15*LOGIC!N22,LOGIC!N22*'Import avoidance model - RR'!$H$16)/100)","v":1.2560706022588888},0.51779246776048371,{"$f":"IF('Import avoidance model - RR'!H37=\"N\",0,LOGIC!N22*'Import avoidance model - RR'!$H$20)/100","v":0}]
[null,"09:00:00",{"$f":"'PV data'!J23","v":35.414604717014363},56.747121943109128,0,0,0,0,{"$f":"IF(AND(I74+H75<=$A$5,I74+H75>$A$3),LOGIC!I74+LOGIC!H75,IF(I74+H75>$A$5,$A$5,$A$3))","v":12},35.414604717014363,20.123390706030776,15.291214010983587,15,0,15,{"$f":"IF(AND(P74+O75<=$A$5,P74+O75>$A$3),LOGIC!P74+LOGIC!O75,IF(P74+O75>$A$5,$A$5,$A$3))","v":60},null,"09:00:00",{"$f":"(IF(AND($R75>'Import avoidance model - RR'!$I$15,'Import avoidance model - RR'!$J$15),'Import avoidance model - RR'!$H$15,'Import avoidance model - RR'!$H$16))*D75/100","v":5.6747121943109127},{"$f":"(IF(AND($R75>'Import avoidance model - RR'!$I$15,'Import avoidance model - RR'!$J$15),'Import avoidance model - RR'!$H$15,'Import avoidance model - RR'!$H$16))*K75/100","v":2.0123390706030775},{"$f":"(IF(AND($R75>'Import avoidance model - RR'!$I$15,'Import avoidance model - RR'!$J$15),'Import avoidance model - RR'!$H$15,'Import avoidance model - RR'!$H$16))*D127/100","v":5.6747121943109127},{"$f":"(IF(AND($R75>'Import avoidance model - RR'!$I$15,'Import avoidance model - RR'!$J$15),'Import avoidance model - RR'!$H$15,'Import avoidance model - RR'!$H$16))*K127/100","v":2.0123390706030775},{"$f":"(IF(AND($R75>'Import avoidance model - RR'!$I$15,'Import avoidance model - RR'!$J$15),'Import avoidance model - RR'!$H$15,'Import avoidance model - RR'!$H$16))*D179/100","v":5.6747121943109127},{"$f":"(IF(AND($R75>'Import avoidance model - RR'!$I$15,'Import avoidance model - RR'!$J$15),'Import avoidance model - RR'!$H$15,'Import avoidance model - RR'!$H$16))*K179/100","v":2.0123390706030775},{"$f":"(IF(AND($R75>'Import avoidance model - RR'!$I$15,'Import avoidance model - RR'!$J$15),'Import avoidance model - RR'!$H$15,'Import avoidance model - RR'!$H$16))*D23/100","v":5.6747121943109127},{"$f":"(IF(AND($R75>'Import avoidance model - RR'!$I$15,'Import avoidance model - RR'!$J$15),'Import avoidance model - RR'!$H$15,'Import avoidance model - RR'!$H$16))*K23/100","v":2.0123390706030775},{"$f":"IF(C75<LOGIC!D75,(LOGIC!D75-LOGIC!C75)*IF(AND(LOGIC!B75>'Import avoidance model - RR'!$I$15,LOGIC!B75<'Import avoidance model - RR'!$J$15),'Import avoidance model - RR'!$H$15,'Import avoidance model - RR'!$H$16),0)/100","v":2.1332517226094767},{"$f":"IF('Import avoidance model - RR'!$H$17=\"N\",0,IF(D75<=C75,D75,C75)*'Import avoidance model - RR'!$H$18/100)","v":2.656095353776077},{"$f":"IF(J75<LOGIC!K75,(LOGIC!K75-LOGIC!J75)*IF(AND(LOGIC!B75>'Import avoidance model - RR'!$I$15,LOGIC!B75<'Import avoidance model - RR'!$J$15),'Import avoidance model - RR'!$H$15,'Import avoidance model - RR'!$H$16),0)/100","v":0},{"$f":"IF('Import avoidance model - RR'!$H$17=\"N\",0,IF(K75<=C75,K75,C75)*'Import avoidance model - RR'!$H$18/100)","v":1.5092543029523082},{"$f":"IF(C127<LOGIC!D127,(LOGIC!D127-LOGIC!C127)*IF(AND(LOGIC!B127>'Import avoidance model - RR'!$I$15,LOGIC!B127<'Import avoidance model - RR'!$J$15),'Import avoidance model - RR'!$H$15,'Import avoidance model - RR'!$H$16),0)/100","v":0},{"$f":"IF('Import avoidance model - RR'!$H$17=\"N\",0,IF(D127<=C127,D127,C127)*'Import avoidance model - RR'!$H$18/100)","v":4.2560341457331843},{"$f":"IF(J127<LOGIC!K127,(LOGIC!K127-LOGIC!J127)*IF(AND(LOGIC!B127>'Import avoidance model - RR'!$I$15,LOGIC!B127<'Import avoidance model - RR'!$J$15),'Import avoidance model - RR'!$H$15,'Import avoidance model - RR'!$H$16),0)/100","v":0},{"$f":"IF('Import avoidance model - RR'!$H$17=\"N\",0,IF(K127<=C127,K127,C127)*'Import avoidance model - RR'!$H$18/100)","v":1.5092543029523082},{"$f":"IF(C179<LOGIC!D179,(LOGIC!D179-LOGIC!C179)*IF(AND(LOGIC!B179>'Import avoidance model - RR'!$I$15,LOGIC!B179<'Import avoidance model - RR'!$J$15),'Import avoidance model - RR'!$H$15,'Import avoidance model - RR'!$H$16),0)/100","v":3.1448898033291153},{"$f":"IF('Import avoidance model - RR'!$H$17=\"N\",0,IF(D179<=C179,D179,C179)*'Import avoidance model - RR'!$H$18/100)","v":1.8973667932363483},{"$f":"IF(J179<LOGIC!K179,(LOGIC!K179-LOGIC!J179)*IF(AND(LOGIC!B179>'Import avoidance model - RR'!$I$15,LOGIC!B179<'Import avoidance model - RR'!$J$15),'Import avoidance model - RR'!$H$15,'Import avoidance model - RR'!$H$16),0)/100","v":0},{"$f":"IF('Import avoidance model - RR'!$H$17=\"N\",0,IF(K179<=C179,K179,C179)*'Import avoidance model - RR'!$H$18/100)","v":1.5092543029523082},{"$f":"IF(C23<LOGIC!D23,(LOGIC!D23-LOGIC!C23)*IF(AND(LOGIC!B23>'Import avoidance model - RR'!$I$15,LOGIC!B23<'Import avoidance model - RR'!$J$15),'Import avoidance model - RR'!$H$15,'Import avoidance model - RR'!$H$16),0)/100","v":3.9531453310838454},{"$f":"IF('Import avoidance model - RR'!$H$17=\"N\",0,IF(D23<=C23,D23,C23)*'Import avoidance model - RR'!$H$18/100)","v":1.291175147420301},{"$f":"IF(J23<LOGIC!K23,(LOGIC!K23-LOGIC!J23)*IF(AND(LOGIC!B179>'Import avoidance model - RR'!$I$15,LOGIC!B179<'Import avoidance model - RR'!$J$15),'Import avoidance model - RR'!$H$15,'Import avoidance model - RR'!$H$16),0)/100","v":0.29077220737600984},{"$f":"IF('Import avoidance model - RR'!$H$17=\"N\",0,IF(K23<=C23,K23,C23)*'Import avoidance model - RR'!$H$18/100)","v":1.291175147420301},{"$f":"AA75-(IF(AND($R75>'Import avoidance model - RR'!$I$15,$R75<'Import avoidance model - RR'!$J$15),'Import avoidance model - RR'!$H$15*LOGIC!G75,LOGIC!G75*'Import avoidance model - RR'!$H$16)/100)","v":2.1332517226094767},2.656095353776077,{"$f":"IF('Import avoidance model - RR'!H38=\"N\",0,LOGIC!G75*'Import avoidance model - RR'!$H$20)/100","v":0},{"$f":"AC75-(IF(AND($R75>'Import avoidance model - RR'!$I$15,$R75<'Import avoidance model - RR'!$J$15),'Import avoidance model - RR'!$H$15*LOGIC!N75,LOGIC!N75*'Import avoidance model - RR'!$H$16)/100)","v":0},1.5092543029523082,{"$f":"IF('Import avoidance model - RR'!H38=\"N\",0,LOGIC!N75*'Import avoidance model - RR'!$H$20)/100","v":0},{"$f":"AE75-(IF(AND($R75>'Import avoidance model - RR'!$I$15,$R75<'Import avoidance model - RR'!$J$15),'Import avoidance model - RR'!$H$15*LOGIC!G127,LOGIC!G127*'Import avoidance model - RR'!$H$16)/100)","v":0},4.2560341457331843,{"$f":"IF('Import avoidance model - RR'!H38=\"N\",0,LOGIC!G127*'Import avoidance model - RR'!$H$20)/100","v":0},{"$f":"AG75-(IF(AND($R75>'Import avoidance model - RR'!$I$15,$R75<'Import avoidance model - RR'!$J$15),'Import avoidance model - RR'!$H$15*LOGIC!N127,LOGIC!N127*'Import avoidance model - RR'!$H$16)/100)","v":0},1.5092543029523082,{"$f":"IF('Import avoidance model - RR'!H38=\"N\",0,LOGIC!N127*'Import avoidance model - RR'!$H$20)/100","v":0},{"$f":"AI75-(IF(AND($R75>'Import avoidance model - RR'!$I$15,$R75<'Import avoidance model - RR'!$J$15),'Import avoidance model - RR'!$H$15*LOGIC!G179,LOGIC!G179*'Import avoidance model - RR'!$H$16)/100)","v":3.1448898033291153},1.8973667932363483,{"$f":"IF('Import avoidance model - RR'!H38=\"N\",0,LOGIC!G179*'Import avoidance model - RR'!$H$20)/100","v":0},{"$f":"AK75-(IF(AND($R75>'Import avoidance model - RR'!$I$15,$R75<'Import avoidance model - RR'!$J$15),'Import avoidance model - RR'!$H$15*LOGIC!N179,LOGIC!N179*'Import avoidance model - RR'!$H$16)/100)","v":0},1.5092543029523082,{"$f":"IF('Import avoidance model - RR'!H38=\"N\",0,LOGIC!N179*'Import avoidance model - RR'!$H$20)/100","v":0},{"$f":"AM75-(IF(AND($R75>'Import avoidance model - RR'!$I$15,$R75<'Import avoidance model - RR'!$J$15),'Import avoidance model - RR'!$H$15*LOGIC!G23,LOGIC!G23*'Import avoidance model - RR'!$H$16)/100)","v":3.9531453310838454},1.291175147420301,{"$f":"IF('Import avoidance model - RR'!H38=\"N\",0,LOGIC!G23*'Import avoidance model - RR'!$H$20)/100","v":0},{"$f":"AO75-(IF(AND($R75>'Import avoidance model - RR'!$I$15,$R75<'Import avoidance model - RR'!$J$15),'Import avoidance model - RR'!$H$15*LOGIC!N23,LOGIC!N23*'Import avoidance model - RR'!$H$16)/100)","v":0.29077220737600984},1.291175147420301,{"$f":"IF('Import avoidance model - RR'!H38=\"N\",0,LOGIC!N23*'Import avoidance model - RR'!$H$20)/100","v":0}]
[null,"09:30:00",{"$f":"'PV data'!J24","v":38.114563849139749},58.652028416637918,0,0,0,0,{"$f":"IF(AND(I75+H76<=$A$5,I75+H76>$A$3),LOGIC!I75+LOGIC!H76,IF(I75+H76>$A$5,$A$5,$A$3))","v":12},38.114563849139749,20.657057716418915,17.457506132720834,15,0,15,{"$f":"IF(AND(P75+O76<=$A$5,P75+O76>$A$3),LOGIC!P75+LOGIC!O76,IF(P75+O76>$A$5,$A$5,$A$3))","v":60},null,"09:30:00",{"$f":"(IF(AND($R76>'Import avoidance model - RR'!$I$15,'Import avoidance model - RR'!$J$15),'Import avoidance model - RR'!$H$15,'Import avoidance model - RR'!$H$16))*D76/100","v":5.8652028416637911},{"$f":"(IF(AND($R76>'Import avoidance model - RR'!$I$15,'Import avoidance model - RR'!$J$15),'Import avoidance model - RR'!$H$15,'Import avoidance model - RR'!$H$16))*K76/100","v":2.0657057716418916},{"$f":"(IF(AND($R76>'Import avoidance model - RR'!$I$15,'Import avoidance model - RR'!$J$15),'Import avoidance model - RR'!$H$15,'Import avoidance model - RR'!$H$16))*D128/100","v":5.8652028416637911},{"$f":"(IF(AND($R76>'Import avoidance model - RR'!$I$15,'Import avoidance model - RR'!$J$15),'Import avoidance model - RR'!$H$15,'Import avoidance model - RR'!$H$16))*K128/100","v":2.0657057716418916},{"$f":"(IF(AND($R76>'Import avoidance model - RR'!$I$15,'Import avoidance model - RR'!$J$15),'Import avoidance model - RR'!$H$15,'Import avoidance model - RR'!$H$16))*D180/100","v":5.8652028416637911},{"$f":"(IF(AND($R76>'Import avoidance model - RR'!$I$15,'Import avoidance model - RR'!$J$15),'Import avoidance model - RR'!$H$15,'Import avoidance model - RR'!$H$16))*K180/100","v":2.0657057716418916},{"$f":"(IF(AND($R76>'Import avoidance model - RR'!$I$15,'Import avoidance model - RR'!$J$15),'Import avoidance model - RR'!$H$15,'Import avoidance model - RR'!$H$16))*D24/100","v":5.8652028416637911},{"$f":"(IF(AND($R76>'Import avoidance model - RR'!$I$15,'Import avoidance model - RR'!$J$15),'Import avoidance model - RR'!$H$15,'Import avoidance model - RR'!$H$16))*K24/100","v":2.0657057716418916},{"$f":"IF(C76<LOGIC!D76,(LOGIC!D76-LOGIC!C76)*IF(AND(LOGIC!B76>'Import avoidance model - RR'!$I$15,LOGIC!B76<'Import avoidance model - RR'!$J$15),'Import avoidance model - RR'!$H$15,'Import avoidance model - RR'!$H$16),0)/100","v":2.0537464567498169},{"$f":"IF('Import avoidance model - RR'!$H$17=\"N\",0,IF(D76<=C76,D76,C76)*'Import avoidance model - RR'!$H$18/100)","v":2.8585922886854815},{"$f":"IF(J76<LOGIC!K76,(LOGIC!K76-LOGIC!J76)*IF(AND(LOGIC!B76>'Import avoidance model - RR'!$I$15,LOGIC!B76<'Import avoidance model - RR'!$J$15),'Import avoidance model - RR'!$H$15,'Import avoidance model - RR'!$H$16),0)/100","v":0},{"$f":"IF('Import avoidance model - RR'!$H$17=\"N\",0,IF(K76<=C76,K76,C76)*'Import avoidance model - RR'!$H$18/100)","v":1.5492793287314186},{"$f":"IF(C128<LOGIC!D128,(LOGIC!D128-LOGIC!C128)*IF(AND(LOGIC!B128>'Import avoidance model - RR'!$I$15,LOGIC!B128<'Import avoidance model - RR'!$J$15),'Import avoidance model - RR'!$H$15,'Import avoidance model - RR'!$H$16),0)/100","v":0},{"$f":"IF('Import avoidance model - RR'!$H$17=\"N\",0,IF(D128<=C128,D128,C128)*'Import avoidance model - RR'!$H$18/100)","v":4.3989021312478442},{"$f":"IF(J128<LOGIC!K128,(LOGIC!K128-LOGIC!J128)*IF(AND(LOGIC!B128>'Import avoidance model - RR'!$I$15,LOGIC!B128<'Import avoidance model - RR'!$J$15),'Import avoidance model - RR'!$H$15,'Import avoidance model - RR'!$H$16),0)/100","v":0},{"$f":"IF('Import avoidance model - RR'!$H$17=\"N\",0,IF(K128<=C128,K128,C128)*'Import avoidance model - RR'!$H$18/100)","v":1.5492793287314186},{"$f":"IF(C180<LOGIC!D180,(LOGIC!D180-LOGIC!C180)*IF(AND(LOGIC!B180>'Import avoidance model - RR'!$I$15,LOGIC!B180<'Import avoidance model - RR'!$J$15),'Import avoidance model - RR'!$H$15,'Import avoidance model - RR'!$H$16),0)/100","v":3.1382873774149322},{"$f":"IF('Import avoidance model - RR'!$H$17=\"N\",0,IF(D180<=C180,D180,C180)*'Import avoidance model - RR'!$H$18/100)","v":2.0451865981866444},{"$f":"IF(J180<LOGIC!K180,(LOGIC!K180-LOGIC!J180)*IF(AND(LOGIC!B180>'Import avoidance model - RR'!$I$15,LOGIC!B180<'Import avoidance model - RR'!$J$15),'Import avoidance model - RR'!$H$15,'Import avoidance model - RR'!$H$16),0)/100","v":0},{"$f":"IF('Import avoidance model - RR'!$H$17=\"N\",0,IF(K180<=C180,K180,C180)*'Import avoidance model - RR'!$H$18/100)","v":1.5492793287314186},{"$f":"IF(C24<LOGIC!D24,(LOGIC!D24-LOGIC!C24)*IF(AND(LOGIC!B24>'Import avoidance model - RR'!$I$15,LOGIC!B24<'Import avoidance model - RR'!$J$15),'Import avoidance model - RR'!$H$15,'Import avoidance model - RR'!$H$16),0)/100","v":4.0286438330561554},{"$f":"IF('Import avoidance model - RR'!$H$17=\"N\",0,IF(D24<=C24,D24,C24)*'Import avoidance model - RR'!$H$18/100)","v":1.3774192564557277},{"$f":"IF(J24<LOGIC!K24,(LOGIC!K24-LOGIC!J24)*IF(AND(LOGIC!B180>'Import avoidance model - RR'!$I$15,LOGIC!B180<'Import avoidance model - RR'!$J$15),'Import avoidance model - RR'!$H$15,'Import avoidance model - RR'!$H$16),0)/100","v":0.22914676303425452},{"$f":"IF('Import avoidance model - RR'!$H$17=\"N\",0,IF(K24<=C24,K24,C24)*'Import avoidance model - RR'!$H$18/100)","v":1.3774192564557277},{"$f":"AA76-(IF(AND($R76>'Import avoidance model - RR'!$I$15,$R76<'Import avoidance model - RR'!$J$15),'Import avoidance model - RR'!$H$15*LOGIC!G76,LOGIC!G76*'Import avoidance model - RR'!$H$16)/100)","v":2.0537464567498169},2.8585922886854815,{"$f":"IF('Import avoidance model - RR'!H39=\"N\",0,LOGIC!G76*'Import avoidance model - RR'!$H$20)/100","v":0},{"$f":"AC76-(IF(AND($R76>'Import avoidance model - RR'!$I$15,$R76<'Import avoidance model - RR'!$J$15),'Import avoidance model - RR'!$H$15*LOGIC!N76,LOGIC!N76*'Import avoidance model - RR'!$H$16)/100)","v":0},1.5492793287314186,{"$f":"IF('Import avoidance model - RR'!H39=\"N\",0,LOGIC!N76*'Import avoidance model - RR'!$H$20)/100","v":0},{"$f":"AE76-(IF(AND($R76>'Import avoidance model - RR'!$I$15,$R76<'Import avoidance model - RR'!$J$15),'Import avoidance model - RR'!$H$15*LOGIC!G128,LOGIC!G128*'Import avoidance model - RR'!$H$16)/100)","v":0},4.3989021312478442,{"$f":"IF('Import avoidance model - RR'!H39=\"N\",0,LOGIC!G128*'Import avoidance model - RR'!$H$20)/100","v":0},{"$f":"AG76-(IF(AND($R76>'Import avoidance model - RR'!$I$15,$R76<'Import avoidance model - RR'!$J$15),'Import avoidance model - RR'!$H$15*LOGIC!N128,LOGIC!N128*'Import avoidance model - RR'!$H$16)/100)","v":0},1.5492793287314186,{"$f":"IF('Import avoidance model - RR'!H39=\"N\",0,LOGIC!N128*'Import avoidance model - RR'!$H$20)/100","v":0},{"$f":"AI76-(IF(AND($R76>'Import avoidance model - RR'!$I$15,$R76<'Import avoidance model - RR'!$J$15),'Import avoidance model - RR'!$H$15*LOGIC!G180,LOGIC!G180*'Import avoidance model - RR'!$H$16)/100)","v":3.1382873774149322},2.0451865981866444,{"$f":"IF('Import avoidance model - RR'!H39=\"N\",0,LOGIC!G180*'Import avoidance model - RR'!$H$20)/100","v":0},{"$f":"AK76-(IF(AND($R76>'Import avoidance model - RR'!$I$15,$R76<'Import avoidance model - RR'!$J$15),'Import avoidance model - RR'!$H$15*LOGIC!N180,LOGIC!N180*'Import avoidance model - RR'!$H$16)/100)","v":0},1.5492793287314186,{"$f":"IF('Import avoidance model - RR'!H39=\"N\",0,LOGIC!N180*'Import avoidance model - RR'!$H$20)/100","v":0},{"$f":"AM76-(IF(AND($R76>'Import avoidance model - RR'!$I$15,$R76<'Import avoidance model - RR'!$J$15),'Import avoidance model - RR'!$H$15*LOGIC!G24,LOGIC!G24*'Import avoidance model - RR'!$H$16)/100)","v":4.0286438330561554},1.3774192564557277,{"$f":"IF('Import avoidance model - RR'!H39=\"N\",0,LOGIC!G24*'Import avoidance model - RR'!$H$20)/100","v":0},{"$f":"AO76-(IF(AND($R76>'Import avoidance model - RR'!$I$15,$R76<'Import avoidance model - RR'!$J$15),'Import avoidance model - RR'!$H$15*LOGIC!N24,LOGIC!N24*'Import avoidance model - RR'!$H$16)/100)","v":0.22914676303425452},1.3774192564557277,{"$f":"IF('Import avoidance model - RR'!H39=\"N\",0,LOGIC!N24*'Import avoidance model - RR'!$H$20)/100","v":0}]
[null,"10:00:00",{"$f":"'PV data'!J25","v":67.519270323428728},58.088636099012554,9.430634224416174,9.430634224416174,0,9.430634224416174,{"$f":"IF(AND(I76+H77<=$A$5,I76+H77>$A$3),LOGIC!I76+LOGIC!H77,IF(I76+H77>$A$5,$A$5,$A$3))","v":21.430634224416174},67.519270323428728,20.861135752412025,46.658134571016703,15,0,15,{"$f":"IF(AND(P76+O77<=$A$5,P76+O77>$A$3),LOGIC!P76+LOGIC!O77,IF(P76+O77>$A$5,$A$5,$A$3))","v":60},null,"10:00:00",{"$f":"(IF(AND($R77>'Import avoidance model - RR'!$I$15,'Import avoidance model - RR'!$J$15),'Import avoidance model - RR'!$H$15,'Import avoidance model - RR'!$H$16))*D77/100","v":5.8088636099012554},{"$f":"(IF(AND($R77>'Import avoidance model - RR'!$I$15,'Import avoidance model - RR'!$J$15),'Import avoidance model - RR'!$H$15,'Import avoidance model - RR'!$H$16))*K77/100","v":2.0861135752412023},{"$f":"(IF(AND($R77>'Import avoidance model - RR'!$I$15,'Import avoidance model - RR'!$J$15),'Import avoidance model - RR'!$H$15,'Import avoidance model - RR'!$H$16))*D129/100","v":5.8088636099012554},{"$f":"(IF(AND($R77>'Import avoidance model - RR'!$I$15,'Import avoidance model - RR'!$J$15),'Import avoidance model - RR'!$H$15,'Import avoidance model - RR'!$H$16))*K129/100","v":2.0861135752412023},{"$f":"(IF(AND($R77>'Import avoidance model - RR'!$I$15,'Import avoidance model - RR'!$J$15),'Import avoidance model - RR'!$H$15,'Import avoidance model - RR'!$H$16))*D181/100","v":5.8088636099012554},{"$f":"(IF(AND($R77>'Import avoidance model - RR'!$I$15,'Import avoidance model - RR'!$J$15),'Import avoidance model - RR'!$H$15,'Import avoidance model - RR'!$H$16))*K181/100","v":2.0861135752412023},{"$f":"(IF(AND($R77>'Import avoidance model - RR'!$I$15,'Import avoidance model - RR'!$J$15),'Import avoidance model - RR'!$H$15,'Import avoidance model - RR'!$H$16))*D25/100","v":5.8088636099012554},{"$f":"(IF(AND($R77>'Import avoidance model - RR'!$I$15,'Import avoidance model - RR'!$J$15),'Import avoidance model - RR'!$H$15,'Import avoidance model - RR'!$H$16))*K25/100","v":2.0861135752412023},{"$f":"IF(C77<LOGIC!D77,(LOGIC!D77-LOGIC!C77)*IF(AND(LOGIC!B77>'Import avoidance model - RR'!$I$15,LOGIC!B77<'Import avoidance model - RR'!$J$15),'Import avoidance model - RR'!$H$15,'Import avoidance model - RR'!$H$16),0)/100","v":0},{"$f":"IF('Import avoidance model - RR'!$H$17=\"N\",0,IF(D77<=C77,D77,C77)*'Import avoidance model - RR'!$H$18/100)","v":4.3566477074259415},{"$f":"IF(J77<LOGIC!K77,(LOGIC!K77-LOGIC!J77)*IF(AND(LOGIC!B77>'Import avoidance model - RR'!$I$15,LOGIC!B77<'Import avoidance model - RR'!$J$15),'Import avoidance model - RR'!$H$15,'Import avoidance model - RR'!$H$16),0)/100","v":0},{"$f":"IF('Import avoidance model - RR'!$H$17=\"N\",0,IF(K77<=C77,K77,C77)*'Import avoidance model - RR'!$H$18/100)","v":1.564585181430902},{"$f":"IF(C129<LOGIC!D129,(LOGIC!D129-LOGIC!C129)*IF(AND(LOGIC!B129>'Import avoidance model - RR'!$I$15,LOGIC!B129<'Import avoidance model - RR'!$J$15),'Import avoidance model - RR'!$H$15,'Import avoidance model - RR'!$H$16),0)/100","v":0},{"$f":"IF('Import avoidance model - RR'!$H$17=\"N\",0,IF(D129<=C129,D129,C129)*'Import avoidance model - RR'!$H$18/100)","v":4.3566477074259415},{"$f":"IF(J129<LOGIC!K129,(LOGIC!K129-LOGIC!J129)*IF(AND(LOGIC!B129>'Import avoidance model - RR'!$I$15,LOGIC!B129<'Import avoidance model - RR'!$J$15),'Import avoidance model - RR'!$H$15,'Import avoidance model - RR'!$H$16),0)/100","v":0},{"$f":"IF('Import avoidance model - RR'!$H$17=\"N\",0,IF(K129<=C129,K129,C129)*'Import avoidance model - RR'!$H$18/100)","v":1.564585181430902},{"$f":"IF(C181<LOGIC!D181,(LOGIC!D181-LOGIC!C181)*IF(AND(LOGIC!B181>'Import avoidance model - RR'!$I$15,LOGIC!B181<'Import avoidance model - RR'!$J$15),'Import avoidance model - RR'!$H$15,'Import avoidance model - RR'!$H$16),0)/100","v":0},{"$f":"IF('Import avoidance model - RR'!$H$17=\"N\",0,IF(D181<=C181,D181,C181)*'Import avoidance model - RR'!$H$18/100)","v":4.3566477074259415},{"$f":"IF(J181<LOGIC!K181,(LOGIC!K181-LOGIC!J181)*IF(AND(LOGIC!B181>'Import avoidance model - RR'!$I$15,LOGIC!B181<'Import avoidance model - RR'!$J$15),'Import avoidance model - RR'!$H$15,'Import avoidance model - RR'!$H$16),0)/100","v":0},{"$f":"IF('Import avoidance model - RR'!$H$17=\"N\",0,IF(K181<=C181,K181,C181)*'Import avoidance model - RR'!$H$18/100)","v":1.564585181430902},{"$f":"IF(C25<LOGIC!D25,(LOGIC!D25-LOGIC!C25)*IF(AND(LOGIC!B25>'Import avoidance model - RR'!$I$15,LOGIC!B25<'Import avoidance model - RR'!$J$15),'Import avoidance model - RR'!$H$15,'Import avoidance model - RR'!$H$16),0)/100","v":4.034865807709485},{"$f":"IF('Import avoidance model - RR'!$H$17=\"N\",0,IF(D25<=C25,D25,C25)*'Import avoidance model - RR'!$H$18/100)","v":1.3304983516438273},{"$f":"IF(J25<LOGIC!K25,(LOGIC!K25-LOGIC!J25)*IF(AND(LOGIC!B181>'Import avoidance model - RR'!$I$15,LOGIC!B181<'Import avoidance model - RR'!$J$15),'Import avoidance model - RR'!$H$15,'Import avoidance model - RR'!$H$16),0)/100","v":0.31211577304943283},{"$f":"IF('Import avoidance model - RR'!$H$17=\"N\",0,IF(K25<=C25,K25,C25)*'Import avoidance model - RR'!$H$18/100)","v":1.3304983516438273},{"$f":"AA77-(IF(AND($R77>'Import avoidance model - RR'!$I$15,$R77<'Import avoidance model - RR'!$J$15),'Import avoidance model - RR'!$H$15*LOGIC!G77,LOGIC!G77*'Import avoidance model - RR'!$H$16)/100)","v":0},4.3566477074259415,{"$f":"IF('Import avoidance model - RR'!H40=\"N\",0,LOGIC!G77*'Import avoidance model - RR'!$H$20)/100","v":0},{"$f":"AC77-(IF(AND($R77>'Import avoidance model - RR'!$I$15,$R77<'Import avoidance model - RR'!$J$15),'Import avoidance model - RR'!$H$15*LOGIC!N77,LOGIC!N77*'Import avoidance model - RR'!$H$16)/100)","v":0},1.564585181430902,{"$f":"IF('Import avoidance model - RR'!H40=\"N\",0,LOGIC!N77*'Import avoidance model - RR'!$H$20)/100","v":0},{"$f":"AE77-(IF(AND($R77>'Import avoidance model - RR'!$I$15,$R77<'Import avoidance model - RR'!$J$15),'Import avoidance model - RR'!$H$15*LOGIC!G129,LOGIC!G129*'Import avoidance model - RR'!$H$16)/100)","v":0},4.3566477074259415,{"$f":"IF('Import avoidance model - RR'!H40=\"N\",0,LOGIC!G129*'Import avoidance model - RR'!$H$20)/100","v":0},{"$f":"AG77-(IF(AND($R77>'Import avoidance model - RR'!$I$15,$R77<'Import avoidance model - RR'!$J$15),'Import avoidance model - RR'!$H$15*LOGIC!N129,LOGIC!N129*'Import avoidance model - RR'!$H$16)/100)","v":0},1.564585181430902,{"$f":"IF('Import avoidance model - RR'!H40=\"N\",0,LOGIC!N129*'Import avoidance model - RR'!$H$20)/100","v":0},{"$f":"AI77-(IF(AND($R77>'Import avoidance model - RR'!$I$15,$R77<'Import avoidance model - RR'!$J$15),'Import avoidance model - RR'!$H$15*LOGIC!G181,LOGIC!G181*'Import avoidance model - RR'!$H$16)/100)","v":0},4.3566477074259415,{"$f":"IF('Import avoidance model - RR'!H40=\"N\",0,LOGIC!G181*'Import avoidance model - RR'!$H$20)/100","v":0},{"$f":"AK77-(IF(AND($R77>'Import avoidance model - RR'!$I$15,$R77<'Import avoidance model - RR'!$J$15),'Import avoidance model - RR'!$H$15*LOGIC!N181,LOGIC!N181*'Import avoidance model - RR'!$H$16)/100)","v":0},1.564585181430902,{"$f":"IF('Import avoidance model - RR'!H40=\"N\",0,LOGIC!N181*'Import avoidance model - RR'!$H$20)/100","v":0},{"$f":"AM77-(IF(AND($R77>'Import avoidance model - RR'!$I$15,$R77<'Import avoidance model - RR'!$J$15),'Import avoidance model - RR'!$H$15*LOGIC!G25,LOGIC!G25*'Import avoidance model - RR'!$H$16)/100)","v":4.034865807709485},1.3304983516438273,{"$f":"IF('Import avoidance model - RR'!H40=\"N\",0,LOGIC!G25*'Import avoidance model - RR'!$H$20)/100","v":0},{"$f":"AO77-(IF(AND($R77>'Import avoidance model - RR'!$I$15,$R77<'Import avoidance model - RR'!$J$15),'Import avoidance model - RR'!$H$15*LOGIC!N25,LOGIC!N25*'Import avoidance model - RR'!$H$16)/100)","v":0.31211577304943283},1.3304983516438273,{"$f":"IF('Import avoidance model - RR'!H40=\"N\",0,LOGIC!N25*'Import avoidance model - RR'!$H$20)/100","v":0}]
[null,"10:30:00",{"$f":"'PV data'!J26","v":68.805552873365301},57.937263783099503,10.868289090265797,10.868289090265797,0,10.868289090265797,{"$f":"IF(AND(I77+H78<=$A$5,I77+H78>$A$3),LOGIC!I77+LOGIC!H78,IF(I77+H78>$A$5,$A$5,$A$3))","v":32.298923314681971},68.805552873365301,20.986253855325995,47.819299018039302,15,0,15,{"$f":"IF(AND(P77+O78<=$A$5,P77+O78>$A$3),LOGIC!P77+LOGIC!O78,IF(P77+O78>$A$5,$A$5,$A$3))","v":60},null,"10:30:00",{"$f":"(IF(AND($R78>'Import avoidance model - RR'!$I$15,'Import avoidance model - RR'!$J$15),'Import avoidance model - RR'!$H$15,'Import avoidance model - RR'!$H$16))*D78/100","v":5.79372637830995},{"$f":"(IF(AND($R78>'Import avoidance model - RR'!$I$15,'Import avoidance model - RR'!$J$15),'Import avoidance model - RR'!$H$15,'Import avoidance model - RR'!$H$16))*K78/100","v":2.0986253855325994},{"$f":"(IF(AND($R78>'Import avoidance model - RR'!$I$15,'Import avoidance model - RR'!$J$15),'Import avoidance model - RR'!$H$15,'Import avoidance model - RR'!$H$16))*D130/100","v":5.79372637830995},{"$f":"(IF(AND($R78>'Import avoidance model - RR'!$I$15,'Import avoidance model - RR'!$J$15),'Import avoidance model - RR'!$H$15,'Import avoidance model - RR'!$H$16))*K130/100","v":2.0986253855325994},{"$f":"(IF(AND($R78>'Import avoidance model - RR'!$I$15,'Import avoidance model - RR'!$J$15),'Import avoidance model - RR'!$H$15,'Import avoidance model - RR'!$H$16))*D182/100","v":5.79372637830995},{"$f":"(IF(AND($R78>'Import avoidance model - RR'!$I$15,'Import avoidance model - RR'!$J$15),'Import avoidance model - RR'!$H$15,'Import avoidance model - RR'!$H$16))*K182/100","v":2.0986253855325994},{"$f":"(IF(AND($R78>'Import avoidance model - RR'!$I$15,'Import avoidance model - RR'!$J$15),'Import avoidance model - RR'!$H$15,'Import avoidance model - RR'!$H$16))*D26/100","v":5.79372637830995},{"$f":"(IF(AND($R78>'Import avoidance model - RR'!$I$15,'Import avoidance model - RR'!$J$15),'Import avoidance model - RR'!$H$15,'Import avoidance model - RR'!$H$16))*K26/100","v":2.0986253855325994},{"$f":"IF(C78<LOGIC!D78,(LOGIC!D78-LOGIC!C78)*IF(AND(LOGIC!B78>'Import avoidance model - RR'!$I$15,LOGIC!B78<'Import avoidance model - RR'!$J$15),'Import avoidance model - RR'!$H$15,'Import avoidance model - RR'!$H$16),0)/100","v":0},{"$f":"IF('Import avoidance model - RR'!$H$17=\"N\",0,IF(D78<=C78,D78,C78)*'Import avoidance model - RR'!$H$18/100)","v":4.3452947837324629},{"$f":"IF(J78<LOGIC!K78,(LOGIC!K78-LOGIC!J78)*IF(AND(LOGIC!B78>'Import avoidance model - RR'!$I$15,LOGIC!B78<'Import avoidance model - RR'!$J$15),'Import avoidance model - RR'!$H$15,'Import avoidance model - RR'!$H$16),0)/100","v":0},{"$f":"IF('Import avoidance model - RR'!$H$17=\"N\",0,IF(K78<=C78,K78,C78)*'Import avoidance model - RR'!$H$18/100)","v":1.5739690391494496},{"$f":"IF(C130<LOGIC!D130,(LOGIC!D130-LOGIC!C130)*IF(AND(LOGIC!B130>'Import avoidance model - RR'!$I$15,LOGIC!B130<'Import avoidance model - RR'!$J$15),'Import avoidance model - RR'!$H$15,'Import avoidance model - RR'!$H$16),0)/100","v":1.0786619660333074},{"$f":"IF('Import avoidance model - RR'!$H$17=\"N\",0,IF(D130<=C130,D130,C130)*'Import avoidance model - RR'!$H$18/100)","v":3.5362983092074827},{"$f":"IF(J130<LOGIC!K130,(LOGIC!K130-LOGIC!J130)*IF(AND(LOGIC!B130>'Import avoidance model - RR'!$I$15,LOGIC!B130<'Import avoidance model - RR'!$J$15),'Import avoidance model - RR'!$H$15,'Import avoidance model - RR'!$H$16),0)/100","v":0},{"$f":"IF('Import avoidance model - RR'!$H$17=\"N\",0,IF(K130<=C130,K130,C130)*'Import avoidance model - RR'!$H$18/100)","v":1.5739690391494496},{"$f":"IF(C182<LOGIC!D182,(LOGIC!D182-LOGIC!C182)*IF(AND(LOGIC!B182>'Import avoidance model - RR'!$I$15,LOGIC!B182<'Import avoidance model - RR'!$J$15),'Import avoidance model - RR'!$H$15,'Import avoidance model - RR'!$H$16),0)/100","v":0.26635315608010401},{"$f":"IF('Import avoidance model - RR'!$H$17=\"N\",0,IF(D182<=C182,D182,C182)*'Import avoidance model - RR'!$H$18/100)","v":4.1455299166723849},{"$f":"IF(J182<LOGIC!K182,(LOGIC!K182-LOGIC!J182)*IF(AND(LOGIC!B182>'Import avoidance model - RR'!$I$15,LOGIC!B182<'Import avoidance model - RR'!$J$15),'Import avoidance model - RR'!$H$15,'Import avoidance model - RR'!$H$16),0)/100","v":0},{"$f":"IF('Import avoidance model - RR'!$H$17=\"N\",0,IF(K182<=C182,K182,C182)*'Import avoidance model - RR'!$H$18/100)","v":1.5739690391494496},{"$f":"IF(C26<LOGIC!D26,(LOGIC!D26-LOGIC!C26)*IF(AND(LOGIC!B26>'Import avoidance model - RR'!$I$15,LOGIC!B26<'Import avoidance model - RR'!$J$15),'Import avoidance model - RR'!$H$15,'Import avoidance model - RR'!$H$16),0)/100","v":3.8814143896049704},{"$f":"IF('Import avoidance model - RR'!$H$17=\"N\",0,IF(D26<=C26,D26,C26)*'Import avoidance model - RR'!$H$18/100)","v":1.4342339915287345},{"$f":"IF(J26<LOGIC!K26,(LOGIC!K26-LOGIC!J26)*IF(AND(LOGIC!B182>'Import avoidance model - RR'!$I$15,LOGIC!B182<'Import avoidance model - RR'!$J$15),'Import avoidance model - RR'!$H$15,'Import avoidance model - RR'!$H$16),0)/100","v":0.18631339682761983},{"$f":"IF('Import avoidance model - RR'!$H$17=\"N\",0,IF(K26<=C26,K26,C26)*'Import avoidance model - RR'!$H$18/100)","v":1.4342339915287345},{"$f":"AA78-(IF(AND($R78>'Import avoidance model - RR'!$I$15,$R78<'Import avoidance model - RR'!$J$15),'Import avoidance model - RR'!$H$15*LOGIC!G78,LOGIC!G78*'Import avoidance model - RR'!$H$16)/100)","v":0},4.3452947837324629,{"$f":"IF('Import avoidance model - RR'!H41=\"N\",0,LOGIC!G78*'Import avoidance model - RR'!$H$20)/100","v":0},{"$f":"AC78-(IF(AND($R78>'Import avoidance model - RR'!$I$15,$R78<'Import avoidance model - RR'!$J$15),'Import avoidance model - RR'!$H$15*LOGIC!N78,LOGIC!N78*'Import avoidance model - RR'!$H$16)/100)","v":0},1.5739690391494496,{"$f":"IF('Import avoidance model - RR'!H41=\"N\",0,LOGIC!N78*'Import avoidance model - RR'!$H$20)/100","v":0},{"$f":"AE78-(IF(AND($R78>'Import avoidance model - RR'!$I$15,$R78<'Import avoidance model - RR'!$J$15),'Import avoidance model - RR'!$H$15*LOGIC!G130,LOGIC!G130*'Import avoidance model - RR'!$H$16)/100)","v":0},3.5362983092074827,{"$f":"IF('Import avoidance model - RR'!H41=\"N\",0,LOGIC!G130*'Import avoidance model - RR'!$H$20)/100","v":0.80899647452498047},{"$f":"AG78-(IF(AND($R78>'Import avoidance model - RR'!$I$15,$R78<'Import avoidance model - RR'!$J$15),'Import avoidance model - RR'!$H$15*LOGIC!N130,LOGIC!N130*'Import avoidance model - RR'!$H$16)/100)","v":0},1.5739690391494496,{"$f":"IF('Import avoidance model - RR'!H41=\"N\",0,LOGIC!N130*'Import avoidance model - RR'!$H$20)/100","v":0},{"$f":"AI78-(IF(AND($R78>'Import avoidance model - RR'!$I$15,$R78<'Import avoidance model - RR'!$J$15),'Import avoidance model - RR'!$H$15*LOGIC!G182,LOGIC!G182*'Import avoidance model - RR'!$H$16)/100)","v":0},4.1455299166723849,{"$f":"IF('Import avoidance model - RR'!H41=\"N\",0,LOGIC!G182*'Import avoidance model - RR'!$H$20)/100","v":0.19976486706007801},{"$f":"AK78-(IF(AND($R78>'Import avoidance model - RR'!$I$15,$R78<'Import avoidance model - RR'!$J$15),'Import avoidance model - RR'!$H$15*LOGIC!N182,LOGIC!N182*'Import avoidance model - RR'!$H$16)/100)","v":0},1.5739690391494496,{"$f":"IF('Import avoidance model - RR'!H41=\"N\",0,LOGIC!N182*'Import avoidance model - RR'!$H$20)/100","v":0},{"$f":"AM78-(IF(AND($R78>'Import avoidance model - RR'!$I$15,$R78<'Import avoidance model - RR'!$J$15),'Import avoidance model - RR'!$H$15*LOGIC!G26,LOGIC!G26*'Import avoidance model - RR'!$H$16)/100)","v":3.8814143896049704},1.4342339915287345,{"$f":"IF('Import avoidance model - RR'!H41=\"N\",0,LOGIC!G26*'Import avoidance model - RR'!$H$20)/100","v":0},{"$f":"AO78-(IF(AND($R78>'Import avoidance model - RR'!$I$15,$R78<'Import avoidance model - RR'!$J$15),'Import avoidance model - RR'!$H$15*LOGIC!N26,LOGIC!N26*'Import avoidance model - RR'!$H$16)/100)","v":0.18631339682761983},1.4342339915287345,{"$f":"IF('Import avoidance model - RR'!H41=\"N\",0,LOGIC!N26*'Import avoidance model - RR'!$H$20)/100","v":0}]
[null,"11:00:00",{"$f":"'PV data'!J27","v":44.90016513677579},58.232583813405562,0,0,13.332418676629771,-13.332418676629771,{"$f":"IF(AND(I78+H79<=$A$5,I78+H79>$A$3),LOGIC!I78+LOGIC!H79,IF(I78+H79>$A$5,$A$5,$A$3))","v":18.9665046380522},44.90016513677579,20.95070224366598,23.949462893109811,15,0,15,{"$f":"IF(AND(P78+O79<=$A$5,P78+O79>$A$3),LOGIC!P78+LOGIC!O79,IF(P78+O79>$A$5,$A$5,$A$3))","v":60},null,"11:00:00",{"$f":"(IF(AND($R79>'Import avoidance model - RR'!$I$15,'Import avoidance model - RR'!$J$15),'Import avoidance model - RR'!$H$15,'Import avoidance model - RR'!$H$16))*D79/100","v":5.8232583813405565},{"$f":"(IF(AND($R79>'Import avoidance model - RR'!$I$15,'Import avoidance model - RR'!$J$15),'Import avoidance model - RR'!$H$15,'Import avoidance model - RR'!$H$16))*K79/100","v":2.095070224366598},{"$f":"(IF(AND($R79>'Import avoidance model - RR'!$I$15,'Import avoidance model - RR'!$J$15),'Import avoidance model - RR'!$H$15,'Import avoidance model - RR'!$H$16))*D131/100","v":5.8232583813405565},{"$f":"(IF(AND($R79>'Import avoidance model - RR'!$I$15,'Import avoidance model - RR'!$J$15),'Import avoidance model - RR'!$H$15,'Import avoidance model - RR'!$H$16))*K131/100","v":2.095070224366598},{"$f":"(IF(AND($R79>'Import avoidance model - RR'!$I$15,'Import avoidance model - RR'!$J$15),'Import avoidance model - RR'!$H$15,'Import avoidance model - RR'!$H$16))*D183/100","v":5.8232583813405565},{"$f":"(IF(AND($R79>'Import avoidance model - RR'!$I$15,'Import avoidance model - RR'!$J$15),'Import avoidance model - RR'!$H$15,'Import avoidance model - RR'!$H$16))*K183/100","v":2.095070224366598},{"$f":"(IF(AND($R79>'Import avoidance model - RR'!$I$15,'Import avoidance model - RR'!$J$15),'Import avoidance model - RR'!$H$15,'Import avoidance model - RR'!$H$16))*D27/100","v":5.8232583813405565},{"$f":"(IF(AND($R79>'Import avoidance model - RR'!$I$15,'Import avoidance model - RR'!$J$15),'Import avoidance model - RR'!$H$15,'Import avoidance model - RR'!$H$16))*K27/100","v":2.095070224366598},{"$f":"IF(C79<LOGIC!D79,(LOGIC!D79-LOGIC!C79)*IF(AND(LOGIC!B79>'Import avoidance model - RR'!$I$15,LOGIC!B79<'Import avoidance model - RR'!$J$15),'Import avoidance model - RR'!$H$15,'Import avoidance model - RR'!$H$16),0)/100","v":1.3332418676629771},{"$f":"IF('Import avoidance model - RR'!$H$17=\"N\",0,IF(D79<=C79,D79,C79)*'Import avoidance model - RR'!$H$18/100)","v":3.3675123852581845},{"$f":"IF(J79<LOGIC!K79,(LOGIC!K79-LOGIC!J79)*IF(AND(LOGIC!B79>'Import avoidance model - RR'!$I$15,LOGIC!B79<'Import avoidance model - RR'!$J$15),'Import avoidance model - RR'!$H$15,'Import avoidance model - RR'!$H$16),0)/100","v":0},{"$f":"IF('Import avoidance model - RR'!$H$17=\"N\",0,IF(K79<=C79,K79,C79)*'Import avoidance model - RR'!$H$18/100)","v":1.5713026682749485},{"$f":"IF(C131<LOGIC!D131,(LOGIC!D131-LOGIC!C131)*IF(AND(LOGIC!B131>'Import avoidance model - RR'!$I$15,LOGIC!B131<'Import avoidance model - RR'!$J$15),'Import avoidance model - RR'!$H$15,'Import avoidance model - RR'!$H$16),0)/100","v":0},{"$f":"IF('Import avoidance model - RR'!$H$17=\"N\",0,IF(D131<=C131,D131,C131)*'Import avoidance model - RR'!$H$18/100)","v":4.3674437860054169},{"$f":"IF(J131<LOGIC!K131,(LOGIC!K131-LOGIC!J131)*IF(AND(LOGIC!B131>'Import avoidance model - RR'!$I$15,LOGIC!B131<'Import avoidance model - RR'!$J$15),'Import avoidance model - RR'!$H$15,'Import avoidance model - RR'!$H$16),0)/100","v":0},{"$f":"IF('Import avoidance model - RR'!$H$17=\"N\",0,IF(K131<=C131,K131,C131)*'Import avoidance model - RR'!$H$18/100)","v":1.5713026682749485},{"$f":"IF(C183<LOGIC!D183,(LOGIC!D183-LOGIC!C183)*IF(AND(LOGIC!B183>'Import avoidance model - RR'!$I$15,LOGIC!B183<'Import avoidance model - RR'!$J$15),'Import avoidance model - RR'!$H$15,'Import avoidance model - RR'!$H$16),0)/100","v":0},{"$f":"IF('Import avoidance model - RR'!$H$17=\"N\",0,IF(D183<=C183,D183,C183)*'Import avoidance model - RR'!$H$18/100)","v":4.3674437860054169},{"$f":"IF(J183<LOGIC!K183,(LOGIC!K183-LOGIC!J183)*IF(AND(LOGIC!B183>'Import avoidance model - RR'!$I$15,LOGIC!B183<'Import avoidance model - RR'!$J$15),'Import avoidance model - RR'!$H$15,'Import avoidance model - RR'!$H$16),0)/100","v":0},{"$f":"IF('Import avoidance model - RR'!$H$17=\"N\",0,IF(K183<=C183,K183,C183)*'Import avoidance model - RR'!$H$18/100)","v":1.5713026682749485},{"$f":"IF(C27<LOGIC!D27,(LOGIC!D27-LOGIC!C27)*IF(AND(LOGIC!B27>'Import avoidance model - RR'!$I$15,LOGIC!B27<'Import avoidance model - RR'!$J$15),'Import avoidance model - RR'!$H$15,'Import avoidance model - RR'!$H$16),0)/100","v":1.025360598594498},{"$f":"IF('Import avoidance model - RR'!$H$17=\"N\",0,IF(D27<=C27,D27,C27)*'Import avoidance model - RR'!$H$18/100)","v":3.5984233370595438},{"$f":"IF(J27<LOGIC!K27,(LOGIC!K27-LOGIC!J27)*IF(AND(LOGIC!B183>'Import avoidance model - RR'!$I$15,LOGIC!B183<'Import avoidance model - RR'!$J$15),'Import avoidance model - RR'!$H$15,'Import avoidance model - RR'!$H$16),0)/100","v":0},{"$f":"IF('Import avoidance model - RR'!$H$17=\"N\",0,IF(K27<=C27,K27,C27)*'Import avoidance model - RR'!$H$18/100)","v":1.5713026682749485},{"$f":"AA79-(IF(AND($R79>'Import avoidance model - RR'!$I$15,$R79<'Import avoidance model - RR'!$J$15),'Import avoidance model - RR'!$H$15*LOGIC!G79,LOGIC!G79*'Import avoidance model - RR'!$H$16)/100)","v":0},3.3675123852581845,{"$f":"IF('Import avoidance model - RR'!H42=\"N\",0,LOGIC!G79*'Import avoidance model - RR'!$H$20)/100","v":0.99993140074723286},{"$f":"AC79-(IF(AND($R79>'Import avoidance model - RR'!$I$15,$R79<'Import avoidance model - RR'!$J$15),'Import avoidance model - RR'!$H$15*LOGIC!N79,LOGIC!N79*'Import avoidance model - RR'!$H$16)/100)","v":0},1.5713026682749485,{"$f":"IF('Import avoidance model - RR'!H42=\"N\",0,LOGIC!N79*'Import avoidance model - RR'!$H$20)/100","v":0},{"$f":"AE79-(IF(AND($R79>'Import avoidance model - RR'!$I$15,$R79<'Import avoidance model - RR'!$J$15),'Import avoidance model - RR'!$H$15*LOGIC!G131,LOGIC!G131*'Import avoidance model - RR'!$H$16)/100)","v":0},4.3674437860054169,{"$f":"IF('Import avoidance model - RR'!H42=\"N\",0,LOGIC!G131*'Import avoidance model - RR'!$H$20)/100","v":0},{"$f":"AG79-(IF(AND($R79>'Import avoidance model - RR'!$I$15,$R79<'Import avoidance model - RR'!$J$15),'Import avoidance model - RR'!$H$15*LOGIC!N131,LOGIC!N131*'Import avoidance model - RR'!$H$16)/100)","v":0},1.5713026682749485,{"$f":"IF('Import avoidance model - RR'!H42=\"N\",0,LOGIC!N131*'Import avoidance model - RR'!$H$20)/100","v":0},{"$f":"AI79-(IF(AND($R79>'Import avoidance model - RR'!$I$15,$R79<'Import avoidance model - RR'!$J$15),'Import avoidance model - RR'!$H$15*LOGIC!G183,LOGIC!G183*'Import avoidance model - RR'!$H$16)/100)","v":0},4.3674437860054169,{"$f":"IF('Import avoidance model - RR'!H42=\"N\",0,LOGIC!G183*'Import avoidance model - RR'!$H$20)/100","v":0},{"$f":"AK79-(IF(AND($R79>'Import avoidance model - RR'!$I$15,$R79<'Import avoidance model - RR'!$J$15),'Import avoidance model - RR'!$H$15*LOGIC!N183,LOGIC!N183*'Import avoidance model - RR'!$H$16)/100)","v":0},1.5713026682749485,{"$f":"IF('Import avoidance model - RR'!H42=\"N\",0,LOGIC!N183*'Import avoidance model - RR'!$H$20)/100","v":0},{"$f":"AM79-(IF(AND($R79>'Import avoidance model - RR'!$I$15,$R79<'Import avoidance model - RR'!$J$15),'Import avoidance model - RR'!$H$15*LOGIC!G27,LOGIC!G27*'Import avoidance model - RR'!$H$16)/100)","v":1.025360598594498},3.5984233370595438,{"$f":"IF('Import avoidance model - RR'!H42=\"N\",0,LOGIC!G27*'Import avoidance model - RR'!$H$20)/100","v":0},{"$f":"AO79-(IF(AND($R79>'Import avoidance model - RR'!$I$15,$R79<'Import avoidance model - RR'!$J$15),'Import avoidance model - RR'!$H$15*LOGIC!N27,LOGIC!N27*'Import avoidance model - RR'!$H$16)/100)","v":0},1.5713026682749485,{"$f":"IF('Import avoidance model - RR'!H42=\"N\",0,LOGIC!N27*'Import avoidance model - RR'!$H$20)/100","v":0}]
[null,"11:30:00",{"$f":"'PV data'!J28","v":73.543169768017393},60.052839542871915,13.490330225145478,13.490330225145478,0,13.490330225145478,{"$f":"IF(AND(I79+H80<=$A$5,I79+H80>$A$3),LOGIC!I79+LOGIC!H80,IF(I79+H80>$A$5,$A$5,$A$3))","v":32.456834863197678},73.543169768017393,20.574758681692153,52.96841108632524,15,0,15,{"$f":"IF(AND(P79+O80<=$A$5,P79+O80>$A$3),LOGIC!P79+LOGIC!O80,IF(P79+O80>$A$5,$A$5,$A$3))","v":60},null,"11:30:00",{"$f":"(IF(AND($R80>'Import avoidance model - RR'!$I$15,'Import avoidance model - RR'!$J$15),'Import avoidance model - RR'!$H$15,'Import avoidance model - RR'!$H$16))*D80/100","v":6.005283954287191},{"$f":"(IF(AND($R80>'Import avoidance model - RR'!$I$15,'Import avoidance model - RR'!$J$15),'Import avoidance model - RR'!$H$15,'Import avoidance model - RR'!$H$16))*K80/100","v":2.0574758681692149},{"$f":"(IF(AND($R80>'Import avoidance model - RR'!$I$15,'Import avoidance model - RR'!$J$15),'Import avoidance model - RR'!$H$15,'Import avoidance model - RR'!$H$16))*D132/100","v":6.005283954287191},{"$f":"(IF(AND($R80>'Import avoidance model - RR'!$I$15,'Import avoidance model - RR'!$J$15),'Import avoidance model - RR'!$H$15,'Import avoidance model - RR'!$H$16))*K132/100","v":2.0574758681692149},{"$f":"(IF(AND($R80>'Import avoidance model - RR'!$I$15,'Import avoidance model - RR'!$J$15),'Import avoidance model - RR'!$H$15,'Import avoidance model - RR'!$H$16))*D184/100","v":6.005283954287191},{"$f":"(IF(AND($R80>'Import avoidance model - RR'!$I$15,'Import avoidance model - RR'!$J$15),'Import avoidance model - RR'!$H$15,'Import avoidance model - RR'!$H$16))*K184/100","v":2.0574758681692149},{"$f":"(IF(AND($R80>'Import avoidance model - RR'!$I$15,'Import avoidance model - RR'!$J$15),'Import avoidance model - RR'!$H$15,'Import avoidance model - RR'!$H$16))*D28/100","v":6.005283954287191},{"$f":"(IF(AND($R80>'Import avoidance model - RR'!$I$15,'Import avoidance model - RR'!$J$15),'Import avoidance model - RR'!$H$15,'Import avoidance model - RR'!$H$16))*K28/100","v":2.0574758681692149},{"$f":"IF(C80<LOGIC!D80,(LOGIC!D80-LOGIC!C80)*IF(AND(LOGIC!B80>'Import avoidance model - RR'!$I$15,LOGIC!B80<'Import avoidance model - RR'!$J$15),'Import avoidance model - RR'!$H$15,'Import avoidance model - RR'!$H$16),0)/100","v":0},{"$f":"IF('Import avoidance model - RR'!$H$17=\"N\",0,IF(D80<=C80,D80,C80)*'Import avoidance model - RR'!$H$18/100)","v":4.5039629657153935},{"$f":"IF(J80<LOGIC!K80,(LOGIC!K80-LOGIC!J80)*IF(AND(LOGIC!B80>'Import avoidance model - RR'!$I$15,LOGIC!B80<'Import avoidance model - RR'!$J$15),'Import avoidance model - RR'!$H$15,'Import avoidance model - RR'!$H$16),0)/100","v":0},{"$f":"IF('Import avoidance model - RR'!$H$17=\"N\",0,IF(K80<=C80,K80,C80)*'Import avoidance model - RR'!$H$18/100)","v":1.5431069011269114},{"$f":"IF(C132<LOGIC!D132,(LOGIC!D132-LOGIC!C132)*IF(AND(LOGIC!B132>'Import avoidance model - RR'!$I$15,LOGIC!B132<'Import avoidance model - RR'!$J$15),'Import avoidance model - RR'!$H$15,'Import avoidance model - RR'!$H$16),0)/100","v":0},{"$f":"IF('Import avoidance model - RR'!$H$17=\"N\",0,IF(D132<=C132,D132,C132)*'Import avoidance model - RR'!$H$18/100)","v":4.5039629657153935},{"$f":"IF(J132<LOGIC!K132,(LOGIC!K132-LOGIC!J132)*IF(AND(LOGIC!B132>'Import avoidance model - RR'!$I$15,LOGIC!B132<'Import avoidance model - RR'!$J$15),'Import avoidance model - RR'!$H$15,'Import avoidance model - RR'!$H$16),0)/100","v":0},{"$f":"IF('Import avoidance model - RR'!$H$17=\"N\",0,IF(K132<=C132,K132,C132)*'Import avoidance model - RR'!$H$18/100)","v":1.5431069011269114},{"$f":"IF(C184<LOGIC!D184,(LOGIC!D184-LOGIC!C184)*IF(AND(LOGIC!B184>'Import avoidance model - RR'!$I$15,LOGIC!B184<'Import avoidance model - RR'!$J$15),'Import avoidance model - RR'!$H$15,'Import avoidance model - RR'!$H$16),0)/100","v":0.52576003022428286},{"$f":"IF('Import avoidance model - RR'!$H$17=\"N\",0,IF(D184<=C184,D184,C184)*'Import avoidance model - RR'!$H$18/100)","v":4.1096429430471808},{"$f":"IF(J184<LOGIC!K184,(LOGIC!K184-LOGIC!J184)*IF(AND(LOGIC!B184>'Import avoidance model - RR'!$I$15,LOGIC!B184<'Import avoidance model - RR'!$J$15),'Import avoidance model - RR'!$H$15,'Import avoidance model - RR'!$H$16),0)/100","v":0},{"$f":"IF('Import avoidance model - RR'!$H$17=\"N\",0,IF(K184<=C184,K184,C184)*'Import avoidance model - RR'!$H$18/100)","v":1.5431069011269114},{"$f":"IF(C28<LOGIC!D28,(LOGIC!D28-LOGIC!C28)*IF(AND(LOGIC!B28>'Import avoidance model - RR'!$I$15,LOGIC!B28<'Import avoidance model - RR'!$J$15),'Import avoidance model - RR'!$H$15,'Import avoidance model - RR'!$H$16),0)/100","v":3.5881937423999442},{"$f":"IF('Import avoidance model - RR'!$H$17=\"N\",0,IF(D28<=C28,D28,C28)*'Import avoidance model - RR'!$H$18/100)","v":1.8128176589154357},{"$f":"IF(J28<LOGIC!K28,(LOGIC!K28-LOGIC!J28)*IF(AND(LOGIC!B184>'Import avoidance model - RR'!$I$15,LOGIC!B184<'Import avoidance model - RR'!$J$15),'Import avoidance model - RR'!$H$15,'Import avoidance model - RR'!$H$16),0)/100","v":0},{"$f":"IF('Import avoidance model - RR'!$H$17=\"N\",0,IF(K28<=C28,K28,C28)*'Import avoidance model - RR'!$H$18/100)","v":1.5431069011269114},{"$f":"AA80-(IF(AND($R80>'Import avoidance model - RR'!$I$15,$R80<'Import avoidance model - RR'!$J$15),'Import avoidance model - RR'!$H$15*LOGIC!G80,LOGIC!G80*'Import avoidance model - RR'!$H$16)/100)","v":0},4.5039629657153935,{"$f":"IF('Import avoidance model - RR'!H43=\"N\",0,LOGIC!G80*'Import avoidance model - RR'!$H$20)/100","v":0},{"$f":"AC80-(IF(AND($R80>'Import avoidance model - RR'!$I$15,$R80<'Import avoidance model - RR'!$J$15),'Import avoidance model - RR'!$H$15*LOGIC!N80,LOGIC!N80*'Import avoidance model - RR'!$H$16)/100)","v":0},1.5431069011269114,{"$f":"IF('Import avoidance model - RR'!H43=\"N\",0,LOGIC!N80*'Import avoidance model - RR'!$H$20)/100","v":0},{"$f":"AE80-(IF(AND($R80>'Import avoidance model - RR'!$I$15,$R80<'Import avoidance model - RR'!$J$15),'Import avoidance model - RR'!$H$15*LOGIC!G132,LOGIC!G132*'Import avoidance model - RR'!$H$16)/100)","v":0},4.5039629657153935,{"$f":"IF('Import avoidance model - RR'!H43=\"N\",0,LOGIC!G132*'Import avoidance model - RR'!$H$20)/100","v":0},{"$f":"AG80-(IF(AND($R80>'Import avoidance model - RR'!$I$15,$R80<'Import avoidance model - RR'!$J$15),'Import avoidance model - RR'!$H$15*LOGIC!N132,LOGIC!N132*'Import avoidance model - RR'!$H$16)/100)","v":0},1.5431069011269114,{"$f":"IF('Import avoidance model - RR'!H43=\"N\",0,LOGIC!N132*'Import avoidance model - RR'!$H$20)/100","v":0},{"$f":"AI80-(IF(AND($R80>'Import avoidance model - RR'!$I$15,$R80<'Import avoidance model - RR'!$J$15),'Import avoidance model - RR'!$H$15*LOGIC!G184,LOGIC!G184*'Import avoidance model - RR'!$H$16)/100)","v":0},4.1096429430471808,{"$f":"IF('Import avoidance model - RR'!H43=\"N\",0,LOGIC!G184*'Import avoidance model - RR'!$H$20)/100","v":0.39432002266821214},{"$f":"AK80-(IF(AND($R80>'Import avoidance model - RR'!$I$15,$R80<'Import avoidance model - RR'!$J$15),'Import avoidance model - RR'!$H$15*LOGIC!N184,LOGIC!N184*'Import avoidance model - RR'!$H$16)/100)","v":0},1.5431069011269114,{"$f":"IF('Import avoidance model - RR'!H43=\"N\",0,LOGIC!N184*'Import avoidance model - RR'!$H$20)/100","v":0},{"$f":"AM80-(IF(AND($R80>'Import avoidance model - RR'!$I$15,$R80<'Import avoidance model - RR'!$J$15),'Import avoidance model - RR'!$H$15*LOGIC!G28,LOGIC!G28*'Import avoidance model - RR'!$H$16)/100)","v":3.5881937423999442},1.8128176589154357,{"$f":"IF('Import avoidance model - RR'!H43=\"N\",0,LOGIC!G28*'Import avoidance model - RR'!$H$20)/100","v":0},{"$f":"AO80-(IF(AND($R80>'Import avoidance model - RR'!$I$15,$R80<'Import avoidance model - RR'!$J$15),'Import avoidance model - RR'!$H$15*LOGIC!N28,LOGIC!N28*'Import avoidance model - RR'!$H$16)/100)","v":0},1.5431069011269114,{"$f":"IF('Import avoidance model - RR'!H43=\"N\",0,LOGIC!N28*'Import avoidance model - RR'!$H$20)/100","v":0}]
[null,"12:00:00",{"$f":"'PV data'!J29","v":49.027813029793712},59.064865306048034,0,0,10.037052276254322,-10.037052276254322,{"$f":"IF(AND(I80+H81<=$A$5,I80+H81>$A$3),LOGIC!I80+LOGIC!H81,IF(I80+H81>$A$5,$A$5,$A$3))","v":22.419782586943356},49.027813029793712,20.494816659893111,28.532996369900602,15,0,15,{"$f":"IF(AND(P80+O81<=$A$5,P80+O81>$A$3),LOGIC!P80+LOGIC!O81,IF(P80+O81>$A$5,$A$5,$A$3))","v":60},null,"12:00:00",{"$f":"(IF(AND($R81>'Import avoidance model - RR'!$I$15,'Import avoidance model - RR'!$J$15),'Import avoidance model - RR'!$H$15,'Import avoidance model - RR'!$H$16))*D81/100","v":5.9064865306048038},{"$f":"(IF(AND($R81>'Import avoidance model - RR'!$I$15,'Import avoidance model - RR'!$J$15),'Import avoidance model - RR'!$H$15,'Import avoidance model - RR'!$H$16))*K81/100","v":2.0494816659893109},{"$f":"(IF(AND($R81>'Import avoidance model - RR'!$I$15,'Import avoidance model - RR'!$J$15),'Import avoidance model - RR'!$H$15,'Import avoidance model - RR'!$H$16))*D133/100","v":5.9064865306048038},{"$f":"(IF(AND($R81>'Import avoidance model - RR'!$I$15,'Import avoidance model - RR'!$J$15),'Import avoidance model - RR'!$H$15,'Import avoidance model - RR'!$H$16))*K133/100","v":2.0494816659893109},{"$f":"(IF(AND($R81>'Import avoidance model - RR'!$I$15,'Import avoidance model - RR'!$J$15),'Import avoidance model - RR'!$H$15,'Import avoidance model - RR'!$H$16))*D185/100","v":5.9064865306048038},{"$f":"(IF(AND($R81>'Import avoidance model - RR'!$I$15,'Import avoidance model - RR'!$J$15),'Import avoidance model - RR'!$H$15,'Import avoidance model - RR'!$H$16))*K185/100","v":2.0494816659893109},{"$f":"(IF(AND($R81>'Import avoidance model - RR'!$I$15,'Import avoidance model - RR'!$J$15),'Import avoidance model - RR'!$H$15,'Import avoidance model - RR'!$H$16))*D29/100","v":5.9064865306048038},{"$f":"(IF(AND($R81>'Import avoidance model - RR'!$I$15,'Import avoidance model - RR'!$J$15),'Import avoidance model - RR'!$H$15,'Import avoidance model - RR'!$H$16))*K29/100","v":2.0494816659893109},{"$f":"IF(C81<LOGIC!D81,(LOGIC!D81-LOGIC!C81)*IF(AND(LOGIC!B81>'Import avoidance model - RR'!$I$15,LOGIC!B81<'Import avoidance model - RR'!$J$15),'Import avoidance model - RR'!$H$15,'Import avoidance model - RR'!$H$16),0)/100","v":1.0037052276254321},{"$f":"IF('Import avoidance model - RR'!$H$17=\"N\",0,IF(D81<=C81,D81,C81)*'Import avoidance model - RR'!$H$18/100)","v":3.6770859772345283},{"$f":"IF(J81<LOGIC!K81,(LOGIC!K81-LOGIC!J81)*IF(AND(LOGIC!B81>'Import avoidance model - RR'!$I$15,LOGIC!B81<'Import avoidance model - RR'!$J$15),'Import avoidance model - RR'!$H$15,'Import avoidance model - RR'!$H$16),0)/100","v":0},{"$f":"IF('Import avoidance model - RR'!$H$17=\"N\",0,IF(K81<=C81,K81,C81)*'Import avoidance model - RR'!$H$18/100)","v":1.5371112494919834},{"$f":"IF(C133<LOGIC!D133,(LOGIC!D133-LOGIC!C133)*IF(AND(LOGIC!B133>'Import avoidance model - RR'!$I$15,LOGIC!B133<'Import avoidance model - RR'!$J$15),'Import avoidance model - RR'!$H$15,'Import avoidance model - RR'!$H$16),0)/100","v":0},{"$f":"IF('Import avoidance model - RR'!$H$17=\"N\",0,IF(D133<=C133,D133,C133)*'Import avoidance model - RR'!$H$18/100)","v":4.4298648979536033},{"$f":"IF(J133<LOGIC!K133,(LOGIC!K133-LOGIC!J133)*IF(AND(LOGIC!B133>'Import avoidance model - RR'!$I$15,LOGIC!B133<'Import avoidance model - RR'!$J$15),'Import avoidance model - RR'!$H$15,'Import avoidance model - RR'!$H$16),0)/100","v":0},{"$f":"IF('Import avoidance model - RR'!$H$17=\"N\",0,IF(K133<=C133,K133,C133)*'Import avoidance model - RR'!$H$18/100)","v":1.5371112494919834},{"$f":"IF(C185<LOGIC!D185,(LOGIC!D185-LOGIC!C185)*IF(AND(LOGIC!B185>'Import avoidance model - RR'!$I$15,LOGIC!B185<'Import avoidance model - RR'!$J$15),'Import avoidance model - RR'!$H$15,'Import avoidance model - RR'!$H$16),0)/100","v":2.0548292289898025},{"$f":"IF('Import avoidance model - RR'!$H$17=\"N\",0,IF(D185<=C185,D185,C185)*'Import avoidance model - RR'!$H$18/100)","v":2.8887429762112511},{"$f":"IF(J185<LOGIC!K185,(LOGIC!K185-LOGIC!J185)*IF(AND(LOGIC!B185>'Import avoidance model - RR'!$I$15,LOGIC!B185<'Import avoidance model - RR'!$J$15),'Import avoidance model - RR'!$H$15,'Import avoidance model - RR'!$H$16),0)/100","v":0},{"$f":"IF('Import avoidance model - RR'!$H$17=\"N\",0,IF(K185<=C185,K185,C185)*'Import avoidance model - RR'!$H$18/100)","v":1.5371112494919834},{"$f":"IF(C29<LOGIC!D29,(LOGIC!D29-LOGIC!C29)*IF(AND(LOGIC!B29>'Import avoidance model - RR'!$I$15,LOGIC!B29<'Import avoidance model - RR'!$J$15),'Import avoidance model - RR'!$H$15,'Import avoidance model - RR'!$H$16),0)/100","v":0.48259595359135332},{"$f":"IF('Import avoidance model - RR'!$H$17=\"N\",0,IF(D29<=C29,D29,C29)*'Import avoidance model - RR'!$H$18/100)","v":4.0679179327600874},{"$f":"IF(J29<LOGIC!K29,(LOGIC!K29-LOGIC!J29)*IF(AND(LOGIC!B185>'Import avoidance model - RR'!$I$15,LOGIC!B185<'Import avoidance model - RR'!$J$15),'Import avoidance model - RR'!$H$15,'Import avoidance model - RR'!$H$16),0)/100","v":0},{"$f":"IF('Import avoidance model - RR'!$H$17=\"N\",0,IF(K29<=C29,K29,C29)*'Import avoidance model - RR'!$H$18/100)","v":1.5371112494919834},{"$f":"AA81-(IF(AND($R81>'Import avoidance model - RR'!$I$15,$R81<'Import avoidance model - RR'!$J$15),'Import avoidance model - RR'!$H$15*LOGIC!G81,LOGIC!G81*'Import avoidance model - RR'!$H$16)/100)","v":0},3.6770859772345283,{"$f":"IF('Import avoidance model - RR'!H44=\"N\",0,LOGIC!G81*'Import avoidance model - RR'!$H$20)/100","v":0.75277892071907415},{"$f":"AC81-(IF(AND($R81>'Import avoidance model - RR'!$I$15,$R81<'Import avoidance model - RR'!$J$15),'Import avoidance model - RR'!$H$15*LOGIC!N81,LOGIC!N81*'Import avoidance model - RR'!$H$16)/100)","v":0},1.5371112494919834,{"$f":"IF('Import avoidance model - RR'!H44=\"N\",0,LOGIC!N81*'Import avoidance model - RR'!$H$20)/100","v":0},{"$f":"AE81-(IF(AND($R81>'Import avoidance model - RR'!$I$15,$R81<'Import avoidance model - RR'!$J$15),'Import avoidance model - RR'!$H$15*LOGIC!G133,LOGIC!G133*'Import avoidance model - RR'!$H$16)/100)","v":0},4.4298648979536033,{"$f":"IF('Import avoidance model - RR'!H44=\"N\",0,LOGIC!G133*'Import avoidance model - RR'!$H$20)/100","v":0},{"$f":"AG81-(IF(AND($R81>'Import avoidance model - RR'!$I$15,$R81<'Import avoidance model - RR'!$J$15),'Import avoidance model - RR'!$H$15*LOGIC!N133,LOGIC!N133*'Import avoidance model - RR'!$H$16)/100)","v":0},1.5371112494919834,{"$f":"IF('Import avoidance model - RR'!H44=\"N\",0,LOGIC!N133*'Import avoidance model - RR'!$H$20)/100","v":0},{"$f":"AI81-(IF(AND($R81>'Import avoidance model - RR'!$I$15,$R81<'Import avoidance model - RR'!$J$15),'Import avoidance model - RR'!$H$15*LOGIC!G185,LOGIC!G185*'Import avoidance model - RR'!$H$16)/100)","v":2.0548292289898025},2.8887429762112511,{"$f":"IF('Import avoidance model - RR'!H44=\"N\",0,LOGIC!G185*'Import avoidance model - RR'!$H$20)/100","v":0},{"$f":"AK81-(IF(AND($R81>'Import avoidance model - RR'!$I$15,$R81<'Import avoidance model - RR'!$J$15),'Import avoidance model - RR'!$H$15*LOGIC!N185,LOGIC!N185*'Import avoidance model - RR'!$H$16)/100)","v":0},1.5371112494919834,{"$f":"IF('Import avoidance model - RR'!H44=\"N\",0,LOGIC!N185*'Import avoidance model - RR'!$H$20)/100","v":0},{"$f":"AM81-(IF(AND($R81>'Import avoidance model - RR'!$I$15,$R81<'Import avoidance model - RR'!$J$15),'Import avoidance model - RR'!$H$15*LOGIC!G29,LOGIC!G29*'Import avoidance model - RR'!$H$16)/100)","v":0.48259595359135332},4.0679179327600874,{"$f":"IF('Import avoidance model - RR'!H44=\"N\",0,LOGIC!G29*'Import avoidance model - RR'!$H$20)/100","v":0},{"$f":"AO81-(IF(AND($R81>'Import avoidance model - RR'!$I$15,$R81<'Import avoidance model - RR'!$J$15),'Import avoidance model - RR'!$H$15*LOGIC!N29,LOGIC!N29*'Import avoidance model - RR'!$H$16)/100)","v":0},1.5371112494919834,{"$f":"IF('Import avoidance model - RR'!H44=\"N\",0,LOGIC!N29*'Import avoidance model - RR'!$H$20)/100","v":0}]
[null,"12:30:00",{"$f":"'PV data'!J30","v":94.622845045897307},56.193023992178787,38.42982105371852,15,0,15,{"$f":"IF(AND(I81+H82<=$A$5,I81+H82>$A$3),LOGIC!I81+LOGIC!H82,IF(I81+H82>$A$5,$A$5,$A$3))","v":37.419782586943356},94.622845045897307,20.616988496647409,74.005856549249899,15,0,15,{"$f":"IF(AND(P81+O82<=$A$5,P81+O82>$A$3),LOGIC!P81+LOGIC!O82,IF(P81+O82>$A$5,$A$5,$A$3))","v":60},null,"12:30:00",{"$f":"(IF(AND($R82>'Import avoidance model - RR'!$I$15,'Import avoidance model - RR'!$J$15),'Import avoidance model - RR'!$H$15,'Import avoidance model - RR'!$H$16))*D82/100","v":5.6193023992178794},{"$f":"(IF(AND($R82>'Import avoidance model - RR'!$I$15,'Import avoidance model - RR'!$J$15),'Import avoidance model - RR'!$H$15,'Import avoidance model - RR'!$H$16))*K82/100","v":2.061698849664741},{"$f":"(IF(AND($R82>'Import avoidance model - RR'!$I$15,'Import avoidance model - RR'!$J$15),'Import avoidance model - RR'!$H$15,'Import avoidance model - RR'!$H$16))*D134/100","v":5.6193023992178794},{"$f":"(IF(AND($R82>'Import avoidance model - RR'!$I$15,'Import avoidance model - RR'!$J$15),'Import avoidance model - RR'!$H$15,'Import avoidance model - RR'!$H$16))*K134/100","v":2.061698849664741},{"$f":"(IF(AND($R82>'Import avoidance model - RR'!$I$15,'Import avoidance model - RR'!$J$15),'Import avoidance model - RR'!$H$15,'Import avoidance model - RR'!$H$16))*D186/100","v":5.6193023992178794},{"$f":"(IF(AND($R82>'Import avoidance model - RR'!$I$15,'Import avoidance model - RR'!$J$15),'Import avoidance model - RR'!$H$15,'Import avoidance model - RR'!$H$16))*K186/100","v":2.061698849664741},{"$f":"(IF(AND($R82>'Import avoidance model - RR'!$I$15,'Import avoidance model - RR'!$J$15),'Import avoidance model - RR'!$H$15,'Import avoidance model - RR'!$H$16))*D30/100","v":5.6193023992178794},{"$f":"(IF(AND($R82>'Import avoidance model - RR'!$I$15,'Import avoidance model - RR'!$J$15),'Import avoidance model - RR'!$H$15,'Import avoidance model - RR'!$H$16))*K30/100","v":2.061698849664741},{"$f":"IF(C82<LOGIC!D82,(LOGIC!D82-LOGIC!C82)*IF(AND(LOGIC!B82>'Import avoidance model - RR'!$I$15,LOGIC!B82<'Import avoidance model - RR'!$J$15),'Import avoidance model - RR'!$H$15,'Import avoidance model - RR'!$H$16),0)/100","v":0},{"$f":"IF('Import avoidance model - RR'!$H$17=\"N\",0,IF(D82<=C82,D82,C82)*'Import avoidance model - RR'!$H$18/100)","v":4.2144767994134087},{"$f":"IF(J82<LOGIC!K82,(LOGIC!K82-LOGIC!J82)*IF(AND(LOGIC!B82>'Import avoidance model - RR'!$I$15,LOGIC!B82<'Import avoidance model - RR'!$J$15),'Import avoidance model - RR'!$H$15,'Import avoidance model - RR'!$H$16),0)/100","v":0},{"$f":"IF('Import avoidance model - RR'!$H$17=\"N\",0,IF(K82<=C82,K82,C82)*'Import avoidance model - RR'!$H$18/100)","v":1.5462741372485556},{"$f":"IF(C134<LOGIC!D134,(LOGIC!D134-LOGIC!C134)*IF(AND(LOGIC!B134>'Import avoidance model - RR'!$I$15,LOGIC!B134<'Import avoidance model - RR'!$J$15),'Import avoidance model - RR'!$H$15,'Import avoidance model - RR'!$H$16),0)/100","v":0},{"$f":"IF('Import avoidance model - RR'!$H$17=\"N\",0,IF(D134<=C134,D134,C134)*'Import avoidance model - RR'!$H$18/100)","v":4.2144767994134087},{"$f":"IF(J134<LOGIC!K134,(LOGIC!K134-LOGIC!J134)*IF(AND(LOGIC!B134>'Import avoidance model - RR'!$I$15,LOGIC!B134<'Import avoidance model - RR'!$J$15),'Import avoidance model - RR'!$H$15,'Import avoidance model - RR'!$H$16),0)/100","v":0},{"$f":"IF('Import avoidance model - RR'!$H$17=\"N\",0,IF(K134<=C134,K134,C134)*'Import avoidance model - RR'!$H$18/100)","v":1.5462741372485556},{"$f":"IF(C186<LOGIC!D186,(LOGIC!D186-LOGIC!C186)*IF(AND(LOGIC!B186>'Import avoidance model - RR'!$I$15,LOGIC!B186<'Import avoidance model - RR'!$J$15),'Import avoidance model - RR'!$H$15,'Import avoidance model - RR'!$H$16),0)/100","v":1.1792894061019219},{"$f":"IF('Import avoidance model - RR'!$H$17=\"N\",0,IF(D186<=C186,D186,C186)*'Import avoidance model - RR'!$H$18/100)","v":3.3300097448369677},{"$f":"IF(J186<LOGIC!K186,(LOGIC!K186-LOGIC!J186)*IF(AND(LOGIC!B186>'Import avoidance model - RR'!$I$15,LOGIC!B186<'Import avoidance model - RR'!$J$15),'Import avoidance model - RR'!$H$15,'Import avoidance model - RR'!$H$16),0)/100","v":0},{"$f":"IF('Import avoidance model - RR'!$H$17=\"N\",0,IF(K186<=C186,K186,C186)*'Import avoidance model - RR'!$H$18/100)","v":1.5462741372485556},{"$f":"IF(C30<LOGIC!D30,(LOGIC!D30-LOGIC!C30)*IF(AND(LOGIC!B30>'Import avoidance model - RR'!$I$15,LOGIC!B30<'Import avoidance model - RR'!$J$15),'Import avoidance model - RR'!$H$15,'Import avoidance model - RR'!$H$16),0)/100","v":0.76092645837350759},{"$f":"IF('Import avoidance model - RR'!$H$17=\"N\",0,IF(D30<=C30,D30,C30)*'Import avoidance model - RR'!$H$18/100)","v":3.6437819556332784},{"$f":"IF(J30<LOGIC!K30,(LOGIC!K30-LOGIC!J30)*IF(AND(LOGIC!B186>'Import avoidance model - RR'!$I$15,LOGIC!B186<'Import avoidance model - RR'!$J$15),'Import avoidance model - RR'!$H$15,'Import avoidance model - RR'!$H$16),0)/100","v":0},{"$f":"IF('Import avoidance model - RR'!$H$17=\"N\",0,IF(K30<=C30,K30,C30)*'Import avoidance model - RR'!$H$18/100)","v":1.5462741372485556},{"$f":"AA82-(IF(AND($R82>'Import avoidance model - RR'!$I$15,$R82<'Import avoidance model - RR'!$J$15),'Import avoidance model - RR'!$H$15*LOGIC!G82,LOGIC!G82*'Import avoidance model - RR'!$H$16)/100)","v":0},4.2144767994134087,{"$f":"IF('Import avoidance model - RR'!H45=\"N\",0,LOGIC!G82*'Import avoidance model - RR'!$H$20)/100","v":0},{"$f":"AC82-(IF(AND($R82>'Import avoidance model - RR'!$I$15,$R82<'Import avoidance model - RR'!$J$15),'Import avoidance model - RR'!$H$15*LOGIC!N82,LOGIC!N82*'Import avoidance model - RR'!$H$16)/100)","v":0},1.5462741372485556,{"$f":"IF('Import avoidance model - RR'!H45=\"N\",0,LOGIC!N82*'Import avoidance model - RR'!$H$20)/100","v":0},{"$f":"AE82-(IF(AND($R82>'Import avoidance model - RR'!$I$15,$R82<'Import avoidance model - RR'!$J$15),'Import avoidance model - RR'!$H$15*LOGIC!G134,LOGIC!G134*'Import avoidance model - RR'!$H$16)/100)","v":0},4.2144767994134087,{"$f":"IF('Import avoidance model - RR'!H45=\"N\",0,LOGIC!G134*'Import avoidance model - RR'!$H$20)/100","v":0},{"$f":"AG82-(IF(AND($R82>'Import avoidance model - RR'!$I$15,$R82<'Import avoidance model - RR'!$J$15),'Import avoidance model - RR'!$H$15*LOGIC!N134,LOGIC!N134*'Import avoidance model - RR'!$H$16)/100)","v":0},1.5462741372485556,{"$f":"IF('Import avoidance model - RR'!H45=\"N\",0,LOGIC!N134*'Import avoidance model - RR'!$H$20)/100","v":0},{"$f":"AI82-(IF(AND($R82>'Import avoidance model - RR'!$I$15,$R82<'Import avoidance model - RR'!$J$15),'Import avoidance model - RR'!$H$15*LOGIC!G186,LOGIC!G186*'Import avoidance model - RR'!$H$16)/100)","v":1.1792894061019219},3.3300097448369677,{"$f":"IF('Import avoidance model - RR'!H45=\"N\",0,LOGIC!G186*'Import avoidance model - RR'!$H$20)/100","v":0},{"$f":"AK82-(IF(AND($R82>'Import avoidance model - RR'!$I$15,$R82<'Import avoidance model - RR'!$J$15),'Import avoidance model - RR'!$H$15*LOGIC!N186,LOGIC!N186*'Import avoidance model - RR'!$H$16)/100)","v":0},1.5462741372485556,{"$f":"IF('Import avoidance model - RR'!H45=\"N\",0,LOGIC!N186*'Import avoidance model - RR'!$H$20)/100","v":0},{"$f":"AM82-(IF(AND($R82>'Import avoidance model - RR'!$I$15,$R82<'Import avoidance model - RR'!$J$15),'Import avoidance model - RR'!$H$15*LOGIC!G30,LOGIC!G30*'Import avoidance model - RR'!$H$16)/100)","v":0.76092645837350759},3.6437819556332784,{"$f":"IF('Import avoidance model - RR'!H45=\"N\",0,LOGIC!G30*'Import avoidance model - RR'!$H$20)/100","v":0},{"$f":"AO82-(IF(AND($R82>'Import avoidance model - RR'!$I$15,$R82<'Import avoidance model - RR'!$J$15),'Import avoidance model - RR'!$H$15*LOGIC!N30,LOGIC!N30*'Import avoidance model - RR'!$H$16)/100)","v":0},1.5462741372485556,{"$f":"IF('Import avoidance model - RR'!H45=\"N\",0,LOGIC!N30*'Import avoidance model - RR'!$H$20)/100","v":0}]
[null,"13:00:00",{"$f":"'PV data'!J31","v":43.853979510796684},54.093834394522318,0,0,10.239854883725634,-10.239854883725634,{"$f":"IF(AND(I82+H83<=$A$5,I82+H83>$A$3),LOGIC!I82+LOGIC!H83,IF(I82+H83>$A$5,$A$5,$A$3))","v":27.179927703217722},43.853979510796684,20.396804205648106,23.457175305148578,15,0,15,{"$f":"IF(AND(P82+O83<=$A$5,P82+O83>$A$3),LOGIC!P82+LOGIC!O83,IF(P82+O83>$A$5,$A$5,$A$3))","v":60},null,"13:00:00",{"$f":"(IF(AND($R83>'Import avoidance model - RR'!$I$15,'Import avoidance model - RR'!$J$15),'Import avoidance model - RR'!$H$15,'Import avoidance model - RR'!$H$16))*D83/100","v":5.409383439452232},{"$f":"(IF(AND($R83>'Import avoidance model - RR'!$I$15,'Import avoidance model - RR'!$J$15),'Import avoidance model - RR'!$H$15,'Import avoidance model - RR'!$H$16))*K83/100","v":2.0396804205648107},{"$f":"(IF(AND($R83>'Import avoidance model - RR'!$I$15,'Import avoidance model - RR'!$J$15),'Import avoidance model - RR'!$H$15,'Import avoidance model - RR'!$H$16))*D135/100","v":5.409383439452232},{"$f":"(IF(AND($R83>'Import avoidance model - RR'!$I$15,'Import avoidance model - RR'!$J$15),'Import avoidance model - RR'!$H$15,'Import avoidance model - RR'!$H$16))*K135/100","v":2.0396804205648107},{"$f":"(IF(AND($R83>'Import avoidance model - RR'!$I$15,'Import avoidance model - RR'!$J$15),'Import avoidance model - RR'!$H$15,'Import avoidance model - RR'!$H$16))*D187/100","v":5.409383439452232},{"$f":"(IF(AND($R83>'Import avoidance model - RR'!$I$15,'Import avoidance model - RR'!$J$15),'Import avoidance model - RR'!$H$15,'Import avoidance model - RR'!$H$16))*K187/100","v":2.0396804205648107},{"$f":"(IF(AND($R83>'Import avoidance model - RR'!$I$15,'Import avoidance model - RR'!$J$15),'Import avoidance model - RR'!$H$15,'Import avoidance model - RR'!$H$16))*D31/100","v":5.409383439452232},{"$f":"(IF(AND($R83>'Import avoidance model - RR'!$I$15,'Import avoidance model - RR'!$J$15),'Import avoidance model - RR'!$H$15,'Import avoidance model - RR'!$H$16))*K31/100","v":2.0396804205648107},{"$f":"IF(C83<LOGIC!D83,(LOGIC!D83-LOGIC!C83)*IF(AND(LOGIC!B83>'Import avoidance model - RR'!$I$15,LOGIC!B83<'Import avoidance model - RR'!$J$15),'Import avoidance model - RR'!$H$15,'Import avoidance model - RR'!$H$16),0)/100","v":1.0239854883725634},{"$f":"IF('Import avoidance model - RR'!$H$17=\"N\",0,IF(D83<=C83,D83,C83)*'Import avoidance model - RR'!$H$18/100)","v":3.2890484633097516},{"$f":"IF(J83<LOGIC!K83,(LOGIC!K83-LOGIC!J83)*IF(AND(LOGIC!B83>'Import avoidance model - RR'!$I$15,LOGIC!B83<'Import avoidance model - RR'!$J$15),'Import avoidance model - RR'!$H$15,'Import avoidance model - RR'!$H$16),0)/100","v":0},{"$f":"IF('Import avoidance model - RR'!$H$17=\"N\",0,IF(K83<=C83,K83,C83)*'Import avoidance model - RR'!$H$18/100)","v":1.5297603154236079},{"$f":"IF(C135<LOGIC!D135,(LOGIC!D135-LOGIC!C135)*IF(AND(LOGIC!B135>'Import avoidance model - RR'!$I$15,LOGIC!B135<'Import avoidance model - RR'!$J$15),'Import avoidance model - RR'!$H$15,'Import avoidance model - RR'!$H$16),0)/100","v":0},{"$f":"IF('Import avoidance model - RR'!$H$17=\"N\",0,IF(D135<=C135,D135,C135)*'Import avoidance model - RR'!$H$18/100)","v":4.0570375795891742},{"$f":"IF(J135<LOGIC!K135,(LOGIC!K135-LOGIC!J135)*IF(AND(LOGIC!B135>'Import avoidance model - RR'!$I$15,LOGIC!B135<'Import avoidance model - RR'!$J$15),'Import avoidance model - RR'!$H$15,'Import avoidance model - RR'!$H$16),0)/100","v":0},{"$f":"IF('Import avoidance model - RR'!$H$17=\"N\",0,IF(K135<=C135,K135,C135)*'Import avoidance model - RR'!$H$18/100)","v":1.5297603154236079},{"$f":"IF(C187<LOGIC!D187,(LOGIC!D187-LOGIC!C187)*IF(AND(LOGIC!B187>'Import avoidance model - RR'!$I$15,LOGIC!B187<'Import avoidance model - RR'!$J$15),'Import avoidance model - RR'!$H$15,'Import avoidance model - RR'!$H$16),0)/100","v":1.9346500183362598},{"$f":"IF('Import avoidance model - RR'!$H$17=\"N\",0,IF(D187<=C187,D187,C187)*'Import avoidance model - RR'!$H$18/100)","v":2.6060500658369792},{"$f":"IF(J187<LOGIC!K187,(LOGIC!K187-LOGIC!J187)*IF(AND(LOGIC!B187>'Import avoidance model - RR'!$I$15,LOGIC!B187<'Import avoidance model - RR'!$J$15),'Import avoidance model - RR'!$H$15,'Import avoidance model - RR'!$H$16),0)/100","v":0},{"$f":"IF('Import avoidance model - RR'!$H$17=\"N\",0,IF(K187<=C187,K187,C187)*'Import avoidance model - RR'!$H$18/100)","v":1.5297603154236079},{"$f":"IF(C31<LOGIC!D31,(LOGIC!D31-LOGIC!C31)*IF(AND(LOGIC!B31>'Import avoidance model - RR'!$I$15,LOGIC!B31<'Import avoidance model - RR'!$J$15),'Import avoidance model - RR'!$H$15,'Import avoidance model - RR'!$H$16),0)/100","v":3.140258362168217},{"$f":"IF('Import avoidance model - RR'!$H$17=\"N\",0,IF(D31<=C31,D31,C31)*'Import avoidance model - RR'!$H$18/100)","v":1.7018438079630114},{"$f":"IF(J31<LOGIC!K31,(LOGIC!K31-LOGIC!J31)*IF(AND(LOGIC!B187>'Import avoidance model - RR'!$I$15,LOGIC!B187<'Import avoidance model - RR'!$J$15),'Import avoidance model - RR'!$H$15,'Import avoidance model - RR'!$H$16),0)/100","v":0},{"$f":"IF('Import avoidance model - RR'!$H$17=\"N\",0,IF(K31<=C31,K31,C31)*'Import avoidance model - RR'!$H$18/100)","v":1.5297603154236079},{"$f":"AA83-(IF(AND($R83>'Import avoidance model - RR'!$I$15,$R83<'Import avoidance model - RR'!$J$15),'Import avoidance model - RR'!$H$15*LOGIC!G83,LOGIC!G83*'Import avoidance model - RR'!$H$16)/100)","v":0},3.2890484633097516,{"$f":"IF('Import avoidance model - RR'!H46=\"N\",0,LOGIC!G83*'Import avoidance model - RR'!$H$20)/100","v":0.76798911627942257},{"$f":"AC83-(IF(AND($R83>'Import avoidance model - RR'!$I$15,$R83<'Import avoidance model - RR'!$J$15),'Import avoidance model - RR'!$H$15*LOGIC!N83,LOGIC!N83*'Import avoidance model - RR'!$H$16)/100)","v":0},1.5297603154236079,{"$f":"IF('Import avoidance model - RR'!H46=\"N\",0,LOGIC!N83*'Import avoidance model - RR'!$H$20)/100","v":0},{"$f":"AE83-(IF(AND($R83>'Import avoidance model - RR'!$I$15,$R83<'Import avoidance model - RR'!$J$15),'Import avoidance model - RR'!$H$15*LOGIC!G135,LOGIC!G135*'Import avoidance model - RR'!$H$16)/100)","v":0},4.0570375795891742,{"$f":"IF('Import avoidance model - RR'!H46=\"N\",0,LOGIC!G135*'Import avoidance model - RR'!$H$20)/100","v":0},{"$f":"AG83-(IF(AND($R83>'Import avoidance model - RR'!$I$15,$R83<'Import avoidance model - RR'!$J$15),'Import avoidance model - RR'!$H$15*LOGIC!N135,LOGIC!N135*'Import avoidance model - RR'!$H$16)/100)","v":0},1.5297603154236079,{"$f":"IF('Import avoidance model - RR'!H46=\"N\",0,LOGIC!N135*'Import avoidance model - RR'!$H$20)/100","v":0},{"$f":"AI83-(IF(AND($R83>'Import avoidance model - RR'!$I$15,$R83<'Import avoidance model - RR'!$J$15),'Import avoidance model - RR'!$H$15*LOGIC!G187,LOGIC!G187*'Import avoidance model - RR'!$H$16)/100)","v":1.9346500183362598},2.6060500658369792,{"$f":"IF('Import avoidance model - RR'!H46=\"N\",0,LOGIC!G187*'Import avoidance model - RR'!$H$20)/100","v":0},{"$f":"AK83-(IF(AND($R83>'Import avoidance model - RR'!$I$15,$R83<'Import avoidance model - RR'!$J$15),'Import avoidance model - RR'!$H$15*LOGIC!N187,LOGIC!N187*'Import avoidance model - RR'!$H$16)/100)","v":0},1.5297603154236079,{"$f":"IF('Import avoidance model - RR'!H46=\"N\",0,LOGIC!N187*'Import avoidance model - RR'!$H$20)/100","v":0},{"$f":"AM83-(IF(AND($R83>'Import avoidance model - RR'!$I$15,$R83<'Import avoidance model - RR'!$J$15),'Import avoidance model - RR'!$H$15*LOGIC!G31,LOGIC!G31*'Import avoidance model - RR'!$H$16)/100)","v":3.140258362168217},1.7018438079630114,{"$f":"IF('Import avoidance model - RR'!H46=\"N\",0,LOGIC!G31*'Import avoidance model - RR'!$H$20)/100","v":0},{"$f":"AO83-(IF(AND($R83>'Import avoidance model - RR'!$I$15,$R83<'Import avoidance model - RR'!$J$15),'Import avoidance model - RR'!$H$15*LOGIC!N31,LOGIC!N31*'Import avoidance model - RR'!$H$16)/100)","v":0},1.5297603154236079,{"$f":"IF('Import avoidance model - RR'!H46=\"N\",0,LOGIC!N31*'Import avoidance model - RR'!$H$20)/100","v":0}]
[null,"13:30:00",{"$f":"'PV data'!J32","v":85.196123645612303},50.031799806992829,35.164323838619474,15,0,15,{"$f":"IF(AND(I83+H84<=$A$5,I83+H84>$A$3),LOGIC!I83+LOGIC!H84,IF(I83+H84>$A$5,$A$5,$A$3))","v":42.179927703217722},85.196123645612303,20.362823935939918,64.833299709672389,15,0,15,{"$f":"IF(AND(P83+O84<=$A$5,P83+O84>$A$3),LOGIC!P83+LOGIC!O84,IF(P83+O84>$A$5,$A$5,$A$3))","v":60},null,"13:30:00",{"$f":"(IF(AND($R84>'Import avoidance model - RR'!$I$15,'Import avoidance model - RR'!$J$15),'Import avoidance model - RR'!$H$15,'Import avoidance model - RR'!$H$16))*D84/100","v":5.0031799806992829},{"$f":"(IF(AND($R84>'Import avoidance model - RR'!$I$15,'Import avoidance model - RR'!$J$15),'Import avoidance model - RR'!$H$15,'Import avoidance model - RR'!$H$16))*K84/100","v":2.0362823935939915},{"$f":"(IF(AND($R84>'Import avoidance model - RR'!$I$15,'Import avoidance model - RR'!$J$15),'Import avoidance model - RR'!$H$15,'Import avoidance model - RR'!$H$16))*D136/100","v":5.0031799806992829},{"$f":"(IF(AND($R84>'Import avoidance model - RR'!$I$15,'Import avoidance model - RR'!$J$15),'Import avoidance model - RR'!$H$15,'Import avoidance model - RR'!$H$16))*K136/100","v":2.0362823935939915},{"$f":"(IF(AND($R84>'Import avoidance model - RR'!$I$15,'Import avoidance model - RR'!$J$15),'Import avoidance model - RR'!$H$15,'Import avoidance model - RR'!$H$16))*D188/100","v":5.0031799806992829},{"$f":"(IF(AND($R84>'Import avoidance model - RR'!$I$15,'Import avoidance model - RR'!$J$15),'Import avoidance model - RR'!$H$15,'Import avoidance model - RR'!$H$16))*K188/100","v":2.0362823935939915},{"$f":"(IF(AND($R84>'Import avoidance model - RR'!$I$15,'Import avoidance model - RR'!$J$15),'Import avoidance model - RR'!$H$15,'Import avoidance model - RR'!$H$16))*D32/100","v":5.0031799806992829},{"$f":"(IF(AND($R84>'Import avoidance model - RR'!$I$15,'Import avoidance model - RR'!$J$15),'Import avoidance model - RR'!$H$15,'Import avoidance model - RR'!$H$16))*K32/100","v":2.0362823935939915},{"$f":"IF(C84<LOGIC!D84,(LOGIC!D84-LOGIC!C84)*IF(AND(LOGIC!B84>'Import avoidance model - RR'!$I$15,LOGIC!B84<'Import avoidance model - RR'!$J$15),'Import avoidance model - RR'!$H$15,'Import avoidance model - RR'!$H$16),0)/100","v":0},{"$f":"IF('Import avoidance model - RR'!$H$17=\"N\",0,IF(D84<=C84,D84,C84)*'Import avoidance model - RR'!$H$18/100)","v":3.7523849855244622},{"$f":"IF(J84<LOGIC!K84,(LOGIC!K84-LOGIC!J84)*IF(AND(LOGIC!B84>'Import avoidance model - RR'!$I$15,LOGIC!B84<'Import avoidance model - RR'!$J$15),'Import avoidance model - RR'!$H$15,'Import avoidance model - RR'!$H$16),0)/100","v":0},{"$f":"IF('Import avoidance model - RR'!$H$17=\"N\",0,IF(K84<=C84,K84,C84)*'Import avoidance model - RR'!$H$18/100)","v":1.527211795195494},{"$f":"IF(C136<LOGIC!D136,(LOGIC!D136-LOGIC!C136)*IF(AND(LOGIC!B136>'Import avoidance model - RR'!$I$15,LOGIC!B136<'Import avoidance model - RR'!$J$15),'Import avoidance model - RR'!$H$15,'Import avoidance model - RR'!$H$16),0)/100","v":0},{"$f":"IF('Import avoidance model - RR'!$H$17=\"N\",0,IF(D136<=C136,D136,C136)*'Import avoidance model - RR'!$H$18/100)","v":3.7523849855244622},{"$f":"IF(J136<LOGIC!K136,(LOGIC!K136-LOGIC!J136)*IF(AND(LOGIC!B136>'Import avoidance model - RR'!$I$15,LOGIC!B136<'Import avoidance model - RR'!$J$15),'Import avoidance model - RR'!$H$15,'Import avoidance model - RR'!$H$16),0)/100","v":0},{"$f":"IF('Import avoidance model - RR'!$H$17=\"N\",0,IF(K136<=C136,K136,C136)*'Import avoidance model - RR'!$H$18/100)","v":1.527211795195494},{"$f":"IF(C188<LOGIC!D188,(LOGIC!D188-LOGIC!C188)*IF(AND(LOGIC!B188>'Import avoidance model - RR'!$I$15,LOGIC!B188<'Import avoidance model - RR'!$J$15),'Import avoidance model - RR'!$H$15,'Import avoidance model - RR'!$H$16),0)/100","v":0.15191639600198953},{"$f":"IF('Import avoidance model - RR'!$H$17=\"N\",0,IF(D188<=C188,D188,C188)*'Import avoidance model - RR'!$H$18/100)","v":3.6384476885229704},{"$f":"IF(J188<LOGIC!K188,(LOGIC!K188-LOGIC!J188)*IF(AND(LOGIC!B188>'Import avoidance model - RR'!$I$15,LOGIC!B188<'Import avoidance model - RR'!$J$15),'Import avoidance model - RR'!$H$15,'Import avoidance model - RR'!$H$16),0)/100","v":0},{"$f":"IF('Import avoidance model - RR'!$H$17=\"N\",0,IF(K188<=C188,K188,C188)*'Import avoidance model - RR'!$H$18/100)","v":1.527211795195494},{"$f":"IF(C32<LOGIC!D32,(LOGIC!D32-LOGIC!C32)*IF(AND(LOGIC!B32>'Import avoidance model - RR'!$I$15,LOGIC!B32<'Import avoidance model - RR'!$J$15),'Import avoidance model - RR'!$H$15,'Import avoidance model - RR'!$H$16),0)/100","v":2.0233094053260321},{"$f":"IF('Import avoidance model - RR'!$H$17=\"N\",0,IF(D32<=C32,D32,C32)*'Import avoidance model - RR'!$H$18/100)","v":2.234902931529938},{"$f":"IF(J32<LOGIC!K32,(LOGIC!K32-LOGIC!J32)*IF(AND(LOGIC!B188>'Import avoidance model - RR'!$I$15,LOGIC!B188<'Import avoidance model - RR'!$J$15),'Import avoidance model - RR'!$H$15,'Import avoidance model - RR'!$H$16),0)/100","v":0},{"$f":"IF('Import avoidance model - RR'!$H$17=\"N\",0,IF(K32<=C32,K32,C32)*'Import avoidance model - RR'!$H$18/100)","v":1.527211795195494},{"$f":"AA84-(IF(AND($R84>'Import avoidance model - RR'!$I$15,$R84<'Import avoidance model - RR'!$J$15),'Import avoidance model - RR'!$H$15*LOGIC!G84,LOGIC!G84*'Import avoidance model - RR'!$H$16)/100)","v":0},3.7523849855244622,{"$f":"IF('Import avoidance model - RR'!H47=\"N\",0,LOGIC!G84*'Import avoidance model - RR'!$H$20)/100","v":0},{"$f":"AC84-(IF(AND($R84>'Import avoidance model - RR'!$I$15,$R84<'Import avoidance model - RR'!$J$15),'Import avoidance model - RR'!$H$15*LOGIC!N84,LOGIC!N84*'Import avoidance model - RR'!$H$16)/100)","v":0},1.527211795195494,{"$f":"IF('Import avoidance model - RR'!H47=\"N\",0,LOGIC!N84*'Import avoidance model - RR'!$H$20)/100","v":0},{"$f":"AE84-(IF(AND($R84>'Import avoidance model - RR'!$I$15,$R84<'Import avoidance model - RR'!$J$15),'Import avoidance model - RR'!$H$15*LOGIC!G136,LOGIC!G136*'Import avoidance model - RR'!$H$16)/100)","v":0},3.7523849855244622,{"$f":"IF('Import avoidance model - RR'!H47=\"N\",0,LOGIC!G136*'Import avoidance model - RR'!$H$20)/100","v":0},{"$f":"AG84-(IF(AND($R84>'Import avoidance model - RR'!$I$15,$R84<'Import avoidance model - RR'!$J$15),'Import avoidance model - RR'!$H$15*LOGIC!N136,LOGIC!N136*'Import avoidance model - RR'!$H$16)/100)","v":0},1.527211795195494,{"$f":"IF('Import avoidance model - RR'!H47=\"N\",0,LOGIC!N136*'Import avoidance model - RR'!$H$20)/100","v":0},{"$f":"AI84-(IF(AND($R84>'Import avoidance model - RR'!$I$15,$R84<'Import avoidance model - RR'!$J$15),'Import avoidance model - RR'!$H$15*LOGIC!G188,LOGIC!G188*'Import avoidance model - RR'!$H$16)/100)","v":0.15191639600198953},3.6384476885229704,{"$f":"IF('Import avoidance model - RR'!H47=\"N\",0,LOGIC!G188*'Import avoidance model - RR'!$H$20)/100","v":0},{"$f":"AK84-(IF(AND($R84>'Import avoidance model - RR'!$I$15,$R84<'Import avoidance model - RR'!$J$15),'Import avoidance model - RR'!$H$15*LOGIC!N188,LOGIC!N188*'Import avoidance model - RR'!$H$16)/100)","v":0},1.527211795195494,{"$f":"IF('Import avoidance model - RR'!H47=\"N\",0,LOGIC!N188*'Import avoidance model - RR'!$H$20)/100","v":0},{"$f":"AM84-(IF(AND($R84>'Import avoidance model - RR'!$I$15,$R84<'Import avoidance model - RR'!$J$15),'Import avoidance model - RR'!$H$15*LOGIC!G32,LOGIC!G32*'Import avoidance model - RR'!$H$16)/100)","v":2.0233094053260321},2.234902931529938,{"$f":"IF('Import avoidance model - RR'!H47=\"N\",0,LOGIC!G32*'Import avoidance model - RR'!$H$20)/100","v":0},{"$f":"AO84-(IF(AND($R84>'Import avoidance model - RR'!$I$15,$R84<'Import avoidance model - RR'!$J$15),'Import avoidance model - RR'!$H$15*LOGIC!N32,LOGIC!N32*'Import avoidance model - RR'!$H$16)/100)","v":0},1.527211795195494,{"$f":"IF('Import avoidance model - RR'!H47=\"N\",0,LOGIC!N32*'Import avoidance model - RR'!$H$20)/100","v":0}]
[null,"14:00:00",{"$f":"'PV data'!J33","v":70.686092183786386},47.432190856681693,23.253901327104693,15,0,15,{"$f":"IF(AND(I84+H85<=$A$5,I84+H85>$A$3),LOGIC!I84+LOGIC!H85,IF(I84+H85>$A$5,$A$5,$A$3))","v":57.179927703217722},70.686092183786386,20.201172132646054,50.484920051140335,15,0,15,{"$f":"IF(AND(P84+O85<=$A$5,P84+O85>$A$3),LOGIC!P84+LOGIC!O85,IF(P84+O85>$A$5,$A$5,$A$3))","v":60},null,"14:00:00",{"$f":"(IF(AND($R85>'Import avoidance model - RR'!$I$15,'Import avoidance model - RR'!$J$15),'Import avoidance model - RR'!$H$15,'Import avoidance model - RR'!$H$16))*D85/100","v":4.7432190856681693},{"$f":"(IF(AND($R85>'Import avoidance model - RR'!$I$15,'Import avoidance model - RR'!$J$15),'Import avoidance model - RR'!$H$15,'Import avoidance model - RR'!$H$16))*K85/100","v":2.0201172132646055},{"$f":"(IF(AND($R85>'Import avoidance model - RR'!$I$15,'Import avoidance model - RR'!$J$15),'Import avoidance model - RR'!$H$15,'Import avoidance model - RR'!$H$16))*D137/100","v":4.7432190856681693},{"$f":"(IF(AND($R85>'Import avoidance model - RR'!$I$15,'Import avoidance model - RR'!$J$15),'Import avoidance model - RR'!$H$15,'Import avoidance model - RR'!$H$16))*K137/100","v":2.0201172132646055},{"$f":"(IF(AND($R85>'Import avoidance model - RR'!$I$15,'Import avoidance model - RR'!$J$15),'Import avoidance model - RR'!$H$15,'Import avoidance model - RR'!$H$16))*D189/100","v":4.7432190856681693},{"$f":"(IF(AND($R85>'Import avoidance model - RR'!$I$15,'Import avoidance model - RR'!$J$15),'Import avoidance model - RR'!$H$15,'Import avoidance model - RR'!$H$16))*K189/100","v":2.0201172132646055},{"$f":"(IF(AND($R85>'Import avoidance model - RR'!$I$15,'Import avoidance model - RR'!$J$15),'Import avoidance model - RR'!$H$15,'Import avoidance model - RR'!$H$16))*D33/100","v":4.7432190856681693},{"$f":"(IF(AND($R85>'Import avoidance model - RR'!$I$15,'Import avoidance model - RR'!$J$15),'Import avoidance model - RR'!$H$15,'Import avoidance model - RR'!$H$16))*K33/100","v":2.0201172132646055},{"$f":"IF(C85<LOGIC!D85,(LOGIC!D85-LOGIC!C85)*IF(AND(LOGIC!B85>'Import avoidance model - RR'!$I$15,LOGIC!B85<'Import avoidance model - RR'!$J$15),'Import avoidance model - RR'!$H$15,'Import avoidance model - RR'!$H$16),0)/100","v":0},{"$f":"IF('Import avoidance model - RR'!$H$17=\"N\",0,IF(D85<=C85,D85,C85)*'Import avoidance model - RR'!$H$18/100)","v":3.557414314251127},{"$f":"IF(J85<LOGIC!K85,(LOGIC!K85-LOGIC!J85)*IF(AND(LOGIC!B85>'Import avoidance model - RR'!$I$15,LOGIC!B85<'Import avoidance model - RR'!$J$15),'Import avoidance model - RR'!$H$15,'Import avoidance model - RR'!$H$16),0)/100","v":0},{"$f":"IF('Import avoidance model - RR'!$H$17=\"N\",0,IF(K85<=C85,K85,C85)*'Import avoidance model - RR'!$H$18/100)","v":1.5150879099484542},{"$f":"IF(C137<LOGIC!D137,(LOGIC!D137-LOGIC!C137)*IF(AND(LOGIC!B137>'Import avoidance model - RR'!$I$15,LOGIC!B137<'Import avoidance model - RR'!$J$15),'Import avoidance model - RR'!$H$15,'Import avoidance model - RR'!$H$16),0)/100","v":0},{"$f":"IF('Import avoidance model - RR'!$H$17=\"N\",0,IF(D137<=C137,D137,C137)*'Import avoidance model - RR'!$H$18/100)","v":3.557414314251127},{"$f":"IF(J137<LOGIC!K137,(LOGIC!K137-LOGIC!J137)*IF(AND(LOGIC!B137>'Import avoidance model - RR'!$I$15,LOGIC!B137<'Import avoidance model - RR'!$J$15),'Import avoidance model - RR'!$H$15,'Import avoidance model - RR'!$H$16),0)/100","v":0},{"$f":"IF('Import avoidance model - RR'!$H$17=\"N\",0,IF(K137<=C137,K137,C137)*'Import avoidance model - RR'!$H$18/100)","v":1.5150879099484542},{"$f":"IF(C189<LOGIC!D189,(LOGIC!D189-LOGIC!C189)*IF(AND(LOGIC!B189>'Import avoidance model - RR'!$I$15,LOGIC!B189<'Import avoidance model - RR'!$J$15),'Import avoidance model - RR'!$H$15,'Import avoidance model - RR'!$H$16),0)/100","v":0},{"$f":"IF('Import avoidance model - RR'!$H$17=\"N\",0,IF(D189<=C189,D189,C189)*'Import avoidance model - RR'!$H$18/100)","v":3.557414314251127},{"$f":"IF(J189<LOGIC!K189,(LOGIC!K189-LOGIC!J189)*IF(AND(LOGIC!B189>'Import avoidance model - RR'!$I$15,LOGIC!B189<'Import avoidance model - RR'!$J$15),'Import avoidance model - RR'!$H$15,'Import avoidance model - RR'!$H$16),0)/100","v":0},{"$f":"IF('Import avoidance model - RR'!$H$17=\"N\",0,IF(K189<=C189,K189,C189)*'Import avoidance model - RR'!$H$18/100)","v":1.5150879099484542},{"$f":"IF(C33<LOGIC!D33,(LOGIC!D33-LOGIC!C33)*IF(AND(LOGIC!B33>'Import avoidance model - RR'!$I$15,LOGIC!B33<'Import avoidance model - RR'!$J$15),'Import avoidance model - RR'!$H$15,'Import avoidance model - RR'!$H$16),0)/100","v":1.8070937074683158},{"$f":"IF('Import avoidance model - RR'!$H$17=\"N\",0,IF(D33<=C33,D33,C33)*'Import avoidance model - RR'!$H$18/100)","v":2.2020940336498902},{"$f":"IF(J33<LOGIC!K33,(LOGIC!K33-LOGIC!J33)*IF(AND(LOGIC!B189>'Import avoidance model - RR'!$I$15,LOGIC!B189<'Import avoidance model - RR'!$J$15),'Import avoidance model - RR'!$H$15,'Import avoidance model - RR'!$H$16),0)/100","v":0},{"$f":"IF('Import avoidance model - RR'!$H$17=\"N\",0,IF(K33<=C33,K33,C33)*'Import avoidance model - RR'!$H$18/100)","v":1.5150879099484542},{"$f":"AA85-(IF(AND($R85>'Import avoidance model - RR'!$I$15,$R85<'Import avoidance model - RR'!$J$15),'Import avoidance model - RR'!$H$15*LOGIC!G85,LOGIC!G85*'Import avoidance model - RR'!$H$16)/100)","v":0},3.557414314251127,{"$f":"IF('Import avoidance model - RR'!H48=\"N\",0,LOGIC!G85*'Import avoidance model - RR'!$H$20)/100","v":0},{"$f":"AC85-(IF(AND($R85>'Import avoidance model - RR'!$I$15,$R85<'Import avoidance model - RR'!$J$15),'Import avoidance model - RR'!$H$15*LOGIC!N85,LOGIC!N85*'Import avoidance model - RR'!$H$16)/100)","v":0},1.5150879099484542,{"$f":"IF('Import avoidance model - RR'!H48=\"N\",0,LOGIC!N85*'Import avoidance model - RR'!$H$20)/100","v":0},{"$f":"AE85-(IF(AND($R85>'Import avoidance model - RR'!$I$15,$R85<'Import avoidance model - RR'!$J$15),'Import avoidance model - RR'!$H$15*LOGIC!G137,LOGIC!G137*'Import avoidance model - RR'!$H$16)/100)","v":0},3.557414314251127,{"$f":"IF('Import avoidance model - RR'!H48=\"N\",0,LOGIC!G137*'Import avoidance model - RR'!$H$20)/100","v":0},{"$f":"AG85-(IF(AND($R85>'Import avoidance model - RR'!$I$15,$R85<'Import avoidance model - RR'!$J$15),'Import avoidance model - RR'!$H$15*LOGIC!N137,LOGIC!N137*'Import avoidance model - RR'!$H$16)/100)","v":0},1.5150879099484542,{"$f":"IF('Import avoidance model - RR'!H48=\"N\",0,LOGIC!N137*'Import avoidance model - RR'!$H$20)/100","v":0},{"$f":"AI85-(IF(AND($R85>'Import avoidance model - RR'!$I$15,$R85<'Import avoidance model - RR'!$J$15),'Import avoidance model - RR'!$H$15*LOGIC!G189,LOGIC!G189*'Import avoidance model - RR'!$H$16)/100)","v":0},3.557414314251127,{"$f":"IF('Import avoidance model - RR'!H48=\"N\",0,LOGIC!G189*'Import avoidance model - RR'!$H$20)/100","v":0},{"$f":"AK85-(IF(AND($R85>'Import avoidance model - RR'!$I$15,$R85<'Import avoidance model - RR'!$J$15),'Import avoidance model - RR'!$H$15*LOGIC!N189,LOGIC!N189*'Import avoidance model - RR'!$H$16)/100)","v":0},1.5150879099484542,{"$f":"IF('Import avoidance model - RR'!H48=\"N\",0,LOGIC!N189*'Import avoidance model - RR'!$H$20)/100","v":0},{"$f":"AM85-(IF(AND($R85>'Import avoidance model - RR'!$I$15,$R85<'Import avoidance model - RR'!$J$15),'Import avoidance model - RR'!$H$15*LOGIC!G33,LOGIC!G33*'Import avoidance model - RR'!$H$16)/100)","v":1.8070937074683158},2.2020940336498902,{"$f":"IF('Import avoidance model - RR'!H48=\"N\",0,LOGIC!G33*'Import avoidance model - RR'!$H$20)/100","v":0},{"$f":"AO85-(IF(AND($R85>'Import avoidance model - RR'!$I$15,$R85<'Import avoidance model - RR'!$J$15),'Import avoidance model - RR'!$H$15*LOGIC!N33,LOGIC!N33*'Import avoidance model - RR'!$H$16)/100)","v":0},1.5150879099484542,{"$f":"IF('Import avoidance model - RR'!H48=\"N\",0,LOGIC!N33*'Import avoidance model - RR'!$H$20)/100","v":0}]
[null,"14:30:00",{"$f":"'PV data'!J34","v":73.242831304630855},44.051104777511519,29.191726527119336,15,0,15,{"$f":"IF(AND(I85+H86<=$A$5,I85+H86>$A$3),LOGIC!I85+LOGIC!H86,IF(I85+H86>$A$5,$A$5,$A$3))","v":60},73.242831304630855,19.940525786387283,53.302305518243571,15,0,15,{"$f":"IF(AND(P85+O86<=$A$5,P85+O86>$A$3),LOGIC!P85+LOGIC!O86,IF(P85+O86>$A$5,$A$5,$A$3))","v":60},null,"14:30:00",{"$f":"(IF(AND($R86>'Import avoidance model - RR'!$I$15,'Import avoidance model - RR'!$J$15),'Import avoidance model - RR'!$H$15,'Import avoidance model - RR'!$H$16))*D86/100","v":4.4051104777511521},{"$f":"(IF(AND($R86>'Import avoidance model - RR'!$I$15,'Import avoidance model - RR'!$J$15),'Import avoidance model - RR'!$H$15,'Import avoidance model - RR'!$H$16))*K86/100","v":1.9940525786387284},{"$f":"(IF(AND($R86>'Import avoidance model - RR'!$I$15,'Import avoidance model - RR'!$J$15),'Import avoidance model - RR'!$H$15,'Import avoidance model - RR'!$H$16))*D138/100","v":4.4051104777511521},{"$f":"(IF(AND($R86>'Import avoidance model - RR'!$I$15,'Import avoidance model - RR'!$J$15),'Import avoidance model - RR'!$H$15,'Import avoidance model - RR'!$H$16))*K138/100","v":1.9940525786387284},{"$f":"(IF(AND($R86>'Import avoidance model - RR'!$I$15,'Import avoidance model - RR'!$J$15),'Import avoidance model - RR'!$H$15,'Import avoidance model - RR'!$H$16))*D190/100","v":4.4051104777511521},{"$f":"(IF(AND($R86>'Import avoidance model - RR'!$I$15,'Import avoidance model - RR'!$J$15),'Import avoidance model - RR'!$H$15,'Import avoidance model - RR'!$H$16))*K190/100","v":1.9940525786387284},{"$f":"(IF(AND($R86>'Import avoidance model - RR'!$I$15,'Import avoidance model - RR'!$J$15),'Import avoidance model - RR'!$H$15,'Import avoidance model - RR'!$H$16))*D34/100","v":4.4051104777511521},{"$f":"(IF(AND($R86>'Import avoidance model - RR'!$I$15,'Import avoidance model - RR'!$J$15),'Import avoidance model - RR'!$H$15,'Import avoidance model - RR'!$H$16))*K34/100","v":1.9940525786387284},{"$f":"IF(C86<LOGIC!D86,(LOGIC!D86-LOGIC!C86)*IF(AND(LOGIC!B86>'Import avoidance model - RR'!$I$15,LOGIC!B86<'Import avoidance model - RR'!$J$15),'Import avoidance model - RR'!$H$15,'Import avoidance model - RR'!$H$16),0)/100","v":0},{"$f":"IF('Import avoidance model - RR'!$H$17=\"N\",0,IF(D86<=C86,D86,C86)*'Import avoidance model - RR'!$H$18/100)","v":3.3038328583133638},{"$f":"IF(J86<LOGIC!K86,(LOGIC!K86-LOGIC!J86)*IF(AND(LOGIC!B86>'Import avoidance model - RR'!$I$15,LOGIC!B86<'Import avoidance model - RR'!$J$15),'Import avoidance model - RR'!$H$15,'Import avoidance model - RR'!$H$16),0)/100","v":0},{"$f":"IF('Import avoidance model - RR'!$H$17=\"N\",0,IF(K86<=C86,K86,C86)*'Import avoidance model - RR'!$H$18/100)","v":1.4955394339790462},{"$f":"IF(C138<LOGIC!D138,(LOGIC!D138-LOGIC!C138)*IF(AND(LOGIC!B138>'Import avoidance model - RR'!$I$15,LOGIC!B138<'Import avoidance model - RR'!$J$15),'Import avoidance model - RR'!$H$15,'Import avoidance model - RR'!$H$16),0)/100","v":0},{"$f":"IF('Import avoidance model - RR'!$H$17=\"N\",0,IF(D138<=C138,D138,C138)*'Import avoidance model - RR'!$H$18/100)","v":3.3038328583133638},{"$f":"IF(J138<LOGIC!K138,(LOGIC!K138-LOGIC!J138)*IF(AND(LOGIC!B138>'Import avoidance model - RR'!$I$15,LOGIC!B138<'Import avoidance model - RR'!$J$15),'Import avoidance model - RR'!$H$15,'Import avoidance model - RR'!$H$16),0)/100","v":0},{"$f":"IF('Import avoidance model - RR'!$H$17=\"N\",0,IF(K138<=C138,K138,C138)*'Import avoidance model - RR'!$H$18/100)","v":1.4955394339790462},{"$f":"IF(C190<LOGIC!D190,(LOGIC!D190-LOGIC!C190)*IF(AND(LOGIC!B190>'Import avoidance model - RR'!$I$15,LOGIC!B190<'Import avoidance model - RR'!$J$15),'Import avoidance model - RR'!$H$15,'Import avoidance model - RR'!$H$16),0)/100","v":0},{"$f":"IF('Import avoidance model - RR'!$H$17=\"N\",0,IF(D190<=C190,D190,C190)*'Import avoidance model - RR'!$H$18/100)","v":3.3038328583133638},{"$f":"IF(J190<LOGIC!K190,(LOGIC!K190-LOGIC!J190)*IF(AND(LOGIC!B190>'Import avoidance model - RR'!$I$15,LOGIC!B190<'Import avoidance model - RR'!$J$15),'Import avoidance model - RR'!$H$15,'Import avoidance model - RR'!$H$16),0)/100","v":0},{"$f":"IF('Import avoidance model - RR'!$H$17=\"N\",0,IF(K190<=C190,K190,C190)*'Import avoidance model - RR'!$H$18/100)","v":1.4955394339790462},{"$f":"IF(C34<LOGIC!D34,(LOGIC!D34-LOGIC!C34)*IF(AND(LOGIC!B34>'Import avoidance model - RR'!$I$15,LOGIC!B34<'Import avoidance model - RR'!$J$15),'Import avoidance model - RR'!$H$15,'Import avoidance model - RR'!$H$16),0)/100","v":2.965004322887864},{"$f":"IF('Import avoidance model - RR'!$H$17=\"N\",0,IF(D34<=C34,D34,C34)*'Import avoidance model - RR'!$H$18/100)","v":1.0800796161474659},{"$f":"IF(J34<LOGIC!K34,(LOGIC!K34-LOGIC!J34)*IF(AND(LOGIC!B190>'Import avoidance model - RR'!$I$15,LOGIC!B190<'Import avoidance model - RR'!$J$15),'Import avoidance model - RR'!$H$15,'Import avoidance model - RR'!$H$16),0)/100","v":0.55394642377544034},{"$f":"IF('Import avoidance model - RR'!$H$17=\"N\",0,IF(K34<=C34,K34,C34)*'Import avoidance model - RR'!$H$18/100)","v":1.0800796161474659},{"$f":"AA86-(IF(AND($R86>'Import avoidance model - RR'!$I$15,$R86<'Import avoidance model - RR'!$J$15),'Import avoidance model - RR'!$H$15*LOGIC!G86,LOGIC!G86*'Import avoidance model - RR'!$H$16)/100)","v":0},3.3038328583133638,{"$f":"IF('Import avoidance model - RR'!H49=\"N\",0,LOGIC!G86*'Import avoidance model - RR'!$H$20)/100","v":0},{"$f":"AC86-(IF(AND($R86>'Import avoidance model - RR'!$I$15,$R86<'Import avoidance model - RR'!$J$15),'Import avoidance model - RR'!$H$15*LOGIC!N86,LOGIC!N86*'Import avoidance model - RR'!$H$16)/100)","v":0},1.4955394339790462,{"$f":"IF('Import avoidance model - RR'!H49=\"N\",0,LOGIC!N86*'Import avoidance model - RR'!$H$20)/100","v":0},{"$f":"AE86-(IF(AND($R86>'Import avoidance model - RR'!$I$15,$R86<'Import avoidance model - RR'!$J$15),'Import avoidance model - RR'!$H$15*LOGIC!G138,LOGIC!G138*'Import avoidance model - RR'!$H$16)/100)","v":0},3.3038328583133638,{"$f":"IF('Import avoidance model - RR'!H49=\"N\",0,LOGIC!G138*'Import avoidance model - RR'!$H$20)/100","v":0},{"$f":"AG86-(IF(AND($R86>'Import avoidance model - RR'!$I$15,$R86<'Import avoidance model - RR'!$J$15),'Import avoidance model - RR'!$H$15*LOGIC!N138,LOGIC!N138*'Import avoidance model - RR'!$H$16)/100)","v":0},1.4955394339790462,{"$f":"IF('Import avoidance model - RR'!H49=\"N\",0,LOGIC!N138*'Import avoidance model - RR'!$H$20)/100","v":0},{"$f":"AI86-(IF(AND($R86>'Import avoidance model - RR'!$I$15,$R86<'Import avoidance model - RR'!$J$15),'Import avoidance model - RR'!$H$15*LOGIC!G190,LOGIC!G190*'Import avoidance model - RR'!$H$16)/100)","v":0},3.3038328583133638,{"$f":"IF('Import avoidance model - RR'!H49=\"N\",0,LOGIC!G190*'Import avoidance model - RR'!$H$20)/100","v":0},{"$f":"AK86-(IF(AND($R86>'Import avoidance model - RR'!$I$15,$R86<'Import avoidance model - RR'!$J$15),'Import avoidance model - RR'!$H$15*LOGIC!N190,LOGIC!N190*'Import avoidance model - RR'!$H$16)/100)","v":0},1.4955394339790462,{"$f":"IF('Import avoidance model - RR'!H49=\"N\",0,LOGIC!N190*'Import avoidance model - RR'!$H$20)/100","v":0},{"$f":"AM86-(IF(AND($R86>'Import avoidance model - RR'!$I$15,$R86<'Import avoidance model - RR'!$J$15),'Import avoidance model - RR'!$H$15*LOGIC!G34,LOGIC!G34*'Import avoidance model - RR'!$H$16)/100)","v":2.965004322887864},1.0800796161474659,{"$f":"IF('Import avoidance model - RR'!H49=\"N\",0,LOGIC!G34*'Import avoidance model - RR'!$H$20)/100","v":0},{"$f":"AO86-(IF(AND($R86>'Import avoidance model - RR'!$I$15,$R86<'Import avoidance model - RR'!$J$15),'Import avoidance model - RR'!$H$15*LOGIC!N34,LOGIC!N34*'Import avoidance model - RR'!$H$16)/100)","v":0},1.0800796161474659,{"$f":"IF('Import avoidance model - RR'!H49=\"N\",0,LOGIC!N34*'Import avoidance model - RR'!$H$20)/100","v":0.41545981783158026}]
[null,"15:00:00",{"$f":"'PV data'!J35","v":69.828667248743443},41.353714369773279,28.474952878970164,15,0,15,{"$f":"IF(AND(I86+H87<=$A$5,I86+H87>$A$3),LOGIC!I86+LOGIC!H87,IF(I86+H87>$A$5,$A$5,$A$3))","v":60},69.828667248743443,19.844084674094105,49.984582574649338,15,0,15,{"$f":"IF(AND(P86+O87<=$A$5,P86+O87>$A$3),LOGIC!P86+LOGIC!O87,IF(P86+O87>$A$5,$A$5,$A$3))","v":60},null,"15:00:00",{"$f":"(IF(AND($R87>'Import avoidance model - RR'!$I$15,'Import avoidance model - RR'!$J$15),'Import avoidance model - RR'!$H$15,'Import avoidance model - RR'!$H$16))*D87/100","v":4.1353714369773282},{"$f":"(IF(AND($R87>'Import avoidance model - RR'!$I$15,'Import avoidance model - RR'!$J$15),'Import avoidance model - RR'!$H$15,'Import avoidance model - RR'!$H$16))*K87/100","v":1.9844084674094105},{"$f":"(IF(AND($R87>'Import avoidance model - RR'!$I$15,'Import avoidance model - RR'!$J$15),'Import avoidance model - RR'!$H$15,'Import avoidance model - RR'!$H$16))*D139/100","v":4.1353714369773282},{"$f":"(IF(AND($R87>'Import avoidance model - RR'!$I$15,'Import avoidance model - RR'!$J$15),'Import avoidance model - RR'!$H$15,'Import avoidance model - RR'!$H$16))*K139/100","v":1.9844084674094105},{"$f":"(IF(AND($R87>'Import avoidance model - RR'!$I$15,'Import avoidance model - RR'!$J$15),'Import avoidance model - RR'!$H$15,'Import avoidance model - RR'!$H$16))*D191/100","v":4.1353714369773282},{"$f":"(IF(AND($R87>'Import avoidance model - RR'!$I$15,'Import avoidance model - RR'!$J$15),'Import avoidance model - RR'!$H$15,'Import avoidance model - RR'!$H$16))*K191/100","v":1.9844084674094105},{"$f":"(IF(AND($R87>'Import avoidance model - RR'!$I$15,'Import avoidance model - RR'!$J$15),'Import avoidance model - RR'!$H$15,'Import avoidance model - RR'!$H$16))*D35/100","v":4.1353714369773282},{"$f":"(IF(AND($R87>'Import avoidance model - RR'!$I$15,'Import avoidance model - RR'!$J$15),'Import avoidance model - RR'!$H$15,'Import avoidance model - RR'!$H$16))*K35/100","v":1.9844084674094105},{"$f":"IF(C87<LOGIC!D87,(LOGIC!D87-LOGIC!C87)*IF(AND(LOGIC!B87>'Import avoidance model - RR'!$I$15,LOGIC!B87<'Import avoidance model - RR'!$J$15),'Import avoidance model - RR'!$H$15,'Import avoidance model - RR'!$H$16),0)/100","v":0},{"$f":"IF('Import avoidance model - RR'!$H$17=\"N\",0,IF(D87<=C87,D87,C87)*'Import avoidance model - RR'!$H$18/100)","v":3.1015285777329962},{"$f":"IF(J87<LOGIC!K87,(LOGIC!K87-LOGIC!J87)*IF(AND(LOGIC!B87>'Import avoidance model - RR'!$I$15,LOGIC!B87<'Import avoidance model - RR'!$J$15),'Import avoidance model - RR'!$H$15,'Import avoidance model - RR'!$H$16),0)/100","v":0},{"$f":"IF('Import avoidance model - RR'!$H$17=\"N\",0,IF(K87<=C87,K87,C87)*'Import avoidance model - RR'!$H$18/100)","v":1.4883063505570577},{"$f":"IF(C139<LOGIC!D139,(LOGIC!D139-LOGIC!C139)*IF(AND(LOGIC!B139>'Import avoidance model - RR'!$I$15,LOGIC!B139<'Import avoidance model - RR'!$J$15),'Import avoidance model - RR'!$H$15,'Import avoidance model - RR'!$H$16),0)/100","v":0},{"$f":"IF('Import avoidance model - RR'!$H$17=\"N\",0,IF(D139<=C139,D139,C139)*'Import avoidance model - RR'!$H$18/100)","v":3.1015285777329962},{"$f":"IF(J139<LOGIC!K139,(LOGIC!K139-LOGIC!J139)*IF(AND(LOGIC!B139>'Import avoidance model - RR'!$I$15,LOGIC!B139<'Import avoidance model - RR'!$J$15),'Import avoidance model - RR'!$H$15,'Import avoidance model - RR'!$H$16),0)/100","v":0},{"$f":"IF('Import avoidance model - RR'!$H$17=\"N\",0,IF(K139<=C139,K139,C139)*'Import avoidance model - RR'!$H$18/100)","v":1.4883063505570577},{"$f":"IF(C191<LOGIC!D191,(LOGIC!D191-LOGIC!C191)*IF(AND(LOGIC!B191>'Import avoidance model - RR'!$I$15,LOGIC!B191<'Import avoidance model - RR'!$J$15),'Import avoidance model - RR'!$H$15,'Import avoidance model - RR'!$H$16),0)/100","v":5.4464845446288025E-2},{"$f":"IF('Import avoidance model - RR'!$H$17=\"N\",0,IF(D191<=C191,D191,C191)*'Import avoidance model - RR'!$H$18/100)","v":3.0606799436482799},{"$f":"IF(J191<LOGIC!K191,(LOGIC!K191-LOGIC!J191)*IF(AND(LOGIC!B191>'Import avoidance model - RR'!$I$15,LOGIC!B191<'Import avoidance model - RR'!$J$15),'Import avoidance model - RR'!$H$15,'Import avoidance model - RR'!$H$16),0)/100","v":0},{"$f":"IF('Import avoidance model - RR'!$H$17=\"N\",0,IF(K191<=C191,K191,C191)*'Import avoidance model - RR'!$H$18/100)","v":1.4883063505570577},{"$f":"IF(C35<LOGIC!D35,(LOGIC!D35-LOGIC!C35)*IF(AND(LOGIC!B35>'Import avoidance model - RR'!$I$15,LOGIC!B35<'Import avoidance model - RR'!$J$15),'Import avoidance model - RR'!$H$15,'Import avoidance model - RR'!$H$16),0)/100","v":3.1523132732499914},{"$f":"IF('Import avoidance model - RR'!$H$17=\"N\",0,IF(D35<=C35,D35,C35)*'Import avoidance model - RR'!$H$18/100)","v":0.73729362279550248},{"$f":"IF(J35<LOGIC!K35,(LOGIC!K35-LOGIC!J35)*IF(AND(LOGIC!B191>'Import avoidance model - RR'!$I$15,LOGIC!B191<'Import avoidance model - RR'!$J$15),'Import avoidance model - RR'!$H$15,'Import avoidance model - RR'!$H$16),0)/100","v":1.0013503036820739},{"$f":"IF('Import avoidance model - RR'!$H$17=\"N\",0,IF(K35<=C35,K35,C35)*'Import avoidance model - RR'!$H$18/100)","v":0.73729362279550248},{"$f":"AA87-(IF(AND($R87>'Import avoidance model - RR'!$I$15,$R87<'Import avoidance model - RR'!$J$15),'Import avoidance model - RR'!$H$15*LOGIC!G87,LOGIC!G87*'Import avoidance model - RR'!$H$16)/100)","v":0},3.1015285777329962,{"$f":"IF('Import avoidance model - RR'!H50=\"N\",0,LOGIC!G87*'Import avoidance model - RR'!$H$20)/100","v":0},{"$f":"AC87-(IF(AND($R87>'Import avoidance model - RR'!$I$15,$R87<'Import avoidance model - RR'!$J$15),'Import avoidance model - RR'!$H$15*LOGIC!N87,LOGIC!N87*'Import avoidance model - RR'!$H$16)/100)","v":0},1.4883063505570577,{"$f":"IF('Import avoidance model - RR'!H50=\"N\",0,LOGIC!N87*'Import avoidance model - RR'!$H$20)/100","v":0},{"$f":"AE87-(IF(AND($R87>'Import avoidance model - RR'!$I$15,$R87<'Import avoidance model - RR'!$J$15),'Import avoidance model - RR'!$H$15*LOGIC!G139,LOGIC!G139*'Import avoidance model - RR'!$H$16)/100)","v":0},3.1015285777329962,{"$f":"IF('Import avoidance model - RR'!H50=\"N\",0,LOGIC!G139*'Import avoidance model - RR'!$H$20)/100","v":0},{"$f":"AG87-(IF(AND($R87>'Import avoidance model - RR'!$I$15,$R87<'Import avoidance model - RR'!$J$15),'Import avoidance model - RR'!$H$15*LOGIC!N139,LOGIC!N139*'Import avoidance model - RR'!$H$16)/100)","v":0},1.4883063505570577,{"$f":"IF('Import avoidance model - RR'!H50=\"N\",0,LOGIC!N139*'Import avoidance model - RR'!$H$20)/100","v":0},{"$f":"AI87-(IF(AND($R87>'Import avoidance model - RR'!$I$15,$R87<'Import avoidance model - RR'!$J$15),'Import avoidance model - RR'!$H$15*LOGIC!G191,LOGIC!G191*'Import avoidance model - RR'!$H$16)/100)","v":0},3.0606799436482799,{"$f":"IF('Import avoidance model - RR'!H50=\"N\",0,LOGIC!G191*'Import avoidance model - RR'!$H$20)/100","v":4.0848634084716021E-2},{"$f":"AK87-(IF(AND($R87>'Import avoidance model - RR'!$I$15,$R87<'Import avoidance model - RR'!$J$15),'Import avoidance model - RR'!$H$15*LOGIC!N191,LOGIC!N191*'Import avoidance model - RR'!$H$16)/100)","v":0},1.4883063505570577,{"$f":"IF('Import avoidance model - RR'!H50=\"N\",0,LOGIC!N191*'Import avoidance model - RR'!$H$20)/100","v":0},{"$f":"AM87-(IF(AND($R87>'Import avoidance model - RR'!$I$15,$R87<'Import avoidance model - RR'!$J$15),'Import avoidance model - RR'!$H$15*LOGIC!G35,LOGIC!G35*'Import avoidance model - RR'!$H$16)/100)","v":3.1523132732499914},0.73729362279550248,{"$f":"IF('Import avoidance model - RR'!H50=\"N\",0,LOGIC!G35*'Import avoidance model - RR'!$H$20)/100","v":0},{"$f":"AO87-(IF(AND($R87>'Import avoidance model - RR'!$I$15,$R87<'Import avoidance model - RR'!$J$15),'Import avoidance model - RR'!$H$15*LOGIC!N35,LOGIC!N35*'Import avoidance model - RR'!$H$16)/100)","v":0},0.73729362279550248,{"$f":"IF('Import avoidance model - RR'!H50=\"N\",0,LOGIC!N35*'Import avoidance model - RR'!$H$20)/100","v":0.75101272776155559}]
[null,"15:30:00",{"$f":"'PV data'!J36","v":42.540610923108225},38.270184172793144,4.2704267503150817,0,0,0,{"$f":"IF(AND(I87+H88<=$A$5,I87+H88>$A$3),LOGIC!I87+LOGIC!H88,IF(I87+H88>$A$5,$A$5,$A$3))","v":60},42.540610923108225,19.910277453814679,22.630333469293547,15,0,15,{"$f":"IF(AND(P87+O88<=$A$5,P87+O88>$A$3),LOGIC!P87+LOGIC!O88,IF(P87+O88>$A$5,$A$5,$A$3))","v":60},null,"15:30:00",{"$f":"(IF(AND($R88>'Import avoidance model - RR'!$I$15,'Import avoidance model - RR'!$J$15),'Import avoidance model - RR'!$H$15,'Import avoidance model - RR'!$H$16))*D88/100","v":3.827018417279314},{"$f":"(IF(AND($R88>'Import avoidance model - RR'!$I$15,'Import avoidance model - RR'!$J$15),'Import avoidance model - RR'!$H$15,'Import avoidance model - RR'!$H$16))*K88/100","v":1.9910277453814678},{"$f":"(IF(AND($R88>'Import avoidance model - RR'!$I$15,'Import avoidance model - RR'!$J$15),'Import avoidance model - RR'!$H$15,'Import avoidance model - RR'!$H$16))*D140/100","v":3.827018417279314},{"$f":"(IF(AND($R88>'Import avoidance model - RR'!$I$15,'Import avoidance model - RR'!$J$15),'Import avoidance model - RR'!$H$15,'Import avoidance model - RR'!$H$16))*K140/100","v":1.9910277453814678},{"$f":"(IF(AND($R88>'Import avoidance model - RR'!$I$15,'Import avoidance model - RR'!$J$15),'Import avoidance model - RR'!$H$15,'Import avoidance model - RR'!$H$16))*D192/100","v":3.827018417279314},{"$f":"(IF(AND($R88>'Import avoidance model - RR'!$I$15,'Import avoidance model - RR'!$J$15),'Import avoidance model - RR'!$H$15,'Import avoidance model - RR'!$H$16))*K192/100","v":1.9910277453814678},{"$f":"(IF(AND($R88>'Import avoidance model - RR'!$I$15,'Import avoidance model - RR'!$J$15),'Import avoidance model - RR'!$H$15,'Import avoidance model - RR'!$H$16))*D36/100","v":3.827018417279314},{"$f":"(IF(AND($R88>'Import avoidance model - RR'!$I$15,'Import avoidance model - RR'!$J$15),'Import avoidance model - RR'!$H$15,'Import avoidance model - RR'!$H$16))*K36/100","v":1.9910277453814678},{"$f":"IF(C88<LOGIC!D88,(LOGIC!D88-LOGIC!C88)*IF(AND(LOGIC!B88>'Import avoidance model - RR'!$I$15,LOGIC!B88<'Import avoidance model - RR'!$J$15),'Import avoidance model - RR'!$H$15,'Import avoidance model - RR'!$H$16),0)/100","v":0},{"$f":"IF('Import avoidance model - RR'!$H$17=\"N\",0,IF(D88<=C88,D88,C88)*'Import avoidance model - RR'!$H$18/100)","v":2.8702638129594855},{"$f":"IF(J88<LOGIC!K88,(LOGIC!K88-LOGIC!J88)*IF(AND(LOGIC!B88>'Import avoidance model - RR'!$I$15,LOGIC!B88<'Import avoidance model - RR'!$J$15),'Import avoidance model - RR'!$H$15,'Import avoidance model - RR'!$H$16),0)/100","v":0},{"$f":"IF('Import avoidance model - RR'!$H$17=\"N\",0,IF(K88<=C88,K88,C88)*'Import avoidance model - RR'!$H$18/100)","v":1.4932708090361009},{"$f":"IF(C140<LOGIC!D140,(LOGIC!D140-LOGIC!C140)*IF(AND(LOGIC!B140>'Import avoidance model - RR'!$I$15,LOGIC!B140<'Import avoidance model - RR'!$J$15),'Import avoidance model - RR'!$H$15,'Import avoidance model - RR'!$H$16),0)/100","v":0},{"$f":"IF('Import avoidance model - RR'!$H$17=\"N\",0,IF(D140<=C140,D140,C140)*'Import avoidance model - RR'!$H$18/100)","v":2.8702638129594855},{"$f":"IF(J140<LOGIC!K140,(LOGIC!K140-LOGIC!J140)*IF(AND(LOGIC!B140>'Import avoidance model - RR'!$I$15,LOGIC!B140<'Import avoidance model - RR'!$J$15),'Import avoidance model - RR'!$H$15,'Import avoidance model - RR'!$H$16),0)/100","v":0},{"$f":"IF('Import avoidance model - RR'!$H$17=\"N\",0,IF(K140<=C140,K140,C140)*'Import avoidance model - RR'!$H$18/100)","v":1.4932708090361009},{"$f":"IF(C192<LOGIC!D192,(LOGIC!D192-LOGIC!C192)*IF(AND(LOGIC!B192>'Import avoidance model - RR'!$I$15,LOGIC!B192<'Import avoidance model - RR'!$J$15),'Import avoidance model - RR'!$H$15,'Import avoidance model - RR'!$H$16),0)/100","v":0.92232920143040242},{"$f":"IF('Import avoidance model - RR'!$H$17=\"N\",0,IF(D192<=C192,D192,C192)*'Import avoidance model - RR'!$H$18/100)","v":2.1785169118866836},{"$f":"IF(J192<LOGIC!K192,(LOGIC!K192-LOGIC!J192)*IF(AND(LOGIC!B192>'Import avoidance model - RR'!$I$15,LOGIC!B192<'Import avoidance model - RR'!$J$15),'Import avoidance model - RR'!$H$15,'Import avoidance model - RR'!$H$16),0)/100","v":0},{"$f":"IF('Import avoidance model - RR'!$H$17=\"N\",0,IF(K192<=C192,K192,C192)*'Import avoidance model - RR'!$H$18/100)","v":1.4932708090361009},{"$f":"IF(C36<LOGIC!D36,(LOGIC!D36-LOGIC!C36)*IF(AND(LOGIC!B36>'Import avoidance model - RR'!$I$15,LOGIC!B36<'Import avoidance model - RR'!$J$15),'Import avoidance model - RR'!$H$15,'Import avoidance model - RR'!$H$16),0)/100","v":2.9796788258951299},{"$f":"IF('Import avoidance model - RR'!$H$17=\"N\",0,IF(D36<=C36,D36,C36)*'Import avoidance model - RR'!$H$18/100)","v":0.63550469353813843},{"$f":"IF(J36<LOGIC!K36,(LOGIC!K36-LOGIC!J36)*IF(AND(LOGIC!B192>'Import avoidance model - RR'!$I$15,LOGIC!B192<'Import avoidance model - RR'!$J$15),'Import avoidance model - RR'!$H$15,'Import avoidance model - RR'!$H$16),0)/100","v":1.1436881539972834},{"$f":"IF('Import avoidance model - RR'!$H$17=\"N\",0,IF(K36<=C36,K36,C36)*'Import avoidance model - RR'!$H$18/100)","v":0.63550469353813843},{"$f":"AA88-(IF(AND($R88>'Import avoidance model - RR'!$I$15,$R88<'Import avoidance model - RR'!$J$15),'Import avoidance model - RR'!$H$15*LOGIC!G88,LOGIC!G88*'Import avoidance model - RR'!$H$16)/100)","v":0},2.8702638129594855,{"$f":"IF('Import avoidance model - RR'!H51=\"N\",0,LOGIC!G88*'Import avoidance model - RR'!$H$20)/100","v":0},{"$f":"AC88-(IF(AND($R88>'Import avoidance model - RR'!$I$15,$R88<'Import avoidance model - RR'!$J$15),'Import avoidance model - RR'!$H$15*LOGIC!N88,LOGIC!N88*'Import avoidance model - RR'!$H$16)/100)","v":0},1.4932708090361009,{"$f":"IF('Import avoidance model - RR'!H51=\"N\",0,LOGIC!N88*'Import avoidance model - RR'!$H$20)/100","v":0},{"$f":"AE88-(IF(AND($R88>'Import avoidance model - RR'!$I$15,$R88<'Import avoidance model - RR'!$J$15),'Import avoidance model - RR'!$H$15*LOGIC!G140,LOGIC!G140*'Import avoidance model - RR'!$H$16)/100)","v":0},2.8702638129594855,{"$f":"IF('Import avoidance model - RR'!H51=\"N\",0,LOGIC!G140*'Import avoidance model - RR'!$H$20)/100","v":0},{"$f":"AG88-(IF(AND($R88>'Import avoidance model - RR'!$I$15,$R88<'Import avoidance model - RR'!$J$15),'Import avoidance model - RR'!$H$15*LOGIC!N140,LOGIC!N140*'Import avoidance model - RR'!$H$16)/100)","v":0},1.4932708090361009,{"$f":"IF('Import avoidance model - RR'!H51=\"N\",0,LOGIC!N140*'Import avoidance model - RR'!$H$20)/100","v":0},{"$f":"AI88-(IF(AND($R88>'Import avoidance model - RR'!$I$15,$R88<'Import avoidance model - RR'!$J$15),'Import avoidance model - RR'!$H$15*LOGIC!G192,LOGIC!G192*'Import avoidance model - RR'!$H$16)/100)","v":0},2.1785169118866836,{"$f":"IF('Import avoidance model - RR'!H51=\"N\",0,LOGIC!G192*'Import avoidance model - RR'!$H$20)/100","v":0.6917469010728019},{"$f":"AK88-(IF(AND($R88>'Import avoidance model - RR'!$I$15,$R88<'Import avoidance model - RR'!$J$15),'Import avoidance model - RR'!$H$15*LOGIC!N192,LOGIC!N192*'Import avoidance model - RR'!$H$16)/100)","v":0},1.4932708090361009,{"$f":"IF('Import avoidance model - RR'!H51=\"N\",0,LOGIC!N192*'Import avoidance model - RR'!$H$20)/100","v":0},{"$f":"AM88-(IF(AND($R88>'Import avoidance model - RR'!$I$15,$R88<'Import avoidance model - RR'!$J$15),'Import avoidance model - RR'!$H$15*LOGIC!G36,LOGIC!G36*'Import avoidance model - RR'!$H$16)/100)","v":2.9796788258951299},0.63550469353813843,{"$f":"IF('Import avoidance model - RR'!H51=\"N\",0,LOGIC!G36*'Import avoidance model - RR'!$H$20)/100","v":0},{"$f":"AO88-(IF(AND($R88>'Import avoidance model - RR'!$I$15,$R88<'Import avoidance model - RR'!$J$15),'Import avoidance model - RR'!$H$15*LOGIC!N36,LOGIC!N36*'Import avoidance model - RR'!$H$16)/100)","v":0},0.63550469353813843,{"$f":"IF('Import avoidance model - RR'!H51=\"N\",0,LOGIC!N36*'Import avoidance model - RR'!$H$20)/100","v":0.85776611549796256}]
[null,"16:00:00",{"$f":"'PV data'!J37","v":52.447587203974685},35.825478308555581,16.622108895419103,15,0,15,{"$f":"IF(AND(I88+H89<=$A$5,I88+H89>$A$3),LOGIC!I88+LOGIC!H89,IF(I88+H89>$A$5,$A$5,$A$3))","v":60},52.447587203974685,19.999451109580679,32.448136094394002,15,0,15,{"$f":"IF(AND(P88+O89<=$A$5,P88+O89>$A$3),LOGIC!P88+LOGIC!O89,IF(P88+O89>$A$5,$A$5,$A$3))","v":60},null,"16:00:00",{"$f":"(IF(AND($R89>'Import avoidance model - RR'!$I$15,'Import avoidance model - RR'!$J$15),'Import avoidance model - RR'!$H$15,'Import avoidance model - RR'!$H$16))*D89/100","v":3.5825478308555581},{"$f":"(IF(AND($R89>'Import avoidance model - RR'!$I$15,'Import avoidance model - RR'!$J$15),'Import avoidance model - RR'!$H$15,'Import avoidance model - RR'!$H$16))*K89/100","v":1.9999451109580679},{"$f":"(IF(AND($R89>'Import avoidance model - RR'!$I$15,'Import avoidance model - RR'!$J$15),'Import avoidance model - RR'!$H$15,'Import avoidance model - RR'!$H$16))*D141/100","v":3.5825478308555581},{"$f":"(IF(AND($R89>'Import avoidance model - RR'!$I$15,'Import avoidance model - RR'!$J$15),'Import avoidance model - RR'!$H$15,'Import avoidance model - RR'!$H$16))*K141/100","v":1.9999451109580679},{"$f":"(IF(AND($R89>'Import avoidance model - RR'!$I$15,'Import avoidance model - RR'!$J$15),'Import avoidance model - RR'!$H$15,'Import avoidance model - RR'!$H$16))*D193/100","v":3.5825478308555581},{"$f":"(IF(AND($R89>'Import avoidance model - RR'!$I$15,'Import avoidance model - RR'!$J$15),'Import avoidance model - RR'!$H$15,'Import avoidance model - RR'!$H$16))*K193/100","v":1.9999451109580679},{"$f":"(IF(AND($R89>'Import avoidance model - RR'!$I$15,'Import avoidance model - RR'!$J$15),'Import avoidance model - RR'!$H$15,'Import avoidance model - RR'!$H$16))*D37/100","v":3.5825478308555581},{"$f":"(IF(AND($R89>'Import avoidance model - RR'!$I$15,'Import avoidance model - RR'!$J$15),'Import avoidance model - RR'!$H$15,'Import avoidance model - RR'!$H$16))*K37/100","v":1.9999451109580679},{"$f":"IF(C89<LOGIC!D89,(LOGIC!D89-LOGIC!C89)*IF(AND(LOGIC!B89>'Import avoidance model - RR'!$I$15,LOGIC!B89<'Import avoidance model - RR'!$J$15),'Import avoidance model - RR'!$H$15,'Import avoidance model - RR'!$H$16),0)/100","v":0},{"$f":"IF('Import avoidance model - RR'!$H$17=\"N\",0,IF(D89<=C89,D89,C89)*'Import avoidance model - RR'!$H$18/100)","v":2.6869108731416684},{"$f":"IF(J89<LOGIC!K89,(LOGIC!K89-LOGIC!J89)*IF(AND(LOGIC!B89>'Import avoidance model - RR'!$I$15,LOGIC!B89<'Import avoidance model - RR'!$J$15),'Import avoidance model - RR'!$H$15,'Import avoidance model - RR'!$H$16),0)/100","v":0},{"$f":"IF('Import avoidance model - RR'!$H$17=\"N\",0,IF(K89<=C89,K89,C89)*'Import avoidance model - RR'!$H$18/100)","v":1.4999588332185509},{"$f":"IF(C141<LOGIC!D141,(LOGIC!D141-LOGIC!C141)*IF(AND(LOGIC!B141>'Import avoidance model - RR'!$I$15,LOGIC!B141<'Import avoidance model - RR'!$J$15),'Import avoidance model - RR'!$H$15,'Import avoidance model - RR'!$H$16),0)/100","v":0},{"$f":"IF('Import avoidance model - RR'!$H$17=\"N\",0,IF(D141<=C141,D141,C141)*'Import avoidance model - RR'!$H$18/100)","v":2.6869108731416684},{"$f":"IF(J141<LOGIC!K141,(LOGIC!K141-LOGIC!J141)*IF(AND(LOGIC!B141>'Import avoidance model - RR'!$I$15,LOGIC!B141<'Import avoidance model - RR'!$J$15),'Import avoidance model - RR'!$H$15,'Import avoidance model - RR'!$H$16),0)/100","v":0},{"$f":"IF('Import avoidance model - RR'!$H$17=\"N\",0,IF(K141<=C141,K141,C141)*'Import avoidance model - RR'!$H$18/100)","v":1.4999588332185509},{"$f":"IF(C193<LOGIC!D193,(LOGIC!D193-LOGIC!C193)*IF(AND(LOGIC!B193>'Import avoidance model - RR'!$I$15,LOGIC!B193<'Import avoidance model - RR'!$J$15),'Import avoidance model - RR'!$H$15,'Import avoidance model - RR'!$H$16),0)/100","v":1.7102049134233241},{"$f":"IF('Import avoidance model - RR'!$H$17=\"N\",0,IF(D193<=C193,D193,C193)*'Import avoidance model - RR'!$H$18/100)","v":1.4042571880741754},{"$f":"IF(J193<LOGIC!K193,(LOGIC!K193-LOGIC!J193)*IF(AND(LOGIC!B193>'Import avoidance model - RR'!$I$15,LOGIC!B193<'Import avoidance model - RR'!$J$15),'Import avoidance model - RR'!$H$15,'Import avoidance model - RR'!$H$16),0)/100","v":0.12760219352583385},{"$f":"IF('Import avoidance model - RR'!$H$17=\"N\",0,IF(K193<=C193,K193,C193)*'Import avoidance model - RR'!$H$18/100)","v":1.4042571880741754},{"$f":"IF(C37<LOGIC!D37,(LOGIC!D37-LOGIC!C37)*IF(AND(LOGIC!B37>'Import avoidance model - RR'!$I$15,LOGIC!B37<'Import avoidance model - RR'!$J$15),'Import avoidance model - RR'!$H$15,'Import avoidance model - RR'!$H$16),0)/100","v":3.5825478308555581},{"$f":"IF('Import avoidance model - RR'!$H$17=\"N\",0,IF(D37<=C37,D37,C37)*'Import avoidance model - RR'!$H$18/100)","v":0},{"$f":"IF(J37<LOGIC!K37,(LOGIC!K37-LOGIC!J37)*IF(AND(LOGIC!B193>'Import avoidance model - RR'!$I$15,LOGIC!B193<'Import avoidance model - RR'!$J$15),'Import avoidance model - RR'!$H$15,'Import avoidance model - RR'!$H$16),0)/100","v":1.9999451109580679},{"$f":"IF('Import avoidance model - RR'!$H$17=\"N\",0,IF(K37<=C37,K37,C37)*'Import avoidance model - RR'!$H$18/100)","v":0},{"$f":"AA89-(IF(AND($R89>'Import avoidance model - RR'!$I$15,$R89<'Import avoidance model - RR'!$J$15),'Import avoidance model - RR'!$H$15*LOGIC!G89,LOGIC!G89*'Import avoidance model - RR'!$H$16)/100)","v":0},2.6869108731416684,{"$f":"IF('Import avoidance model - RR'!H52=\"N\",0,LOGIC!G89*'Import avoidance model - RR'!$H$20)/100","v":0},{"$f":"AC89-(IF(AND($R89>'Import avoidance model - RR'!$I$15,$R89<'Import avoidance model - RR'!$J$15),'Import avoidance model - RR'!$H$15*LOGIC!N89,LOGIC!N89*'Import avoidance model - RR'!$H$16)/100)","v":0},1.4999588332185509,{"$f":"IF('Import avoidance model - RR'!H52=\"N\",0,LOGIC!N89*'Import avoidance model - RR'!$H$20)/100","v":0},{"$f":"AE89-(IF(AND($R89>'Import avoidance model - RR'!$I$15,$R89<'Import avoidance model - RR'!$J$15),'Import avoidance model - RR'!$H$15*LOGIC!G141,LOGIC!G141*'Import avoidance model - RR'!$H$16)/100)","v":0},2.6869108731416684,{"$f":"IF('Import avoidance model - RR'!H52=\"N\",0,LOGIC!G141*'Import avoidance model - RR'!$H$20)/100","v":0},{"$f":"AG89-(IF(AND($R89>'Import avoidance model - RR'!$I$15,$R89<'Import avoidance model - RR'!$J$15),'Import avoidance model - RR'!$H$15*LOGIC!N141,LOGIC!N141*'Import avoidance model - RR'!$H$16)/100)","v":0},1.4999588332185509,{"$f":"IF('Import avoidance model - RR'!H52=\"N\",0,LOGIC!N141*'Import avoidance model - RR'!$H$20)/100","v":0},{"$f":"AI89-(IF(AND($R89>'Import avoidance model - RR'!$I$15,$R89<'Import avoidance model - RR'!$J$15),'Import avoidance model - RR'!$H$15*LOGIC!G193,LOGIC!G193*'Import avoidance model - RR'!$H$16)/100)","v":0.21020491342332415},1.4042571880741754,{"$f":"IF('Import avoidance model - RR'!H52=\"N\",0,LOGIC!G193*'Import avoidance model - RR'!$H$20)/100","v":1.125},{"$f":"AK89-(IF(AND($R89>'Import avoidance model - RR'!$I$15,$R89<'Import avoidance model - RR'!$J$15),'Import avoidance model - RR'!$H$15*LOGIC!N193,LOGIC!N193*'Import avoidance model - RR'!$H$16)/100)","v":0},1.4042571880741754,{"$f":"IF('Import avoidance model - RR'!H52=\"N\",0,LOGIC!N193*'Import avoidance model - RR'!$H$20)/100","v":9.5701645144375375E-2},{"$f":"AM89-(IF(AND($R89>'Import avoidance model - RR'!$I$15,$R89<'Import avoidance model - RR'!$J$15),'Import avoidance model - RR'!$H$15*LOGIC!G37,LOGIC!G37*'Import avoidance model - RR'!$H$16)/100)","v":3.5825478308555581},0,{"$f":"IF('Import avoidance model - RR'!H52=\"N\",0,LOGIC!G37*'Import avoidance model - RR'!$H$20)/100","v":0},{"$f":"AO89-(IF(AND($R89>'Import avoidance model - RR'!$I$15,$R89<'Import avoidance model - RR'!$J$15),'Import avoidance model - RR'!$H$15*LOGIC!N37,LOGIC!N37*'Import avoidance model - RR'!$H$16)/100)","v":0.49994511095806793},0,{"$f":"IF('Import avoidance model - RR'!H52=\"N\",0,LOGIC!N37*'Import avoidance model - RR'!$H$20)/100","v":1.125}]
[null,"16:30:00",{"$f":"'PV data'!J38","v":35.953346912237123},33.731447205435238,2.2218997068018851,0,0,0,{"$f":"IF(AND(I89+H90<=$A$5,I89+H90>$A$3),LOGIC!I89+LOGIC!H90,IF(I89+H90>$A$5,$A$5,$A$3))","v":60},35.953346912237123,20.107480868768565,15.845866043468558,15,0,15,{"$f":"IF(AND(P89+O90<=$A$5,P89+O90>$A$3),LOGIC!P89+LOGIC!O90,IF(P89+O90>$A$5,$A$5,$A$3))","v":60},null,"16:30:00",{"$f":"(IF(AND($R90>'Import avoidance model - RR'!$I$15,'Import avoidance model - RR'!$J$15),'Import avoidance model - RR'!$H$15,'Import avoidance model - RR'!$H$16))*D90/100","v":3.3731447205435239},{"$f":"(IF(AND($R90>'Import avoidance model - RR'!$I$15,'Import avoidance model - RR'!$J$15),'Import avoidance model - RR'!$H$15,'Import avoidance model - RR'!$H$16))*K90/100","v":2.0107480868768564},{"$f":"(IF(AND($R90>'Import avoidance model - RR'!$I$15,'Import avoidance model - RR'!$J$15),'Import avoidance model - RR'!$H$15,'Import avoidance model - RR'!$H$16))*D142/100","v":3.3731447205435239},{"$f":"(IF(AND($R90>'Import avoidance model - RR'!$I$15,'Import avoidance model - RR'!$J$15),'Import avoidance model - RR'!$H$15,'Import avoidance model - RR'!$H$16))*K142/100","v":2.0107480868768564},{"$f":"(IF(AND($R90>'Import avoidance model - RR'!$I$15,'Import avoidance model - RR'!$J$15),'Import avoidance model - RR'!$H$15,'Import avoidance model - RR'!$H$16))*D194/100","v":3.3731447205435239},{"$f":"(IF(AND($R90>'Import avoidance model - RR'!$I$15,'Import avoidance model - RR'!$J$15),'Import avoidance model - RR'!$H$15,'Import avoidance model - RR'!$H$16))*K194/100","v":2.0107480868768564},{"$f":"(IF(AND($R90>'Import avoidance model - RR'!$I$15,'Import avoidance model - RR'!$J$15),'Import avoidance model - RR'!$H$15,'Import avoidance model - RR'!$H$16))*D38/100","v":3.3731447205435239},{"$f":"(IF(AND($R90>'Import avoidance model - RR'!$I$15,'Import avoidance model - RR'!$J$15),'Import avoidance model - RR'!$H$15,'Import avoidance model - RR'!$H$16))*K38/100","v":2.0107480868768564},{"$f":"IF(C90<LOGIC!D90,(LOGIC!D90-LOGIC!C90)*IF(AND(LOGIC!B90>'Import avoidance model - RR'!$I$15,LOGIC!B90<'Import avoidance model - RR'!$J$15),'Import avoidance model - RR'!$H$15,'Import avoidance model - RR'!$H$16),0)/100","v":0},{"$f":"IF('Import avoidance model - RR'!$H$17=\"N\",0,IF(D90<=C90,D90,C90)*'Import avoidance model - RR'!$H$18/100)","v":2.529858540407643},{"$f":"IF(J90<LOGIC!K90,(LOGIC!K90-LOGIC!J90)*IF(AND(LOGIC!B90>'Import avoidance model - RR'!$I$15,LOGIC!B90<'Import avoidance model - RR'!$J$15),'Import avoidance model - RR'!$H$15,'Import avoidance model - RR'!$H$16),0)/100","v":0},{"$f":"IF('Import avoidance model - RR'!$H$17=\"N\",0,IF(K90<=C90,K90,C90)*'Import avoidance model - RR'!$H$18/100)","v":1.5080610651576425},{"$f":"IF(C142<LOGIC!D142,(LOGIC!D142-LOGIC!C142)*IF(AND(LOGIC!B142>'Import avoidance model - RR'!$I$15,LOGIC!B142<'Import avoidance model - RR'!$J$15),'Import avoidance model - RR'!$H$15,'Import avoidance model - RR'!$H$16),0)/100","v":0},{"$f":"IF('Import avoidance model - RR'!$H$17=\"N\",0,IF(D142<=C142,D142,C142)*'Import avoidance model - RR'!$H$18/100)","v":2.529858540407643},{"$f":"IF(J142<LOGIC!K142,(LOGIC!K142-LOGIC!J142)*IF(AND(LOGIC!B142>'Import avoidance model - RR'!$I$15,LOGIC!B142<'Import avoidance model - RR'!$J$15),'Import avoidance model - RR'!$H$15,'Import avoidance model - RR'!$H$16),0)/100","v":0},{"$f":"IF('Import avoidance model - RR'!$H$17=\"N\",0,IF(K142<=C142,K142,C142)*'Import avoidance model - RR'!$H$18/100)","v":1.5080610651576425},{"$f":"IF(C194<LOGIC!D194,(LOGIC!D194-LOGIC!C194)*IF(AND(LOGIC!B194>'Import avoidance model - RR'!$I$15,LOGIC!B194<'Import avoidance model - RR'!$J$15),'Import avoidance model - RR'!$H$15,'Import avoidance model - RR'!$H$16),0)/100","v":2.7286187317938801},{"$f":"IF('Import avoidance model - RR'!$H$17=\"N\",0,IF(D194<=C194,D194,C194)*'Import avoidance model - RR'!$H$18/100)","v":0.48339449156223274},{"$f":"IF(J194<LOGIC!K194,(LOGIC!K194-LOGIC!J194)*IF(AND(LOGIC!B194>'Import avoidance model - RR'!$I$15,LOGIC!B194<'Import avoidance model - RR'!$J$15),'Import avoidance model - RR'!$H$15,'Import avoidance model - RR'!$H$16),0)/100","v":1.3662220981272128},{"$f":"IF('Import avoidance model - RR'!$H$17=\"N\",0,IF(K194<=C194,K194,C194)*'Import avoidance model - RR'!$H$18/100)","v":0.48339449156223274},{"$f":"IF(C38<LOGIC!D38,(LOGIC!D38-LOGIC!C38)*IF(AND(LOGIC!B38>'Import avoidance model - RR'!$I$15,LOGIC!B38<'Import avoidance model - RR'!$J$15),'Import avoidance model - RR'!$H$15,'Import avoidance model - RR'!$H$16),0)/100","v":3.3731447205435239},{"$f":"IF('Import avoidance model - RR'!$H$17=\"N\",0,IF(D38<=C38,D38,C38)*'Import avoidance model - RR'!$H$18/100)","v":0},{"$f":"IF(J38<LOGIC!K38,(LOGIC!K38-LOGIC!J38)*IF(AND(LOGIC!B194>'Import avoidance model - RR'!$I$15,LOGIC!B194<'Import avoidance model - RR'!$J$15),'Import avoidance model - RR'!$H$15,'Import avoidance model - RR'!$H$16),0)/100","v":2.0107480868768564},{"$f":"IF('Import avoidance model - RR'!$H$17=\"N\",0,IF(K38<=C38,K38,C38)*'Import avoidance model - RR'!$H$18/100)","v":0},{"$f":"AA90-(IF(AND($R90>'Import avoidance model - RR'!$I$15,$R90<'Import avoidance model - RR'!$J$15),'Import avoidance model - RR'!$H$15*LOGIC!G90,LOGIC!G90*'Import avoidance model - RR'!$H$16)/100)","v":0},2.529858540407643,{"$f":"IF('Import avoidance model - RR'!H53=\"N\",0,LOGIC!G90*'Import avoidance model - RR'!$H$20)/100","v":0},{"$f":"AC90-(IF(AND($R90>'Import avoidance model - RR'!$I$15,$R90<'Import avoidance model - RR'!$J$15),'Import avoidance model - RR'!$H$15*LOGIC!N90,LOGIC!N90*'Import avoidance model - RR'!$H$16)/100)","v":0},1.5080610651576425,{"$f":"IF('Import avoidance model - RR'!H53=\"N\",0,LOGIC!N90*'Import avoidance model - RR'!$H$20)/100","v":0},{"$f":"AE90-(IF(AND($R90>'Import avoidance model - RR'!$I$15,$R90<'Import avoidance model - RR'!$J$15),'Import avoidance model - RR'!$H$15*LOGIC!G142,LOGIC!G142*'Import avoidance model - RR'!$H$16)/100)","v":0},2.529858540407643,{"$f":"IF('Import avoidance model - RR'!H53=\"N\",0,LOGIC!G142*'Import avoidance model - RR'!$H$20)/100","v":0},{"$f":"AG90-(IF(AND($R90>'Import avoidance model - RR'!$I$15,$R90<'Import avoidance model - RR'!$J$15),'Import avoidance model - RR'!$H$15*LOGIC!N142,LOGIC!N142*'Import avoidance model - RR'!$H$16)/100)","v":0},1.5080610651576425,{"$f":"IF('Import avoidance model - RR'!H53=\"N\",0,LOGIC!N142*'Import avoidance model - RR'!$H$20)/100","v":0},{"$f":"AI90-(IF(AND($R90>'Import avoidance model - RR'!$I$15,$R90<'Import avoidance model - RR'!$J$15),'Import avoidance model - RR'!$H$15*LOGIC!G194,LOGIC!G194*'Import avoidance model - RR'!$H$16)/100)","v":2.7286187317938801},0.48339449156223274,{"$f":"IF('Import avoidance model - RR'!H53=\"N\",0,LOGIC!G194*'Import avoidance model - RR'!$H$20)/100","v":0},{"$f":"AK90-(IF(AND($R90>'Import avoidance model - RR'!$I$15,$R90<'Import avoidance model - RR'!$J$15),'Import avoidance model - RR'!$H$15*LOGIC!N194,LOGIC!N194*'Import avoidance model - RR'!$H$16)/100)","v":0},0.48339449156223274,{"$f":"IF('Import avoidance model - RR'!H53=\"N\",0,LOGIC!N194*'Import avoidance model - RR'!$H$20)/100","v":1.0246665735954097},{"$f":"AM90-(IF(AND($R90>'Import avoidance model - RR'!$I$15,$R90<'Import avoidance model - RR'!$J$15),'Import avoidance model - RR'!$H$15*LOGIC!G38,LOGIC!G38*'Import avoidance model - RR'!$H$16)/100)","v":3.3731447205435239},0,{"$f":"IF('Import avoidance model - RR'!H53=\"N\",0,LOGIC!G38*'Import avoidance model - RR'!$H$20)/100","v":0},{"$f":"AO90-(IF(AND($R90>'Import avoidance model - RR'!$I$15,$R90<'Import avoidance model - RR'!$J$15),'Import avoidance model - RR'!$H$15*LOGIC!N38,LOGIC!N38*'Import avoidance model - RR'!$H$16)/100)","v":0.51074808687685636},0,{"$f":"IF('Import avoidance model - RR'!H53=\"N\",0,LOGIC!N38*'Import avoidance model - RR'!$H$20)/100","v":1.125}]
[null,"17:00:00",{"$f":"'PV data'!J39","v":23.192946005077623},32.139078939576216,0,0,8.9461329344985927,-8.9461329344985927,{"$f":"IF(AND(I90+H91<=$A$5,I90+H91>$A$3),LOGIC!I90+LOGIC!H91,IF(I90+H91>$A$5,$A$5,$A$3))","v":51.053867065501407},23.192946005077623,21.0333941138807,2.1595518911969229,0,0,0,{"$f":"IF(AND(P90+O91<=$A$5,P90+O91>$A$3),LOGIC!P90+LOGIC!O91,IF(P90+O91>$A$5,$A$5,$A$3))","v":60},null,"17:00:00",{"$f":"(IF(AND($R91>'Import avoidance model - RR'!$I$15,'Import avoidance model - RR'!$J$15),'Import avoidance model - RR'!$H$15,'Import avoidance model - RR'!$H$16))*D91/100","v":3.2139078939576216},{"$f":"(IF(AND($R91>'Import avoidance model - RR'!$I$15,'Import avoidance model - RR'!$J$15),'Import avoidance model - RR'!$H$15,'Import avoidance model - RR'!$H$16))*K91/100","v":2.1033394113880699},{"$f":"(IF(AND($R91>'Import avoidance model - RR'!$I$15,'Import avoidance model - RR'!$J$15),'Import avoidance model - RR'!$H$15,'Import avoidance model - RR'!$H$16))*D143/100","v":3.2139078939576216},{"$f":"(IF(AND($R91>'Import avoidance model - RR'!$I$15,'Import avoidance model - RR'!$J$15),'Import avoidance model - RR'!$H$15,'Import avoidance model - RR'!$H$16))*K143/100","v":2.1033394113880699},{"$f":"(IF(AND($R91>'Import avoidance model - RR'!$I$15,'Import avoidance model - RR'!$J$15),'Import avoidance model - RR'!$H$15,'Import avoidance model - RR'!$H$16))*D195/100","v":3.2139078939576216},{"$f":"(IF(AND($R91>'Import avoidance model - RR'!$I$15,'Import avoidance model - RR'!$J$15),'Import avoidance model - RR'!$H$15,'Import avoidance model - RR'!$H$16))*K195/100","v":2.1033394113880699},{"$f":"(IF(AND($R91>'Import avoidance model - RR'!$I$15,'Import avoidance model - RR'!$J$15),'Import avoidance model - RR'!$H$15,'Import avoidance model - RR'!$H$16))*D39/100","v":3.2139078939576216},{"$f":"(IF(AND($R91>'Import avoidance model - RR'!$I$15,'Import avoidance model - RR'!$J$15),'Import avoidance model - RR'!$H$15,'Import avoidance model - RR'!$H$16))*K39/100","v":2.1033394113880699},{"$f":"IF(C91<LOGIC!D91,(LOGIC!D91-LOGIC!C91)*IF(AND(LOGIC!B91>'Import avoidance model - RR'!$I$15,LOGIC!B91<'Import avoidance model - RR'!$J$15),'Import avoidance model - RR'!$H$15,'Import avoidance model - RR'!$H$16),0)/100","v":0.89461329344985929},{"$f":"IF('Import avoidance model - RR'!$H$17=\"N\",0,IF(D91<=C91,D91,C91)*'Import avoidance model - RR'!$H$18/100)","v":1.7394709503808219},{"$f":"IF(J91<LOGIC!K91,(LOGIC!K91-LOGIC!J91)*IF(AND(LOGIC!B91>'Import avoidance model - RR'!$I$15,LOGIC!B91<'Import avoidance model - RR'!$J$15),'Import avoidance model - RR'!$H$15,'Import avoidance model - RR'!$H$16),0)/100","v":0},{"$f":"IF('Import avoidance model - RR'!$H$17=\"N\",0,IF(K91<=C91,K91,C91)*'Import avoidance model - RR'!$H$18/100)","v":1.5775045585410523},{"$f":"IF(C143<LOGIC!D143,(LOGIC!D143-LOGIC!C143)*IF(AND(LOGIC!B143>'Import avoidance model - RR'!$I$15,LOGIC!B143<'Import avoidance model - RR'!$J$15),'Import avoidance model - RR'!$H$15,'Import avoidance model - RR'!$H$16),0)/100","v":0.49611510887490518},{"$f":"IF('Import avoidance model - RR'!$H$17=\"N\",0,IF(D143<=C143,D143,C143)*'Import avoidance model - RR'!$H$18/100)","v":2.0383445888120373},{"$f":"IF(J143<LOGIC!K143,(LOGIC!K143-LOGIC!J143)*IF(AND(LOGIC!B143>'Import avoidance model - RR'!$I$15,LOGIC!B143<'Import avoidance model - RR'!$J$15),'Import avoidance model - RR'!$H$15,'Import avoidance model - RR'!$H$16),0)/100","v":0},{"$f":"IF('Import avoidance model - RR'!$H$17=\"N\",0,IF(K143<=C143,K143,C143)*'Import avoidance model - RR'!$H$18/100)","v":1.5775045585410523},{"$f":"IF(C195<LOGIC!D195,(LOGIC!D195-LOGIC!C195)*IF(AND(LOGIC!B195>'Import avoidance model - RR'!$I$15,LOGIC!B195<'Import avoidance model - RR'!$J$15),'Import avoidance model - RR'!$H$15,'Import avoidance model - RR'!$H$16),0)/100","v":3.2139078939576216},{"$f":"IF('Import avoidance model - RR'!$H$17=\"N\",0,IF(D195<=C195,D195,C195)*'Import avoidance model - RR'!$H$18/100)","v":0},{"$f":"IF(J195<LOGIC!K195,(LOGIC!K195-LOGIC!J195)*IF(AND(LOGIC!B195>'Import avoidance model - RR'!$I$15,LOGIC!B195<'Import avoidance model - RR'!$J$15),'Import avoidance model - RR'!$H$15,'Import avoidance model - RR'!$H$16),0)/100","v":2.1033394113880699},{"$f":"IF('Import avoidance model - RR'!$H$17=\"N\",0,IF(K195<=C195,K195,C195)*'Import avoidance model - RR'!$H$18/100)","v":0},{"$f":"IF(C39<LOGIC!D39,(LOGIC!D39-LOGIC!C39)*IF(AND(LOGIC!B39>'Import avoidance model - RR'!$I$15,LOGIC!B39<'Import avoidance model - RR'!$J$15),'Import avoidance model - RR'!$H$15,'Import avoidance model - RR'!$H$16),0)/100","v":3.2139078939576216},{"$f":"IF('Import avoidance model - RR'!$H$17=\"N\",0,IF(D39<=C39,D39,C39)*'Import avoidance model - RR'!$H$18/100)","v":0},{"$f":"IF(J39<LOGIC!K39,(LOGIC!K39-LOGIC!J39)*IF(AND(LOGIC!B195>'Import avoidance model - RR'!$I$15,LOGIC!B195<'Import avoidance model - RR'!$J$15),'Import avoidance model - RR'!$H$15,'Import avoidance model - RR'!$H$16),0)/100","v":2.1033394113880699},{"$f":"IF('Import avoidance model - RR'!$H$17=\"N\",0,IF(K39<=C39,K39,C39)*'Import avoidance model - RR'!$H$18/100)","v":0},{"$f":"AA91-(IF(AND($R91>'Import avoidance model - RR'!$I$15,$R91<'Import avoidance model - RR'!$J$15),'Import avoidance model - RR'!$H$15*LOGIC!G91,LOGIC!G91*'Import avoidance model - RR'!$H$16)/100)","v":0},1.7394709503808219,{"$f":"IF('Import avoidance model - RR'!H54=\"N\",0,LOGIC!G91*'Import avoidance model - RR'!$H$20)/100","v":0.6709599700873945},{"$f":"AC91-(IF(AND($R91>'Import avoidance model - RR'!$I$15,$R91<'Import avoidance model - RR'!$J$15),'Import avoidance model - RR'!$H$15*LOGIC!N91,LOGIC!N91*'Import avoidance model - RR'!$H$16)/100)","v":0},1.5775045585410523,{"$f":"IF('Import avoidance model - RR'!H54=\"N\",0,LOGIC!N91*'Import avoidance model - RR'!$H$20)/100","v":0},{"$f":"AE91-(IF(AND($R91>'Import avoidance model - RR'!$I$15,$R91<'Import avoidance model - RR'!$J$15),'Import avoidance model - RR'!$H$15*LOGIC!G143,LOGIC!G143*'Import avoidance model - RR'!$H$16)/100)","v":0},2.0383445888120373,{"$f":"IF('Import avoidance model - RR'!H54=\"N\",0,LOGIC!G143*'Import avoidance model - RR'!$H$20)/100","v":0.37208633165617888},{"$f":"AG91-(IF(AND($R91>'Import avoidance model - RR'!$I$15,$R91<'Import avoidance model - RR'!$J$15),'Import avoidance model - RR'!$H$15*LOGIC!N143,LOGIC!N143*'Import avoidance model - RR'!$H$16)/100)","v":0},1.5775045585410523,{"$f":"IF('Import avoidance model - RR'!H54=\"N\",0,LOGIC!N143*'Import avoidance model - RR'!$H$20)/100","v":0},{"$f":"AI91-(IF(AND($R91>'Import avoidance model - RR'!$I$15,$R91<'Import avoidance model - RR'!$J$15),'Import avoidance model - RR'!$H$15*LOGIC!G195,LOGIC!G195*'Import avoidance model - RR'!$H$16)/100)","v":3.2139078939576216},0,{"$f":"IF('Import avoidance model - RR'!H54=\"N\",0,LOGIC!G195*'Import avoidance model - RR'!$H$20)/100","v":0},{"$f":"AK91-(IF(AND($R91>'Import avoidance model - RR'!$I$15,$R91<'Import avoidance model - RR'!$J$15),'Import avoidance model - RR'!$H$15*LOGIC!N195,LOGIC!N195*'Import avoidance model - RR'!$H$16)/100)","v":0.6033394113880699},0,{"$f":"IF('Import avoidance model - RR'!H54=\"N\",0,LOGIC!N195*'Import avoidance model - RR'!$H$20)/100","v":1.125},{"$f":"AM91-(IF(AND($R91>'Import avoidance model - RR'!$I$15,$R91<'Import avoidance model - RR'!$J$15),'Import avoidance model - RR'!$H$15*LOGIC!G39,LOGIC!G39*'Import avoidance model - RR'!$H$16)/100)","v":3.2139078939576216},0,{"$f":"IF('Import avoidance model - RR'!H54=\"N\",0,LOGIC!G39*'Import avoidance model - RR'!$H$20)/100","v":0},{"$f":"AO91-(IF(AND($R91>'Import avoidance model - RR'!$I$15,$R91<'Import avoidance model - RR'!$J$15),'Import avoidance model - RR'!$H$15*LOGIC!N39,LOGIC!N39*'Import avoidance model - RR'!$H$16)/100)","v":2.1033394113880699},0,{"$f":"IF('Import avoidance model - RR'!H54=\"N\",0,LOGIC!N39*'Import avoidance model - RR'!$H$20)/100","v":0}]
[null,"17:30:00",{"$f":"'PV data'!J40","v":0},31.258241037074296,0,0,15,-15,{"$f":"IF(AND(I91+H92<=$A$5,I91+H92>$A$3),LOGIC!I91+LOGIC!H92,IF(I91+H92>$A$5,$A$5,$A$3))","v":36.053867065501407},0,22.057712648725804,0,0,15,-15,{"$f":"IF(AND(P91+O92<=$A$5,P91+O92>$A$3),LOGIC!P91+LOGIC!O92,IF(P91+O92>$A$5,$A$5,$A$3))","v":45},null,"17:30:00",{"$f":"(IF(AND($R92>'Import avoidance model - RR'!$I$15,'Import avoidance model - RR'!$J$15),'Import avoidance model - RR'!$H$15,'Import avoidance model - RR'!$H$16))*D92/100","v":3.1258241037074295},{"$f":"(IF(AND($R92>'Import avoidance model - RR'!$I$15,'Import avoidance model - RR'!$J$15),'Import avoidance model - RR'!$H$15,'Import avoidance model - RR'!$H$16))*K92/100","v":2.2057712648725807},{"$f":"(IF(AND($R92>'Import avoidance model - RR'!$I$15,'Import avoidance model - RR'!$J$15),'Import avoidance model - RR'!$H$15,'Import avoidance model - RR'!$H$16))*D144/100","v":3.1258241037074295},{"$f":"(IF(AND($R92>'Import avoidance model - RR'!$I$15,'Import avoidance model - RR'!$J$15),'Import avoidance model - RR'!$H$15,'Import avoidance model - RR'!$H$16))*K144/100","v":2.2057712648725807},{"$f":"(IF(AND($R92>'Import avoidance model - RR'!$I$15,'Import avoidance model - RR'!$J$15),'Import avoidance model - RR'!$H$15,'Import avoidance model - RR'!$H$16))*D196/100","v":3.1258241037074295},{"$f":"(IF(AND($R92>'Import avoidance model - RR'!$I$15,'Import avoidance model - RR'!$J$15),'Import avoidance model - RR'!$H$15,'Import avoidance model - RR'!$H$16))*K196/100","v":2.2057712648725807},{"$f":"(IF(AND($R92>'Import avoidance model - RR'!$I$15,'Import avoidance model - RR'!$J$15),'Import avoidance model - RR'!$H$15,'Import avoidance model - RR'!$H$16))*D40/100","v":3.1258241037074295},{"$f":"(IF(AND($R92>'Import avoidance model - RR'!$I$15,'Import avoidance model - RR'!$J$15),'Import avoidance model - RR'!$H$15,'Import avoidance model - RR'!$H$16))*K40/100","v":2.2057712648725807},{"$f":"IF(C92<LOGIC!D92,(LOGIC!D92-LOGIC!C92)*IF(AND(LOGIC!B92>'Import avoidance model - RR'!$I$15,LOGIC!B92<'Import avoidance model - RR'!$J$15),'Import avoidance model - RR'!$H$15,'Import avoidance model - RR'!$H$16),0)/100","v":3.1258241037074295},{"$f":"IF('Import avoidance model - RR'!$H$17=\"N\",0,IF(D92<=C92,D92,C92)*'Import avoidance model - RR'!$H$18/100)","v":0},{"$f":"IF(J92<LOGIC!K92,(LOGIC!K92-LOGIC!J92)*IF(AND(LOGIC!B92>'Import avoidance model - RR'!$I$15,LOGIC!B92<'Import avoidance model - RR'!$J$15),'Import avoidance model - RR'!$H$15,'Import avoidance model - RR'!$H$16),0)/100","v":2.2057712648725807},{"$f":"IF('Import avoidance model - RR'!$H$17=\"N\",0,IF(K92<=C92,K92,C92)*'Import avoidance model - RR'!$H$18/100)","v":0},{"$f":"IF(C144<LOGIC!D144,(LOGIC!D144-LOGIC!C144)*IF(AND(LOGIC!B144>'Import avoidance model - RR'!$I$15,LOGIC!B144<'Import avoidance model - RR'!$J$15),'Import avoidance model - RR'!$H$15,'Import avoidance model - RR'!$H$16),0)/100","v":1.40514751431098},{"$f":"IF('Import avoidance model - RR'!$H$17=\"N\",0,IF(D144<=C144,D144,C144)*'Import avoidance model - RR'!$H$18/100)","v":1.2905074420473372},{"$f":"IF(J144<LOGIC!K144,(LOGIC!K144-LOGIC!J144)*IF(AND(LOGIC!B144>'Import avoidance model - RR'!$I$15,LOGIC!B144<'Import avoidance model - RR'!$J$15),'Import avoidance model - RR'!$H$15,'Import avoidance model - RR'!$H$16),0)/100","v":0.485094675476131},{"$f":"IF('Import avoidance model - RR'!$H$17=\"N\",0,IF(K144<=C144,K144,C144)*'Import avoidance model - RR'!$H$18/100)","v":1.2905074420473372},{"$f":"IF(C196<LOGIC!D196,(LOGIC!D196-LOGIC!C196)*IF(AND(LOGIC!B196>'Import avoidance model - RR'!$I$15,LOGIC!B196<'Import avoidance model - RR'!$J$15),'Import avoidance model - RR'!$H$15,'Import avoidance model - RR'!$H$16),0)/100","v":3.1258241037074295},{"$f":"IF('Import avoidance model - RR'!$H$17=\"N\",0,IF(D196<=C196,D196,C196)*'Import avoidance model - RR'!$H$18/100)","v":0},{"$f":"IF(J196<LOGIC!K196,(LOGIC!K196-LOGIC!J196)*IF(AND(LOGIC!B196>'Import avoidance model - RR'!$I$15,LOGIC!B196<'Import avoidance model - RR'!$J$15),'Import avoidance model - RR'!$H$15,'Import avoidance model - RR'!$H$16),0)/100","v":2.2057712648725807},{"$f":"IF('Import avoidance model - RR'!$H$17=\"N\",0,IF(K196<=C196,K196,C196)*'Import avoidance model - RR'!$H$18/100)","v":0},{"$f":"IF(C40<LOGIC!D40,(LOGIC!D40-LOGIC!C40)*IF(AND(LOGIC!B40>'Import avoidance model - RR'!$I$15,LOGIC!B40<'Import avoidance model - RR'!$J$15),'Import avoidance model - RR'!$H$15,'Import avoidance model - RR'!$H$16),0)/100","v":3.1258241037074295},{"$f":"IF('Import avoidance model - RR'!$H$17=\"N\",0,IF(D40<=C40,D40,C40)*'Import avoidance model - RR'!$H$18/100)","v":0},{"$f":"IF(J40<LOGIC!K40,(LOGIC!K40-LOGIC!J40)*IF(AND(LOGIC!B196>'Import avoidance model - RR'!$I$15,LOGIC!B196<'Import avoidance model - RR'!$J$15),'Import avoidance model - RR'!$H$15,'Import avoidance model - RR'!$H$16),0)/100","v":2.2057712648725807},{"$f":"IF('Import avoidance model - RR'!$H$17=\"N\",0,IF(K40<=C40,K40,C40)*'Import avoidance model - RR'!$H$18/100)","v":0},{"$f":"AA92-(IF(AND($R92>'Import avoidance model - RR'!$I$15,$R92<'Import avoidance model - RR'!$J$15),'Import avoidance model - RR'!$H$15*LOGIC!G92,LOGIC!G92*'Import avoidance model - RR'!$H$16)/100)","v":1.6258241037074295},0,{"$f":"IF('Import avoidance model - RR'!H55=\"N\",0,LOGIC!G92*'Import avoidance model - RR'!$H$20)/100","v":1.125},{"$f":"AC92-(IF(AND($R92>'Import avoidance model - RR'!$I$15,$R92<'Import avoidance model - RR'!$J$15),'Import avoidance model - RR'!$H$15*LOGIC!N92,LOGIC!N92*'Import avoidance model - RR'!$H$16)/100)","v":0.70577126487258068},0,{"$f":"IF('Import avoidance model - RR'!H55=\"N\",0,LOGIC!N92*'Import avoidance model - RR'!$H$20)/100","v":1.125},{"$f":"AE92-(IF(AND($R92>'Import avoidance model - RR'!$I$15,$R92<'Import avoidance model - RR'!$J$15),'Import avoidance model - RR'!$H$15*LOGIC!G144,LOGIC!G144*'Import avoidance model - RR'!$H$16)/100)","v":0},1.2905074420473372,{"$f":"IF('Import avoidance model - RR'!H55=\"N\",0,LOGIC!G144*'Import avoidance model - RR'!$H$20)/100","v":1.0538606357332352},{"$f":"AG92-(IF(AND($R92>'Import avoidance model - RR'!$I$15,$R92<'Import avoidance model - RR'!$J$15),'Import avoidance model - RR'!$H$15*LOGIC!N144,LOGIC!N144*'Import avoidance model - RR'!$H$16)/100)","v":0},1.2905074420473372,{"$f":"IF('Import avoidance model - RR'!H55=\"N\",0,LOGIC!N144*'Import avoidance model - RR'!$H$20)/100","v":0.36382100660709826},{"$f":"AI92-(IF(AND($R92>'Import avoidance model - RR'!$I$15,$R92<'Import avoidance model - RR'!$J$15),'Import avoidance model - RR'!$H$15*LOGIC!G196,LOGIC!G196*'Import avoidance model - RR'!$H$16)/100)","v":3.1258241037074295},0,{"$f":"IF('Import avoidance model - RR'!H55=\"N\",0,LOGIC!G196*'Import avoidance model - RR'!$H$20)/100","v":0},{"$f":"AK92-(IF(AND($R92>'Import avoidance model - RR'!$I$15,$R92<'Import avoidance model - RR'!$J$15),'Import avoidance model - RR'!$H$15*LOGIC!N196,LOGIC!N196*'Import avoidance model - RR'!$H$16)/100)","v":0.70577126487258068},0,{"$f":"IF('Import avoidance model - RR'!H55=\"N\",0,LOGIC!N196*'Import avoidance model - RR'!$H$20)/100","v":1.125},{"$f":"AM92-(IF(AND($R92>'Import avoidance model - RR'!$I$15,$R92<'Import avoidance model - RR'!$J$15),'Import avoidance model - RR'!$H$15*LOGIC!G40,LOGIC!G40*'Import avoidance model - RR'!$H$16)/100)","v":3.1258241037074295},0,{"$f":"IF('Import avoidance model - RR'!H55=\"N\",0,LOGIC!G40*'Import avoidance model - RR'!$H$20)/100","v":0},{"$f":"AO92-(IF(AND($R92>'Import avoidance model - RR'!$I$15,$R92<'Import avoidance model - RR'!$J$15),'Import avoidance model - RR'!$H$15*LOGIC!N40,LOGIC!N40*'Import avoidance model - RR'!$H$16)/100)","v":2.2057712648725807},0,{"$f":"IF('Import avoidance model - RR'!H55=\"N\",0,LOGIC!N40*'Import avoidance model - RR'!$H$20)/100","v":0}]
[null,"18:00:00",{"$f":"'PV data'!J41","v":0},30.511750905761172,0,0,15,-15,{"$f":"IF(AND(I92+H93<=$A$5,I92+H93>$A$3),LOGIC!I92+LOGIC!H93,IF(I92+H93>$A$5,$A$5,$A$3))","v":21.053867065501407},0,22.704516279645254,0,0,15,-15,{"$f":"IF(AND(P92+O93<=$A$5,P92+O93>$A$3),LOGIC!P92+LOGIC!O93,IF(P92+O93>$A$5,$A$5,$A$3))","v":30},null,"18:00:00",{"$f":"(IF(AND($R93>'Import avoidance model - RR'!$I$15,'Import avoidance model - RR'!$J$15),'Import avoidance model - RR'!$H$15,'Import avoidance model - RR'!$H$16))*D93/100","v":3.051175090576117},{"$f":"(IF(AND($R93>'Import avoidance model - RR'!$I$15,'Import avoidance model - RR'!$J$15),'Import avoidance model - RR'!$H$15,'Import avoidance model - RR'!$H$16))*K93/100","v":2.2704516279645253},{"$f":"(IF(AND($R93>'Import avoidance model - RR'!$I$15,'Import avoidance model - RR'!$J$15),'Import avoidance model - RR'!$H$15,'Import avoidance model - RR'!$H$16))*D145/100","v":3.051175090576117},{"$f":"(IF(AND($R93>'Import avoidance model - RR'!$I$15,'Import avoidance model - RR'!$J$15),'Import avoidance model - RR'!$H$15,'Import avoidance model - RR'!$H$16))*K145/100","v":2.2704516279645253},{"$f":"(IF(AND($R93>'Import avoidance model - RR'!$I$15,'Import avoidance model - RR'!$J$15),'Import avoidance model - RR'!$H$15,'Import avoidance model - RR'!$H$16))*D197/100","v":3.051175090576117},{"$f":"(IF(AND($R93>'Import avoidance model - RR'!$I$15,'Import avoidance model - RR'!$J$15),'Import avoidance model - RR'!$H$15,'Import avoidance model - RR'!$H$16))*K197/100","v":2.2704516279645253},{"$f":"(IF(AND($R93>'Import avoidance model - RR'!$I$15,'Import avoidance model - RR'!$J$15),'Import avoidance model - RR'!$H$15,'Import avoidance model - RR'!$H$16))*D41/100","v":3.051175090576117},{"$f":"(IF(AND($R93>'Import avoidance model - RR'!$I$15,'Import avoidance model - RR'!$J$15),'Import avoidance model - RR'!$H$15,'Import avoidance model - RR'!$H$16))*K41/100","v":2.2704516279645253},{"$f":"IF(C93<LOGIC!D93,(LOGIC!D93-LOGIC!C93)*IF(AND(LOGIC!B93>'Import avoidance model - RR'!$I$15,LOGIC!B93<'Import avoidance model - RR'!$J$15),'Import avoidance model - RR'!$H$15,'Import avoidance model - RR'!$H$16),0)/100","v":3.051175090576117},{"$f":"IF('Import avoidance model - RR'!$H$17=\"N\",0,IF(D93<=C93,D93,C93)*'Import avoidance model - RR'!$H$18/100)","v":0},{"$f":"IF(J93<LOGIC!K93,(LOGIC!K93-LOGIC!J93)*IF(AND(LOGIC!B93>'Import avoidance model - RR'!$I$15,LOGIC!B93<'Import avoidance model - RR'!$J$15),'Import avoidance model - RR'!$H$15,'Import avoidance model - RR'!$H$16),0)/100","v":2.2704516279645253},{"$f":"IF('Import avoidance model - RR'!$H$17=\"N\",0,IF(K93<=C93,K93,C93)*'Import avoidance model - RR'!$H$18/100)","v":0},{"$f":"IF(C145<LOGIC!D145,(LOGIC!D145-LOGIC!C145)*IF(AND(LOGIC!B145>'Import avoidance model - RR'!$I$15,LOGIC!B145<'Import avoidance model - RR'!$J$15),'Import avoidance model - RR'!$H$15,'Import avoidance model - RR'!$H$16),0)/100","v":3.051175090576117},{"$f":"IF('Import avoidance model - RR'!$H$17=\"N\",0,IF(D145<=C145,D145,C145)*'Import avoidance model - RR'!$H$18/100)","v":0},{"$f":"IF(J145<LOGIC!K145,(LOGIC!K145-LOGIC!J145)*IF(AND(LOGIC!B145>'Import avoidance model - RR'!$I$15,LOGIC!B145<'Import avoidance model - RR'!$J$15),'Import avoidance model - RR'!$H$15,'Import avoidance model - RR'!$H$16),0)/100","v":2.2704516279645253},{"$f":"IF('Import avoidance model - RR'!$H$17=\"N\",0,IF(K145<=C145,K145,C145)*'Import avoidance model - RR'!$H$18/100)","v":0},{"$f":"IF(C197<LOGIC!D197,(LOGIC!D197-LOGIC!C197)*IF(AND(LOGIC!B197>'Import avoidance model - RR'!$I$15,LOGIC!B197<'Import avoidance model - RR'!$J$15),'Import avoidance model - RR'!$H$15,'Import avoidance model - RR'!$H$16),0)/100","v":3.051175090576117},{"$f":"IF('Import avoidance model - RR'!$H$17=\"N\",0,IF(D197<=C197,D197,C197)*'Import avoidance model - RR'!$H$18/100)","v":0},{"$f":"IF(J197<LOGIC!K197,(LOGIC!K197-LOGIC!J197)*IF(AND(LOGIC!B197>'Import avoidance model - RR'!$I$15,LOGIC!B197<'Import avoidance model - RR'!$J$15),'Import avoidance model - RR'!$H$15,'Import avoidance model - RR'!$H$16),0)/100","v":2.2704516279645253},{"$f":"IF('Import avoidance model - RR'!$H$17=\"N\",0,IF(K197<=C197,K197,C197)*'Import avoidance model - RR'!$H$18/100)","v":0},{"$f":"IF(C41<LOGIC!D41,(LOGIC!D41-LOGIC!C41)*IF(AND(LOGIC!B41>'Import avoidance model - RR'!$I$15,LOGIC!B41<'Import avoidance model - RR'!$J$15),'Import avoidance model - RR'!$H$15,'Import avoidance model - RR'!$H$16),0)/100","v":3.051175090576117},{"$f":"IF('Import avoidance model - RR'!$H$17=\"N\",0,IF(D41<=C41,D41,C41)*'Import avoidance model - RR'!$H$18/100)","v":0},{"$f":"IF(J41<LOGIC!K41,(LOGIC!K41-LOGIC!J41)*IF(AND(LOGIC!B197>'Import avoidance model - RR'!$I$15,LOGIC!B197<'Import avoidance model - RR'!$J$15),'Import avoidance model - RR'!$H$15,'Import avoidance model - RR'!$H$16),0)/100","v":2.2704516279645253},{"$f":"IF('Import avoidance model - RR'!$H$17=\"N\",0,IF(K41<=C41,K41,C41)*'Import avoidance model - RR'!$H$18/100)","v":0},{"$f":"AA93-(IF(AND($R93>'Import avoidance model - RR'!$I$15,$R93<'Import avoidance model - RR'!$J$15),'Import avoidance model - RR'!$H$15*LOGIC!G93,LOGIC!G93*'Import avoidance model - RR'!$H$16)/100)","v":1.551175090576117},0,{"$f":"IF('Import avoidance model - RR'!H56=\"N\",0,LOGIC!G93*'Import avoidance model - RR'!$H$20)/100","v":1.125},{"$f":"AC93-(IF(AND($R93>'Import avoidance model - RR'!$I$15,$R93<'Import avoidance model - RR'!$J$15),'Import avoidance model - RR'!$H$15*LOGIC!N93,LOGIC!N93*'Import avoidance model - RR'!$H$16)/100)","v":0.77045162796452527},0,{"$f":"IF('Import avoidance model - RR'!H56=\"N\",0,LOGIC!N93*'Import avoidance model - RR'!$H$20)/100","v":1.125},{"$f":"AE93-(IF(AND($R93>'Import avoidance model - RR'!$I$15,$R93<'Import avoidance model - RR'!$J$15),'Import avoidance model - RR'!$H$15*LOGIC!G145,LOGIC!G145*'Import avoidance model - RR'!$H$16)/100)","v":1.551175090576117},0,{"$f":"IF('Import avoidance model - RR'!H56=\"N\",0,LOGIC!G145*'Import avoidance model - RR'!$H$20)/100","v":1.125},{"$f":"AG93-(IF(AND($R93>'Import avoidance model - RR'!$I$15,$R93<'Import avoidance model - RR'!$J$15),'Import avoidance model - RR'!$H$15*LOGIC!N145,LOGIC!N145*'Import avoidance model - RR'!$H$16)/100)","v":0.77045162796452527},0,{"$f":"IF('Import avoidance model - RR'!H56=\"N\",0,LOGIC!N145*'Import avoidance model - RR'!$H$20)/100","v":1.125},{"$f":"AI93-(IF(AND($R93>'Import avoidance model - RR'!$I$15,$R93<'Import avoidance model - RR'!$J$15),'Import avoidance model - RR'!$H$15*LOGIC!G197,LOGIC!G197*'Import avoidance model - RR'!$H$16)/100)","v":3.051175090576117},0,{"$f":"IF('Import avoidance model - RR'!H56=\"N\",0,LOGIC!G197*'Import avoidance model - RR'!$H$20)/100","v":0},{"$f":"AK93-(IF(AND($R93>'Import avoidance model - RR'!$I$15,$R93<'Import avoidance model - RR'!$J$15),'Import avoidance model - RR'!$H$15*LOGIC!N197,LOGIC!N197*'Import avoidance model - RR'!$H$16)/100)","v":0.77045162796452527},0,{"$f":"IF('Import avoidance model - RR'!H56=\"N\",0,LOGIC!N197*'Import avoidance model - RR'!$H$20)/100","v":1.125},{"$f":"AM93-(IF(AND($R93>'Import avoidance model - RR'!$I$15,$R93<'Import avoidance model - RR'!$J$15),'Import avoidance model - RR'!$H$15*LOGIC!G41,LOGIC!G41*'Import avoidance model - RR'!$H$16)/100)","v":3.051175090576117},0,{"$f":"IF('Import avoidance model - RR'!H56=\"N\",0,LOGIC!G41*'Import avoidance model - RR'!$H$20)/100","v":0},{"$f":"AO93-(IF(AND($R93>'Import avoidance model - RR'!$I$15,$R93<'Import avoidance model - RR'!$J$15),'Import avoidance model - RR'!$H$15*LOGIC!N41,LOGIC!N41*'Import avoidance model - RR'!$H$16)/100)","v":2.2704516279645253},0,{"$f":"IF('Import avoidance model - RR'!H56=\"N\",0,LOGIC!N41*'Import avoidance model - RR'!$H$20)/100","v":0}]
[null,"18:30:00",{"$f":"'PV data'!J42","v":0},30.010181859309615,0,0,15,-15,{"$f":"IF(AND(I93+H94<=$A$5,I93+H94>$A$3),LOGIC!I93+LOGIC!H94,IF(I93+H94>$A$5,$A$5,$A$3))","v":12},0,23.146063368107729,0,0,15,-15,{"$f":"IF(AND(P93+O94<=$A$5,P93+O94>$A$3),LOGIC!P93+LOGIC!O94,IF(P93+O94>$A$5,$A$5,$A$3))","v":15},null,"18:30:00",{"$f":"(IF(AND($R94>'Import avoidance model - RR'!$I$15,'Import avoidance model - RR'!$J$15),'Import avoidance model - RR'!$H$15,'Import avoidance model - RR'!$H$16))*D94/100","v":3.0010181859309615},{"$f":"(IF(AND($R94>'Import avoidance model - RR'!$I$15,'Import avoidance model - RR'!$J$15),'Import avoidance model - RR'!$H$15,'Import avoidance model - RR'!$H$16))*K94/100","v":2.314606336810773},{"$f":"(IF(AND($R94>'Import avoidance model - RR'!$I$15,'Import avoidance model - RR'!$J$15),'Import avoidance model - RR'!$H$15,'Import avoidance model - RR'!$H$16))*D146/100","v":3.0010181859309615},{"$f":"(IF(AND($R94>'Import avoidance model - RR'!$I$15,'Import avoidance model - RR'!$J$15),'Import avoidance model - RR'!$H$15,'Import avoidance model - RR'!$H$16))*K146/100","v":2.314606336810773},{"$f":"(IF(AND($R94>'Import avoidance model - RR'!$I$15,'Import avoidance model - RR'!$J$15),'Import avoidance model - RR'!$H$15,'Import avoidance model - RR'!$H$16))*D198/100","v":3.0010181859309615},{"$f":"(IF(AND($R94>'Import avoidance model - RR'!$I$15,'Import avoidance model - RR'!$J$15),'Import avoidance model - RR'!$H$15,'Import avoidance model - RR'!$H$16))*K198/100","v":2.314606336810773},{"$f":"(IF(AND($R94>'Import avoidance model - RR'!$I$15,'Import avoidance model - RR'!$J$15),'Import avoidance model - RR'!$H$15,'Import avoidance model - RR'!$H$16))*D42/100","v":3.0010181859309615},{"$f":"(IF(AND($R94>'Import avoidance model - RR'!$I$15,'Import avoidance model - RR'!$J$15),'Import avoidance model - RR'!$H$15,'Import avoidance model - RR'!$H$16))*K42/100","v":2.314606336810773},{"$f":"IF(C94<LOGIC!D94,(LOGIC!D94-LOGIC!C94)*IF(AND(LOGIC!B94>'Import avoidance model - RR'!$I$15,LOGIC!B94<'Import avoidance model - RR'!$J$15),'Import avoidance model - RR'!$H$15,'Import avoidance model - RR'!$H$16),0)/100","v":3.0010181859309615},{"$f":"IF('Import avoidance model - RR'!$H$17=\"N\",0,IF(D94<=C94,D94,C94)*'Import avoidance model - RR'!$H$18/100)","v":0},{"$f":"IF(J94<LOGIC!K94,(LOGIC!K94-LOGIC!J94)*IF(AND(LOGIC!B94>'Import avoidance model - RR'!$I$15,LOGIC!B94<'Import avoidance model - RR'!$J$15),'Import avoidance model - RR'!$H$15,'Import avoidance model - RR'!$H$16),0)/100","v":2.314606336810773},{"$f":"IF('Import avoidance model - RR'!$H$17=\"N\",0,IF(K94<=C94,K94,C94)*'Import avoidance model - RR'!$H$18/100)","v":0},{"$f":"IF(C146<LOGIC!D146,(LOGIC!D146-LOGIC!C146)*IF(AND(LOGIC!B146>'Import avoidance model - RR'!$I$15,LOGIC!B146<'Import avoidance model - RR'!$J$15),'Import avoidance model - RR'!$H$15,'Import avoidance model - RR'!$H$16),0)/100","v":3.0010181859309615},{"$f":"IF('Import avoidance model - RR'!$H$17=\"N\",0,IF(D146<=C146,D146,C146)*'Import avoidance model - RR'!$H$18/100)","v":0},{"$f":"IF(J146<LOGIC!K146,(LOGIC!K146-LOGIC!J146)*IF(AND(LOGIC!B146>'Import avoidance model - RR'!$I$15,LOGIC!B146<'Import avoidance model - RR'!$J$15),'Import avoidance model - RR'!$H$15,'Import avoidance model - RR'!$H$16),0)/100","v":2.314606336810773},{"$f":"IF('Import avoidance model - RR'!$H$17=\"N\",0,IF(K146<=C146,K146,C146)*'Import avoidance model - RR'!$H$18/100)","v":0},{"$f":"IF(C198<LOGIC!D198,(LOGIC!D198-LOGIC!C198)*IF(AND(LOGIC!B198>'Import avoidance model - RR'!$I$15,LOGIC!B198<'Import avoidance model - RR'!$J$15),'Import avoidance model - RR'!$H$15,'Import avoidance model - RR'!$H$16),0)/100","v":3.0010181859309615},{"$f":"IF('Import avoidance model - RR'!$H$17=\"N\",0,IF(D198<=C198,D198,C198)*'Import avoidance model - RR'!$H$18/100)","v":0},{"$f":"IF(J198<LOGIC!K198,(LOGIC!K198-LOGIC!J198)*IF(AND(LOGIC!B198>'Import avoidance model - RR'!$I$15,LOGIC!B198<'Import avoidance model - RR'!$J$15),'Import avoidance model - RR'!$H$15,'Import avoidance model - RR'!$H$16),0)/100","v":2.314606336810773},{"$f":"IF('Import avoidance model - RR'!$H$17=\"N\",0,IF(K198<=C198,K198,C198)*'Import avoidance model - RR'!$H$18/100)","v":0},{"$f":"IF(C42<LOGIC!D42,(LOGIC!D42-LOGIC!C42)*IF(AND(LOGIC!B42>'Import avoidance model - RR'!$I$15,LOGIC!B42<'Import avoidance model - RR'!$J$15),'Import avoidance model - RR'!$H$15,'Import avoidance model - RR'!$H$16),0)/100","v":3.0010181859309615},{"$f":"IF('Import avoidance model - RR'!$H$17=\"N\",0,IF(D42<=C42,D42,C42)*'Import avoidance model - RR'!$H$18/100)","v":0},{"$f":"IF(J42<LOGIC!K42,(LOGIC!K42-LOGIC!J42)*IF(AND(LOGIC!B198>'Import avoidance model - RR'!$I$15,LOGIC!B198<'Import avoidance model - RR'!$J$15),'Import avoidance model - RR'!$H$15,'Import avoidance model - RR'!$H$16),0)/100","v":2.314606336810773},{"$f":"IF('Import avoidance model - RR'!$H$17=\"N\",0,IF(K42<=C42,K42,C42)*'Import avoidance model - RR'!$H$18/100)","v":0},{"$f":"AA94-(IF(AND($R94>'Import avoidance model - RR'!$I$15,$R94<'Import avoidance model - RR'!$J$15),'Import avoidance model - RR'!$H$15*LOGIC!G94,LOGIC!G94*'Import avoidance model - RR'!$H$16)/100)","v":1.5010181859309615},0,{"$f":"IF('Import avoidance model - RR'!H57=\"N\",0,LOGIC!G94*'Import avoidance model - RR'!$H$20)/100","v":1.125},{"$f":"AC94-(IF(AND($R94>'Import avoidance model - RR'!$I$15,$R94<'Import avoidance model - RR'!$J$15),'Import avoidance model - RR'!$H$15*LOGIC!N94,LOGIC!N94*'Import avoidance model - RR'!$H$16)/100)","v":0.81460633681077299},0,{"$f":"IF('Import avoidance model - RR'!H57=\"N\",0,LOGIC!N94*'Import avoidance model - RR'!$H$20)/100","v":1.125},{"$f":"AE94-(IF(AND($R94>'Import avoidance model - RR'!$I$15,$R94<'Import avoidance model - RR'!$J$15),'Import avoidance model - RR'!$H$15*LOGIC!G146,LOGIC!G146*'Import avoidance model - RR'!$H$16)/100)","v":1.5010181859309615},0,{"$f":"IF('Import avoidance model - RR'!H57=\"N\",0,LOGIC!G146*'Import avoidance model - RR'!$H$20)/100","v":1.125},{"$f":"AG94-(IF(AND($R94>'Import avoidance model - RR'!$I$15,$R94<'Import avoidance model - RR'!$J$15),'Import avoidance model - RR'!$H$15*LOGIC!N146,LOGIC!N146*'Import avoidance model - RR'!$H$16)/100)","v":0.81460633681077299},0,{"$f":"IF('Import avoidance model - RR'!H57=\"N\",0,LOGIC!N146*'Import avoidance model - RR'!$H$20)/100","v":1.125},{"$f":"AI94-(IF(AND($R94>'Import avoidance model - RR'!$I$15,$R94<'Import avoidance model - RR'!$J$15),'Import avoidance model - RR'!$H$15*LOGIC!G198,LOGIC!G198*'Import avoidance model - RR'!$H$16)/100)","v":3.0010181859309615},0,{"$f":"IF('Import avoidance model - RR'!H57=\"N\",0,LOGIC!G198*'Import avoidance model - RR'!$H$20)/100","v":0},{"$f":"AK94-(IF(AND($R94>'Import avoidance model - RR'!$I$15,$R94<'Import avoidance model - RR'!$J$15),'Import avoidance model - RR'!$H$15*LOGIC!N198,LOGIC!N198*'Import avoidance model - RR'!$H$16)/100)","v":2.314606336810773},0,{"$f":"IF('Import avoidance model - RR'!H57=\"N\",0,LOGIC!N198*'Import avoidance model - RR'!$H$20)/100","v":0},{"$f":"AM94-(IF(AND($R94>'Import avoidance model - RR'!$I$15,$R94<'Import avoidance model - RR'!$J$15),'Import avoidance model - RR'!$H$15*LOGIC!G42,LOGIC!G42*'Import avoidance model - RR'!$H$16)/100)","v":3.0010181859309615},0,{"$f":"IF('Import avoidance model - RR'!H57=\"N\",0,LOGIC!G42*'Import avoidance model - RR'!$H$20)/100","v":0},{"$f":"AO94-(IF(AND($R94>'Import avoidance model - RR'!$I$15,$R94<'Import avoidance model - RR'!$J$15),'Import avoidance model - RR'!$H$15*LOGIC!N42,LOGIC!N42*'Import avoidance model - RR'!$H$16)/100)","v":2.314606336810773},0,{"$f":"IF('Import avoidance model - RR'!H57=\"N\",0,LOGIC!N42*'Import avoidance model - RR'!$H$20)/100","v":0}]
[null,"19:00:00",{"$f":"'PV data'!J43","v":0},29.576650481555134,0,0,0,0,{"$f":"IF(AND(I94+H95<=$A$5,I94+H95>$A$3),LOGIC!I94+LOGIC!H95,IF(I94+H95>$A$5,$A$5,$A$3))","v":12},0,23.294751600299055,0,0,15,-15,{"$f":"IF(AND(P94+O95<=$A$5,P94+O95>$A$3),LOGIC!P94+LOGIC!O95,IF(P94+O95>$A$5,$A$5,$A$3))","v":12},null,"19:00:00",{"$f":"(IF(AND($R95>'Import avoidance model - RR'!$I$15,'Import avoidance model - RR'!$J$15),'Import avoidance model - RR'!$H$15,'Import avoidance model - RR'!$H$16))*D95/100","v":2.9576650481555133},{"$f":"(IF(AND($R95>'Import avoidance model - RR'!$I$15,'Import avoidance model - RR'!$J$15),'Import avoidance model - RR'!$H$15,'Import avoidance model - RR'!$H$16))*K95/100","v":2.3294751600299053},{"$f":"(IF(AND($R95>'Import avoidance model - RR'!$I$15,'Import avoidance model - RR'!$J$15),'Import avoidance model - RR'!$H$15,'Import avoidance model - RR'!$H$16))*D147/100","v":2.9576650481555133},{"$f":"(IF(AND($R95>'Import avoidance model - RR'!$I$15,'Import avoidance model - RR'!$J$15),'Import avoidance model - RR'!$H$15,'Import avoidance model - RR'!$H$16))*K147/100","v":2.3294751600299053},{"$f":"(IF(AND($R95>'Import avoidance model - RR'!$I$15,'Import avoidance model - RR'!$J$15),'Import avoidance model - RR'!$H$15,'Import avoidance model - RR'!$H$16))*D199/100","v":2.9576650481555133},{"$f":"(IF(AND($R95>'Import avoidance model - RR'!$I$15,'Import avoidance model - RR'!$J$15),'Import avoidance model - RR'!$H$15,'Import avoidance model - RR'!$H$16))*K199/100","v":2.3294751600299053},{"$f":"(IF(AND($R95>'Import avoidance model - RR'!$I$15,'Import avoidance model - RR'!$J$15),'Import avoidance model - RR'!$H$15,'Import avoidance model - RR'!$H$16))*D43/100","v":2.9576650481555133},{"$f":"(IF(AND($R95>'Import avoidance model - RR'!$I$15,'Import avoidance model - RR'!$J$15),'Import avoidance model - RR'!$H$15,'Import avoidance model - RR'!$H$16))*K43/100","v":2.3294751600299053},{"$f":"IF(C95<LOGIC!D95,(LOGIC!D95-LOGIC!C95)*IF(AND(LOGIC!B95>'Import avoidance model - RR'!$I$15,LOGIC!B95<'Import avoidance model - RR'!$J$15),'Import avoidance model - RR'!$H$15,'Import avoidance model - RR'!$H$16),0)/100","v":2.9576650481555133},{"$f":"IF('Import avoidance model - RR'!$H$17=\"N\",0,IF(D95<=C95,D95,C95)*'Import avoidance model - RR'!$H$18/100)","v":0},{"$f":"IF(J95<LOGIC!K95,(LOGIC!K95-LOGIC!J95)*IF(AND(LOGIC!B95>'Import avoidance model - RR'!$I$15,LOGIC!B95<'Import avoidance model - RR'!$J$15),'Import avoidance model - RR'!$H$15,'Import avoidance model - RR'!$H$16),0)/100","v":2.3294751600299053},{"$f":"IF('Import avoidance model - RR'!$H$17=\"N\",0,IF(K95<=C95,K95,C95)*'Import avoidance model - RR'!$H$18/100)","v":0},{"$f":"IF(C147<LOGIC!D147,(LOGIC!D147-LOGIC!C147)*IF(AND(LOGIC!B147>'Import avoidance model - RR'!$I$15,LOGIC!B147<'Import avoidance model - RR'!$J$15),'Import avoidance model - RR'!$H$15,'Import avoidance model - RR'!$H$16),0)/100","v":2.9576650481555133},{"$f":"IF('Import avoidance model - RR'!$H$17=\"N\",0,IF(D147<=C147,D147,C147)*'Import avoidance model - RR'!$H$18/100)","v":0},{"$f":"IF(J147<LOGIC!K147,(LOGIC!K147-LOGIC!J147)*IF(AND(LOGIC!B147>'Import avoidance model - RR'!$I$15,LOGIC!B147<'Import avoidance model - RR'!$J$15),'Import avoidance model - RR'!$H$15,'Import avoidance model - RR'!$H$16),0)/100","v":2.3294751600299053},{"$f":"IF('Import avoidance model - RR'!$H$17=\"N\",0,IF(K147<=C147,K147,C147)*'Import avoidance model - RR'!$H$18/100)","v":0},{"$f":"IF(C199<LOGIC!D199,(LOGIC!D199-LOGIC!C199)*IF(AND(LOGIC!B199>'Import avoidance model - RR'!$I$15,LOGIC!B199<'Import avoidance model - RR'!$J$15),'Import avoidance model - RR'!$H$15,'Import avoidance model - RR'!$H$16),0)/100","v":2.9576650481555133},{"$f":"IF('Import avoidance model - RR'!$H$17=\"N\",0,IF(D199<=C199,D199,C199)*'Import avoidance model - RR'!$H$18/100)","v":0},{"$f":"IF(J199<LOGIC!K199,(LOGIC!K199-LOGIC!J199)*IF(AND(LOGIC!B199>'Import avoidance model - RR'!$I$15,LOGIC!B199<'Import avoidance model - RR'!$J$15),'Import avoidance model - RR'!$H$15,'Import avoidance model - RR'!$H$16),0)/100","v":2.3294751600299053},{"$f":"IF('Import avoidance model - RR'!$H$17=\"N\",0,IF(K199<=C199,K199,C199)*'Import avoidance model - RR'!$H$18/100)","v":0},{"$f":"IF(C43<LOGIC!D43,(LOGIC!D43-LOGIC!C43)*IF(AND(LOGIC!B43>'Import avoidance model - RR'!$I$15,LOGIC!B43<'Import avoidance model - RR'!$J$15),'Import avoidance model - RR'!$H$15,'Import avoidance model - RR'!$H$16),0)/100","v":2.9576650481555133},{"$f":"IF('Import avoidance model - RR'!$H$17=\"N\",0,IF(D43<=C43,D43,C43)*'Import avoidance model - RR'!$H$18/100)","v":0},{"$f":"IF(J43<LOGIC!K43,(LOGIC!K43-LOGIC!J43)*IF(AND(LOGIC!B199>'Import avoidance model - RR'!$I$15,LOGIC!B199<'Import avoidance model - RR'!$J$15),'Import avoidance model - RR'!$H$15,'Import avoidance model - RR'!$H$16),0)/100","v":2.3294751600299053},{"$f":"IF('Import avoidance model - RR'!$H$17=\"N\",0,IF(K43<=C43,K43,C43)*'Import avoidance model - RR'!$H$18/100)","v":0},{"$f":"AA95-(IF(AND($R95>'Import avoidance model - RR'!$I$15,$R95<'Import avoidance model - RR'!$J$15),'Import avoidance model - RR'!$H$15*LOGIC!G95,LOGIC!G95*'Import avoidance model - RR'!$H$16)/100)","v":2.9576650481555133},0,{"$f":"IF('Import avoidance model - RR'!H58=\"N\",0,LOGIC!G95*'Import avoidance model - RR'!$H$20)/100","v":0},{"$f":"AC95-(IF(AND($R95>'Import avoidance model - RR'!$I$15,$R95<'Import avoidance model - RR'!$J$15),'Import avoidance model - RR'!$H$15*LOGIC!N95,LOGIC!N95*'Import avoidance model - RR'!$H$16)/100)","v":0.82947516002990529},0,{"$f":"IF('Import avoidance model - RR'!H58=\"N\",0,LOGIC!N95*'Import avoidance model - RR'!$H$20)/100","v":1.125},{"$f":"AE95-(IF(AND($R95>'Import avoidance model - RR'!$I$15,$R95<'Import avoidance model - RR'!$J$15),'Import avoidance model - RR'!$H$15*LOGIC!G147,LOGIC!G147*'Import avoidance model - RR'!$H$16)/100)","v":2.9576650481555133},0,{"$f":"IF('Import avoidance model - RR'!H58=\"N\",0,LOGIC!G147*'Import avoidance model - RR'!$H$20)/100","v":0},{"$f":"AG95-(IF(AND($R95>'Import avoidance model - RR'!$I$15,$R95<'Import avoidance model - RR'!$J$15),'Import avoidance model - RR'!$H$15*LOGIC!N147,LOGIC!N147*'Import avoidance model - RR'!$H$16)/100)","v":0.82947516002990529},0,{"$f":"IF('Import avoidance model - RR'!H58=\"N\",0,LOGIC!N147*'Import avoidance model - RR'!$H$20)/100","v":1.125},{"$f":"AI95-(IF(AND($R95>'Import avoidance model - RR'!$I$15,$R95<'Import avoidance model - RR'!$J$15),'Import avoidance model - RR'!$H$15*LOGIC!G199,LOGIC!G199*'Import avoidance model - RR'!$H$16)/100)","v":2.9576650481555133},0,{"$f":"IF('Import avoidance model - RR'!H58=\"N\",0,LOGIC!G199*'Import avoidance model - RR'!$H$20)/100","v":0},{"$f":"AK95-(IF(AND($R95>'Import avoidance model - RR'!$I$15,$R95<'Import avoidance model - RR'!$J$15),'Import avoidance model - RR'!$H$15*LOGIC!N199,LOGIC!N199*'Import avoidance model - RR'!$H$16)/100)","v":2.3294751600299053},0,{"$f":"IF('Import avoidance model - RR'!H58=\"N\",0,LOGIC!N199*'Import avoidance model - RR'!$H$20)/100","v":0},{"$f":"AM95-(IF(AND($R95>'Import avoidance model - RR'!$I$15,$R95<'Import avoidance model - RR'!$J$15),'Import avoidance model - RR'!$H$15*LOGIC!G43,LOGIC!G43*'Import avoidance model - RR'!$H$16)/100)","v":2.9576650481555133},0,{"$f":"IF('Import avoidance model - RR'!H58=\"N\",0,LOGIC!G43*'Import avoidance model - RR'!$H$20)/100","v":0},{"$f":"AO95-(IF(AND($R95>'Import avoidance model - RR'!$I$15,$R95<'Import avoidance model - RR'!$J$15),'Import avoidance model - RR'!$H$15*LOGIC!N43,LOGIC!N43*'Import avoidance model - RR'!$H$16)/100)","v":2.3294751600299053},0,{"$f":"IF('Import avoidance model - RR'!H58=\"N\",0,LOGIC!N43*'Import avoidance model - RR'!$H$20)/100","v":0}]
[null,"19:30:00",{"$f":"'PV data'!J44","v":0},29.406392932272865,0,0,0,0,{"$f":"IF(AND(I95+H96<=$A$5,I95+H96>$A$3),LOGIC!I95+LOGIC!H96,IF(I95+H96>$A$5,$A$5,$A$3))","v":12},0,22.465083049736112,0,0,0,0,{"$f":"IF(AND(P95+O96<=$A$5,P95+O96>$A$3),LOGIC!P95+LOGIC!O96,IF(P95+O96>$A$5,$A$5,$A$3))","v":12},null,"19:30:00",{"$f":"(IF(AND($R96>'Import avoidance model - RR'!$I$15,'Import avoidance model - RR'!$J$15),'Import avoidance model - RR'!$H$15,'Import avoidance model - RR'!$H$16))*D96/100","v":2.9406392932272865},{"$f":"(IF(AND($R96>'Import avoidance model - RR'!$I$15,'Import avoidance model - RR'!$J$15),'Import avoidance model - RR'!$H$15,'Import avoidance model - RR'!$H$16))*K96/100","v":2.2465083049736112},{"$f":"(IF(AND($R96>'Import avoidance model - RR'!$I$15,'Import avoidance model - RR'!$J$15),'Import avoidance model - RR'!$H$15,'Import avoidance model - RR'!$H$16))*D148/100","v":2.9406392932272865},{"$f":"(IF(AND($R96>'Import avoidance model - RR'!$I$15,'Import avoidance model - RR'!$J$15),'Import avoidance model - RR'!$H$15,'Import avoidance model - RR'!$H$16))*K148/100","v":2.2465083049736112},{"$f":"(IF(AND($R96>'Import avoidance model - RR'!$I$15,'Import avoidance model - RR'!$J$15),'Import avoidance model - RR'!$H$15,'Import avoidance model - RR'!$H$16))*D200/100","v":2.9406392932272865},{"$f":"(IF(AND($R96>'Import avoidance model - RR'!$I$15,'Import avoidance model - RR'!$J$15),'Import avoidance model - RR'!$H$15,'Import avoidance model - RR'!$H$16))*K200/100","v":2.2465083049736112},{"$f":"(IF(AND($R96>'Import avoidance model - RR'!$I$15,'Import avoidance model - RR'!$J$15),'Import avoidance model - RR'!$H$15,'Import avoidance model - RR'!$H$16))*D44/100","v":2.9406392932272865},{"$f":"(IF(AND($R96>'Import avoidance model - RR'!$I$15,'Import avoidance model - RR'!$J$15),'Import avoidance model - RR'!$H$15,'Import avoidance model - RR'!$H$16))*K44/100","v":2.2465083049736112},{"$f":"IF(C96<LOGIC!D96,(LOGIC!D96-LOGIC!C96)*IF(AND(LOGIC!B96>'Import avoidance model - RR'!$I$15,LOGIC!B96<'Import avoidance model - RR'!$J$15),'Import avoidance model - RR'!$H$15,'Import avoidance model - RR'!$H$16),0)/100","v":2.9406392932272865},{"$f":"IF('Import avoidance model - RR'!$H$17=\"N\",0,IF(D96<=C96,D96,C96)*'Import avoidance model - RR'!$H$18/100)","v":0},{"$f":"IF(J96<LOGIC!K96,(LOGIC!K96-LOGIC!J96)*IF(AND(LOGIC!B96>'Import avoidance model - RR'!$I$15,LOGIC!B96<'Import avoidance model - RR'!$J$15),'Import avoidance model - RR'!$H$15,'Import avoidance model - RR'!$H$16),0)/100","v":2.2465083049736112},{"$f":"IF('Import avoidance model - RR'!$H$17=\"N\",0,IF(K96<=C96,K96,C96)*'Import avoidance model - RR'!$H$18/100)","v":0},{"$f":"IF(C148<LOGIC!D148,(LOGIC!D148-LOGIC!C148)*IF(AND(LOGIC!B148>'Import avoidance model - RR'!$I$15,LOGIC!B148<'Import avoidance model - RR'!$J$15),'Import avoidance model - RR'!$H$15,'Import avoidance model - RR'!$H$16),0)/100","v":2.9406392932272865},{"$f":"IF('Import avoidance model - RR'!$H$17=\"N\",0,IF(D148<=C148,D148,C148)*'Import avoidance model - RR'!$H$18/100)","v":0},{"$f":"IF(J148<LOGIC!K148,(LOGIC!K148-LOGIC!J148)*IF(AND(LOGIC!B148>'Import avoidance model - RR'!$I$15,LOGIC!B148<'Import avoidance model - RR'!$J$15),'Import avoidance model - RR'!$H$15,'Import avoidance model - RR'!$H$16),0)/100","v":2.2465083049736112},{"$f":"IF('Import avoidance model - RR'!$H$17=\"N\",0,IF(K148<=C148,K148,C148)*'Import avoidance model - RR'!$H$18/100)","v":0},{"$f":"IF(C200<LOGIC!D200,(LOGIC!D200-LOGIC!C200)*IF(AND(LOGIC!B200>'Import avoidance model - RR'!$I$15,LOGIC!B200<'Import avoidance model - RR'!$J$15),'Import avoidance model - RR'!$H$15,'Import avoidance model - RR'!$H$16),0)/100","v":2.9406392932272865},{"$f":"IF('Import avoidance model - RR'!$H$17=\"N\",0,IF(D200<=C200,D200,C200)*'Import avoidance model - RR'!$H$18/100)","v":0},{"$f":"IF(J200<LOGIC!K200,(LOGIC!K200-LOGIC!J200)*IF(AND(LOGIC!B200>'Import avoidance model - RR'!$I$15,LOGIC!B200<'Import avoidance model - RR'!$J$15),'Import avoidance model - RR'!$H$15,'Import avoidance model - RR'!$H$16),0)/100","v":2.2465083049736112},{"$f":"IF('Import avoidance model - RR'!$H$17=\"N\",0,IF(K200<=C200,K200,C200)*'Import avoidance model - RR'!$H$18/100)","v":0},{"$f":"IF(C44<LOGIC!D44,(LOGIC!D44-LOGIC!C44)*IF(AND(LOGIC!B44>'Import avoidance model - RR'!$I$15,LOGIC!B44<'Import avoidance model - RR'!$J$15),'Import avoidance model - RR'!$H$15,'Import avoidance model - RR'!$H$16),0)/100","v":2.9406392932272865},{"$f":"IF('Import avoidance model - RR'!$H$17=\"N\",0,IF(D44<=C44,D44,C44)*'Import avoidance model - RR'!$H$18/100)","v":0},{"$f":"IF(J44<LOGIC!K44,(LOGIC!K44-LOGIC!J44)*IF(AND(LOGIC!B200>'Import avoidance model - RR'!$I$15,LOGIC!B200<'Import avoidance model - RR'!$J$15),'Import avoidance model - RR'!$H$15,'Import avoidance model - RR'!$H$16),0)/100","v":2.2465083049736112},{"$f":"IF('Import avoidance model - RR'!$H$17=\"N\",0,IF(K44<=C44,K44,C44)*'Import avoidance model - RR'!$H$18/100)","v":0},{"$f":"AA96-(IF(AND($R96>'Import avoidance model - RR'!$I$15,$R96<'Import avoidance model - RR'!$J$15),'Import avoidance model - RR'!$H$15*LOGIC!G96,LOGIC!G96*'Import avoidance model - RR'!$H$16)/100)","v":2.9406392932272865},0,{"$f":"IF('Import avoidance model - RR'!H59=\"N\",0,LOGIC!G96*'Import avoidance model - RR'!$H$20)/100","v":0},{"$f":"AC96-(IF(AND($R96>'Import avoidance model - RR'!$I$15,$R96<'Import avoidance model - RR'!$J$15),'Import avoidance model - RR'!$H$15*LOGIC!N96,LOGIC!N96*'Import avoidance model - RR'!$H$16)/100)","v":2.2465083049736112},0,{"$f":"IF('Import avoidance model - RR'!H59=\"N\",0,LOGIC!N96*'Import avoidance model - RR'!$H$20)/100","v":0},{"$f":"AE96-(IF(AND($R96>'Import avoidance model - RR'!$I$15,$R96<'Import avoidance model - RR'!$J$15),'Import avoidance model - RR'!$H$15*LOGIC!G148,LOGIC!G148*'Import avoidance model - RR'!$H$16)/100)","v":2.9406392932272865},0,{"$f":"IF('Import avoidance model - RR'!H59=\"N\",0,LOGIC!G148*'Import avoidance model - RR'!$H$20)/100","v":0},{"$f":"AG96-(IF(AND($R96>'Import avoidance model - RR'!$I$15,$R96<'Import avoidance model - RR'!$J$15),'Import avoidance model - RR'!$H$15*LOGIC!N148,LOGIC!N148*'Import avoidance model - RR'!$H$16)/100)","v":2.2465083049736112},0,{"$f":"IF('Import avoidance model - RR'!H59=\"N\",0,LOGIC!N148*'Import avoidance model - RR'!$H$20)/100","v":0},{"$f":"AI96-(IF(AND($R96>'Import avoidance model - RR'!$I$15,$R96<'Import avoidance model - RR'!$J$15),'Import avoidance model - RR'!$H$15*LOGIC!G200,LOGIC!G200*'Import avoidance model - RR'!$H$16)/100)","v":2.9406392932272865},0,{"$f":"IF('Import avoidance model - RR'!H59=\"N\",0,LOGIC!G200*'Import avoidance model - RR'!$H$20)/100","v":0},{"$f":"AK96-(IF(AND($R96>'Import avoidance model - RR'!$I$15,$R96<'Import avoidance model - RR'!$J$15),'Import avoidance model - RR'!$H$15*LOGIC!N200,LOGIC!N200*'Import avoidance model - RR'!$H$16)/100)","v":2.2465083049736112},0,{"$f":"IF('Import avoidance model - RR'!H59=\"N\",0,LOGIC!N200*'Import avoidance model - RR'!$H$20)/100","v":0},{"$f":"AM96-(IF(AND($R96>'Import avoidance model - RR'!$I$15,$R96<'Import avoidance model - RR'!$J$15),'Import avoidance model - RR'!$H$15*LOGIC!G44,LOGIC!G44*'Import avoidance model - RR'!$H$16)/100)","v":2.9406392932272865},0,{"$f":"IF('Import avoidance model - RR'!H59=\"N\",0,LOGIC!G44*'Import avoidance model - RR'!$H$20)/100","v":0},{"$f":"AO96-(IF(AND($R96>'Import avoidance model - RR'!$I$15,$R96<'Import avoidance model - RR'!$J$15),'Import avoidance model - RR'!$H$15*LOGIC!N44,LOGIC!N44*'Import avoidance model - RR'!$H$16)/100)","v":2.2465083049736112},0,{"$f":"IF('Import avoidance model - RR'!H59=\"N\",0,LOGIC!N44*'Import avoidance model - RR'!$H$20)/100","v":0}]
[null,"20:00:00",{"$f":"'PV data'!J45","v":0},28.18661622191215,0,0,0,0,{"$f":"IF(AND(I96+H97<=$A$5,I96+H97>$A$3),LOGIC!I96+LOGIC!H97,IF(I96+H97>$A$5,$A$5,$A$3))","v":12},0,21.699446683709994,0,0,0,0,{"$f":"IF(AND(P96+O97<=$A$5,P96+O97>$A$3),LOGIC!P96+LOGIC!O97,IF(P96+O97>$A$5,$A$5,$A$3))","v":12},null,"20:00:00",{"$f":"(IF(AND($R97>'Import avoidance model - RR'!$I$15,'Import avoidance model - RR'!$J$15),'Import avoidance model - RR'!$H$15,'Import avoidance model - RR'!$H$16))*D97/100","v":2.8186616221912151},{"$f":"(IF(AND($R97>'Import avoidance model - RR'!$I$15,'Import avoidance model - RR'!$J$15),'Import avoidance model - RR'!$H$15,'Import avoidance model - RR'!$H$16))*K97/100","v":2.1699446683709995},{"$f":"(IF(AND($R97>'Import avoidance model - RR'!$I$15,'Import avoidance model - RR'!$J$15),'Import avoidance model - RR'!$H$15,'Import avoidance model - RR'!$H$16))*D149/100","v":2.8186616221912151},{"$f":"(IF(AND($R97>'Import avoidance model - RR'!$I$15,'Import avoidance model - RR'!$J$15),'Import avoidance model - RR'!$H$15,'Import avoidance model - RR'!$H$16))*K149/100","v":2.1699446683709995},{"$f":"(IF(AND($R97>'Import avoidance model - RR'!$I$15,'Import avoidance model - RR'!$J$15),'Import avoidance model - RR'!$H$15,'Import avoidance model - RR'!$H$16))*D201/100","v":2.8186616221912151},{"$f":"(IF(AND($R97>'Import avoidance model - RR'!$I$15,'Import avoidance model - RR'!$J$15),'Import avoidance model - RR'!$H$15,'Import avoidance model - RR'!$H$16))*K201/100","v":2.1699446683709995},{"$f":"(IF(AND($R97>'Import avoidance model - RR'!$I$15,'Import avoidance model - RR'!$J$15),'Import avoidance model - RR'!$H$15,'Import avoidance model - RR'!$H$16))*D45/100","v":2.8186616221912151},{"$f":"(IF(AND($R97>'Import avoidance model - RR'!$I$15,'Import avoidance model - RR'!$J$15),'Import avoidance model - RR'!$H$15,'Import avoidance model - RR'!$H$16))*K45/100","v":2.1699446683709995},{"$f":"IF(C97<LOGIC!D97,(LOGIC!D97-LOGIC!C97)*IF(AND(LOGIC!B97>'Import avoidance model - RR'!$I$15,LOGIC!B97<'Import avoidance model - RR'!$J$15),'Import avoidance model - RR'!$H$15,'Import avoidance model - RR'!$H$16),0)/100","v":2.8186616221912151},{"$f":"IF('Import avoidance model - RR'!$H$17=\"N\",0,IF(D97<=C97,D97,C97)*'Import avoidance model - RR'!$H$18/100)","v":0},{"$f":"IF(J97<LOGIC!K97,(LOGIC!K97-LOGIC!J97)*IF(AND(LOGIC!B97>'Import avoidance model - RR'!$I$15,LOGIC!B97<'Import avoidance model - RR'!$J$15),'Import avoidance model - RR'!$H$15,'Import avoidance model - RR'!$H$16),0)/100","v":2.1699446683709995},{"$f":"IF('Import avoidance model - RR'!$H$17=\"N\",0,IF(K97<=C97,K97,C97)*'Import avoidance model - RR'!$H$18/100)","v":0},{"$f":"IF(C149<LOGIC!D149,(LOGIC!D149-LOGIC!C149)*IF(AND(LOGIC!B149>'Import avoidance model - RR'!$I$15,LOGIC!B149<'Import avoidance model - RR'!$J$15),'Import avoidance model - RR'!$H$15,'Import avoidance model - RR'!$H$16),0)/100","v":2.8186616221912151},{"$f":"IF('Import avoidance model - RR'!$H$17=\"N\",0,IF(D149<=C149,D149,C149)*'Import avoidance model - RR'!$H$18/100)","v":0},{"$f":"IF(J149<LOGIC!K149,(LOGIC!K149-LOGIC!J149)*IF(AND(LOGIC!B149>'Import avoidance model - RR'!$I$15,LOGIC!B149<'Import avoidance model - RR'!$J$15),'Import avoidance model - RR'!$H$15,'Import avoidance model - RR'!$H$16),0)/100","v":2.1699446683709995},{"$f":"IF('Import avoidance model - RR'!$H$17=\"N\",0,IF(K149<=C149,K149,C149)*'Import avoidance model - RR'!$H$18/100)","v":0},{"$f":"IF(C201<LOGIC!D201,(LOGIC!D201-LOGIC!C201)*IF(AND(LOGIC!B201>'Import avoidance model - RR'!$I$15,LOGIC!B201<'Import avoidance model - RR'!$J$15),'Import avoidance model - RR'!$H$15,'Import avoidance model - RR'!$H$16),0)/100","v":2.8186616221912151},{"$f":"IF('Import avoidance model - RR'!$H$17=\"N\",0,IF(D201<=C201,D201,C201)*'Import avoidance model - RR'!$H$18/100)","v":0},{"$f":"IF(J201<LOGIC!K201,(LOGIC!K201-LOGIC!J201)*IF(AND(LOGIC!B201>'Import avoidance model - RR'!$I$15,LOGIC!B201<'Import avoidance model - RR'!$J$15),'Import avoidance model - RR'!$H$15,'Import avoidance model - RR'!$H$16),0)/100","v":2.1699446683709995},{"$f":"IF('Import avoidance model - RR'!$H$17=\"N\",0,IF(K201<=C201,K201,C201)*'Import avoidance model - RR'!$H$18/100)","v":0},{"$f":"IF(C45<LOGIC!D45,(LOGIC!D45-LOGIC!C45)*IF(AND(LOGIC!B45>'Import avoidance model - RR'!$I$15,LOGIC!B45<'Import avoidance model - RR'!$J$15),'Import avoidance model - RR'!$H$15,'Import avoidance model - RR'!$H$16),0)/100","v":2.8186616221912151},{"$f":"IF('Import avoidance model - RR'!$H$17=\"N\",0,IF(D45<=C45,D45,C45)*'Import avoidance model - RR'!$H$18/100)","v":0},{"$f":"IF(J45<LOGIC!K45,(LOGIC!K45-LOGIC!J45)*IF(AND(LOGIC!B201>'Import avoidance model - RR'!$I$15,LOGIC!B201<'Import avoidance model - RR'!$J$15),'Import avoidance model - RR'!$H$15,'Import avoidance model - RR'!$H$16),0)/100","v":2.1699446683709995},{"$f":"IF('Import avoidance model - RR'!$H$17=\"N\",0,IF(K45<=C45,K45,C45)*'Import avoidance model - RR'!$H$18/100)","v":0},{"$f":"AA97-(IF(AND($R97>'Import avoidance model - RR'!$I$15,$R97<'Import avoidance model - RR'!$J$15),'Import avoidance model - RR'!$H$15*LOGIC!G97,LOGIC!G97*'Import avoidance model - RR'!$H$16)/100)","v":2.8186616221912151},0,{"$f":"IF('Import avoidance model - RR'!H60=\"N\",0,LOGIC!G97*'Import avoidance model - RR'!$H$20)/100","v":0},{"$f":"AC97-(IF(AND($R97>'Import avoidance model - RR'!$I$15,$R97<'Import avoidance model - RR'!$J$15),'Import avoidance model - RR'!$H$15*LOGIC!N97,LOGIC!N97*'Import avoidance model - RR'!$H$16)/100)","v":2.1699446683709995},0,{"$f":"IF('Import avoidance model - RR'!H60=\"N\",0,LOGIC!N97*'Import avoidance model - RR'!$H$20)/100","v":0},{"$f":"AE97-(IF(AND($R97>'Import avoidance model - RR'!$I$15,$R97<'Import avoidance model - RR'!$J$15),'Import avoidance model - RR'!$H$15*LOGIC!G149,LOGIC!G149*'Import avoidance model - RR'!$H$16)/100)","v":2.8186616221912151},0,{"$f":"IF('Import avoidance model - RR'!H60=\"N\",0,LOGIC!G149*'Import avoidance model - RR'!$H$20)/100","v":0},{"$f":"AG97-(IF(AND($R97>'Import avoidance model - RR'!$I$15,$R97<'Import avoidance model - RR'!$J$15),'Import avoidance model - RR'!$H$15*LOGIC!N149,LOGIC!N149*'Import avoidance model - RR'!$H$16)/100)","v":2.1699446683709995},0,{"$f":"IF('Import avoidance model - RR'!H60=\"N\",0,LOGIC!N149*'Import avoidance model - RR'!$H$20)/100","v":0},{"$f":"AI97-(IF(AND($R97>'Import avoidance model - RR'!$I$15,$R97<'Import avoidance model - RR'!$J$15),'Import avoidance model - RR'!$H$15*LOGIC!G201,LOGIC!G201*'Import avoidance model - RR'!$H$16)/100)","v":2.8186616221912151},0,{"$f":"IF('Import avoidance model - RR'!H60=\"N\",0,LOGIC!G201*'Import avoidance model - RR'!$H$20)/100","v":0},{"$f":"AK97-(IF(AND($R97>'Import avoidance model - RR'!$I$15,$R97<'Import avoidance model - RR'!$J$15),'Import avoidance model - RR'!$H$15*LOGIC!N201,LOGIC!N201*'Import avoidance model - RR'!$H$16)/100)","v":2.1699446683709995},0,{"$f":"IF('Import avoidance model - RR'!H60=\"N\",0,LOGIC!N201*'Import avoidance model - RR'!$H$20)/100","v":0},{"$f":"AM97-(IF(AND($R97>'Import avoidance model - RR'!$I$15,$R97<'Import avoidance model - RR'!$J$15),'Import avoidance model - RR'!$H$15*LOGIC!G45,LOGIC!G45*'Import avoidance model - RR'!$H$16)/100)","v":2.8186616221912151},0,{"$f":"IF('Import avoidance model - RR'!H60=\"N\",0,LOGIC!G45*'Import avoidance model - RR'!$H$20)/100","v":0},{"$f":"AO97-(IF(AND($R97>'Import avoidance model - RR'!$I$15,$R97<'Import avoidance model - RR'!$J$15),'Import avoidance model - RR'!$H$15*LOGIC!N45,LOGIC!N45*'Import avoidance model - RR'!$H$16)/100)","v":2.1699446683709995},0,{"$f":"IF('Import avoidance model - RR'!H60=\"N\",0,LOGIC!N45*'Import avoidance model - RR'!$H$20)/100","v":0}]
[null,"20:30:00",{"$f":"'PV data'!J46","v":0},26.632103137071358,0,0,0,0,{"$f":"IF(AND(I97+H98<=$A$5,I97+H98>$A$3),LOGIC!I97+LOGIC!H98,IF(I97+H98>$A$5,$A$5,$A$3))","v":12},0,21.367697114131207,0,0,0,0,{"$f":"IF(AND(P97+O98<=$A$5,P97+O98>$A$3),LOGIC!P97+LOGIC!O98,IF(P97+O98>$A$5,$A$5,$A$3))","v":12},null,"20:30:00",{"$f":"(IF(AND($R98>'Import avoidance model - RR'!$I$15,'Import avoidance model - RR'!$J$15),'Import avoidance model - RR'!$H$15,'Import avoidance model - RR'!$H$16))*D98/100","v":2.6632103137071357},{"$f":"(IF(AND($R98>'Import avoidance model - RR'!$I$15,'Import avoidance model - RR'!$J$15),'Import avoidance model - RR'!$H$15,'Import avoidance model - RR'!$H$16))*K98/100","v":2.1367697114131206},{"$f":"(IF(AND($R98>'Import avoidance model - RR'!$I$15,'Import avoidance model - RR'!$J$15),'Import avoidance model - RR'!$H$15,'Import avoidance model - RR'!$H$16))*D150/100","v":2.6632103137071357},{"$f":"(IF(AND($R98>'Import avoidance model - RR'!$I$15,'Import avoidance model - RR'!$J$15),'Import avoidance model - RR'!$H$15,'Import avoidance model - RR'!$H$16))*K150/100","v":2.1367697114131206},{"$f":"(IF(AND($R98>'Import avoidance model - RR'!$I$15,'Import avoidance model - RR'!$J$15),'Import avoidance model - RR'!$H$15,'Import avoidance model - RR'!$H$16))*D202/100","v":2.6632103137071357},{"$f":"(IF(AND($R98>'Import avoidance model - RR'!$I$15,'Import avoidance model - RR'!$J$15),'Import avoidance model - RR'!$H$15,'Import avoidance model - RR'!$H$16))*K202/100","v":2.1367697114131206},{"$f":"(IF(AND($R98>'Import avoidance model - RR'!$I$15,'Import avoidance model - RR'!$J$15),'Import avoidance model - RR'!$H$15,'Import avoidance model - RR'!$H$16))*D46/100","v":2.6632103137071357},{"$f":"(IF(AND($R98>'Import avoidance model - RR'!$I$15,'Import avoidance model - RR'!$J$15),'Import avoidance model - RR'!$H$15,'Import avoidance model - RR'!$H$16))*K46/100","v":2.1367697114131206},{"$f":"IF(C98<LOGIC!D98,(LOGIC!D98-LOGIC!C98)*IF(AND(LOGIC!B98>'Import avoidance model - RR'!$I$15,LOGIC!B98<'Import avoidance model - RR'!$J$15),'Import avoidance model - RR'!$H$15,'Import avoidance model - RR'!$H$16),0)/100","v":2.6632103137071357},{"$f":"IF('Import avoidance model - RR'!$H$17=\"N\",0,IF(D98<=C98,D98,C98)*'Import avoidance model - RR'!$H$18/100)","v":0},{"$f":"IF(J98<LOGIC!K98,(LOGIC!K98-LOGIC!J98)*IF(AND(LOGIC!B98>'Import avoidance model - RR'!$I$15,LOGIC!B98<'Import avoidance model - RR'!$J$15),'Import avoidance model - RR'!$H$15,'Import avoidance model - RR'!$H$16),0)/100","v":2.1367697114131206},{"$f":"IF('Import avoidance model - RR'!$H$17=\"N\",0,IF(K98<=C98,K98,C98)*'Import avoidance model - RR'!$H$18/100)","v":0},{"$f":"IF(C150<LOGIC!D150,(LOGIC!D150-LOGIC!C150)*IF(AND(LOGIC!B150>'Import avoidance model - RR'!$I$15,LOGIC!B150<'Import avoidance model - RR'!$J$15),'Import avoidance model - RR'!$H$15,'Import avoidance model - RR'!$H$16),0)/100","v":2.6632103137071357},{"$f":"IF('Import avoidance model - RR'!$H$17=\"N\",0,IF(D150<=C150,D150,C150)*'Import avoidance model - RR'!$H$18/100)","v":0},{"$f":"IF(J150<LOGIC!K150,(LOGIC!K150-LOGIC!J150)*IF(AND(LOGIC!B150>'Import avoidance model - RR'!$I$15,LOGIC!B150<'Import avoidance model - RR'!$J$15),'Import avoidance model - RR'!$H$15,'Import avoidance model - RR'!$H$16),0)/100","v":2.1367697114131206},{"$f":"IF('Import avoidance model - RR'!$H$17=\"N\",0,IF(K150<=C150,K150,C150)*'Import avoidance model - RR'!$H$18/100)","v":0},{"$f":"IF(C202<LOGIC!D202,(LOGIC!D202-LOGIC!C202)*IF(AND(LOGIC!B202>'Import avoidance model - RR'!$I$15,LOGIC!B202<'Import avoidance model - RR'!$J$15),'Import avoidance model - RR'!$H$15,'Import avoidance model - RR'!$H$16),0)/100","v":2.6632103137071357},{"$f":"IF('Import avoidance model - RR'!$H$17=\"N\",0,IF(D202<=C202,D202,C202)*'Import avoidance model - RR'!$H$18/100)","v":0},{"$f":"IF(J202<LOGIC!K202,(LOGIC!K202-LOGIC!J202)*IF(AND(LOGIC!B202>'Import avoidance model - RR'!$I$15,LOGIC!B202<'Import avoidance model - RR'!$J$15),'Import avoidance model - RR'!$H$15,'Import avoidance model - RR'!$H$16),0)/100","v":2.1367697114131206},{"$f":"IF('Import avoidance model - RR'!$H$17=\"N\",0,IF(K202<=C202,K202,C202)*'Import avoidance model - RR'!$H$18/100)","v":0},{"$f":"IF(C46<LOGIC!D46,(LOGIC!D46-LOGIC!C46)*IF(AND(LOGIC!B46>'Import avoidance model - RR'!$I$15,LOGIC!B46<'Import avoidance model - RR'!$J$15),'Import avoidance model - RR'!$H$15,'Import avoidance model - RR'!$H$16),0)/100","v":2.6632103137071357},{"$f":"IF('Import avoidance model - RR'!$H$17=\"N\",0,IF(D46<=C46,D46,C46)*'Import avoidance model - RR'!$H$18/100)","v":0},{"$f":"IF(J46<LOGIC!K46,(LOGIC!K46-LOGIC!J46)*IF(AND(LOGIC!B202>'Import avoidance model - RR'!$I$15,LOGIC!B202<'Import avoidance model - RR'!$J$15),'Import avoidance model - RR'!$H$15,'Import avoidance model - RR'!$H$16),0)/100","v":2.1367697114131206},{"$f":"IF('Import avoidance model - RR'!$H$17=\"N\",0,IF(K46<=C46,K46,C46)*'Import avoidance model - RR'!$H$18/100)","v":0},{"$f":"AA98-(IF(AND($R98>'Import avoidance model - RR'!$I$15,$R98<'Import avoidance model - RR'!$J$15),'Import avoidance model - RR'!$H$15*LOGIC!G98,LOGIC!G98*'Import avoidance model - RR'!$H$16)/100)","v":2.6632103137071357},0,{"$f":"IF('Import avoidance model - RR'!H61=\"N\",0,LOGIC!G98*'Import avoidance model - RR'!$H$20)/100","v":0},{"$f":"AC98-(IF(AND($R98>'Import avoidance model - RR'!$I$15,$R98<'Import avoidance model - RR'!$J$15),'Import avoidance model - RR'!$H$15*LOGIC!N98,LOGIC!N98*'Import avoidance model - RR'!$H$16)/100)","v":2.1367697114131206},0,{"$f":"IF('Import avoidance model - RR'!H61=\"N\",0,LOGIC!N98*'Import avoidance model - RR'!$H$20)/100","v":0},{"$f":"AE98-(IF(AND($R98>'Import avoidance model - RR'!$I$15,$R98<'Import avoidance model - RR'!$J$15),'Import avoidance model - RR'!$H$15*LOGIC!G150,LOGIC!G150*'Import avoidance model - RR'!$H$16)/100)","v":2.6632103137071357},0,{"$f":"IF('Import avoidance model - RR'!H61=\"N\",0,LOGIC!G150*'Import avoidance model - RR'!$H$20)/100","v":0},{"$f":"AG98-(IF(AND($R98>'Import avoidance model - RR'!$I$15,$R98<'Import avoidance model - RR'!$J$15),'Import avoidance model - RR'!$H$15*LOGIC!N150,LOGIC!N150*'Import avoidance model - RR'!$H$16)/100)","v":2.1367697114131206},0,{"$f":"IF('Import avoidance model - RR'!H61=\"N\",0,LOGIC!N150*'Import avoidance model - RR'!$H$20)/100","v":0},{"$f":"AI98-(IF(AND($R98>'Import avoidance model - RR'!$I$15,$R98<'Import avoidance model - RR'!$J$15),'Import avoidance model - RR'!$H$15*LOGIC!G202,LOGIC!G202*'Import avoidance model - RR'!$H$16)/100)","v":2.6632103137071357},0,{"$f":"IF('Import avoidance model - RR'!H61=\"N\",0,LOGIC!G202*'Import avoidance model - RR'!$H$20)/100","v":0},{"$f":"AK98-(IF(AND($R98>'Import avoidance model - RR'!$I$15,$R98<'Import avoidance model - RR'!$J$15),'Import avoidance model - RR'!$H$15*LOGIC!N202,LOGIC!N202*'Import avoidance model - RR'!$H$16)/100)","v":2.1367697114131206},0,{"$f":"IF('Import avoidance model - RR'!H61=\"N\",0,LOGIC!N202*'Import avoidance model - RR'!$H$20)/100","v":0},{"$f":"AM98-(IF(AND($R98>'Import avoidance model - RR'!$I$15,$R98<'Import avoidance model - RR'!$J$15),'Import avoidance model - RR'!$H$15*LOGIC!G46,LOGIC!G46*'Import avoidance model - RR'!$H$16)/100)","v":2.6632103137071357},0,{"$f":"IF('Import avoidance model - RR'!H61=\"N\",0,LOGIC!G46*'Import avoidance model - RR'!$H$20)/100","v":0},{"$f":"AO98-(IF(AND($R98>'Import avoidance model - RR'!$I$15,$R98<'Import avoidance model - RR'!$J$15),'Import avoidance model - RR'!$H$15*LOGIC!N46,LOGIC!N46*'Import avoidance model - RR'!$H$16)/100)","v":2.1367697114131206},0,{"$f":"IF('Import avoidance model - RR'!H61=\"N\",0,LOGIC!N46*'Import avoidance model - RR'!$H$20)/100","v":0}]
[null,"21:00:00",{"$f":"'PV data'!J47","v":0},22.920071647440903,0,0,0,0,{"$f":"IF(AND(I98+H99<=$A$5,I98+H99>$A$3),LOGIC!I98+LOGIC!H99,IF(I98+H99>$A$5,$A$5,$A$3))","v":12},0,20.857010979788491,0,0,0,0,{"$f":"IF(AND(P98+O99<=$A$5,P98+O99>$A$3),LOGIC!P98+LOGIC!O99,IF(P98+O99>$A$5,$A$5,$A$3))","v":12},null,"21:00:00",{"$f":"(IF(AND($R99>'Import avoidance model - RR'!$I$15,'Import avoidance model - RR'!$J$15),'Import avoidance model - RR'!$H$15,'Import avoidance model - RR'!$H$16))*D99/100","v":2.2920071647440903},{"$f":"(IF(AND($R99>'Import avoidance model - RR'!$I$15,'Import avoidance model - RR'!$J$15),'Import avoidance model - RR'!$H$15,'Import avoidance model - RR'!$H$16))*K99/100","v":2.0857010979788493},{"$f":"(IF(AND($R99>'Import avoidance model - RR'!$I$15,'Import avoidance model - RR'!$J$15),'Import avoidance model - RR'!$H$15,'Import avoidance model - RR'!$H$16))*D151/100","v":2.2920071647440903},{"$f":"(IF(AND($R99>'Import avoidance model - RR'!$I$15,'Import avoidance model - RR'!$J$15),'Import avoidance model - RR'!$H$15,'Import avoidance model - RR'!$H$16))*K151/100","v":2.0857010979788493},{"$f":"(IF(AND($R99>'Import avoidance model - RR'!$I$15,'Import avoidance model - RR'!$J$15),'Import avoidance model - RR'!$H$15,'Import avoidance model - RR'!$H$16))*D203/100","v":2.2920071647440903},{"$f":"(IF(AND($R99>'Import avoidance model - RR'!$I$15,'Import avoidance model - RR'!$J$15),'Import avoidance model - RR'!$H$15,'Import avoidance model - RR'!$H$16))*K203/100","v":2.0857010979788493},{"$f":"(IF(AND($R99>'Import avoidance model - RR'!$I$15,'Import avoidance model - RR'!$J$15),'Import avoidance model - RR'!$H$15,'Import avoidance model - RR'!$H$16))*D47/100","v":2.2920071647440903},{"$f":"(IF(AND($R99>'Import avoidance model - RR'!$I$15,'Import avoidance model - RR'!$J$15),'Import avoidance model - RR'!$H$15,'Import avoidance model - RR'!$H$16))*K47/100","v":2.0857010979788493},{"$f":"IF(C99<LOGIC!D99,(LOGIC!D99-LOGIC!C99)*IF(AND(LOGIC!B99>'Import avoidance model - RR'!$I$15,LOGIC!B99<'Import avoidance model - RR'!$J$15),'Import avoidance model - RR'!$H$15,'Import avoidance model - RR'!$H$16),0)/100","v":2.2920071647440903},{"$f":"IF('Import avoidance model - RR'!$H$17=\"N\",0,IF(D99<=C99,D99,C99)*'Import avoidance model - RR'!$H$18/100)","v":0},{"$f":"IF(J99<LOGIC!K99,(LOGIC!K99-LOGIC!J99)*IF(AND(LOGIC!B99>'Import avoidance model - RR'!$I$15,LOGIC!B99<'Import avoidance model - RR'!$J$15),'Import avoidance model - RR'!$H$15,'Import avoidance model - RR'!$H$16),0)/100","v":2.0857010979788493},{"$f":"IF('Import avoidance model - RR'!$H$17=\"N\",0,IF(K99<=C99,K99,C99)*'Import avoidance model - RR'!$H$18/100)","v":0},{"$f":"IF(C151<LOGIC!D151,(LOGIC!D151-LOGIC!C151)*IF(AND(LOGIC!B151>'Import avoidance model - RR'!$I$15,LOGIC!B151<'Import avoidance model - RR'!$J$15),'Import avoidance model - RR'!$H$15,'Import avoidance model - RR'!$H$16),0)/100","v":2.2920071647440903},{"$f":"IF('Import avoidance model - RR'!$H$17=\"N\",0,IF(D151<=C151,D151,C151)*'Import avoidance model - RR'!$H$18/100)","v":0},{"$f":"IF(J151<LOGIC!K151,(LOGIC!K151-LOGIC!J151)*IF(AND(LOGIC!B151>'Import avoidance model - RR'!$I$15,LOGIC!B151<'Import avoidance model - RR'!$J$15),'Import avoidance model - RR'!$H$15,'Import avoidance model - RR'!$H$16),0)/100","v":2.0857010979788493},{"$f":"IF('Import avoidance model - RR'!$H$17=\"N\",0,IF(K151<=C151,K151,C151)*'Import avoidance model - RR'!$H$18/100)","v":0},{"$f":"IF(C203<LOGIC!D203,(LOGIC!D203-LOGIC!C203)*IF(AND(LOGIC!B203>'Import avoidance model - RR'!$I$15,LOGIC!B203<'Import avoidance model - RR'!$J$15),'Import avoidance model - RR'!$H$15,'Import avoidance model - RR'!$H$16),0)/100","v":2.2920071647440903},{"$f":"IF('Import avoidance model - RR'!$H$17=\"N\",0,IF(D203<=C203,D203,C203)*'Import avoidance model - RR'!$H$18/100)","v":0},{"$f":"IF(J203<LOGIC!K203,(LOGIC!K203-LOGIC!J203)*IF(AND(LOGIC!B203>'Import avoidance model - RR'!$I$15,LOGIC!B203<'Import avoidance model - RR'!$J$15),'Import avoidance model - RR'!$H$15,'Import avoidance model - RR'!$H$16),0)/100","v":2.0857010979788493},{"$f":"IF('Import avoidance model - RR'!$H$17=\"N\",0,IF(K203<=C203,K203,C203)*'Import avoidance model - RR'!$H$18/100)","v":0},{"$f":"IF(C47<LOGIC!D47,(LOGIC!D47-LOGIC!C47)*IF(AND(LOGIC!B47>'Import avoidance model - RR'!$I$15,LOGIC!B47<'Import avoidance model - RR'!$J$15),'Import avoidance model - RR'!$H$15,'Import avoidance model - RR'!$H$16),0)/100","v":2.2920071647440903},{"$f":"IF('Import avoidance model - RR'!$H$17=\"N\",0,IF(D47<=C47,D47,C47)*'Import avoidance model - RR'!$H$18/100)","v":0},{"$f":"IF(J47<LOGIC!K47,(LOGIC!K47-LOGIC!J47)*IF(AND(LOGIC!B203>'Import avoidance model - RR'!$I$15,LOGIC!B203<'Import avoidance model - RR'!$J$15),'Import avoidance model - RR'!$H$15,'Import avoidance model - RR'!$H$16),0)/100","v":2.0857010979788493},{"$f":"IF('Import avoidance model - RR'!$H$17=\"N\",0,IF(K47<=C47,K47,C47)*'Import avoidance model - RR'!$H$18/100)","v":0},{"$f":"AA99-(IF(AND($R99>'Import avoidance model - RR'!$I$15,$R99<'Import avoidance model - RR'!$J$15),'Import avoidance model - RR'!$H$15*LOGIC!G99,LOGIC!G99*'Import avoidance model - RR'!$H$16)/100)","v":2.2920071647440903},0,{"$f":"IF('Import avoidance model - RR'!H62=\"N\",0,LOGIC!G99*'Import avoidance model - RR'!$H$20)/100","v":0},{"$f":"AC99-(IF(AND($R99>'Import avoidance model - RR'!$I$15,$R99<'Import avoidance model - RR'!$J$15),'Import avoidance model - RR'!$H$15*LOGIC!N99,LOGIC!N99*'Import avoidance model - RR'!$H$16)/100)","v":2.0857010979788493},0,{"$f":"IF('Import avoidance model - RR'!H62=\"N\",0,LOGIC!N99*'Import avoidance model - RR'!$H$20)/100","v":0},{"$f":"AE99-(IF(AND($R99>'Import avoidance model - RR'!$I$15,$R99<'Import avoidance model - RR'!$J$15),'Import avoidance model - RR'!$H$15*LOGIC!G151,LOGIC!G151*'Import avoidance model - RR'!$H$16)/100)","v":2.2920071647440903},0,{"$f":"IF('Import avoidance model - RR'!H62=\"N\",0,LOGIC!G151*'Import avoidance model - RR'!$H$20)/100","v":0},{"$f":"AG99-(IF(AND($R99>'Import avoidance model - RR'!$I$15,$R99<'Import avoidance model - RR'!$J$15),'Import avoidance model - RR'!$H$15*LOGIC!N151,LOGIC!N151*'Import avoidance model - RR'!$H$16)/100)","v":2.0857010979788493},0,{"$f":"IF('Import avoidance model - RR'!H62=\"N\",0,LOGIC!N151*'Import avoidance model - RR'!$H$20)/100","v":0},{"$f":"AI99-(IF(AND($R99>'Import avoidance model - RR'!$I$15,$R99<'Import avoidance model - RR'!$J$15),'Import avoidance model - RR'!$H$15*LOGIC!G203,LOGIC!G203*'Import avoidance model - RR'!$H$16)/100)","v":2.2920071647440903},0,{"$f":"IF('Import avoidance model - RR'!H62=\"N\",0,LOGIC!G203*'Import avoidance model - RR'!$H$20)/100","v":0},{"$f":"AK99-(IF(AND($R99>'Import avoidance model - RR'!$I$15,$R99<'Import avoidance model - RR'!$J$15),'Import avoidance model - RR'!$H$15*LOGIC!N203,LOGIC!N203*'Import avoidance model - RR'!$H$16)/100)","v":2.0857010979788493},0,{"$f":"IF('Import avoidance model - RR'!H62=\"N\",0,LOGIC!N203*'Import avoidance model - RR'!$H$20)/100","v":0},{"$f":"AM99-(IF(AND($R99>'Import avoidance model - RR'!$I$15,$R99<'Import avoidance model - RR'!$J$15),'Import avoidance model - RR'!$H$15*LOGIC!G47,LOGIC!G47*'Import avoidance model - RR'!$H$16)/100)","v":2.2920071647440903},0,{"$f":"IF('Import avoidance model - RR'!H62=\"N\",0,LOGIC!G47*'Import avoidance model - RR'!$H$20)/100","v":0},{"$f":"AO99-(IF(AND($R99>'Import avoidance model - RR'!$I$15,$R99<'Import avoidance model - RR'!$J$15),'Import avoidance model - RR'!$H$15*LOGIC!N47,LOGIC!N47*'Import avoidance model - RR'!$H$16)/100)","v":2.0857010979788493},0,{"$f":"IF('Import avoidance model - RR'!H62=\"N\",0,LOGIC!N47*'Import avoidance model - RR'!$H$20)/100","v":0}]
[null,"21:30:00",{"$f":"'PV data'!J48","v":0},20.000257847140631,0,0,0,0,{"$f":"IF(AND(I99+H100<=$A$5,I99+H100>$A$3),LOGIC!I99+LOGIC!H100,IF(I99+H100>$A$5,$A$5,$A$3))","v":12},0,20.676895908560692,0,0,0,0,{"$f":"IF(AND(P99+O100<=$A$5,P99+O100>$A$3),LOGIC!P99+LOGIC!O100,IF(P99+O100>$A$5,$A$5,$A$3))","v":12},null,"21:30:00",{"$f":"(IF(AND($R100>'Import avoidance model - RR'!$I$15,'Import avoidance model - RR'!$J$15),'Import avoidance model - RR'!$H$15,'Import avoidance model - RR'!$H$16))*D100/100","v":2.000025784714063},{"$f":"(IF(AND($R100>'Import avoidance model - RR'!$I$15,'Import avoidance model - RR'!$J$15),'Import avoidance model - RR'!$H$15,'Import avoidance model - RR'!$H$16))*K100/100","v":2.0676895908560691},{"$f":"(IF(AND($R100>'Import avoidance model - RR'!$I$15,'Import avoidance model - RR'!$J$15),'Import avoidance model - RR'!$H$15,'Import avoidance model - RR'!$H$16))*D152/100","v":2.000025784714063},{"$f":"(IF(AND($R100>'Import avoidance model - RR'!$I$15,'Import avoidance model - RR'!$J$15),'Import avoidance model - RR'!$H$15,'Import avoidance model - RR'!$H$16))*K152/100","v":2.0676895908560691},{"$f":"(IF(AND($R100>'Import avoidance model - RR'!$I$15,'Import avoidance model - RR'!$J$15),'Import avoidance model - RR'!$H$15,'Import avoidance model - RR'!$H$16))*D204/100","v":2.000025784714063},{"$f":"(IF(AND($R100>'Import avoidance model - RR'!$I$15,'Import avoidance model - RR'!$J$15),'Import avoidance model - RR'!$H$15,'Import avoidance model - RR'!$H$16))*K204/100","v":2.0676895908560691},{"$f":"(IF(AND($R100>'Import avoidance model - RR'!$I$15,'Import avoidance model - RR'!$J$15),'Import avoidance model - RR'!$H$15,'Import avoidance model - RR'!$H$16))*D48/100","v":2.000025784714063},{"$f":"(IF(AND($R100>'Import avoidance model - RR'!$I$15,'Import avoidance model - RR'!$J$15),'Import avoidance model - RR'!$H$15,'Import avoidance model - RR'!$H$16))*K48/100","v":2.0676895908560691},{"$f":"IF(C100<LOGIC!D100,(LOGIC!D100-LOGIC!C100)*IF(AND(LOGIC!B100>'Import avoidance model - RR'!$I$15,LOGIC!B100<'Import avoidance model - RR'!$J$15),'Import avoidance model - RR'!$H$15,'Import avoidance model - RR'!$H$16),0)/100","v":2.000025784714063},{"$f":"IF('Import avoidance model - RR'!$H$17=\"N\",0,IF(D100<=C100,D100,C100)*'Import avoidance model - RR'!$H$18/100)","v":0},{"$f":"IF(J100<LOGIC!K100,(LOGIC!K100-LOGIC!J100)*IF(AND(LOGIC!B100>'Import avoidance model - RR'!$I$15,LOGIC!B100<'Import avoidance model - RR'!$J$15),'Import avoidance model - RR'!$H$15,'Import avoidance model - RR'!$H$16),0)/100","v":2.0676895908560691},{"$f":"IF('Import avoidance model - RR'!$H$17=\"N\",0,IF(K100<=C100,K100,C100)*'Import avoidance model - RR'!$H$18/100)","v":0},{"$f":"IF(C152<LOGIC!D152,(LOGIC!D152-LOGIC!C152)*IF(AND(LOGIC!B152>'Import avoidance model - RR'!$I$15,LOGIC!B152<'Import avoidance model - RR'!$J$15),'Import avoidance model - RR'!$H$15,'Import avoidance model - RR'!$H$16),0)/100","v":2.000025784714063},{"$f":"IF('Import avoidance model - RR'!$H$17=\"N\",0,IF(D152<=C152,D152,C152)*'Import avoidance model - RR'!$H$18/100)","v":0},{"$f":"IF(J152<LOGIC!K152,(LOGIC!K152-LOGIC!J152)*IF(AND(LOGIC!B152>'Import avoidance model - RR'!$I$15,LOGIC!B152<'Import avoidance model - RR'!$J$15),'Import avoidance model - RR'!$H$15,'Import avoidance model - RR'!$H$16),0)/100","v":2.0676895908560691},{"$f":"IF('Import avoidance model - RR'!$H$17=\"N\",0,IF(K152<=C152,K152,C152)*'Import avoidance model - RR'!$H$18/100)","v":0},{"$f":"IF(C204<LOGIC!D204,(LOGIC!D204-LOGIC!C204)*IF(AND(LOGIC!B204>'Import avoidance model - RR'!$I$15,LOGIC!B204<'Import avoidance model - RR'!$J$15),'Import avoidance model - RR'!$H$15,'Import avoidance model - RR'!$H$16),0)/100","v":2.000025784714063},{"$f":"IF('Import avoidance model - RR'!$H$17=\"N\",0,IF(D204<=C204,D204,C204)*'Import avoidance model - RR'!$H$18/100)","v":0},{"$f":"IF(J204<LOGIC!K204,(LOGIC!K204-LOGIC!J204)*IF(AND(LOGIC!B204>'Import avoidance model - RR'!$I$15,LOGIC!B204<'Import avoidance model - RR'!$J$15),'Import avoidance model - RR'!$H$15,'Import avoidance model - RR'!$H$16),0)/100","v":2.0676895908560691},{"$f":"IF('Import avoidance model - RR'!$H$17=\"N\",0,IF(K204<=C204,K204,C204)*'Import avoidance model - RR'!$H$18/100)","v":0},{"$f":"IF(C48<LOGIC!D48,(LOGIC!D48-LOGIC!C48)*IF(AND(LOGIC!B48>'Import avoidance model - RR'!$I$15,LOGIC!B48<'Import avoidance model - RR'!$J$15),'Import avoidance model - RR'!$H$15,'Import avoidance model - RR'!$H$16),0)/100","v":2.000025784714063},{"$f":"IF('Import avoidance model - RR'!$H$17=\"N\",0,IF(D48<=C48,D48,C48)*'Import avoidance model - RR'!$H$18/100)","v":0},{"$f":"IF(J48<LOGIC!K48,(LOGIC!K48-LOGIC!J48)*IF(AND(LOGIC!B204>'Import avoidance model - RR'!$I$15,LOGIC!B204<'Import avoidance model - RR'!$J$15),'Import avoidance model - RR'!$H$15,'Import avoidance model - RR'!$H$16),0)/100","v":2.0676895908560691},{"$f":"IF('Import avoidance model - RR'!$H$17=\"N\",0,IF(K48<=C48,K48,C48)*'Import avoidance model - RR'!$H$18/100)","v":0},{"$f":"AA100-(IF(AND($R100>'Import avoidance model - RR'!$I$15,$R100<'Import avoidance model - RR'!$J$15),'Import avoidance model - RR'!$H$15*LOGIC!G100,LOGIC!G100*'Import avoidance model - RR'!$H$16)/100)","v":2.000025784714063},0,{"$f":"IF('Import avoidance model - RR'!H63=\"N\",0,LOGIC!G100*'Import avoidance model - RR'!$H$20)/100","v":0},{"$f":"AC100-(IF(AND($R100>'Import avoidance model - RR'!$I$15,$R100<'Import avoidance model - RR'!$J$15),'Import avoidance model - RR'!$H$15*LOGIC!N100,LOGIC!N100*'Import avoidance model - RR'!$H$16)/100)","v":2.0676895908560691},0,{"$f":"IF('Import avoidance model - RR'!H63=\"N\",0,LOGIC!N100*'Import avoidance model - RR'!$H$20)/100","v":0},{"$f":"AE100-(IF(AND($R100>'Import avoidance model - RR'!$I$15,$R100<'Import avoidance model - RR'!$J$15),'Import avoidance model - RR'!$H$15*LOGIC!G152,LOGIC!G152*'Import avoidance model - RR'!$H$16)/100)","v":2.000025784714063},0,{"$f":"IF('Import avoidance model - RR'!H63=\"N\",0,LOGIC!G152*'Import avoidance model - RR'!$H$20)/100","v":0},{"$f":"AG100-(IF(AND($R100>'Import avoidance model - RR'!$I$15,$R100<'Import avoidance model - RR'!$J$15),'Import avoidance model - RR'!$H$15*LOGIC!N152,LOGIC!N152*'Import avoidance model - RR'!$H$16)/100)","v":2.0676895908560691},0,{"$f":"IF('Import avoidance model - RR'!H63=\"N\",0,LOGIC!N152*'Import avoidance model - RR'!$H$20)/100","v":0},{"$f":"AI100-(IF(AND($R100>'Import avoidance model - RR'!$I$15,$R100<'Import avoidance model - RR'!$J$15),'Import avoidance model - RR'!$H$15*LOGIC!G204,LOGIC!G204*'Import avoidance model - RR'!$H$16)/100)","v":2.000025784714063},0,{"$f":"IF('Import avoidance model - RR'!H63=\"N\",0,LOGIC!G204*'Import avoidance model - RR'!$H$20)/100","v":0},{"$f":"AK100-(IF(AND($R100>'Import avoidance model - RR'!$I$15,$R100<'Import avoidance model - RR'!$J$15),'Import avoidance model - RR'!$H$15*LOGIC!N204,LOGIC!N204*'Import avoidance model - RR'!$H$16)/100)","v":2.0676895908560691},0,{"$f":"IF('Import avoidance model - RR'!H63=\"N\",0,LOGIC!N204*'Import avoidance model - RR'!$H$20)/100","v":0},{"$f":"AM100-(IF(AND($R100>'Import avoidance model - RR'!$I$15,$R100<'Import avoidance model - RR'!$J$15),'Import avoidance model - RR'!$H$15*LOGIC!G48,LOGIC!G48*'Import avoidance model - RR'!$H$16)/100)","v":2.000025784714063},0,{"$f":"IF('Import avoidance model - RR'!H63=\"N\",0,LOGIC!G48*'Import avoidance model - RR'!$H$20)/100","v":0},{"$f":"AO100-(IF(AND($R100>'Import avoidance model - RR'!$I$15,$R100<'Import avoidance model - RR'!$J$15),'Import avoidance model - RR'!$H$15*LOGIC!N48,LOGIC!N48*'Import avoidance model - RR'!$H$16)/100)","v":2.0676895908560691},0,{"$f":"IF('Import avoidance model - RR'!H63=\"N\",0,LOGIC!N48*'Import avoidance model - RR'!$H$20)/100","v":0}]
[null,"22:00:00",{"$f":"'PV data'!J49","v":0},18.716083156603052,0,0,0,0,{"$f":"IF(AND(I100+H101<=$A$5,I100+H101>$A$3),LOGIC!I100+LOGIC!H101,IF(I100+H101>$A$5,$A$5,$A$3))","v":12},0,20.534100208688709,0,0,0,0,{"$f":"IF(AND(P100+O101<=$A$5,P100+O101>$A$3),LOGIC!P100+LOGIC!O101,IF(P100+O101>$A$5,$A$5,$A$3))","v":12},null,"22:00:00",{"$f":"(IF(AND($R101>'Import avoidance model - RR'!$I$15,'Import avoidance model - RR'!$J$15),'Import avoidance model - RR'!$H$15,'Import avoidance model - RR'!$H$16))*D101/100","v":1.8716083156603052},{"$f":"(IF(AND($R101>'Import avoidance model - RR'!$I$15,'Import avoidance model - RR'!$J$15),'Import avoidance model - RR'!$H$15,'Import avoidance model - RR'!$H$16))*K101/100","v":2.053410020868871},{"$f":"(IF(AND($R101>'Import avoidance model - RR'!$I$15,'Import avoidance model - RR'!$J$15),'Import avoidance model - RR'!$H$15,'Import avoidance model - RR'!$H$16))*D153/100","v":1.8716083156603052},{"$f":"(IF(AND($R101>'Import avoidance model - RR'!$I$15,'Import avoidance model - RR'!$J$15),'Import avoidance model - RR'!$H$15,'Import avoidance model - RR'!$H$16))*K153/100","v":2.053410020868871},{"$f":"(IF(AND($R101>'Import avoidance model - RR'!$I$15,'Import avoidance model - RR'!$J$15),'Import avoidance model - RR'!$H$15,'Import avoidance model - RR'!$H$16))*D205/100","v":1.8716083156603052},{"$f":"(IF(AND($R101>'Import avoidance model - RR'!$I$15,'Import avoidance model - RR'!$J$15),'Import avoidance model - RR'!$H$15,'Import avoidance model - RR'!$H$16))*K205/100","v":2.053410020868871},{"$f":"(IF(AND($R101>'Import avoidance model - RR'!$I$15,'Import avoidance model - RR'!$J$15),'Import avoidance model - RR'!$H$15,'Import avoidance model - RR'!$H$16))*D49/100","v":1.8716083156603052},{"$f":"(IF(AND($R101>'Import avoidance model - RR'!$I$15,'Import avoidance model - RR'!$J$15),'Import avoidance model - RR'!$H$15,'Import avoidance model - RR'!$H$16))*K49/100","v":2.053410020868871},{"$f":"IF(C101<LOGIC!D101,(LOGIC!D101-LOGIC!C101)*IF(AND(LOGIC!B101>'Import avoidance model - RR'!$I$15,LOGIC!B101<'Import avoidance model - RR'!$J$15),'Import avoidance model - RR'!$H$15,'Import avoidance model - RR'!$H$16),0)/100","v":1.8716083156603052},{"$f":"IF('Import avoidance model - RR'!$H$17=\"N\",0,IF(D101<=C101,D101,C101)*'Import avoidance model - RR'!$H$18/100)","v":0},{"$f":"IF(J101<LOGIC!K101,(LOGIC!K101-LOGIC!J101)*IF(AND(LOGIC!B101>'Import avoidance model - RR'!$I$15,LOGIC!B101<'Import avoidance model - RR'!$J$15),'Import avoidance model - RR'!$H$15,'Import avoidance model - RR'!$H$16),0)/100","v":2.053410020868871},{"$f":"IF('Import avoidance model - RR'!$H$17=\"N\",0,IF(K101<=C101,K101,C101)*'Import avoidance model - RR'!$H$18/100)","v":0},{"$f":"IF(C153<LOGIC!D153,(LOGIC!D153-LOGIC!C153)*IF(AND(LOGIC!B153>'Import avoidance model - RR'!$I$15,LOGIC!B153<'Import avoidance model - RR'!$J$15),'Import avoidance model - RR'!$H$15,'Import avoidance model - RR'!$H$16),0)/100","v":1.8716083156603052},{"$f":"IF('Import avoidance model - RR'!$H$17=\"N\",0,IF(D153<=C153,D153,C153)*'Import avoidance model - RR'!$H$18/100)","v":0},{"$f":"IF(J153<LOGIC!K153,(LOGIC!K153-LOGIC!J153)*IF(AND(LOGIC!B153>'Import avoidance model - RR'!$I$15,LOGIC!B153<'Import avoidance model - RR'!$J$15),'Import avoidance model - RR'!$H$15,'Import avoidance model - RR'!$H$16),0)/100","v":2.053410020868871},{"$f":"IF('Import avoidance model - RR'!$H$17=\"N\",0,IF(K153<=C153,K153,C153)*'Import avoidance model - RR'!$H$18/100)","v":0},{"$f":"IF(C205<LOGIC!D205,(LOGIC!D205-LOGIC!C205)*IF(AND(LOGIC!B205>'Import avoidance model - RR'!$I$15,LOGIC!B205<'Import avoidance model - RR'!$J$15),'Import avoidance model - RR'!$H$15,'Import avoidance model - RR'!$H$16),0)/100","v":1.8716083156603052},{"$f":"IF('Import avoidance model - RR'!$H$17=\"N\",0,IF(D205<=C205,D205,C205)*'Import avoidance model - RR'!$H$18/100)","v":0},{"$f":"IF(J205<LOGIC!K205,(LOGIC!K205-LOGIC!J205)*IF(AND(LOGIC!B205>'Import avoidance model - RR'!$I$15,LOGIC!B205<'Import avoidance model - RR'!$J$15),'Import avoidance model - RR'!$H$15,'Import avoidance model - RR'!$H$16),0)/100","v":2.053410020868871},{"$f":"IF('Import avoidance model - RR'!$H$17=\"N\",0,IF(K205<=C205,K205,C205)*'Import avoidance model - RR'!$H$18/100)","v":0},{"$f":"IF(C49<LOGIC!D49,(LOGIC!D49-LOGIC!C49)*IF(AND(LOGIC!B49>'Import avoidance model - RR'!$I$15,LOGIC!B49<'Import avoidance model - RR'!$J$15),'Import avoidance model - RR'!$H$15,'Import avoidance model - RR'!$H$16),0)/100","v":1.8716083156603052},{"$f":"IF('Import avoidance model - RR'!$H$17=\"N\",0,IF(D49<=C49,D49,C49)*'Import avoidance model - RR'!$H$18/100)","v":0},{"$f":"IF(J49<LOGIC!K49,(LOGIC!K49-LOGIC!J49)*IF(AND(LOGIC!B205>'Import avoidance model - RR'!$I$15,LOGIC!B205<'Import avoidance model - RR'!$J$15),'Import avoidance model - RR'!$H$15,'Import avoidance model - RR'!$H$16),0)/100","v":2.053410020868871},{"$f":"IF('Import avoidance model - RR'!$H$17=\"N\",0,IF(K49<=C49,K49,C49)*'Import avoidance model - RR'!$H$18/100)","v":0},{"$f":"AA101-(IF(AND($R101>'Import avoidance model - RR'!$I$15,$R101<'Import avoidance model - RR'!$J$15),'Import avoidance model - RR'!$H$15*LOGIC!G101,LOGIC!G101*'Import avoidance model - RR'!$H$16)/100)","v":1.8716083156603052},0,{"$f":"IF('Import avoidance model - RR'!H64=\"N\",0,LOGIC!G101*'Import avoidance model - RR'!$H$20)/100","v":0},{"$f":"AC101-(IF(AND($R101>'Import avoidance model - RR'!$I$15,$R101<'Import avoidance model - RR'!$J$15),'Import avoidance model - RR'!$H$15*LOGIC!N101,LOGIC!N101*'Import avoidance model - RR'!$H$16)/100)","v":2.053410020868871},0,{"$f":"IF('Import avoidance model - RR'!H64=\"N\",0,LOGIC!N101*'Import avoidance model - RR'!$H$20)/100","v":0},{"$f":"AE101-(IF(AND($R101>'Import avoidance model - RR'!$I$15,$R101<'Import avoidance model - RR'!$J$15),'Import avoidance model - RR'!$H$15*LOGIC!G153,LOGIC!G153*'Import avoidance model - RR'!$H$16)/100)","v":1.8716083156603052},0,{"$f":"IF('Import avoidance model - RR'!H64=\"N\",0,LOGIC!G153*'Import avoidance model - RR'!$H$20)/100","v":0},{"$f":"AG101-(IF(AND($R101>'Import avoidance model - RR'!$I$15,$R101<'Import avoidance model - RR'!$J$15),'Import avoidance model - RR'!$H$15*LOGIC!N153,LOGIC!N153*'Import avoidance model - RR'!$H$16)/100)","v":2.053410020868871},0,{"$f":"IF('Import avoidance model - RR'!H64=\"N\",0,LOGIC!N153*'Import avoidance model - RR'!$H$20)/100","v":0},{"$f":"AI101-(IF(AND($R101>'Import avoidance model - RR'!$I$15,$R101<'Import avoidance model - RR'!$J$15),'Import avoidance model - RR'!$H$15*LOGIC!G205,LOGIC!G205*'Import avoidance model - RR'!$H$16)/100)","v":1.8716083156603052},0,{"$f":"IF('Import avoidance model - RR'!H64=\"N\",0,LOGIC!G205*'Import avoidance model - RR'!$H$20)/100","v":0},{"$f":"AK101-(IF(AND($R101>'Import avoidance model - RR'!$I$15,$R101<'Import avoidance model - RR'!$J$15),'Import avoidance model - RR'!$H$15*LOGIC!N205,LOGIC!N205*'Import avoidance model - RR'!$H$16)/100)","v":2.053410020868871},0,{"$f":"IF('Import avoidance model - RR'!H64=\"N\",0,LOGIC!N205*'Import avoidance model - RR'!$H$20)/100","v":0},{"$f":"AM101-(IF(AND($R101>'Import avoidance model - RR'!$I$15,$R101<'Import avoidance model - RR'!$J$15),'Import avoidance model - RR'!$H$15*LOGIC!G49,LOGIC!G49*'Import avoidance model - RR'!$H$16)/100)","v":1.8716083156603052},0,{"$f":"IF('Import avoidance model - RR'!H64=\"N\",0,LOGIC!G49*'Import avoidance model - RR'!$H$20)/100","v":0},{"$f":"AO101-(IF(AND($R101>'Import avoidance model - RR'!$I$15,$R101<'Import avoidance model - RR'!$J$15),'Import avoidance model - RR'!$H$15*LOGIC!N49,LOGIC!N49*'Import avoidance model - RR'!$H$16)/100)","v":2.053410020868871},0,{"$f":"IF('Import avoidance model - RR'!H64=\"N\",0,LOGIC!N49*'Import avoidance model - RR'!$H$20)/100","v":0}]
[null,"22:30:00",{"$f":"'PV data'!J50","v":0},17.7738818604461,0,0,0,0,{"$f":"IF(AND(I101+H102<=$A$5,I101+H102>$A$3),LOGIC!I101+LOGIC!H102,IF(I101+H102>$A$5,$A$5,$A$3))","v":12},0,20.409767776750655,0,0,0,0,{"$f":"IF(AND(P101+O102<=$A$5,P101+O102>$A$3),LOGIC!P101+LOGIC!O102,IF(P101+O102>$A$5,$A$5,$A$3))","v":12},null,"22:30:00",{"$f":"(IF(AND($R102>'Import avoidance model - RR'!$I$15,'Import avoidance model - RR'!$J$15),'Import avoidance model - RR'!$H$15,'Import avoidance model - RR'!$H$16))*D102/100","v":1.7773881860446099},{"$f":"(IF(AND($R102>'Import avoidance model - RR'!$I$15,'Import avoidance model - RR'!$J$15),'Import avoidance model - RR'!$H$15,'Import avoidance model - RR'!$H$16))*K102/100","v":2.0409767776750654},{"$f":"(IF(AND($R102>'Import avoidance model - RR'!$I$15,'Import avoidance model - RR'!$J$15),'Import avoidance model - RR'!$H$15,'Import avoidance model - RR'!$H$16))*D154/100","v":1.7773881860446099},{"$f":"(IF(AND($R102>'Import avoidance model - RR'!$I$15,'Import avoidance model - RR'!$J$15),'Import avoidance model - RR'!$H$15,'Import avoidance model - RR'!$H$16))*K154/100","v":2.0409767776750654},{"$f":"(IF(AND($R102>'Import avoidance model - RR'!$I$15,'Import avoidance model - RR'!$J$15),'Import avoidance model - RR'!$H$15,'Import avoidance model - RR'!$H$16))*D206/100","v":1.7773881860446099},{"$f":"(IF(AND($R102>'Import avoidance model - RR'!$I$15,'Import avoidance model - RR'!$J$15),'Import avoidance model - RR'!$H$15,'Import avoidance model - RR'!$H$16))*K206/100","v":2.0409767776750654},{"$f":"(IF(AND($R102>'Import avoidance model - RR'!$I$15,'Import avoidance model - RR'!$J$15),'Import avoidance model - RR'!$H$15,'Import avoidance model - RR'!$H$16))*D50/100","v":1.7773881860446099},{"$f":"(IF(AND($R102>'Import avoidance model - RR'!$I$15,'Import avoidance model - RR'!$J$15),'Import avoidance model - RR'!$H$15,'Import avoidance model - RR'!$H$16))*K50/100","v":2.0409767776750654},{"$f":"IF(C102<LOGIC!D102,(LOGIC!D102-LOGIC!C102)*IF(AND(LOGIC!B102>'Import avoidance model - RR'!$I$15,LOGIC!B102<'Import avoidance model - RR'!$J$15),'Import avoidance model - RR'!$H$15,'Import avoidance model - RR'!$H$16),0)/100","v":1.7773881860446099},{"$f":"IF('Import avoidance model - RR'!$H$17=\"N\",0,IF(D102<=C102,D102,C102)*'Import avoidance model - RR'!$H$18/100)","v":0},{"$f":"IF(J102<LOGIC!K102,(LOGIC!K102-LOGIC!J102)*IF(AND(LOGIC!B102>'Import avoidance model - RR'!$I$15,LOGIC!B102<'Import avoidance model - RR'!$J$15),'Import avoidance model - RR'!$H$15,'Import avoidance model - RR'!$H$16),0)/100","v":2.0409767776750654},{"$f":"IF('Import avoidance model - RR'!$H$17=\"N\",0,IF(K102<=C102,K102,C102)*'Import avoidance model - RR'!$H$18/100)","v":0},{"$f":"IF(C154<LOGIC!D154,(LOGIC!D154-LOGIC!C154)*IF(AND(LOGIC!B154>'Import avoidance model - RR'!$I$15,LOGIC!B154<'Import avoidance model - RR'!$J$15),'Import avoidance model - RR'!$H$15,'Import avoidance model - RR'!$H$16),0)/100","v":1.7773881860446099},{"$f":"IF('Import avoidance model - RR'!$H$17=\"N\",0,IF(D154<=C154,D154,C154)*'Import avoidance model - RR'!$H$18/100)","v":0},{"$f":"IF(J154<LOGIC!K154,(LOGIC!K154-LOGIC!J154)*IF(AND(LOGIC!B154>'Import avoidance model - RR'!$I$15,LOGIC!B154<'Import avoidance model - RR'!$J$15),'Import avoidance model - RR'!$H$15,'Import avoidance model - RR'!$H$16),0)/100","v":2.0409767776750654},{"$f":"IF('Import avoidance model - RR'!$H$17=\"N\",0,IF(K154<=C154,K154,C154)*'Import avoidance model - RR'!$H$18/100)","v":0},{"$f":"IF(C206<LOGIC!D206,(LOGIC!D206-LOGIC!C206)*IF(AND(LOGIC!B206>'Import avoidance model - RR'!$I$15,LOGIC!B206<'Import avoidance model - RR'!$J$15),'Import avoidance model - RR'!$H$15,'Import avoidance model - RR'!$H$16),0)/100","v":1.7773881860446099},{"$f":"IF('Import avoidance model - RR'!$H$17=\"N\",0,IF(D206<=C206,D206,C206)*'Import avoidance model - RR'!$H$18/100)","v":0},{"$f":"IF(J206<LOGIC!K206,(LOGIC!K206-LOGIC!J206)*IF(AND(LOGIC!B206>'Import avoidance model - RR'!$I$15,LOGIC!B206<'Import avoidance model - RR'!$J$15),'Import avoidance model - RR'!$H$15,'Import avoidance model - RR'!$H$16),0)/100","v":2.0409767776750654},{"$f":"IF('Import avoidance model - RR'!$H$17=\"N\",0,IF(K206<=C206,K206,C206)*'Import avoidance model - RR'!$H$18/100)","v":0},{"$f":"IF(C50<LOGIC!D50,(LOGIC!D50-LOGIC!C50)*IF(AND(LOGIC!B50>'Import avoidance model - RR'!$I$15,LOGIC!B50<'Import avoidance model - RR'!$J$15),'Import avoidance model - RR'!$H$15,'Import avoidance model - RR'!$H$16),0)/100","v":1.7773881860446099},{"$f":"IF('Import avoidance model - RR'!$H$17=\"N\",0,IF(D50<=C50,D50,C50)*'Import avoidance model - RR'!$H$18/100)","v":0},{"$f":"IF(J50<LOGIC!K50,(LOGIC!K50-LOGIC!J50)*IF(AND(LOGIC!B206>'Import avoidance model - RR'!$I$15,LOGIC!B206<'Import avoidance model - RR'!$J$15),'Import avoidance model - RR'!$H$15,'Import avoidance model - RR'!$H$16),0)/100","v":2.0409767776750654},{"$f":"IF('Import avoidance model - RR'!$H$17=\"N\",0,IF(K50<=C50,K50,C50)*'Import avoidance model - RR'!$H$18/100)","v":0},{"$f":"AA102-(IF(AND($R102>'Import avoidance model - RR'!$I$15,$R102<'Import avoidance model - RR'!$J$15),'Import avoidance model - RR'!$H$15*LOGIC!G102,LOGIC!G102*'Import avoidance model - RR'!$H$16)/100)","v":1.7773881860446099},0,{"$f":"IF('Import avoidance model - RR'!H65=\"N\",0,LOGIC!G102*'Import avoidance model - RR'!$H$20)/100","v":0},{"$f":"AC102-(IF(AND($R102>'Import avoidance model - RR'!$I$15,$R102<'Import avoidance model - RR'!$J$15),'Import avoidance model - RR'!$H$15*LOGIC!N102,LOGIC!N102*'Import avoidance model - RR'!$H$16)/100)","v":2.0409767776750654},0,{"$f":"IF('Import avoidance model - RR'!H65=\"N\",0,LOGIC!N102*'Import avoidance model - RR'!$H$20)/100","v":0},{"$f":"AE102-(IF(AND($R102>'Import avoidance model - RR'!$I$15,$R102<'Import avoidance model - RR'!$J$15),'Import avoidance model - RR'!$H$15*LOGIC!G154,LOGIC!G154*'Import avoidance model - RR'!$H$16)/100)","v":1.7773881860446099},0,{"$f":"IF('Import avoidance model - RR'!H65=\"N\",0,LOGIC!G154*'Import avoidance model - RR'!$H$20)/100","v":0},{"$f":"AG102-(IF(AND($R102>'Import avoidance model - RR'!$I$15,$R102<'Import avoidance model - RR'!$J$15),'Import avoidance model - RR'!$H$15*LOGIC!N154,LOGIC!N154*'Import avoidance model - RR'!$H$16)/100)","v":2.0409767776750654},0,{"$f":"IF('Import avoidance model - RR'!H65=\"N\",0,LOGIC!N154*'Import avoidance model - RR'!$H$20)/100","v":0},{"$f":"AI102-(IF(AND($R102>'Import avoidance model - RR'!$I$15,$R102<'Import avoidance model - RR'!$J$15),'Import avoidance model - RR'!$H$15*LOGIC!G206,LOGIC!G206*'Import avoidance model - RR'!$H$16)/100)","v":1.7773881860446099},0,{"$f":"IF('Import avoidance model - RR'!H65=\"N\",0,LOGIC!G206*'Import avoidance model - RR'!$H$20)/100","v":0},{"$f":"AK102-(IF(AND($R102>'Import avoidance model - RR'!$I$15,$R102<'Import avoidance model - RR'!$J$15),'Import avoidance model - RR'!$H$15*LOGIC!N206,LOGIC!N206*'Import avoidance model - RR'!$H$16)/100)","v":2.0409767776750654},0,{"$f":"IF('Import avoidance model - RR'!H65=\"N\",0,LOGIC!N206*'Import avoidance model - RR'!$H$20)/100","v":0},{"$f":"AM102-(IF(AND($R102>'Import avoidance model - RR'!$I$15,$R102<'Import avoidance model - RR'!$J$15),'Import avoidance model - RR'!$H$15*LOGIC!G50,LOGIC!G50*'Import avoidance model - RR'!$H$16)/100)","v":1.7773881860446099},0,{"$f":"IF('Import avoidance model - RR'!H65=\"N\",0,LOGIC!G50*'Import avoidance model - RR'!$H$20)/100","v":0},{"$f":"AO102-(IF(AND($R102>'Import avoidance model - RR'!$I$15,$R102<'Import avoidance model - RR'!$J$15),'Import avoidance model - RR'!$H$15*LOGIC!N50,LOGIC!N50*'Import avoidance model - RR'!$H$16)/100)","v":2.0409767776750654},0,{"$f":"IF('Import avoidance model - RR'!H65=\"N\",0,LOGIC!N50*'Import avoidance model - RR'!$H$20)/100","v":0}]
[null,"23:00:00",{"$f":"'PV data'!J51","v":0},17.984499713019865,0,0,0,0,{"$f":"IF(AND(I102+H103<=$A$5,I102+H103>$A$3),LOGIC!I102+LOGIC!H103,IF(I102+H103>$A$5,$A$5,$A$3))","v":12},0,19.460480820105133,0,0,0,0,{"$f":"IF(AND(P102+O103<=$A$5,P102+O103>$A$3),LOGIC!P102+LOGIC!O103,IF(P102+O103>$A$5,$A$5,$A$3))","v":12},null,"23:00:00",{"$f":"(IF(AND($R103>'Import avoidance model - RR'!$I$15,'Import avoidance model - RR'!$J$15),'Import avoidance model - RR'!$H$15,'Import avoidance model - RR'!$H$16))*D103/100","v":1.7984499713019864},{"$f":"(IF(AND($R103>'Import avoidance model - RR'!$I$15,'Import avoidance model - RR'!$J$15),'Import avoidance model - RR'!$H$15,'Import avoidance model - RR'!$H$16))*K103/100","v":1.9460480820105133},{"$f":"(IF(AND($R103>'Import avoidance model - RR'!$I$15,'Import avoidance model - RR'!$J$15),'Import avoidance model - RR'!$H$15,'Import avoidance model - RR'!$H$16))*D155/100","v":1.7984499713019864},{"$f":"(IF(AND($R103>'Import avoidance model - RR'!$I$15,'Import avoidance model - RR'!$J$15),'Import avoidance model - RR'!$H$15,'Import avoidance model - RR'!$H$16))*K155/100","v":1.9460480820105133},{"$f":"(IF(AND($R103>'Import avoidance model - RR'!$I$15,'Import avoidance model - RR'!$J$15),'Import avoidance model - RR'!$H$15,'Import avoidance model - RR'!$H$16))*D207/100","v":1.7984499713019864},{"$f":"(IF(AND($R103>'Import avoidance model - RR'!$I$15,'Import avoidance model - RR'!$J$15),'Import avoidance model - RR'!$H$15,'Import avoidance model - RR'!$H$16))*K207/100","v":1.9460480820105133},{"$f":"(IF(AND($R103>'Import avoidance model - RR'!$I$15,'Import avoidance model - RR'!$J$15),'Import avoidance model - RR'!$H$15,'Import avoidance model - RR'!$H$16))*D51/100","v":1.7984499713019864},{"$f":"(IF(AND($R103>'Import avoidance model - RR'!$I$15,'Import avoidance model - RR'!$J$15),'Import avoidance model - RR'!$H$15,'Import avoidance model - RR'!$H$16))*K51/100","v":1.9460480820105133},{"$f":"IF(C103<LOGIC!D103,(LOGIC!D103-LOGIC!C103)*IF(AND(LOGIC!B103>'Import avoidance model - RR'!$I$15,LOGIC!B103<'Import avoidance model - RR'!$J$15),'Import avoidance model - RR'!$H$15,'Import avoidance model - RR'!$H$16),0)/100","v":1.7984499713019864},{"$f":"IF('Import avoidance model - RR'!$H$17=\"N\",0,IF(D103<=C103,D103,C103)*'Import avoidance model - RR'!$H$18/100)","v":0},{"$f":"IF(J103<LOGIC!K103,(LOGIC!K103-LOGIC!J103)*IF(AND(LOGIC!B103>'Import avoidance model - RR'!$I$15,LOGIC!B103<'Import avoidance model - RR'!$J$15),'Import avoidance model - RR'!$H$15,'Import avoidance model - RR'!$H$16),0)/100","v":1.9460480820105133},{"$f":"IF('Import avoidance model - RR'!$H$17=\"N\",0,IF(K103<=C103,K103,C103)*'Import avoidance model - RR'!$H$18/100)","v":0},{"$f":"IF(C155<LOGIC!D155,(LOGIC!D155-LOGIC!C155)*IF(AND(LOGIC!B155>'Import avoidance model - RR'!$I$15,LOGIC!B155<'Import avoidance model - RR'!$J$15),'Import avoidance model - RR'!$H$15,'Import avoidance model - RR'!$H$16),0)/100","v":1.7984499713019864},{"$f":"IF('Import avoidance model - RR'!$H$17=\"N\",0,IF(D155<=C155,D155,C155)*'Import avoidance model - RR'!$H$18/100)","v":0},{"$f":"IF(J155<LOGIC!K155,(LOGIC!K155-LOGIC!J155)*IF(AND(LOGIC!B155>'Import avoidance model - RR'!$I$15,LOGIC!B155<'Import avoidance model - RR'!$J$15),'Import avoidance model - RR'!$H$15,'Import avoidance model - RR'!$H$16),0)/100","v":1.9460480820105133},{"$f":"IF('Import avoidance model - RR'!$H$17=\"N\",0,IF(K155<=C155,K155,C155)*'Import avoidance model - RR'!$H$18/100)","v":0},{"$f":"IF(C207<LOGIC!D207,(LOGIC!D207-LOGIC!C207)*IF(AND(LOGIC!B207>'Import avoidance model - RR'!$I$15,LOGIC!B207<'Import avoidance model - RR'!$J$15),'Import avoidance model - RR'!$H$15,'Import avoidance model - RR'!$H$16),0)/100","v":1.7984499713019864},{"$f":"IF('Import avoidance model - RR'!$H$17=\"N\",0,IF(D207<=C207,D207,C207)*'Import avoidance model - RR'!$H$18/100)","v":0},{"$f":"IF(J207<LOGIC!K207,(LOGIC!K207-LOGIC!J207)*IF(AND(LOGIC!B207>'Import avoidance model - RR'!$I$15,LOGIC!B207<'Import avoidance model - RR'!$J$15),'Import avoidance model - RR'!$H$15,'Import avoidance model - RR'!$H$16),0)/100","v":1.9460480820105133},{"$f":"IF('Import avoidance model - RR'!$H$17=\"N\",0,IF(K207<=C207,K207,C207)*'Import avoidance model - RR'!$H$18/100)","v":0},{"$f":"IF(C51<LOGIC!D51,(LOGIC!D51-LOGIC!C51)*IF(AND(LOGIC!B51>'Import avoidance model - RR'!$I$15,LOGIC!B51<'Import avoidance model - RR'!$J$15),'Import avoidance model - RR'!$H$15,'Import avoidance model - RR'!$H$16),0)/100","v":1.7984499713019864},{"$f":"IF('Import avoidance model - RR'!$H$17=\"N\",0,IF(D51<=C51,D51,C51)*'Import avoidance model - RR'!$H$18/100)","v":0},{"$f":"IF(J51<LOGIC!K51,(LOGIC!K51-LOGIC!J51)*IF(AND(LOGIC!B207>'Import avoidance model - RR'!$I$15,LOGIC!B207<'Import avoidance model - RR'!$J$15),'Import avoidance model - RR'!$H$15,'Import avoidance model - RR'!$H$16),0)/100","v":1.9460480820105133},{"$f":"IF('Import avoidance model - RR'!$H$17=\"N\",0,IF(K51<=C51,K51,C51)*'Import avoidance model - RR'!$H$18/100)","v":0},{"$f":"AA103-(IF(AND($R103>'Import avoidance model - RR'!$I$15,$R103<'Import avoidance model - RR'!$J$15),'Import avoidance model - RR'!$H$15*LOGIC!G103,LOGIC!G103*'Import avoidance model - RR'!$H$16)/100)","v":1.7984499713019864},0,{"$f":"IF('Import avoidance model - RR'!H66=\"N\",0,LOGIC!G103*'Import avoidance model - RR'!$H$20)/100","v":0},{"$f":"AC103-(IF(AND($R103>'Import avoidance model - RR'!$I$15,$R103<'Import avoidance model - RR'!$J$15),'Import avoidance model - RR'!$H$15*LOGIC!N103,LOGIC!N103*'Import avoidance model - RR'!$H$16)/100)","v":1.9460480820105133},0,{"$f":"IF('Import avoidance model - RR'!H66=\"N\",0,LOGIC!N103*'Import avoidance model - RR'!$H$20)/100","v":0},{"$f":"AE103-(IF(AND($R103>'Import avoidance model - RR'!$I$15,$R103<'Import avoidance model - RR'!$J$15),'Import avoidance model - RR'!$H$15*LOGIC!G155,LOGIC!G155*'Import avoidance model - RR'!$H$16)/100)","v":1.7984499713019864},0,{"$f":"IF('Import avoidance model - RR'!H66=\"N\",0,LOGIC!G155*'Import avoidance model - RR'!$H$20)/100","v":0},{"$f":"AG103-(IF(AND($R103>'Import avoidance model - RR'!$I$15,$R103<'Import avoidance model - RR'!$J$15),'Import avoidance model - RR'!$H$15*LOGIC!N155,LOGIC!N155*'Import avoidance model - RR'!$H$16)/100)","v":1.9460480820105133},0,{"$f":"IF('Import avoidance model - RR'!H66=\"N\",0,LOGIC!N155*'Import avoidance model - RR'!$H$20)/100","v":0},{"$f":"AI103-(IF(AND($R103>'Import avoidance model - RR'!$I$15,$R103<'Import avoidance model - RR'!$J$15),'Import avoidance model - RR'!$H$15*LOGIC!G207,LOGIC!G207*'Import avoidance model - RR'!$H$16)/100)","v":1.7984499713019864},0,{"$f":"IF('Import avoidance model - RR'!H66=\"N\",0,LOGIC!G207*'Import avoidance model - RR'!$H$20)/100","v":0},{"$f":"AK103-(IF(AND($R103>'Import avoidance model - RR'!$I$15,$R103<'Import avoidance model - RR'!$J$15),'Import avoidance model - RR'!$H$15*LOGIC!N207,LOGIC!N207*'Import avoidance model - RR'!$H$16)/100)","v":1.9460480820105133},0,{"$f":"IF('Import avoidance model - RR'!H66=\"N\",0,LOGIC!N207*'Import avoidance model - RR'!$H$20)/100","v":0},{"$f":"AM103-(IF(AND($R103>'Import avoidance model - RR'!$I$15,$R103<'Import avoidance model - RR'!$J$15),'Import avoidance model - RR'!$H$15*LOGIC!G51,LOGIC!G51*'Import avoidance model - RR'!$H$16)/100)","v":1.7984499713019864},0,{"$f":"IF('Import avoidance model - RR'!H66=\"N\",0,LOGIC!G51*'Import avoidance model - RR'!$H$20)/100","v":0},{"$f":"AO103-(IF(AND($R103>'Import avoidance model - RR'!$I$15,$R103<'Import avoidance model - RR'!$J$15),'Import avoidance model - RR'!$H$15*LOGIC!N51,LOGIC!N51*'Import avoidance model - RR'!$H$16)/100)","v":1.9460480820105133},0,{"$f":"IF('Import avoidance model - RR'!H66=\"N\",0,LOGIC!N51*'Import avoidance model - RR'!$H$20)/100","v":0}]
[null,"23:30:00",{"$f":"'PV data'!J52","v":0},17.994756191892289,0,0,0,0,{"$f":"IF(AND(I103+H104<=$A$5,I103+H104>$A$3),LOGIC!I103+LOGIC!H104,IF(I103+H104>$A$5,$A$5,$A$3))","v":12},0,19.441428298939272,0,0,0,0,{"$f":"IF(AND(P103+O104<=$A$5,P103+O104>$A$3),LOGIC!P103+LOGIC!O104,IF(P103+O104>$A$5,$A$5,$A$3))","v":12},null,"23:30:00",{"$f":"(IF(AND($R104>'Import avoidance model - RR'!$I$15,'Import avoidance model - RR'!$J$15),'Import avoidance model - RR'!$H$15,'Import avoidance model - RR'!$H$16))*D104/100","v":1.7994756191892289},{"$f":"(IF(AND($R104>'Import avoidance model - RR'!$I$15,'Import avoidance model - RR'!$J$15),'Import avoidance model - RR'!$H$15,'Import avoidance model - RR'!$H$16))*K104/100","v":1.9441428298939272},{"$f":"(IF(AND($R104>'Import avoidance model - RR'!$I$15,'Import avoidance model - RR'!$J$15),'Import avoidance model - RR'!$H$15,'Import avoidance model - RR'!$H$16))*D156/100","v":1.7994756191892289},{"$f":"(IF(AND($R104>'Import avoidance model - RR'!$I$15,'Import avoidance model - RR'!$J$15),'Import avoidance model - RR'!$H$15,'Import avoidance model - RR'!$H$16))*K156/100","v":1.9441428298939272},{"$f":"(IF(AND($R104>'Import avoidance model - RR'!$I$15,'Import avoidance model - RR'!$J$15),'Import avoidance model - RR'!$H$15,'Import avoidance model - RR'!$H$16))*D208/100","v":1.7994756191892289},{"$f":"(IF(AND($R104>'Import avoidance model - RR'!$I$15,'Import avoidance model - RR'!$J$15),'Import avoidance model - RR'!$H$15,'Import avoidance model - RR'!$H$16))*K208/100","v":1.9441428298939272},{"$f":"(IF(AND($R104>'Import avoidance model - RR'!$I$15,'Import avoidance model - RR'!$J$15),'Import avoidance model - RR'!$H$15,'Import avoidance model - RR'!$H$16))*D52/100","v":1.7994756191892289},{"$f":"(IF(AND($R104>'Import avoidance model - RR'!$I$15,'Import avoidance model - RR'!$J$15),'Import avoidance model - RR'!$H$15,'Import avoidance model - RR'!$H$16))*K52/100","v":1.9441428298939272},{"$f":"IF(C104<LOGIC!D104,(LOGIC!D104-LOGIC!C104)*IF(AND(LOGIC!B104>'Import avoidance model - RR'!$I$15,LOGIC!B104<'Import avoidance model - RR'!$J$15),'Import avoidance model - RR'!$H$15,'Import avoidance model - RR'!$H$16),0)/100","v":1.7994756191892289},{"$f":"IF('Import avoidance model - RR'!$H$17=\"N\",0,IF(D104<=C104,D104,C104)*'Import avoidance model - RR'!$H$18/100)","v":0},{"$f":"IF(J104<LOGIC!K104,(LOGIC!K104-LOGIC!J104)*IF(AND(LOGIC!B104>'Import avoidance model - RR'!$I$15,LOGIC!B104<'Import avoidance model - RR'!$J$15),'Import avoidance model - RR'!$H$15,'Import avoidance model - RR'!$H$16),0)/100","v":1.9441428298939272},{"$f":"IF('Import avoidance model - RR'!$H$17=\"N\",0,IF(K104<=C104,K104,C104)*'Import avoidance model - RR'!$H$18/100)","v":0},{"$f":"IF(C156<LOGIC!D156,(LOGIC!D156-LOGIC!C156)*IF(AND(LOGIC!B156>'Import avoidance model - RR'!$I$15,LOGIC!B156<'Import avoidance model - RR'!$J$15),'Import avoidance model - RR'!$H$15,'Import avoidance model - RR'!$H$16),0)/100","v":1.7994756191892289},{"$f":"IF('Import avoidance model - RR'!$H$17=\"N\",0,IF(D156<=C156,D156,C156)*'Import avoidance model - RR'!$H$18/100)","v":0},{"$f":"IF(J156<LOGIC!K156,(LOGIC!K156-LOGIC!J156)*IF(AND(LOGIC!B156>'Import avoidance model - RR'!$I$15,LOGIC!B156<'Import avoidance model - RR'!$J$15),'Import avoidance model - RR'!$H$15,'Import avoidance model - RR'!$H$16),0)/100","v":1.9441428298939272},{"$f":"IF('Import avoidance model - RR'!$H$17=\"N\",0,IF(K156<=C156,K156,C156)*'Import avoidance model - RR'!$H$18/100)","v":0},{"$f":"IF(C208<LOGIC!D208,(LOGIC!D208-LOGIC!C208)*IF(AND(LOGIC!B208>'Import avoidance model - RR'!$I$15,LOGIC!B208<'Import avoidance model - RR'!$J$15),'Import avoidance model - RR'!$H$15,'Import avoidance model - RR'!$H$16),0)/100","v":1.7994756191892289},{"$f":"IF('Import avoidance model - RR'!$H$17=\"N\",0,IF(D208<=C208,D208,C208)*'Import avoidance model - RR'!$H$18/100)","v":0},{"$f":"IF(J208<LOGIC!K208,(LOGIC!K208-LOGIC!J208)*IF(AND(LOGIC!B208>'Import avoidance model - RR'!$I$15,LOGIC!B208<'Import avoidance model - RR'!$J$15),'Import avoidance model - RR'!$H$15,'Import avoidance model - RR'!$H$16),0)/100","v":1.9441428298939272},{"$f":"IF('Import avoidance model - RR'!$H$17=\"N\",0,IF(K208<=C208,K208,C208)*'Import avoidance model - RR'!$H$18/100)","v":0},{"$f":"IF(C52<LOGIC!D52,(LOGIC!D52-LOGIC!C52)*IF(AND(LOGIC!B52>'Import avoidance model - RR'!$I$15,LOGIC!B52<'Import avoidance model - RR'!$J$15),'Import avoidance model - RR'!$H$15,'Import avoidance model - RR'!$H$16),0)/100","v":1.7994756191892289},{"$f":"IF('Import avoidance model - RR'!$H$17=\"N\",0,IF(D52<=C52,D52,C52)*'Import avoidance model - RR'!$H$18/100)","v":0},{"$f":"IF(J52<LOGIC!K52,(LOGIC!K52-LOGIC!J52)*IF(AND(LOGIC!B208>'Import avoidance model - RR'!$I$15,LOGIC!B208<'Import avoidance model - RR'!$J$15),'Import avoidance model - RR'!$H$15,'Import avoidance model - RR'!$H$16),0)/100","v":1.9441428298939272},{"$f":"IF('Import avoidance model - RR'!$H$17=\"N\",0,IF(K52<=C52,K52,C52)*'Import avoidance model - RR'!$H$18/100)","v":0},{"$f":"AA104-(IF(AND($R104>'Import avoidance model - RR'!$I$15,$R104<'Import avoidance model - RR'!$J$15),'Import avoidance model - RR'!$H$15*LOGIC!G104,LOGIC!G104*'Import avoidance model - RR'!$H$16)/100)","v":1.7994756191892289},0,{"$f":"IF('Import avoidance model - RR'!H67=\"N\",0,LOGIC!G104*'Import avoidance model - RR'!$H$20)/100","v":0},{"$f":"AC104-(IF(AND($R104>'Import avoidance model - RR'!$I$15,$R104<'Import avoidance model - RR'!$J$15),'Import avoidance model - RR'!$H$15*LOGIC!N104,LOGIC!N104*'Import avoidance model - RR'!$H$16)/100)","v":1.9441428298939272},0,{"$f":"IF('Import avoidance model - RR'!H67=\"N\",0,LOGIC!N104*'Import avoidance model - RR'!$H$20)/100","v":0},{"$f":"AE104-(IF(AND($R104>'Import avoidance model - RR'!$I$15,$R104<'Import avoidance model - RR'!$J$15),'Import avoidance model - RR'!$H$15*LOGIC!G156,LOGIC!G156*'Import avoidance model - RR'!$H$16)/100)","v":1.7994756191892289},0,{"$f":"IF('Import avoidance model - RR'!H67=\"N\",0,LOGIC!G156*'Import avoidance model - RR'!$H$20)/100","v":0},{"$f":"AG104-(IF(AND($R104>'Import avoidance model - RR'!$I$15,$R104<'Import avoidance model - RR'!$J$15),'Import avoidance model - RR'!$H$15*LOGIC!N156,LOGIC!N156*'Import avoidance model - RR'!$H$16)/100)","v":1.9441428298939272},0,{"$f":"IF('Import avoidance model - RR'!H67=\"N\",0,LOGIC!N156*'Import avoidance model - RR'!$H$20)/100","v":0},{"$f":"AI104-(IF(AND($R104>'Import avoidance model - RR'!$I$15,$R104<'Import avoidance model - RR'!$J$15),'Import avoidance model - RR'!$H$15*LOGIC!G208,LOGIC!G208*'Import avoidance model - RR'!$H$16)/100)","v":1.7994756191892289},0,{"$f":"IF('Import avoidance model - RR'!H67=\"N\",0,LOGIC!G208*'Import avoidance model - RR'!$H$20)/100","v":0},{"$f":"AK104-(IF(AND($R104>'Import avoidance model - RR'!$I$15,$R104<'Import avoidance model - RR'!$J$15),'Import avoidance model - RR'!$H$15*LOGIC!N208,LOGIC!N208*'Import avoidance model - RR'!$H$16)/100)","v":1.9441428298939272},0,{"$f":"IF('Import avoidance model - RR'!H67=\"N\",0,LOGIC!N208*'Import avoidance model - RR'!$H$20)/100","v":0},{"$f":"AM104-(IF(AND($R104>'Import avoidance model - RR'!$I$15,$R104<'Import avoidance model - RR'!$J$15),'Import avoidance model - RR'!$H$15*LOGIC!G52,LOGIC!G52*'Import avoidance model - RR'!$H$16)/100)","v":1.7994756191892289},0,{"$f":"IF('Import avoidance model - RR'!H67=\"N\",0,LOGIC!G52*'Import avoidance model - RR'!$H$20)/100","v":0},{"$f":"AO104-(IF(AND($R104>'Import avoidance model - RR'!$I$15,$R104<'Import avoidance model - RR'!$J$15),'Import avoidance model - RR'!$H$15*LOGIC!N52,LOGIC!N52*'Import avoidance model - RR'!$H$16)/100)","v":1.9441428298939272},0,{"$f":"IF('Import avoidance model - RR'!H67=\"N\",0,LOGIC!N52*'Import avoidance model - RR'!$H$20)/100","v":0}]
[]
[null,null,"Summer",null,null,null,null,null,null,null,null,null,null,null,null,null,null,"Average daily total",{"$f":"SUM(S57:S104)","v":153.64066510240832},{"$f":"SUM(T57:T104)","v":85.116384064355628},153.64066510240832,85.116384064355628,153.64066510240832,85.116384064355628,153.64066510240832,85.116384064355628,{"$f":"SUM(AA57:AA104)","v":66.936596976144401},66.862238453895657,{"$f":"SUM(AC57:AC104)","v":44.384348687441602},31.65244445720797,52.974212959881434,78.226512040988851,41.102177701063866,34.894819895481923,86.270677043439548,50.527491044226544,50.223153498982242,26.169922924030029,116.7529600293398,{"$f":"SUM(AN57:AN104)","v":27.665778804801363},59.551247899022094,19.173852124000138,{"$f":"SUM(AQ57:AQ104)","v":58.181051099033567},{"$f":"SUM(AR57:AR104)","v":66.862238453895657},{"$f":"SUM(AS57:AS104)","v":6.5666594078331242},38.384348687441602,31.65244445720797,4.5,46.99428837066224,78.226512040988851,4.4849434419143943,36.117083025587732,34.894819895481923,3.7388210066070982,83.001769810258466,50.527491044226544,2.451680424885808,44.229329207329187,26.169922924030029,4.4953682187397845,116.7529600293398,27.665778804801363,0,53.852263017567296,19.173852124000138,4.2742386610910987]
[null,null,null,"Use' day logic",null,null,null,null,null,null,"Non Use' day logic",null,null,null,null,null,null,"Days per season",{"$f":"'Import avoidance model - RR'!$D$15/4","v":48.75},{"$f":"'Import avoidance model - RR'!$D$16/4","v":42.5},{"$f":"'Import avoidance model - RR'!$D$15/4","v":48.75},{"$f":"'Import avoidance model - RR'!$D$16/4","v":42.5},{"$f":"'Import avoidance model - RR'!$D$15/4","v":48.75},{"$f":"'Import avoidance model - RR'!$D$16/4","v":42.5},{"$f":"'Import avoidance model - RR'!$D$15/4","v":48.75},{"$f":"'Import avoidance model - RR'!$D$16/4","v":42.5},{"$f":"'Import avoidance model - RR'!$D$15/4","v":48.75},{"$f":"AA107","v":48.75},{"$f":"'Import avoidance model - RR'!$D$16/4","v":42.5},{"$f":"AC107","v":42.5},{"$f":"'Import avoidance model - RR'!$D$15/4","v":48.75},{"$f":"AE107","v":48.75},{"$f":"'Import avoidance model - RR'!$D$16/4","v":42.5},{"$f":"AG107","v":42.5},{"$f":"'Import avoidance model - RR'!$D$15/4","v":48.75},{"$f":"AI107","v":48.75},{"$f":"'Import avoidance model - RR'!$D$16/4","v":42.5},{"$f":"AK107","v":42.5},{"$f":"'Import avoidance model - RR'!$D$15/4","v":48.75},{"$f":"AM107","v":48.75},{"$f":"'Import avoidance model - RR'!$D$16/4","v":42.5},{"$f":"AO107","v":42.5},{"$f":"AN107","v":48.75},{"$f":"AQ107","v":48.75},{"$f":"AR107","v":48.75},{"$f":"AO107","v":42.5},{"$f":"AO107","v":42.5},{"$f":"AO107","v":42.5},{"$f":"AQ107","v":48.75},{"$f":"AW107","v":48.75},{"$f":"AX107","v":48.75},{"$f":"AU107","v":42.5},{"$f":"AU107","v":42.5},{"$f":"AU107","v":42.5},{"$f":"AQ107","v":48.75},{"$f":"BC107","v":48.75},{"$f":"BD107","v":48.75},{"$f":"BA107","v":42.5},{"$f":"BA107","v":42.5},{"$f":"BA107","v":42.5},{"$f":"BC107","v":48.75},{"$f":"BI107","v":48.75},48.75,{"$f":"BG107","v":42.5},{"$f":"BG107","v":42.5},{"$f":"BG107","v":42.5}]
[null,null,"Generation (kWh)","Use' Demand (kWh)","Available to charge battery (kWh)","Battery Recharge / kWh","Battery Discharge / kWh","Discharge/Recharge / kWh","Battery charge","Generation (kWh)","Use' Demand (kWh)","Available to charge battery (kWh)","Battery Recharge / kWh","Battery Discharge / kWh","Discharge/Recharge / kWh","Battery charge",null,"Cost per season",{"$f":"S106*S107","v":7489.9824237424054},{"$f":"T106*T107","v":3617.4463227351143},7489.9824237424054,3617.4463227351143,7489.9824237424054,3617.4463227351143,7489.9824237424054,3617.4463227351143,{"$f":"AA106*AA107","v":3263.1591025870393},3259.5341246274133,1886.334819216268,1345.2288894313388,2582.49288179422,3813.5424619982064,1746.8425522952143,1483.0298455579818,4205.6955058676776,2463.215188406044,2134.4840237067451,1112.2217242712763,5691.7068014303159,1348.7067167340665,2530.928035708439,814.88871527000583,{"$f":"AQ106*AQ107","v":2836.3262410778866},3259.5341246274133,{"$f":"AS106*AS107","v":320.12464613186478},{"$f":"AT106*AT107","v":1631.334819216268},{"$f":"AU106*AU107","v":1345.2288894313388},{"$f":"AV106*AV107","v":191.25},{"$f":"AW106*AW107","v":2290.9715580697844},3813.5424619982064,{"$f":"AY106*AY107","v":218.64099279332672},{"$f":"AZ106*AZ107","v":1534.9760285874786},1483.0298455579818,158.89989278080168,4046.3362782501003,2463.215188406044,119.51942071318314,1879.7464913114904,1112.2217242712763,191.05314929644084,5691.7068014303159,1348.7067167340665,0,2288.7211782466102,{"$f":"BM106*BM107","v":814.88871527000583},{"$f":"BN106*BN107","v":181.65514309637169}]
[null,"00:00:00",{"$f":"'PV data'!F5","v":0},{"$f":"D5","v":17.610195718866162},{"$f":"IF(C109>D109,(C109-D109),0)","v":0},{"$f":"IF(($A$3+E109)<$A$5,E109,$A$7)","v":0},{"$f":"IF(AND(D109>C109,I109>'Import avoidance model - RR'!$N$17,I109),D109-C109,0)","v":0},{"$f":"F109-G109","v":0},{"$f":"A3","v":12},{"$f":"C109","v":0},{"$f":"K5","v":20.304095030490508},{"$f":"IF(J109>K109,(J109-K109),0)","v":0},{"$f":"IF(($A$3+L109)<$A$5,E109,$A$7)","v":0},{"$f":"IF(AND(K109>J109,P109>'Import avoidance model - RR'!$N$17,P109),K109-J109,0)","v":0},{"$f":"M109-N109","v":0},{"$f":"A3","v":12},null,null,null,{"$f":"S108+T108","v":11107.428746477519},null,{"$f":"U108+V108","v":11107.428746477519},null,{"$f":"W108+X108","v":11107.428746477519},null,{"$f":"Y108+Z108","v":11107.428746477519},null,{"$f":"AA108+AB108","v":6522.6932272144531},null,{"$f":"AC108+AD108","v":3231.5637086476067},null,{"$f":"AE108+AF108","v":6396.0353437924259},null,{"$f":"AG108+AH108","v":3229.8723978531962},null,{"$f":"AI108+AJ108","v":6668.9106942737217},null,{"$f":"AK108+AL108","v":3246.7057479780215},null,{"$f":"AM108+AN108","v":7040.4135181643824},null,{"$f":"AO108+AP108","v":3345.8167509784448},null,null,null,null,null,{"$f":"SUM(AQ108:AV108)","v":9583.7987204847723},null,null,null,null,null,{"$f":"SUM(AW108:BB108)","v":9500.06077978758},null,null,null,null,null,{"$f":"SUM(BC108:BH108)","v":9812.0922522485344},null,null,null,null,null,{"$f":"SUM(BI108:BN108)","v":10325.678554777371}]
[null,"00:30:00",{"$f":"'PV data'!F6","v":0},{"$f":"D6","v":17.552350993331668},{"$f":"IF(C110>D110,(C110-D110),0)","v":0},{"$f":"IF(AND((I109+E110)<$A$5,E110<=$A$7),E110,IF(E110>$A$7,$A$7,$A$5-I109))","v":0},{"$f":"IF(AND(D110>C110,I109>$A$3),IF(D110-C110<=$A$7,D110-C110,$A$7),0)","v":0},{"$f":"F110-G110","v":0},{"$f":"IF(AND(I109+H110<=$A$5,I109+H110>$A$3),LOGIC!I109+LOGIC!H110,IF(I109+H110>$A$5,$A$5,$A$3))","v":12},{"$f":"C110","v":0},{"$f":"K6","v":20.285042509324644},0,{"$f":"IF(AND((P109+L110)<$A$5,L110<=$A$7),L110,IF(L110>$A$7,$A$7,$A$5-P109))","v":0},{"$f":"IF(AND(K110>J110,P109>$A$3),IF(K110-J110<=$A$7,K110-J110,$A$7),0)","v":0},{"$f":"M110-N110","v":0},{"$f":"IF(AND(P109+O110<=$A$5,P109+O110>$A$3),LOGIC!P109+LOGIC!O110,IF(P109+O110>$A$5,$A$5,$A$3))","v":12},null,null,null,null,null,null,null,null,null,{"$f":"T109+V109+X109+Z109","v":44429.714985910075},null,null,null,null,null,null,null,null,null,null,null,null,null,null,null,{"$f":"AB109+AF109+AJ109+AN109+AP109+AL109+AH109+AD109","v":39682.011388902247},null,null,null,null,null,null,null,null,null,null,null,null,null,null,null,null,null,null,null,null,null,null,null,{"$f":"AV109+BB109+BH109+BN109","v":39221.630307298256}]
[null,"01:00:00",{"$f":"'PV data'!F7","v":0},17.491514038415222,0,{"$f":"IF(AND((I110+E111)<$A$5,E111<=$A$7),E111,IF(E111>$A$7,$A$7,$A$5-I110))","v":0},{"$f":"IF(AND(D111>C111,I110>$A$3),IF(D111-C111<=$A$7,D111-C111,$A$7),0)","v":0},{"$f":"F111-G111","v":0},{"$f":"IF(AND(I110+H111<=$A$5,I110+H111>$A$3),LOGIC!I110+LOGIC!H111,IF(I110+H111>$A$5,$A$5,$A$3))","v":12},0,20.402303902479492,0,{"$f":"IF(AND((P110+L111)<$A$5,L111<=$A$7),L111,IF(L111>$A$7,$A$7,$A$5-P110))","v":0},0,{"$f":"M111-N111","v":0},{"$f":"IF(AND(P110+O111<=$A$5,P110+O111>$A$3),LOGIC!P110+LOGIC!O111,IF(P110+O111>$A$5,$A$5,$A$3))","v":12},null,null,null,null,null,null,null,null,null,null,null,null,null,null,null,null,null,null,"Savings per year using PV",null,null,null,null,null,null,{"$f":"Z110-AP110","v":4747.7035970078286},null,null,null,null,null,null,null,null,null,"Savings per year using PV+Storage",null,null,null,null,null,null,null,null,null,null,null,{"$f":"Z110-BL110","v":44429.714985910075}]
[null,"01:30:00",{"$f":"'PV data'!F8","v":0},17.477508952662877,0,0,0,0,{"$f":"IF(AND(I111+H112<=$A$5,I111+H112>$A$3),LOGIC!I111+LOGIC!H112,IF(I111+H112>$A$5,$A$5,$A$3))","v":12},0,20.378733773202136,0,0,0,0,{"$f":"IF(AND(P111+O112<=$A$5,P111+O112>$A$3),LOGIC!P111+LOGIC!O112,IF(P111+O112>$A$5,$A$5,$A$3))","v":12},null,null,null,null,null,null,null,null,null,null,null,null,null,null,null,null,null,null,null,null,null,null,null,null,null,null,null,null,null,null,null,null,null,null,null,"Savings on using storage with existing PV",null,null,null,null,null,null,null,null,null,null,null,{"$f":"BL111-AP111","v":39682.011388902247}]
[null,"02:00:00",{"$f":"'PV data'!F9","v":0},17.498493889966461,0,0,0,0,{"$f":"IF(AND(I112+H113<=$A$5,I112+H113>$A$3),LOGIC!I112+LOGIC!H113,IF(I112+H113>$A$5,$A$5,$A$3))","v":12},0,20.402893155711425,0,0,0,0,{"$f":"IF(AND(P112+O113<=$A$5,P112+O113>$A$3),LOGIC!P112+LOGIC!O113,IF(P112+O113>$A$5,$A$5,$A$3))","v":12},null,null,null,null,null,"Annual SAVINGS against import only","Savings from using a battery"]
[null,"02:30:00",{"$f":"'PV data'!F10","v":0},17.768302820021095,0,0,0,0,{"$f":"IF(AND(I113+H114<=$A$5,I113+H114>$A$3),LOGIC!I113+LOGIC!H114,IF(I113+H114>$A$5,$A$5,$A$3))","v":12},0,20.447872819082381,0,0,0,0,{"$f":"IF(AND(P113+O114<=$A$5,P113+O114>$A$3),LOGIC!P113+LOGIC!O114,IF(P113+O114>$A$5,$A$5,$A$3))","v":12},null,"Cost of importing electricity to meet demand",null,null,{"$f":"Z110","v":44429.714985910075}]
[null,"03:00:00",{"$f":"'PV data'!F11","v":0},19.066745815680321,0,0,0,0,{"$f":"IF(AND(I114+H115<=$A$5,I114+H115>$A$3),LOGIC!I114+LOGIC!H115,IF(I114+H115>$A$5,$A$5,$A$3))","v":12},0,20.430195222124361,0,0,0,0,{"$f":"IF(AND(P114+O115<=$A$5,P114+O115>$A$3),LOGIC!P114+LOGIC!O115,IF(P114+O115>$A$5,$A$5,$A$3))","v":12},null,"Cost of importing elec and using a solar PPA",null,null,{"$f":"AP110","v":39682.011388902247},{"$f":"U114-U115","v":4747.7035970078286}]
[null,"03:30:00",{"$f":"'PV data'!F12","v":0},21.084413046605953,0,0,0,0,{"$f":"IF(AND(I115+H116<=$A$5,I115+H116>$A$3),LOGIC!I115+LOGIC!H116,IF(I115+H116>$A$5,$A$5,$A$3))","v":12},0,20.453568933657738,0,0,0,0,{"$f":"IF(AND(P115+O116<=$A$5,P115+O116>$A$3),LOGIC!P115+LOGIC!O116,IF(P115+O116>$A$5,$A$5,$A$3))","v":12},null,"Cost of importing elec and using solar and storage PPA's",null,null,{"$f":"BN110","v":39221.630307298256},{"$f":"U114-U116","v":5208.08467861182},{"$f":"V116-V115","v":460.38108160399133}]
[null,"04:00:00",{"$f":"'PV data'!F13","v":0},24.817120871520817,0,0,0,0,{"$f":"IF(AND(I116+H117<=$A$5,I116+H117>$A$3),LOGIC!I116+LOGIC!H117,IF(I116+H117>$A$5,$A$5,$A$3))","v":12},0,20.024788998553838,0,0,0,0,{"$f":"IF(AND(P116+O117<=$A$5,P116+O117>$A$3),LOGIC!P116+LOGIC!O117,IF(P116+O117>$A$5,$A$5,$A$3))","v":12}]
[null,"04:30:00",{"$f":"'PV data'!F14","v":0},29.045794498382314,0,0,0,0,{"$f":"IF(AND(I117+H118<=$A$5,I117+H118>$A$3),LOGIC!I117+LOGIC!H118,IF(I117+H118>$A$5,$A$5,$A$3))","v":12},0,19.336737641399015,0,0,0,0,{"$f":"IF(AND(P117+O118<=$A$5,P117+O118>$A$3),LOGIC!P117+LOGIC!O118,IF(P117+O118>$A$5,$A$5,$A$3))","v":12},null,"Annual income from Solar PPA",null,{"$f":"AB108+AD108+AF108+AH108+AJ108+AL108+AN108+AP108","v":15640.367666296332}]
[null,"05:00:00",{"$f":"'PV data'!F15","v":0},34.49894345262188,0,0,0,0,{"$f":"IF(AND(I118+H119<=$A$5,I118+H119>$A$3),LOGIC!I118+LOGIC!H119,IF(I118+H119>$A$5,$A$5,$A$3))","v":12},0,18.729610394763117,0,0,0,0,{"$f":"IF(AND(P118+O119<=$A$5,P118+O119>$A$3),LOGIC!P118+LOGIC!O119,IF(P118+O119>$A$5,$A$5,$A$3))","v":12},null,"Annual income from Storage PPA",null,{"$f":"AS108+AV108+AY108+BB108+BE108+BH108+BK108+BN108","v":1381.1432448119888}]
[null,"05:30:00",{"$f":"'PV data'!F16","v":0},36.371894489616572,0,0,0,0,{"$f":"IF(AND(I119+H120<=$A$5,I119+H120>$A$3),LOGIC!I119+LOGIC!H120,IF(I119+H120>$A$5,$A$5,$A$3))","v":12},0,18.577975896412124,0,0,0,0,{"$f":"IF(AND(P119+O120<=$A$5,P119+O120>$A$3),LOGIC!P119+LOGIC!O120,IF(P119+O120>$A$5,$A$5,$A$3))","v":12}]
[null,"06:00:00",{"$f":"'PV data'!F17","v":7.9902221997857916},36.144433622918086,0,0,0,0,{"$f":"IF(AND(I120+H121<=$A$5,I120+H121>$A$3),LOGIC!I120+LOGIC!H121,IF(I120+H121>$A$5,$A$5,$A$3))","v":12},7.9902221997857916,18.405717534943449,0,0,0,0,{"$f":"IF(AND(P120+O121<=$A$5,P120+O121>$A$3),LOGIC!P120+LOGIC!O121,IF(P120+O121>$A$5,$A$5,$A$3))","v":12}]
[null,"06:30:00",{"$f":"'PV data'!F18","v":20.163818203938572},40.652504020998443,0,0,0,0,{"$f":"IF(AND(I121+H122<=$A$5,I121+H122>$A$3),LOGIC!I121+LOGIC!H122,IF(I121+H122>$A$5,$A$5,$A$3))","v":12},20.163818203938572,18.034684416569064,2.1291337873695078,2.1291337873695078,0,2.1291337873695078,{"$f":"IF(AND(P121+O122<=$A$5,P121+O122>$A$3),LOGIC!P121+LOGIC!O122,IF(P121+O122>$A$5,$A$5,$A$3))","v":14.129133787369508},null,"Seasonal savings from using storage",null,"Spring","Summer","Autumn","Winter"]
[null,"07:00:00",{"$f":"'PV data'!F19","v":36.393347141224297},45.104366494449891,0,0,0,0,{"$f":"IF(AND(I122+H123<=$A$5,I122+H123>$A$3),LOGIC!I122+LOGIC!H123,IF(I122+H123>$A$5,$A$5,$A$3))","v":12},36.393347141224297,18.268225114158874,18.125122027065423,15,0,15,{"$f":"IF(AND(P122+O123<=$A$5,P122+O123>$A$3),LOGIC!P122+LOGIC!O123,IF(P122+O123>$A$5,$A$5,$A$3))","v":29.129133787369508},null,null,null,{"$f":"AS108+AV108","v":511.37464613186478},{"$f":"BB108+AY108","v":377.54088557412842},{"$f":"BH108+BE108","v":310.57257000962397},{"$f":"BN108+BK108","v":181.65514309637169}]
[null,"07:30:00",{"$f":"'PV data'!F20","v":26.34171025817572},49.087244664062197,0,0,0,0,{"$f":"IF(AND(I123+H124<=$A$5,I123+H124>$A$3),LOGIC!I123+LOGIC!H124,IF(I123+H124>$A$5,$A$5,$A$3))","v":12},26.34171025817572,18.512372369923483,7.8293378882522369,7.8293378882522369,0,7.8293378882522369,{"$f":"IF(AND(P123+O124<=$A$5,P123+O124>$A$3),LOGIC!P123+LOGIC!O124,IF(P123+O124>$A$5,$A$5,$A$3))","v":36.958471675621745}]
[null,"08:00:00",{"$f":"'PV data'!F21","v":57.347629024611017},53.260439514202844,4.087189510408173,4.087189510408173,0,4.087189510408173,{"$f":"IF(AND(I124+H125<=$A$5,I124+H125>$A$3),LOGIC!I124+LOGIC!H125,IF(I124+H125>$A$5,$A$5,$A$3))","v":16.087189510408173},57.347629024611017,18.726271293115492,38.621357731495522,15,0,15,{"$f":"IF(AND(P124+O125<=$A$5,P124+O125>$A$3),LOGIC!P124+LOGIC!O125,IF(P124+O125>$A$5,$A$5,$A$3))","v":51.958471675621745}]
[null,"08:30:00",{"$f":"'PV data'!F22","v":75.667479271394114},55.514432356103129,20.153046915290986,15,0,15,{"$f":"IF(AND(I125+H126<=$A$5,I125+H126>$A$3),LOGIC!I125+LOGIC!H126,IF(I125+H126>$A$5,$A$5,$A$3))","v":31.087189510408173},75.667479271394114,19.46460559272867,56.202873678665441,15,0,15,{"$f":"IF(AND(P125+O126<=$A$5,P125+O126>$A$3),LOGIC!P125+LOGIC!O126,IF(P125+O126>$A$5,$A$5,$A$3))","v":60}]
[null,"09:00:00",{"$f":"'PV data'!F23","v":77.802156911307137},56.747121943109128,21.055034968198008,15,0,15,{"$f":"IF(AND(I126+H127<=$A$5,I126+H127>$A$3),LOGIC!I126+LOGIC!H127,IF(I126+H127>$A$5,$A$5,$A$3))","v":46.087189510408173},77.802156911307137,20.123390706030776,57.678766205276361,15,0,15,{"$f":"IF(AND(P126+O127<=$A$5,P126+O127>$A$3),LOGIC!P126+LOGIC!O127,IF(P126+O127>$A$5,$A$5,$A$3))","v":60}]
[null,"09:30:00",{"$f":"'PV data'!F24","v":67.248558712821847},58.652028416637918,8.5965302961839285,8.5965302961839285,0,8.5965302961839285,{"$f":"IF(AND(I127+H128<=$A$5,I127+H128>$A$3),LOGIC!I127+LOGIC!H128,IF(I127+H128>$A$5,$A$5,$A$3))","v":54.683719806592102},67.248558712821847,20.657057716418915,46.591500996402928,15,0,15,{"$f":"IF(AND(P127+O128<=$A$5,P127+O128>$A$3),LOGIC!P127+LOGIC!O128,IF(P127+O128>$A$5,$A$5,$A$3))","v":60}]
[null,"10:00:00",{"$f":"'PV data'!F25","v":97.639964265303746},58.088636099012554,39.551328166291192,15,0,15,{"$f":"IF(AND(I128+H129<=$A$5,I128+H129>$A$3),LOGIC!I128+LOGIC!H129,IF(I128+H129>$A$5,$A$5,$A$3))","v":60},97.639964265303746,20.861135752412025,76.778828512891721,15,0,15,{"$f":"IF(AND(P128+O129<=$A$5,P128+O129>$A$3),LOGIC!P128+LOGIC!O129,IF(P128+O129>$A$5,$A$5,$A$3))","v":60}]
[null,"10:30:00",{"$f":"'PV data'!F26","v":47.15064412276643},57.937263783099503,0,0,10.786619660333074,-10.786619660333074,{"$f":"IF(AND(I129+H130<=$A$5,I129+H130>$A$3),LOGIC!I129+LOGIC!H130,IF(I129+H130>$A$5,$A$5,$A$3))","v":49.213380339666926},47.15064412276643,20.986253855325995,26.164390267440435,15,0,15,{"$f":"IF(AND(P129+O130<=$A$5,P129+O130>$A$3),LOGIC!P129+LOGIC!O130,IF(P129+O130>$A$5,$A$5,$A$3))","v":60}]
[null,"11:00:00",{"$f":"'PV data'!F27","v":70.032680364166552},58.232583813405562,11.800096550760991,10.786619660333074,0,10.786619660333074,{"$f":"IF(AND(I130+H131<=$A$5,I130+H131>$A$3),LOGIC!I130+LOGIC!H131,IF(I130+H131>$A$5,$A$5,$A$3))","v":60},70.032680364166552,20.95070224366598,49.081978120500573,15,0,15,{"$f":"IF(AND(P130+O131<=$A$5,P130+O131>$A$3),LOGIC!P130+LOGIC!O131,IF(P130+O131>$A$5,$A$5,$A$3))","v":60}]
[null,"11:30:00",{"$f":"'PV data'!F28","v":128.02855656337672},60.052839542871915,67.975717020504817,15,0,15,{"$f":"IF(AND(I131+H132<=$A$5,I131+H132>$A$3),LOGIC!I131+LOGIC!H132,IF(I131+H132>$A$5,$A$5,$A$3))","v":60},128.02855656337672,20.574758681692153,107.45379788168458,15,0,15,{"$f":"IF(AND(P131+O132<=$A$5,P131+O132>$A$3),LOGIC!P131+LOGIC!O132,IF(P131+O132>$A$5,$A$5,$A$3))","v":60}]
[null,"12:00:00",{"$f":"'PV data'!F29","v":82.571992246914178},59.064865306048034,23.507126940866144,15,0,15,{"$f":"IF(AND(I132+H133<=$A$5,I132+H133>$A$3),LOGIC!I132+LOGIC!H133,IF(I132+H133>$A$5,$A$5,$A$3))","v":60},82.571992246914178,20.494816659893111,62.077175587021067,15,0,15,{"$f":"IF(AND(P132+O133<=$A$5,P132+O133>$A$3),LOGIC!P132+LOGIC!O133,IF(P132+O133>$A$5,$A$5,$A$3))","v":60}]
[null,"12:30:00",{"$f":"'PV data'!F30","v":82.042487135420657},56.193023992178787,25.84946314324187,15,0,15,{"$f":"IF(AND(I133+H134<=$A$5,I133+H134>$A$3),LOGIC!I133+LOGIC!H134,IF(I133+H134>$A$5,$A$5,$A$3))","v":60},82.042487135420657,20.616988496647409,61.425498638773249,15,0,15,{"$f":"IF(AND(P133+O134<=$A$5,P133+O134>$A$3),LOGIC!P133+LOGIC!O134,IF(P133+O134>$A$5,$A$5,$A$3))","v":60}]
[null,"13:00:00",{"$f":"'PV data'!F31","v":102.42050350238104},54.093834394522318,48.32666910785872,15,0,15,{"$f":"IF(AND(I134+H135<=$A$5,I134+H135>$A$3),LOGIC!I134+LOGIC!H135,IF(I134+H135>$A$5,$A$5,$A$3))","v":60},102.42050350238104,20.396804205648106,82.023699296732929,15,0,15,{"$f":"IF(AND(P134+O135<=$A$5,P134+O135>$A$3),LOGIC!P134+LOGIC!O135,IF(P134+O135>$A$5,$A$5,$A$3))","v":60}]
[null,"13:30:00",{"$f":"'PV data'!F32","v":69.314391631112116},50.031799806992829,19.282591824119287,15,0,15,{"$f":"IF(AND(I135+H136<=$A$5,I135+H136>$A$3),LOGIC!I135+LOGIC!H136,IF(I135+H136>$A$5,$A$5,$A$3))","v":60},69.314391631112116,20.362823935939918,48.951567695172201,15,0,15,{"$f":"IF(AND(P135+O136<=$A$5,P135+O136>$A$3),LOGIC!P135+LOGIC!O136,IF(P135+O136>$A$5,$A$5,$A$3))","v":60}]
[null,"14:00:00",{"$f":"'PV data'!F33","v":91.207243508506465},47.432190856681693,43.775052651824772,15,0,15,{"$f":"IF(AND(I136+H137<=$A$5,I136+H137>$A$3),LOGIC!I136+LOGIC!H137,IF(I136+H137>$A$5,$A$5,$A$3))","v":60},91.207243508506465,20.201172132646054,71.006071375860415,15,0,15,{"$f":"IF(AND(P136+O137<=$A$5,P136+O137>$A$3),LOGIC!P136+LOGIC!O137,IF(P136+O137>$A$5,$A$5,$A$3))","v":60}]
[null,"14:30:00",{"$f":"'PV data'!F34","v":98.651708806881061},44.051104777511519,54.600604029369542,15,0,15,{"$f":"IF(AND(I137+H138<=$A$5,I137+H138>$A$3),LOGIC!I137+LOGIC!H138,IF(I137+H138>$A$5,$A$5,$A$3))","v":60},98.651708806881061,19.940525786387283,78.711183020493777,15,0,15,{"$f":"IF(AND(P137+O138<=$A$5,P137+O138>$A$3),LOGIC!P137+LOGIC!O138,IF(P137+O138>$A$5,$A$5,$A$3))","v":60}]
[null,"15:00:00",{"$f":"'PV data'!F35","v":84.327044607952502},41.353714369773279,42.973330238179223,15,0,15,{"$f":"IF(AND(I138+H139<=$A$5,I138+H139>$A$3),LOGIC!I138+LOGIC!H139,IF(I138+H139>$A$5,$A$5,$A$3))","v":60},84.327044607952502,19.844084674094105,64.482959933858396,15,0,15,{"$f":"IF(AND(P138+O139<=$A$5,P138+O139>$A$3),LOGIC!P138+LOGIC!O139,IF(P138+O139>$A$5,$A$5,$A$3))","v":60}]
[null,"15:30:00",{"$f":"'PV data'!F36","v":74.734357168904296},38.270184172793144,36.464172996111152,15,0,15,{"$f":"IF(AND(I139+H140<=$A$5,I139+H140>$A$3),LOGIC!I139+LOGIC!H140,IF(I139+H140>$A$5,$A$5,$A$3))","v":60},74.734357168904296,19.910277453814679,54.824079715089617,15,0,15,{"$f":"IF(AND(P139+O140<=$A$5,P139+O140>$A$3),LOGIC!P139+LOGIC!O140,IF(P139+O140>$A$5,$A$5,$A$3))","v":60}]
[null,"16:00:00",{"$f":"'PV data'!F37","v":45.404104488890475},35.825478308555581,9.5786261803348935,0,0,0,{"$f":"IF(AND(I140+H141<=$A$5,I140+H141>$A$3),LOGIC!I140+LOGIC!H141,IF(I140+H141>$A$5,$A$5,$A$3))","v":60},45.404104488890475,19.999451109580679,25.404653379309796,15,0,15,{"$f":"IF(AND(P140+O141<=$A$5,P140+O141>$A$3),LOGIC!P140+LOGIC!O141,IF(P140+O141>$A$5,$A$5,$A$3))","v":60}]
[null,"16:30:00",{"$f":"'PV data'!F38","v":35.958254590025597},33.731447205435238,2.2268073845903587,0,0,0,{"$f":"IF(AND(I141+H142<=$A$5,I141+H142>$A$3),LOGIC!I141+LOGIC!H142,IF(I141+H142>$A$5,$A$5,$A$3))","v":60},35.958254590025597,20.107480868768565,15.850773721257031,15,0,15,{"$f":"IF(AND(P141+O142<=$A$5,P141+O142>$A$3),LOGIC!P141+LOGIC!O142,IF(P141+O142>$A$5,$A$5,$A$3))","v":60}]
[null,"17:00:00",{"$f":"'PV data'!F39","v":27.177927850827164},32.139078939576216,0,0,4.9611510887490518,-4.9611510887490518,{"$f":"IF(AND(I142+H143<=$A$5,I142+H143>$A$3),LOGIC!I142+LOGIC!H143,IF(I142+H143>$A$5,$A$5,$A$3))","v":55.038848911250952},27.177927850827164,21.0333941138807,6.1445337369464639,0,0,0,{"$f":"IF(AND(P142+O143<=$A$5,P142+O143>$A$3),LOGIC!P142+LOGIC!O143,IF(P142+O143>$A$5,$A$5,$A$3))","v":60}]
[null,"17:30:00",{"$f":"'PV data'!F40","v":17.206765893964494},31.258241037074296,0,0,14.051475143109801,-14.051475143109801,{"$f":"IF(AND(I143+H144<=$A$5,I143+H144>$A$3),LOGIC!I143+LOGIC!H144,IF(I143+H144>$A$5,$A$5,$A$3))","v":40.987373768141154},17.206765893964494,22.057712648725804,0,0,4.8509467547613099,-4.8509467547613099,{"$f":"IF(AND(P143+O144<=$A$5,P143+O144>$A$3),LOGIC!P143+LOGIC!O144,IF(P143+O144>$A$5,$A$5,$A$3))","v":55.14905324523869}]
[null,"18:00:00",{"$f":"'PV data'!F41","v":0},30.511750905761172,0,0,15,-15,{"$f":"IF(AND(I144+H145<=$A$5,I144+H145>$A$3),LOGIC!I144+LOGIC!H145,IF(I144+H145>$A$5,$A$5,$A$3))","v":25.987373768141154},0,22.704516279645254,0,0,15,-15,{"$f":"IF(AND(P144+O145<=$A$5,P144+O145>$A$3),LOGIC!P144+LOGIC!O145,IF(P144+O145>$A$5,$A$5,$A$3))","v":40.14905324523869}]
[null,"18:30:00",{"$f":"'PV data'!F42","v":0},30.010181859309615,0,0,15,-15,{"$f":"IF(AND(I145+H146<=$A$5,I145+H146>$A$3),LOGIC!I145+LOGIC!H146,IF(I145+H146>$A$5,$A$5,$A$3))","v":12},0,23.146063368107729,0,0,15,-15,{"$f":"IF(AND(P145+O146<=$A$5,P145+O146>$A$3),LOGIC!P145+LOGIC!O146,IF(P145+O146>$A$5,$A$5,$A$3))","v":25.14905324523869}]
[null,"19:00:00",{"$f":"'PV data'!F43","v":0},29.576650481555134,0,0,0,0,{"$f":"IF(AND(I146+H147<=$A$5,I146+H147>$A$3),LOGIC!I146+LOGIC!H147,IF(I146+H147>$A$5,$A$5,$A$3))","v":12},0,23.294751600299055,0,0,15,-15,{"$f":"IF(AND(P146+O147<=$A$5,P146+O147>$A$3),LOGIC!P146+LOGIC!O147,IF(P146+O147>$A$5,$A$5,$A$3))","v":12}]
[null,"19:30:00",{"$f":"'PV data'!F44","v":0},29.406392932272865,0,0,0,0,{"$f":"IF(AND(I147+H148<=$A$5,I147+H148>$A$3),LOGIC!I147+LOGIC!H148,IF(I147+H148>$A$5,$A$5,$A$3))","v":12},0,22.465083049736112,0,0,0,0,{"$f":"IF(AND(P147+O148<=$A$5,P147+O148>$A$3),LOGIC!P147+LOGIC!O148,IF(P147+O148>$A$5,$A$5,$A$3))","v":12}]
[null,"20:00:00",{"$f":"'PV data'!F45","v":0},28.18661622191215,0,0,0,0,{"$f":"IF(AND(I148+H149<=$A$5,I148+H149>$A$3),LOGIC!I148+LOGIC!H149,IF(I148+H149>$A$5,$A$5,$A$3))","v":12},0,21.699446683709994,0,0,0,0,{"$f":"IF(AND(P148+O149<=$A$5,P148+O149>$A$3),LOGIC!P148+LOGIC!O149,IF(P148+O149>$A$5,$A$5,$A$3))","v":12}]
[null,"20:30:00",{"$f":"'PV data'!F46","v":0},26.632103137071358,0,0,0,0,{"$f":"IF(AND(I149+H150<=$A$5,I149+H150>$A$3),LOGIC!I149+LOGIC!H150,IF(I149+H150>$A$5,$A$5,$A$3))","v":12},0,21.367697114131207,0,0,0,0,{"$f":"IF(AND(P149+O150<=$A$5,P149+O150>$A$3),LOGIC!P149+LOGIC!O150,IF(P149+O150>$A$5,$A$5,$A$3))","v":12}]
[null,"21:00:00",{"$f":"'PV data'!F47","v":0},22.920071647440903,0,0,0,0,{"$f":"IF(AND(I150+H151<=$A$5,I150+H151>$A$3),LOGIC!I150+LOGIC!H151,IF(I150+H151>$A$5,$A$5,$A$3))","v":12},0,20.857010979788491,0,0,0,0,{"$f":"IF(AND(P150+O151<=$A$5,P150+O151>$A$3),LOGIC!P150+LOGIC!O151,IF(P150+O151>$A$5,$A$5,$A$3))","v":12}]
[null,"21:30:00",{"$f":"'PV data'!F48","v":0},20.000257847140631,0,0,0,0,{"$f":"IF(AND(I151+H152<=$A$5,I151+H152>$A$3),LOGIC!I151+LOGIC!H152,IF(I151+H152>$A$5,$A$5,$A$3))","v":12},0,20.676895908560692,0,0,0,0,{"$f":"IF(AND(P151+O152<=$A$5,P151+O152>$A$3),LOGIC!P151+LOGIC!O152,IF(P151+O152>$A$5,$A$5,$A$3))","v":12}]
[null,"22:00:00",{"$f":"'PV data'!F49","v":0},18.716083156603052,0,0,0,0,{"$f":"IF(AND(I152+H153<=$A$5,I152+H153>$A$3),LOGIC!I152+LOGIC!H153,IF(I152+H153>$A$5,$A$5,$A$3))","v":12},0,20.534100208688709,0,0,0,0,{"$f":"IF(AND(P152+O153<=$A$5,P152+O153>$A$3),LOGIC!P152+LOGIC!O153,IF(P152+O153>$A$5,$A$5,$A$3))","v":12}]
[null,"22:30:00",{"$f":"'PV data'!F50","v":0},17.7738818604461,0,0,0,0,{"$f":"IF(AND(I153+H154<=$A$5,I153+H154>$A$3),LOGIC!I153+LOGIC!H154,IF(I153+H154>$A$5,$A$5,$A$3))","v":12},0,20.409767776750655,0,0,0,0,{"$f":"IF(AND(P153+O154<=$A$5,P153+O154>$A$3),LOGIC!P153+LOGIC!O154,IF(P153+O154>$A$5,$A$5,$A$3))","v":12}]
[null,"23:00:00",{"$f":"'PV data'!F51","v":0},17.984499713019865,0,0,0,0,{"$f":"IF(AND(I154+H155<=$A$5,I154+H155>$A$3),LOGIC!I154+LOGIC!H155,IF(I154+H155>$A$5,$A$5,$A$3))","v":12},0,19.460480820105133,0,0,0,0,{"$f":"IF(AND(P154+O155<=$A$5,P154+O155>$A$3),LOGIC!P154+LOGIC!O155,IF(P154+O155>$A$5,$A$5,$A$3))","v":12}]
[null,"23:30:00",{"$f":"'PV data'!F52","v":0},17.994756191892289,0,0,0,0,{"$f":"IF(AND(I155+H156<=$A$5,I155+H156>$A$3),LOGIC!I155+LOGIC!H156,IF(I155+H156>$A$5,$A$5,$A$3))","v":12},0,19.441428298939272,0,0,0,0,{"$f":"IF(AND(P155+O156<=$A$5,P155+O156>$A$3),LOGIC!P155+LOGIC!O156,IF(P155+O156>$A$5,$A$5,$A$3))","v":12}]
[]
[null,null,"Autumn"]
[null,null,null,"Use' day logic",null,null,null,null,null,null,"Non Use' day logic"]
[null,null,"Generation (kWh)","Use' Demand (kWh)","Available to charge battery (kWh)","Battery Recharge / kWh","Battery Discharge / kWh","Discharge/Recharge / kWh","Battery charge","Generation (kWh)","Use' Demand (kWh)","Available to charge battery (kWh)","Battery Recharge / kWh","Battery Discharge / kWh","Discharge/Recharge / kWh","Battery charge"]
[null,"00:00:00",{"$f":"'PV data'!H5","v":0},{"$f":"D5","v":17.610195718866162},{"$f":"IF(C161>D161,(C161-D161),0)","v":0},{"$f":"IF(($A$3+E161)<$A$5,E161,$A$7)","v":0},{"$f":"IF(AND(D161>C161,I161>'Import avoidance model - RR'!$N$17,I161),D161-C161,0)","v":0},{"$f":"F161-G161","v":0},{"$f":"A3","v":12},{"$f":"C161","v":0},{"$f":"K5","v":20.304095030490508},{"$f":"IF(J161>K161,(J161-K161),0)","v":0},{"$f":"IF(($A$3+L161)<$A$5,E161,$A$7)","v":0},{"$f":"IF(AND(K161>J161,P161>'Import avoidance model - RR'!$N$17,P161),K161-J161,0)","v":0},{"$f":"M161-N161","v":0},{"$f":"A3","v":12}]
[null,"00:30:00",{"$f":"'PV data'!H6","v":0},{"$f":"D6","v":17.552350993331668},{"$f":"IF(C162>D162,(C162-D162),0)","v":0},{"$f":"IF(AND((I161+E162)<$A$5,E162<=$A$7),E162,IF(E162>$A$7,$A$7,$A$5-I161))","v":0},{"$f":"IF(AND(D162>C162,I161>$A$3),IF(D162-C162<=$A$7,D162-C162,$A$7),0)","v":0},{"$f":"F162-G162","v":0},{"$f":"IF(AND(I161+H162<=$A$5,I161+H162>$A$3),LOGIC!I161+LOGIC!H162,IF(I161+H162>$A$5,$A$5,$A$3))","v":12},{"$f":"C162","v":0},{"$f":"K6","v":20.285042509324644},0,{"$f":"IF(AND((P161+L162)<$A$5,L162<=$A$7),L162,IF(L162>$A$7,$A$7,$A$5-P161))","v":0},{"$f":"IF(AND(K162>J162,P161>$A$3),IF(K162-J162<=$A$7,K162-J162,$A$7),0)","v":0},{"$f":"M162-N162","v":0},{"$f":"IF(AND(P161+O162<=$A$5,P161+O162>$A$3),LOGIC!P161+LOGIC!O162,IF(P161+O162>$A$5,$A$5,$A$3))","v":12}]
[null,"01:00:00",{"$f":"'PV data'!H7","v":0},17.491514038415222,0,{"$f":"IF(AND((I162+E163)<$A$5,E163<=$A$7),E163,IF(E163>$A$7,$A$7,$A$5-I162))","v":0},{"$f":"IF(AND(D163>C163,I162>$A$3),IF(D163-C163<=$A$7,D163-C163,$A$7),0)","v":0},{"$f":"F163-G163","v":0},{"$f":"IF(AND(I162+H163<=$A$5,I162+H163>$A$3),LOGIC!I162+LOGIC!H163,IF(I162+H163>$A$5,$A$5,$A$3))","v":12},0,20.402303902479492,0,{"$f":"IF(AND((P162+L163)<$A$5,L163<=$A$7),L163,IF(L163>$A$7,$A$7,$A$5-P162))","v":0},0,{"$f":"M163-N163","v":0},{"$f":"IF(AND(P162+O163<=$A$5,P162+O163>$A$3),LOGIC!P162+LOGIC!O163,IF(P162+O163>$A$5,$A$5,$A$3))","v":12}]
[null,"01:30:00",{"$f":"'PV data'!H8","v":0},17.477508952662877,0,0,0,0,{"$f":"IF(AND(I163+H164<=$A$5,I163+H164>$A$3),LOGIC!I163+LOGIC!H164,IF(I163+H164>$A$5,$A$5,$A$3))","v":12},0,20.378733773202136,0,0,0,0,{"$f":"IF(AND(P163+O164<=$A$5,P163+O164>$A$3),LOGIC!P163+LOGIC!O164,IF(P163+O164>$A$5,$A$5,$A$3))","v":12}]
[null,"02:00:00",{"$f":"'PV data'!H9","v":0},17.498493889966461,0,0,0,0,{"$f":"IF(AND(I164+H165<=$A$5,I164+H165>$A$3),LOGIC!I164+LOGIC!H165,IF(I164+H165>$A$5,$A$5,$A$3))","v":12},0,20.402893155711425,0,0,0,0,{"$f":"IF(AND(P164+O165<=$A$5,P164+O165>$A$3),LOGIC!P164+LOGIC!O165,IF(P164+O165>$A$5,$A$5,$A$3))","v":12}]
[null,"02:30:00",{"$f":"'PV data'!H10","v":0},17.768302820021095,0,0,0,0,{"$f":"IF(AND(I165+H166<=$A$5,I165+H166>$A$3),LOGIC!I165+LOGIC!H166,IF(I165+H166>$A$5,$A$5,$A$3))","v":12},0,20.447872819082381,0,0,0,0,{"$f":"IF(AND(P165+O166<=$A$5,P165+O166>$A$3),LOGIC!P165+LOGIC!O166,IF(P165+O166>$A$5,$A$5,$A$3))","v":12}]
[null,"03:00:00",{"$f":"'PV data'!H11","v":0},19.066745815680321,0,0,0,0,{"$f":"IF(AND(I166+H167<=$A$5,I166+H167>$A$3),LOGIC!I166+LOGIC!H167,IF(I166+H167>$A$5,$A$5,$A$3))","v":12},0,20.430195222124361,0,0,0,0,{"$f":"IF(AND(P166+O167<=$A$5,P166+O167>$A$3),LOGIC!P166+LOGIC!O167,IF(P166+O167>$A$5,$A$5,$A$3))","v":12}]
[null,"03:30:00",{"$f":"'PV data'!H12","v":0},21.084413046605953,0,0,0,0,{"$f":"IF(AND(I167+H168<=$A$5,I167+H168>$A$3),LOGIC!I167+LOGIC!H168,IF(I167+H168>$A$5,$A$5,$A$3))","v":12},0,20.453568933657738,0,0,0,0,{"$f":"IF(AND(P167+O168<=$A$5,P167+O168>$A$3),LOGIC!P167+LOGIC!O168,IF(P167+O168>$A$5,$A$5,$A$3))","v":12}]
[null,"04:00:00",{"$f":"'PV data'!H13","v":0},24.817120871520817,0,0,0,0,{"$f":"IF(AND(I168+H169<=$A$5,I168+H169>$A$3),LOGIC!I168+LOGIC!H169,IF(I168+H169>$A$5,$A$5,$A$3))","v":12},0,20.024788998553838,0,0,0,0,{"$f":"IF(AND(P168+O169<=$A$5,P168+O169>$A$3),LOGIC!P168+LOGIC!O169,IF(P168+O169>$A$5,$A$5,$A$3))","v":12}]
[null,"04:30:00",{"$f":"'PV data'!H14","v":0},29.045794498382314,0,0,0,0,{"$f":"IF(AND(I169+H170<=$A$5,I169+H170>$A$3),LOGIC!I169+LOGIC!H170,IF(I169+H170>$A$5,$A$5,$A$3))","v":12},0,19.336737641399015,0,0,0,0,{"$f":"IF(AND(P169+O170<=$A$5,P169+O170>$A$3),LOGIC!P169+LOGIC!O170,IF(P169+O170>$A$5,$A$5,$A$3))","v":12}]
[null,"05:00:00",{"$f":"'PV data'!H15","v":0},34.49894345262188,0,0,0,0,{"$f":"IF(AND(I170+H171<=$A$5,I170+H171>$A$3),LOGIC!I170+LOGIC!H171,IF(I170+H171>$A$5,$A$5,$A$3))","v":12},0,18.729610394763117,0,0,0,0,{"$f":"IF(AND(P170+O171<=$A$5,P170+O171>$A$3),LOGIC!P170+LOGIC!O171,IF(P170+O171>$A$5,$A$5,$A$3))","v":12}]
[null,"05:30:00",{"$f":"'PV data'!H16","v":0},36.371894489616572,0,0,0,0,{"$f":"IF(AND(I171+H172<=$A$5,I171+H172>$A$3),LOGIC!I171+LOGIC!H172,IF(I171+H172>$A$5,$A$5,$A$3))","v":12},0,18.577975896412124,0,0,0,0,{"$f":"IF(AND(P171+O172<=$A$5,P171+O172>$A$3),LOGIC!P171+LOGIC!O172,IF(P171+O172>$A$5,$A$5,$A$3))","v":12}]
[null,"06:00:00",{"$f":"'PV data'!H17","v":0},36.144433622918086,0,0,0,0,{"$f":"IF(AND(I172+H173<=$A$5,I172+H173>$A$3),LOGIC!I172+LOGIC!H173,IF(I172+H173>$A$5,$A$5,$A$3))","v":12},0,18.405717534943449,0,0,0,0,{"$f":"IF(AND(P172+O173<=$A$5,P172+O173>$A$3),LOGIC!P172+LOGIC!O173,IF(P172+O173>$A$5,$A$5,$A$3))","v":12}]
[null,"06:30:00",{"$f":"'PV data'!H18","v":0},40.652504020998443,0,0,0,0,{"$f":"IF(AND(I173+H174<=$A$5,I173+H174>$A$3),LOGIC!I173+LOGIC!H174,IF(I173+H174>$A$5,$A$5,$A$3))","v":12},0,18.034684416569064,0,0,0,0,{"$f":"IF(AND(P173+O174<=$A$5,P173+O174>$A$3),LOGIC!P173+LOGIC!O174,IF(P173+O174>$A$5,$A$5,$A$3))","v":12}]
[null,"07:00:00",{"$f":"'PV data'!H19","v":0},45.104366494449891,0,0,0,0,{"$f":"IF(AND(I174+H175<=$A$5,I174+H175>$A$3),LOGIC!I174+LOGIC!H175,IF(I174+H175>$A$5,$A$5,$A$3))","v":12},0,18.268225114158874,0,0,0,0,{"$f":"IF(AND(P174+O175<=$A$5,P174+O175>$A$3),LOGIC!P174+LOGIC!O175,IF(P174+O175>$A$5,$A$5,$A$3))","v":12}]
[null,"07:30:00",{"$f":"'PV data'!H20","v":0},49.087244664062197,0,0,0,0,{"$f":"IF(AND(I175+H176<=$A$5,I175+H176>$A$3),LOGIC!I175+LOGIC!H176,IF(I175+H176>$A$5,$A$5,$A$3))","v":12},0,18.512372369923483,0,0,0,0,{"$f":"IF(AND(P175+O176<=$A$5,P175+O176>$A$3),LOGIC!P175+LOGIC!O176,IF(P175+O176>$A$5,$A$5,$A$3))","v":12}]
[null,"08:00:00",{"$f":"'PV data'!H21","v":18.378218698569729},53.260439514202844,0,0,0,0,{"$f":"IF(AND(I176+H177<=$A$5,I176+H177>$A$3),LOGIC!I176+LOGIC!H177,IF(I176+H177>$A$5,$A$5,$A$3))","v":12},18.378218698569729,18.726271293115492,0,0,0,0,{"$f":"IF(AND(P176+O177<=$A$5,P176+O177>$A$3),LOGIC!P176+LOGIC!O177,IF(P176+O177>$A$5,$A$5,$A$3))","v":12}]
[null,"08:30:00",{"$f":"'PV data'!H22","v":23.679476188211535},55.514432356103129,0,0,0,0,{"$f":"IF(AND(I177+H178<=$A$5,I177+H178>$A$3),LOGIC!I177+LOGIC!H178,IF(I177+H178>$A$5,$A$5,$A$3))","v":12},23.679476188211535,19.46460559272867,4.2148705954828642,4.2148705954828642,0,4.2148705954828642,{"$f":"IF(AND(P177+O178<=$A$5,P177+O178>$A$3),LOGIC!P177+LOGIC!O178,IF(P177+O178>$A$5,$A$5,$A$3))","v":16.214870595482864}]
[null,"09:00:00",{"$f":"'PV data'!H23","v":25.298223909817978},56.747121943109128,0,0,0,0,{"$f":"IF(AND(I178+H179<=$A$5,I178+H179>$A$3),LOGIC!I178+LOGIC!H179,IF(I178+H179>$A$5,$A$5,$A$3))","v":12},25.298223909817978,20.123390706030776,5.1748332037872018,5.1748332037872018,0,5.1748332037872018,{"$f":"IF(AND(P178+O179<=$A$5,P178+O179>$A$3),LOGIC!P178+LOGIC!O179,IF(P178+O179>$A$5,$A$5,$A$3))","v":21.389703799270066}]
[null,"09:30:00",{"$f":"'PV data'!H24","v":27.269154642488594},58.652028416637918,0,0,0,0,{"$f":"IF(AND(I179+H180<=$A$5,I179+H180>$A$3),LOGIC!I179+LOGIC!H180,IF(I179+H180>$A$5,$A$5,$A$3))","v":12},27.269154642488594,20.657057716418915,6.6120969260696789,6.6120969260696789,0,6.6120969260696789,{"$f":"IF(AND(P179+O180<=$A$5,P179+O180>$A$3),LOGIC!P179+LOGIC!O180,IF(P179+O180>$A$5,$A$5,$A$3))","v":28.001800725339745}]
[null,"10:00:00",{"$f":"'PV data'!H25","v":58.905740836755704},58.088636099012554,0.81710473774315062,0.81710473774315062,0,0.81710473774315062,{"$f":"IF(AND(I180+H181<=$A$5,I180+H181>$A$3),LOGIC!I180+LOGIC!H181,IF(I180+H181>$A$5,$A$5,$A$3))","v":12.817104737743151},58.905740836755704,20.861135752412025,38.044605084343679,15,0,15,{"$f":"IF(AND(P180+O181<=$A$5,P180+O181>$A$3),LOGIC!P180+LOGIC!O181,IF(P180+O181>$A$5,$A$5,$A$3))","v":43.001800725339749}]
[null,"10:30:00",{"$f":"'PV data'!H26","v":55.273732222298463},57.937263783099503,0,0,2.6635315608010401,-2.6635315608010401,{"$f":"IF(AND(I181+H182<=$A$5,I181+H182>$A$3),LOGIC!I181+LOGIC!H182,IF(I181+H182>$A$5,$A$5,$A$3))","v":12},55.273732222298463,20.986253855325995,34.287478366972465,15,0,15,{"$f":"IF(AND(P181+O182<=$A$5,P181+O182>$A$3),LOGIC!P181+LOGIC!O182,IF(P181+O182>$A$5,$A$5,$A$3))","v":58.001800725339749}]
[null,"11:00:00",{"$f":"'PV data'!H27","v":60.456043232003402},58.232583813405562,2.2234594185978409,2.2234594185978409,0,2.2234594185978409,{"$f":"IF(AND(I182+H183<=$A$5,I182+H183>$A$3),LOGIC!I182+LOGIC!H183,IF(I182+H183>$A$5,$A$5,$A$3))","v":14.223459418597841},60.456043232003402,20.95070224366598,39.505340988337423,15,0,15,{"$f":"IF(AND(P182+O183<=$A$5,P182+O183>$A$3),LOGIC!P182+LOGIC!O183,IF(P182+O183>$A$5,$A$5,$A$3))","v":60}]
[null,"11:30:00",{"$f":"'PV data'!H28","v":54.795239240629087},60.052839542871915,0,0,5.2576003022428281,-5.2576003022428281,{"$f":"IF(AND(I183+H184<=$A$5,I183+H184>$A$3),LOGIC!I183+LOGIC!H184,IF(I183+H184>$A$5,$A$5,$A$3))","v":12},54.795239240629087,20.574758681692153,34.220480558936934,15,0,15,{"$f":"IF(AND(P183+O184<=$A$5,P183+O184>$A$3),LOGIC!P183+LOGIC!O184,IF(P183+O184>$A$5,$A$5,$A$3))","v":60}]
[null,"12:00:00",{"$f":"'PV data'!H29","v":38.516573016150012},59.064865306048034,0,0,0,0,{"$f":"IF(AND(I184+H185<=$A$5,I184+H185>$A$3),LOGIC!I184+LOGIC!H185,IF(I184+H185>$A$5,$A$5,$A$3))","v":12},38.516573016150012,20.494816659893111,18.021756356256901,15,0,15,{"$f":"IF(AND(P184+O185<=$A$5,P184+O185>$A$3),LOGIC!P184+LOGIC!O185,IF(P184+O185>$A$5,$A$5,$A$3))","v":60}]
[null,"12:30:00",{"$f":"'PV data'!H30","v":44.400129931159569},56.193023992178787,0,0,0,0,{"$f":"IF(AND(I185+H186<=$A$5,I185+H186>$A$3),LOGIC!I185+LOGIC!H186,IF(I185+H186>$A$5,$A$5,$A$3))","v":12},44.400129931159569,20.616988496647409,23.78314143451216,15,0,15,{"$f":"IF(AND(P185+O186<=$A$5,P185+O186>$A$3),LOGIC!P185+LOGIC!O186,IF(P185+O186>$A$5,$A$5,$A$3))","v":60}]
[null,"13:00:00",{"$f":"'PV data'!H31","v":34.747334211159718},54.093834394522318,0,0,0,0,{"$f":"IF(AND(I186+H187<=$A$5,I186+H187>$A$3),LOGIC!I186+LOGIC!H187,IF(I186+H187>$A$5,$A$5,$A$3))","v":12},34.747334211159718,20.396804205648106,14.350530005511612,0,0,0,{"$f":"IF(AND(P186+O187<=$A$5,P186+O187>$A$3),LOGIC!P186+LOGIC!O187,IF(P186+O187>$A$5,$A$5,$A$3))","v":60}]
[null,"13:30:00",{"$f":"'PV data'!H32","v":48.512635846972934},50.031799806992829,0,0,0,0,{"$f":"IF(AND(I187+H188<=$A$5,I187+H188>$A$3),LOGIC!I187+LOGIC!H188,IF(I187+H188>$A$5,$A$5,$A$3))","v":12},48.512635846972934,20.362823935939918,28.149811911033016,15,0,15,{"$f":"IF(AND(P187+O188<=$A$5,P187+O188>$A$3),LOGIC!P187+LOGIC!O188,IF(P187+O188>$A$5,$A$5,$A$3))","v":60}]
[null,"14:00:00",{"$f":"'PV data'!H33","v":59.327139449587655},47.432190856681693,11.894948592905962,11.894948592905962,0,11.894948592905962,{"$f":"IF(AND(I188+H189<=$A$5,I188+H189>$A$3),LOGIC!I188+LOGIC!H189,IF(I188+H189>$A$5,$A$5,$A$3))","v":23.894948592905962},59.327139449587655,20.201172132646054,39.125967316941598,15,0,15,{"$f":"IF(AND(P188+O189<=$A$5,P188+O189>$A$3),LOGIC!P188+LOGIC!O189,IF(P188+O189>$A$5,$A$5,$A$3))","v":60}]
[null,"14:30:00",{"$f":"'PV data'!H34","v":54.224678807310674},44.051104777511519,10.173574029799155,10.173574029799155,0,10.173574029799155,{"$f":"IF(AND(I189+H190<=$A$5,I189+H190>$A$3),LOGIC!I189+LOGIC!H190,IF(I189+H190>$A$5,$A$5,$A$3))","v":34.068522622705117},54.224678807310674,19.940525786387283,34.284153020923391,15,0,15,{"$f":"IF(AND(P189+O190<=$A$5,P189+O190>$A$3),LOGIC!P189+LOGIC!O190,IF(P189+O190>$A$5,$A$5,$A$3))","v":60}]
[null,"15:00:00",{"$f":"'PV data'!H35","v":40.809065915310399},41.353714369773279,0,0,0.54464845446288024,-0.54464845446288024,{"$f":"IF(AND(I190+H191<=$A$5,I190+H191>$A$3),LOGIC!I190+LOGIC!H191,IF(I190+H191>$A$5,$A$5,$A$3))","v":33.523874168242237},40.809065915310399,19.844084674094105,20.964981241216293,15,0,15,{"$f":"IF(AND(P190+O191<=$A$5,P190+O191>$A$3),LOGIC!P190+LOGIC!O191,IF(P190+O191>$A$5,$A$5,$A$3))","v":60}]
[null,"15:30:00",{"$f":"'PV data'!H36","v":29.046892158489118},38.270184172793144,0,0,9.2232920143040253,-9.2232920143040253,{"$f":"IF(AND(I191+H192<=$A$5,I191+H192>$A$3),LOGIC!I191+LOGIC!H192,IF(I191+H192>$A$5,$A$5,$A$3))","v":24.300582153938212},29.046892158489118,19.910277453814679,9.1366147046744395,0,0,0,{"$f":"IF(AND(P191+O192<=$A$5,P191+O192>$A$3),LOGIC!P191+LOGIC!O192,IF(P191+O192>$A$5,$A$5,$A$3))","v":60}]
[null,"16:00:00",{"$f":"'PV data'!H37","v":18.723429174322341},35.825478308555581,0,0,15,-15,{"$f":"IF(AND(I192+H193<=$A$5,I192+H193>$A$3),LOGIC!I192+LOGIC!H193,IF(I192+H193>$A$5,$A$5,$A$3))","v":12},18.723429174322341,19.999451109580679,0,0,1.2760219352583384,-1.2760219352583384,{"$f":"IF(AND(P192+O193<=$A$5,P192+O193>$A$3),LOGIC!P192+LOGIC!O193,IF(P192+O193>$A$5,$A$5,$A$3))","v":58.723978064741658}]
[null,"16:30:00",{"$f":"'PV data'!H38","v":6.4452598874964364},33.731447205435238,0,0,0,0,{"$f":"IF(AND(I193+H194<=$A$5,I193+H194>$A$3),LOGIC!I193+LOGIC!H194,IF(I193+H194>$A$5,$A$5,$A$3))","v":12},6.4452598874964364,20.107480868768565,0,0,13.662220981272128,-13.662220981272128,{"$f":"IF(AND(P193+O194<=$A$5,P193+O194>$A$3),LOGIC!P193+LOGIC!O194,IF(P193+O194>$A$5,$A$5,$A$3))","v":45.06175708346953}]
[null,"17:00:00",{"$f":"'PV data'!H39","v":0},32.139078939576216,0,0,0,0,{"$f":"IF(AND(I194+H195<=$A$5,I194+H195>$A$3),LOGIC!I194+LOGIC!H195,IF(I194+H195>$A$5,$A$5,$A$3))","v":12},0,21.0333941138807,0,0,15,-15,{"$f":"IF(AND(P194+O195<=$A$5,P194+O195>$A$3),LOGIC!P194+LOGIC!O195,IF(P194+O195>$A$5,$A$5,$A$3))","v":30.06175708346953}]
[null,"17:30:00",{"$f":"'PV data'!H40","v":0},31.258241037074296,0,0,0,0,{"$f":"IF(AND(I195+H196<=$A$5,I195+H196>$A$3),LOGIC!I195+LOGIC!H196,IF(I195+H196>$A$5,$A$5,$A$3))","v":12},0,22.057712648725804,0,0,15,-15,{"$f":"IF(AND(P195+O196<=$A$5,P195+O196>$A$3),LOGIC!P195+LOGIC!O196,IF(P195+O196>$A$5,$A$5,$A$3))","v":15.06175708346953}]
[null,"18:00:00",{"$f":"'PV data'!H41","v":0},30.511750905761172,0,0,0,0,{"$f":"IF(AND(I196+H197<=$A$5,I196+H197>$A$3),LOGIC!I196+LOGIC!H197,IF(I196+H197>$A$5,$A$5,$A$3))","v":12},0,22.704516279645254,0,0,15,-15,{"$f":"IF(AND(P196+O197<=$A$5,P196+O197>$A$3),LOGIC!P196+LOGIC!O197,IF(P196+O197>$A$5,$A$5,$A$3))","v":12}]
[null,"18:30:00",{"$f":"'PV data'!H42","v":0},30.010181859309615,0,0,0,0,{"$f":"IF(AND(I197+H198<=$A$5,I197+H198>$A$3),LOGIC!I197+LOGIC!H198,IF(I197+H198>$A$5,$A$5,$A$3))","v":12},0,23.146063368107729,0,0,0,0,{"$f":"IF(AND(P197+O198<=$A$5,P197+O198>$A$3),LOGIC!P197+LOGIC!O198,IF(P197+O198>$A$5,$A$5,$A$3))","v":12}]
[null,"19:00:00",{"$f":"'PV data'!H43","v":0},29.576650481555134,0,0,0,0,{"$f":"IF(AND(I198+H199<=$A$5,I198+H199>$A$3),LOGIC!I198+LOGIC!H199,IF(I198+H199>$A$5,$A$5,$A$3))","v":12},0,23.294751600299055,0,0,0,0,{"$f":"IF(AND(P198+O199<=$A$5,P198+O199>$A$3),LOGIC!P198+LOGIC!O199,IF(P198+O199>$A$5,$A$5,$A$3))","v":12}]
[null,"19:30:00",{"$f":"'PV data'!H44","v":0},29.406392932272865,0,0,0,0,{"$f":"IF(AND(I199+H200<=$A$5,I199+H200>$A$3),LOGIC!I199+LOGIC!H200,IF(I199+H200>$A$5,$A$5,$A$3))","v":12},0,22.465083049736112,0,0,0,0,{"$f":"IF(AND(P199+O200<=$A$5,P199+O200>$A$3),LOGIC!P199+LOGIC!O200,IF(P199+O200>$A$5,$A$5,$A$3))","v":12}]
[null,"20:00:00",{"$f":"'PV data'!H45","v":0},28.18661622191215,0,0,0,0,{"$f":"IF(AND(I200+H201<=$A$5,I200+H201>$A$3),LOGIC!I200+LOGIC!H201,IF(I200+H201>$A$5,$A$5,$A$3))","v":12},0,21.699446683709994,0,0,0,0,{"$f":"IF(AND(P200+O201<=$A$5,P200+O201>$A$3),LOGIC!P200+LOGIC!O201,IF(P200+O201>$A$5,$A$5,$A$3))","v":12}]
[null,"20:30:00",{"$f":"'PV data'!H46","v":0},26.632103137071358,0,0,0,0,{"$f":"IF(AND(I201+H202<=$A$5,I201+H202>$A$3),LOGIC!I201+LOGIC!H202,IF(I201+H202>$A$5,$A$5,$A$3))","v":12},0,21.367697114131207,0,0,0,0,{"$f":"IF(AND(P201+O202<=$A$5,P201+O202>$A$3),LOGIC!P201+LOGIC!O202,IF(P201+O202>$A$5,$A$5,$A$3))","v":12}]
[null,"21:00:00",{"$f":"'PV data'!H47","v":0},22.920071647440903,0,0,0,0,{"$f":"IF(AND(I202+H203<=$A$5,I202+H203>$A$3),LOGIC!I202+LOGIC!H203,IF(I202+H203>$A$5,$A$5,$A$3))","v":12},0,20.857010979788491,0,0,0,0,{"$f":"IF(AND(P202+O203<=$A$5,P202+O203>$A$3),LOGIC!P202+LOGIC!O203,IF(P202+O203>$A$5,$A$5,$A$3))","v":12}]
[null,"21:30:00",{"$f":"'PV data'!H48","v":0},20.000257847140631,0,0,0,0,{"$f":"IF(AND(I203+H204<=$A$5,I203+H204>$A$3),LOGIC!I203+LOGIC!H204,IF(I203+H204>$A$5,$A$5,$A$3))","v":12},0,20.676895908560692,0,0,0,0,{"$f":"IF(AND(P203+O204<=$A$5,P203+O204>$A$3),LOGIC!P203+LOGIC!O204,IF(P203+O204>$A$5,$A$5,$A$3))","v":12}]
[null,"22:00:00",{"$f":"'PV data'!H49","v":0},18.716083156603052,0,0,0,0,{"$f":"IF(AND(I204+H205<=$A$5,I204+H205>$A$3),LOGIC!I204+LOGIC!H205,IF(I204+H205>$A$5,$A$5,$A$3))","v":12},0,20.534100208688709,0,0,0,0,{"$f":"IF(AND(P204+O205<=$A$5,P204+O205>$A$3),LOGIC!P204+LOGIC!O205,IF(P204+O205>$A$5,$A$5,$A$3))","v":12}]
[null,"22:30:00",{"$f":"'PV data'!H50","v":0},17.7738818604461,0,0,0,0,{"$f":"IF(AND(I205+H206<=$A$5,I205+H206>$A$3),LOGIC!I205+LOGIC!H206,IF(I205+H206>$A$5,$A$5,$A$3))","v":12},0,20.409767776750655,0,0,0,0,{"$f":"IF(AND(P205+O206<=$A$5,P205+O206>$A$3),LOGIC!P205+LOGIC!O206,IF(P205+O206>$A$5,$A$5,$A$3))","v":12}]
[null,"23:00:00",{"$f":"'PV data'!H51","v":0},17.984499713019865,0,0,0,0,{"$f":"IF(AND(I206+H207<=$A$5,I206+H207>$A$3),LOGIC!I206+LOGIC!H207,IF(I206+H207>$A$5,$A$5,$A$3))","v":12},0,19.460480820105133,0,0,0,0,{"$f":"IF(AND(P206+O207<=$A$5,P206+O207>$A$3),LOGIC!P206+LOGIC!O207,IF(P206+O207>$A$5,$A$5,$A$3))","v":12}]
[null,"23:30:00",{"$f":"'PV data'!H52","v":0},17.994756191892289,0,0,0,0,{"$f":"IF(AND(I207+H208<=$A$5,I207+H208>$A$3),LOGIC!I207+LOGIC!H208,IF(I207+H208>$A$5,$A$5,$A$3))","v":12},0,19.441428298939272,0,0,0,0,{"$f":"IF(AND(P207+O208<=$A$5,P207+O208>$A$3),LOGIC!P207+LOGIC!O208,IF(P207+O208>$A$5,$A$5,$A$3))","v":12}]