{"text_format":"1","workbook":"xlsx","n_sheets":21,"sheets":["Start","BP Summary","BP Flag Rules","BP Code Sets","BP Eligibility & Type","BP Tariff Adjustments","Triggers","Doc Flags to List Members","List Members","TtoListtoDocFlag(W)","Codes(W)","Eligible(W)","DocFlagstoListMembe(w)","TrigQualCount","Hierarchy","SummaryW","SummaryForLookups","MoreInfor","HelpInfo","Database used","Changes"],"not_rendered":{"charts":0,"images":4,"macros":1,"external_links":16,"defined_names":835,"comments":2,"pivot_tables":0},"unopened":[],"bounds":{"document_bytes":16777216,"sheet_cells":100000,"rows_first":2000,"rows_last":500,"rows_between":2000,"halvings":0,"cell_chars":16384,"cell_head_chars":4096},"cells_cut":0,"cells_raw":0,"read":"whole","date_system":"1900"}

{"sheet":"Start","index":0,"n_rows":47,"n_cols":4,"rows_kept":47,"cut":false,"hidden":false,"merged":[[52,1,52,14],[32,3,32,17],[46,1,46,17],[15,1,15,17],[16,1,16,16],[18,1,20,17],[21,1,21,17],[22,1,22,17],[31,3,31,17]]}
[]
[]
[]
[]
[]
[]
[]
[]
[]
[]
[]
[]
[]
[]
[]
[null,"This spreadsheet contains details about how the Grouper allocates specific identification flags relating to Best Practice that may then result in an adjustment to the tariff."]
[null,"How this Guide can be used :"]
[]
[null,"Most BP flags are generated by OPCS-4 and ICD-10 codes. These may be required in combination or individually and may also require qualification by other codes, for example site or approach codes. \nOnly certain HRGs are eligible for Best Practice and additional criteria such as age and/or admission type will further restrict what activity is flagged. The purpose of this guide is to make it easier to understand the contents and application of the policy rules.\n"]
[]
[]
[null,"On the \"BP Flag Rules\" tab, choose a best practice from the dropdown in cell D4 (indicated via arrow), alternatively on the summary tab hyperlinks are available to assist navigation."]
[null,"Below is a table that explains some of the terminology used in the BP Flag Rules tab;"]
[]
[null,"Code Type",null,"Describes which type of codes are used as triggers in Best Practice flag creation ie. OPCS-4 or ICD-10"]
[null,"BP Name",null,"Describes the clinical area of the Best Practice (BP)"]
[null,"BP Category",null,"Defines the admission type category eligible for Best Practice "]
[null,"Sub Categories (DC and SDEM only)",null,"Identifies all Same Day Emergency and Daycase BP Categories "]
[null,"Code",null,"Lists the relevant codes which are used in the BP generation"]
[null,"Description",null,"Gives the name of the relevant codes which are used in the BP generation"]
[null,"Combination",null,"This gives a reference number to help explain what combination of codes are required for generation (note: 0 means no combination)"]
[null,"Code List",null,"Due to the combination of codes required for some BP generation (triggers and subsequent qualification) the codes are separated into code lists indicated by different code list names and separated by a red line."]
[null,"Combination Needed",null,"Where relevant this describes the combination of codes required. Sometimes a combination of 3 codes will be needed, this may for example include a procedure code, a site code and an approach code. They will have code values of 1, 2 and 3 respectively. Each code can be in any position but the first code (value 1) may need to be the dominant OPCS-4 code."]
[null,"Eligible HRGs",null,"This shows the HRGs that are eligible as being flagged for BP."]
[null,"BP Hierarchy",null,"Some HRGs are eligible for more than 1 BP - in these circumstances please consider the hierarchy."]
[null,"Supporting Information",null,"This aims to assist users to understand the how the BP is technically derived."]
[null,"No. of ICD-10 Triggers",null,"The number of distinct ICD-10 triggering codes that are needed to make the activity eligible for the BP flag."]
[null,"Triggering ICD-10 Position",null,"The position of the relevant ICD-10 codes needed to make the activity eligible for the BP flag."]
[null,"No. of OPCS-4 Triggers",null,"The number of distinct OPCS-4 triggering codes that are needed to make the activity eligible for the BP flag."]
[null,"No. of OPCS-4 Qualifiers",null,"The number of distinct OPCS-4 qualifying codes that follow the OPCS-4 triggering code."]
[null,"Triggering OPCS-4 Position",null,"The dominance of the relevant OPCS-4 codes needed to make the activity eligible for the BP flag."]
[null,"Triggering Age ",null,"The age ranges that are eligible for the BP."]
[null,"Triggering Admission Method",null,"The admission methods that are eligible for the BP."]
[]
[null,"Spell Report Flag"]
[]
[null,"In addition to specialised service and best practice identification flags the Grouper also outputs a spell report flag. This is important as it identifies the episode within multi-episode spells from which certain spell attributes are taken. For example, the spell primary diagnosis which is an attribute used to determine allocation of children's specialised activity.\n\nThis was created for use within the reference costs groupers to enable spell level reporting. In response to user feedback, an identifier (1 = flagged) is now output by all groupers. The flag is set as ‘incidental to’ rather than as an explicit part of the grouping process and, as such, must be used with caution. The flag is produced to assist users by providing a consistent method for identifying one episode within a multi-episode spell from which spell attributes may be taken, however this does not mean that it should be considered to be the sole or definitive method. \n\nFor single episode spells the flag will always be assigned to the only episode.  \n\nOtherwise for multi-episode spells;\nWhere the spell HRG is from subchapter VA Multiple Trauma the spell report flag is assigned on the first episode.\nFor spells that are not Multiple Trauma and the driving code for HRG derivation is an OPCS-4 procedure code, it will be the earliest episode (lowest episode order) containing the highest significant procedure for the spell. \nThe significant procedure is determined as the one with the highest hierarchy value (score of 5 or more) that occurs earliest in the spell/episode.\nFor spells that are not Multiple Trauma and the driving code for HRG derivation is an ICD-10 diagnosis code it will be the earliest episode with the highest primary diagnosis hierarchy value."]

{"sheet":"BP Summary","index":1,"n_rows":74,"n_cols":16,"rows_kept":74,"cut":false,"hidden":false,"merged":[]}
[]
[null,"HRG4+ 2017/18 Payment Grouper: Best Practice Flag Summary"]
[]
[null,"BP Flag","BP Name","BP Category","Setting","No. of ICD-10 Triggers\n(+ Qualifiers)","ICD-10 Qualifying Position","No. of OPCS-4 Triggers \n(+ Qualifiers)","Logic","Qualifying Code Required","Eligible Age Criteria","Eligible Admission Method","Number of Eligible HRGs","Changes from Previous Grouper","Introduced","Comments"]
[null,"BP01","Fragility hip fracture","Non-Elective Fragility Hip Fracture","Admitted Patient Care",9,"Any Position",18,"AND","Procedures require any of the diagnosis triggers in ANY position ","60 and over (60-130) (not 999)","Emergency and transfers (21-25, 28, 81, 2A, 2B, 2C, 2D)",18,"No change from C1718","Introduced 2010/11"]
[null,"BP02","Myocardial infarction","Non-Elective MI","Admitted Patient Care",9,"Primary Diagnoses",0,null,null,"19 and over (19-130 or 999)","Emergency and transfers (21-25, 28, 81, 2A, 2B, 2C, 2D)",23,"No change from C1718","Introduced 2017/18","Has no pricing adjustment (NHSI S118 Tariff Documentation 31st October)"]
[null,"BP15","Therapeutic arthroscopy of shoulder","Day Case Incentive","Admitted Patient Care",0,null,"1 (+1)","AND","Requires 1 procedure qualifier (from list of 1)","19 and over (19-130 or 999)","Elective (11, 12, 13)",1,"No change from C1718","Introduced 2011/12"]
[null,"BP16","Bunion operations","Day Case Incentive","Admitted Patient Care",0,null,3,null,null,"19 and over (19-130 or 999)","Elective (11, 12, 13)",1,"No change from C1718","Introduced 2011/12"]
[null,"BP17","Dupuytren's fasciectomy","Day Case Incentive","Admitted Patient Care",0,null,1,null,null,"19 and over (19-130 or 999)","Elective (11, 12, 13)",1,"No change from C1718","Introduced 2011/12"]
[null,"BP28","Simple mastectomy","Day Case Incentive","Admitted Patient Care",0,null,5,null,null,"19 and over (19-130 or 999)","Elective (11, 12, 13)",2,"No change from C1718","Introduced 2011/12"]
[null,"BP29","Excision of breast","Day Case Incentive","Admitted Patient Care",0,null,5,null,null,"19 and over (19-130 or 999)","Elective (11, 12, 13)",2,"No change from C1718","Introduced 2012/13"]
[null,"BP31","Sentinel lymph node biopsy/axillary sample","Day Case Incentive","Admitted Patient Care",0,null,"1/1(+1)","AND"," Requires either 1 procedure code, or 1 procedure code and a qualifier","19 and over (19-130 or 999)","Elective (11, 12, 13)",1,"No change from C1718","Introduced 2012/13"]
[null,"BP32","Axillary clearance","Day Case Incentive","Admitted Patient Care",0,null,1,null,null,"19 and over (19-130 or 999)","Elective (11, 12, 13)",1,"No change from C1718","Introduced 2012/13"]
[null,"BP35","Epileptic seizure","Non-Elective Same Day Emergency","Admitted Patient Care",12,"Primary Diagnoses",0,null,null,"19 and over (19-130 or 999)","Emergency (21-25, 28, 2A, 2B, 2C, 2D)",3,"No change from C1718","Introduced 2012/13"]
[null,"BP38","Self harm","Non-Elective Same Day Emergency","Admitted Patient Care","None",null,"None",null,null,"19 and over (19-130 or 999)","Emergency (21-25, 28, 2A, 2B, 2C, 2D)",1,"No change from C1718","Introduced 2012/13"]
[null,"BP39","Cellulitis","Non-Elective Same Day Emergency","Admitted Patient Care",9,"Primary Diagnoses",0,null,null,"19 and over (19-130 or 999)","Emergency (21-25, 28, 2A, 2B, 2C, 2D)",3,"No change from C1718","Introduced 2012/13"]
[null,"BP40","Chest pain","Non-Elective Same Day Emergency","Admitted Patient Care",11,"Primary Diagnoses",0,null,null,"19 and over (19-130 or 999)","Emergency (21-25, 28, 2A, 2B, 2C, 2D)",4,"No change from C1718","Introduced 2012/13"]
[null,"BP41","Falls including syncope or collapse","Non-Elective Same Day Emergency","Admitted Patient Care","None",null,"None",null,null,"19 and over (19-130 or 999)","Emergency (21-25, 28, 2A, 2B, 2C, 2D)",1,"No change from C1718","Introduced 2012/13"]
[null,"BP42","Appendicular fractures not requiring immediate fixation","Non-Elective Same Day Emergency","Admitted Patient Care",52,"Primary Diagnoses",0,null,null,"19 and over (19-130 or 999)","Emergency (21-25, 28, 2A, 2B, 2C, 2D)",8,"No change from C1718","Introduced 2012/13"]
[null,"BP44","Asthma","Non-Elective Same Day Emergency","Admitted Patient Care","None",null,"None",null,null,"19 and over (19-130 or 999)","Emergency (21-25, 28, 2A, 2B, 2C, 2D)",2,"No change from C1718","Introduced 2012/13"]
[null,"BP45","Lower respiratory tract infections without COPD","Non-Elective Same Day Emergency","Admitted Patient Care","None",null,"None",null,null,"19 and over (19-130 or 999)","Emergency (21-25, 28, 2A, 2B, 2C, 2D)",1,"No change from C1718","Introduced 2012/13"]
[null,"BP46","Pulmonary embolism","Non-Elective Same Day Emergency","Admitted Patient Care","None",null,"None",null,null,"19 and over (19-130 or 999)","Emergency (21-25, 28, 2A, 2B, 2C, 2D)",2,"No change from C1718","Introduced 2012/13"]
[null,"BP47","Renal/ureteric stones","Non-Elective Same Day Emergency","Admitted Patient Care","None",null,"None",null,null,"19 and over (19-130 or 999)","Emergency (21-25, 28, 2A, 2B, 2C, 2D)",1,"No change from C1718","Introduced 2012/13"]
[null,"BP48","Deep vein thrombosis","Non-Elective Same Day Emergency","Admitted Patient Care","None",null,"None",null,null,"19 and over (19-130 or 999)","Emergency (21-25, 28, 2A, 2B, 2C, 2D)",3,"No change from C1718","Introduced 2012/13"]
[null,"BP49","Acute headache","Non-Elective Same Day Emergency","Admitted Patient Care","None",null,"None",null,null,"19 and over (19-130 or 999)","Emergency (21-25, 28, 2A, 2B, 2C, 2D)",2,"No change from C1718","Introduced 2012/13"]
[null,"BP50","Timely access to coronary angiography - NSTEMI","Non-Elective NSTEMI","Admitted Patient Care",1,"Primary Diagnosis",0,null,null,"19 and over (19-130 or 999)","Emergency and transfers (21-25, 28, 81, 2A, 2B, 2C, 2D)",18,"No change from C1718","Introduced 2016/17"]
[null,"BP52","Diabetic ketoacidosis and hypoglycaemia","Non-Elective Diabetes","Admitted Patient Care","10/3 (+10)","Primary Diagnoses",0,"AND","10 ICD-10 diagnosis codes can trigger in the spell primary position, or 3 combo ICD-10 diagnosis codes in a primary position requiring further diagnosis qualification in a secondary position (from list of 10 which is the same as those triggering in spell primary)","19 and over (19-130 or 999)","Emergency (21-25, 28, 2A, 2B, 2C, 2D)",8,"No change from C1718","Introduced 2013/14"]
[null,"BP53","Low risk pubic rami","Non-Elective Same Day Emergency","Admitted Patient Care",2,"Primary Diagnoses",0,null,null,"19 and over (19-130 or 999)","Emergency (21-25, 28, 2A, 2B, 2C, 2D)",2,"No change from C1718","Introduced 2013/14"]
[null,"BP54","Anaemia","Non-Elective Same Day Emergency","Admitted Patient Care","None",null,"None",null,null,"19 and over (19-130 or 999)","Emergency (21-25, 28, 2A, 2B, 2C, 2D)",4,"No change from C1718","Introduced 2013/14"]
[null,"BP55","Bladder outflow obstruction","Non-Elective Same Day Emergency","Admitted Patient Care","None",null,"None",null,null,"19 and over (19-130 or 999)","Emergency (21-25, 28, 2A, 2B, 2C, 2D)",2,"No change from C1718","Introduced 2013/14"]
[null,"BP56","Community acquired pneumonia","Non-Elective Same Day Emergency","Admitted Patient Care","None",null,"None",null,null,"19 and over (19-130 or 999)","Emergency (21-25, 28, 2A, 2B, 2C, 2D)",1,"No change from C1718","Introduced 2013/14"]
[null,"BP58","Minor head injury","Non-Elective Same Day Emergency","Admitted Patient Care",5,"Primary Diagnoses",0,null,null,"19 and over (19-130 or 999)","Emergency (21-25, 28, 2A, 2B, 2C, 2D)",2,"No change from C1718","Introduced 2013/14"]
[null,"BP59","Supraventricular tachycardia's including atrial fibrillation","Non-Elective Same Day Emergency","Admitted Patient Care","None",null,"None",null,null,"19 and over (19-130 or 999)","Emergency (21-25, 28, 2A, 2B, 2C, 2D)",3,"No change from C1718","Introduced 2013/14"]
[null,"BP61","Abdominal pain","Non-Elective Same Day Emergency","Admitted Patient Care","None",null,"None",null,null,"19 and over (19-130 or 999)","Emergency (21-25, 28, 2A, 2B, 2C, 2D)",1,"No change from C1718","Introduced 2013/14"]
[null,"BP63","Autograft anterior cruciate ligament reconstruction","Day Case Incentive","Admitted Patient Care",0,null,1,null,null,"19 and over (19-130 or 999)","Elective (11, 12, 13)",1,"No change from C1718","Introduced 2016/17"]
[null,"BP64","Biopsy/sampling of cervical lymph nodes","Day Case Incentive","Admitted Patient Care",0,null,3,null,null,"19 and over (19-130 or 999)","Elective (11, 12, 13)",1,"No change from C1718","Introduced 2016/17"]
[null,"BP65","Creation of arteriovenous fistula for dialysis","Day Case Incentive","Admitted Patient Care",0,null,3,null,null,"19 and over (19-130 or 999)","Elective (11, 12, 13)",1,"No change from C1718","Introduced 2016/17"]
[null,"BP66","Dacryocysto-rhinostomy including insertion of tube","Day Case Incentive","Admitted Patient Care",0,null,2,null,null,"19 and over (19-130 or 999)","Elective (11, 12, 13)",1,"No change from C1718","Introduced 2016/17"]
[null,"BP68","Endoscopic insertion of prosthesis into ureter","Day Case Incentive","Admitted Patient Care",0,null,3,null,null,"19 and over (19-130 or 999)","Elective (11, 12, 13)",1,"No change from C1718","Introduced 2016/17"]
[null,"BP69","Excision biopsy of lymph node for diagnosis (cervical, inguinal, axillary)","Day Case Incentive","Admitted Patient Care",0,null,5,null,null,"19 and over (19-130 or 999)","Elective (11, 12, 13)",1,"No change from C1718","Introduced 2016/17"]
[null,"BP73","Optical urethrotomy","Day Case Incentive","Admitted Patient Care",0,null,1,null,null,"19 and over (19-130 or 999)","Elective (11, 12, 13)",1,"No change from C1718","Introduced 2016/17"]
[null,"BP74","Polypectomy of internal nose","Day Case Incentive","Admitted Patient Care",0,null,1,null,null,"19 and over (19-130 or 999)","Elective (11, 12, 13)",1,"No change from C1718","Introduced 2016/17"]
[null,"BP76","Repair of other abdominal hernia","Day Case Incentive","Admitted Patient Care",0,null,5,null,null,"19 and over (19-130 or 999)","Elective (11, 12, 13)",1,"No change from C1718","Introduced 2016/17"]
[null,"BP77","Transluminal operations on iliac and femoral artery","Day Case Incentive","Admitted Patient Care",0,null,13,null,null,"19 and over (19-130 or 999)","Elective (11, 12, 13)",2,"No change from C1718","Introduced 2016/17"]
[null,"BP78","Ureteroscopic extraction of calculus of ureter","Day Case Incentive","Admitted Patient Care",0,null,3,null,null,"19 and over (19-130 or 999)","Elective (11, 12, 13)",1,"No change from C1718","Introduced 2016/17"]
[null,"BP79","Laparoscopic oophorectomy and salpingectomy (including bilateral)","Day Case Incentive","Admitted Patient Care",0,null,"21 (+1)","AND","Requires 1 procedure qualifier","19 and over (19-130 or 999)","Elective (11, 12, 13)",1,"No change from C1718","Introduced 2016/17"]
[null,"BP80","Abnormal liver function","Non-Elective Same Day Emergency","Admitted Patient Care",58,"Primary Diagnoses",0,null,null,"19 and over (19-130 or 999)","Emergency (21-25, 28, 2A, 2B, 2C, 2D)",1,"No change from C1718","Introduced 2017/18"]
[null,"BP81","Acutely hot painful joint","Non-Elective Same Day Emergency","Admitted Patient Care",53,"Primary Diagnoses",0,null,null,"19 and over (19-130 or 999)","Emergency (21-25, 28, 2A, 2B, 2C, 2D)",1,"No change from C1718","Introduced 2017/18"]
[null,"BP82","Chronic indwelling catheter related problems","Non-Elective Same Day Emergency","Admitted Patient Care",6,"Primary Diagnoses",0,null,null,"19 and over (19-130 or 999)","Emergency (21-25, 28, 2A, 2B, 2C, 2D)",3,"No change from C1718","Introduced 2017/18"]
[null,"BP83","Gastroenteritis","Non-Elective Same Day Emergency","Admitted Patient Care","None",null,"None",null,null,"19 and over (19-130 or 999)","Emergency (21-25, 28, 2A, 2B, 2C, 2D)",2,"No change from C1718","Introduced 2017/18"]
[null,"BP84","Upper gastro-intestinal haemorrhage","Non-Elective Same Day Emergency","Admitted Patient Care",16,"Primary Diagnoses",0,null,null,"19 and over (19-130 or 999)","Emergency (21-25, 28, 2A, 2B, 2C, 2D)",2,"No change from C1718","Introduced 2017/18"]
[null,"BP85","Urinary tract infections","Non-Elective Same Day Emergency","Admitted Patient Care","None",null,"None",null,null,"19 and over (19-130 or 999)","Emergency (21-25, 28, 2A, 2B, 2C, 2D)",3,"No change from C1718","Introduced 2017/18"]
[null,"BP86","Transient ischaemic attack","Non-Elective Same Day Emergency","Admitted Patient Care","None",null,"None",null,null,"19 and over (19-130 or 999)","Emergency (21-25, 28, 2A, 2B, 2C, 2D)",1,"No change from C1718","Introduced 2017/18"]
[]
[null,"BP04","Cataract best practice","A pathway indicator, introduced in 2010/11 and implemented only in SUS (Non mandatory since 2014/15)"]
[null,"BP05","Stroke","Flag deleted Consultation 2017/18"]
[null,"BP20","Primary total hip replacements","Deleted Payment 2013/14"]
[null,"BP21","Primary total knee replacements","Deleted Payment 2013/14"]
[null,"BP23","Thoracic EVAR","Deleted Engagement 2017/18"]
[null,"BP24","Angioplasty and stenting of SFA or iliac artery for PAD","Deleted Engagement 2017/18"]
[null,"BP25","Angioplasty and stenting for diabetic foot disease","Deleted Engagement 2017/18"]
[null,"BP26","TIPS","Deleted Engagement 2017/18"]
[null,"BP27","Percutaneous excision of benign breast lesions","Deleted Engagement 2017/18"]
[null,"BP30","Excision of breast with sentinel lymph node biopsy or axillary sample","Deleted Payment 2013/14"]
[null,"BP33","Tonsillectomy","Flag deleted Engagement 2017/18"]
[null,"BP34","Septoplasty","Flag deleted Engagement 2017/18"]
[null,"BP43","Simple mastectomy with axillary surgery","Deleted Payment 2013/14"]
[null,"BP50","Endometrial ablation","Deleted Road Test (now Consultation) 2013/14"]
[null,"BP51","Pleural effusion","Deleted Engagement 2017/18"]
[null,"BP67","Diagnostic laparoscopy","Proposed but not implemented Engagement 2016/17"]
[null,"BP70","Implantation of cardiac pacemaker","Deleted Engagement 2017/18"]
[null,"BP71","Therapeutic laparoscopic including laser diathermy, diathermy and destruction e.g. endometriosis, adhesiolysis, tubal surgery","Proposed but not implemented Engagement 2016/17"]
[null,"BP72","Liver biopsy","Deleted Engagement 2017/18"]
[null,"BP75","Posterior colporrhaphy","Proposed but not implemented Engagement 2016/17"]

{"sheet":"BP Flag Rules","index":2,"n_rows":212,"n_cols":36,"rows_kept":212,"cut":false,"hidden":false,"merged":[[6,5,13,9],[5,5,5,9],[3,5,3,9],[14,1,14,2],[3,1,3,3]]}
[null,null,null,null,null,null,null,null,null,null,null,null,null,null,null,null,null,null,null,null,null,null,null,null,null,null,null,null,null,null,null,"BP","HRG7","BP","HRG_Split_Long_Label","DO NOT DELETE"]
[null,null,null,"Click cell below and pick from list",null,null,null,null,null,null,null,null,null,null,null,null,null,null,null,null,null,null,null,null,null,null,null,null,null,null,null,{"$f":"AH2","v":"BP01"},{"$f":"AH2&\" - \"&AI2","v":"BP01 - Fragility hip fracture"},"BP01","Fragility hip fracture","Code / Flag"]
[null,null,null,null,null,null,null,null,null,null,null,null,null,null,null,null,null,null,null,null,null,null,null,null,null,null,null,null,null,null,null,{"$f":"AH3","v":"BP02"},{"$f":"AH3&\" - \"&AI3","v":"BP02 - Myocardial infarction"},"BP02","Myocardial infarction",{"$f":"LEFT(B4,4)","v":"BP01"}]
[null,"BP01 - Fragility hip fracture",null,null,null,"Supporting Information - How is the BP flag is generated",null,null,null,null,null,null,null,null,null,null,null,null,null,null,null,null,null,null,null,null,null,null,null,null,null,"BP15","BP15 - Therapeutic arthroscopy of shoulder","BP15","Therapeutic arthroscopy of shoulder","REFERENCE FOR PICK LIST (has to be on same sheet)"]
[null,null,null,null,null,null,null,null,null,null,null,null,null,null,null,null,null,null,null,null,null,null,null,null,null,null,null,null,null,null,null,"BP16","BP16 - Bunion operations","BP16","Bunion operations"]
[null,"BP Flag",null,{"$f":"VLOOKUP($AJ$3,SummaryForLookups!A:I,1,FALSE)","v":"BP01"},null,"All BP flags require the correct qualifying Age and Admission Method as specified in the table on the left.",null,null,null,null,null,null,null,null,null,null,null,null,null,null,null,null,null,null,null,null,null,null,null,null,null,"BP17","BP17 - Dupuytren's fasciectomy","BP17","Dupuytren's fasciectomy"]
[null,"No. Eligible HRGs",null,{"$f":"IF(VLOOKUP($AJ$3,SummaryForLookups!A:I,2,FALSE) =0,\"\",VLOOKUP($AJ$3,SummaryForLookups!A:I,2,FALSE))","v":18},null,{"$f":"VLOOKUP(D6,HelpInfo!A:B,2,FALSE)","v":"Requires an ICD-10 code and an OPCS-4 code in any position, and any of the HRG codes."},null,null,null,null,null,null,null,null,null,null,null,null,null,null,null,null,null,null,null,null,null,null,null,null,null,"BP28","BP28 - Simple mastectomy","BP28","Simple mastectomy"]
[null,"No. of ICD-10 Triggers",null,{"$f":"IF(VLOOKUP(D6,SummaryForLookups!A:C,3,FALSE)=0,\"\",VLOOKUP(D6,SummaryForLookups!A:C,3,FALSE))","v":"9 Unique codes"},null,null,null,null,null,null,null,null,null,null,null,null,null,null,null,null,null,null,null,null,null,null,null,null,null,null,null,"BP29","BP29 - Excision of breast","BP29","Excision of breast"]
[null,"Triggering ICD-10 Position",null,{"$f":"IF(VLOOKUP($AJ$3,SummaryForLookups!A:I,4,FALSE)=0,\"\",VLOOKUP($AJ$3,SummaryForLookups!A:I,4,FALSE))","v":"Any Position"},null,null,null,null,null,null,null,null,null,null,null,null,null,null,null,null,null,null,null,null,null,null,null,null,null,null,null,"BP31","BP31 - Sentinel lymph node biopsy/axillary sample","BP31","Sentinel lymph node biopsy/axillary sample"]
[null,"No. of OPCS-4 Triggers",null,{"$f":"IF(ISNA(VLOOKUP(D6,SummaryForLookups!A:E,5,FALSE)),0,VLOOKUP(D6,SummaryForLookups!A:E,5,FALSE))","v":"18 Unique codes"},null,null,null,null,null,null,null,null,null,null,null,null,null,null,null,null,null,null,null,null,null,null,null,null,null,null,null,"BP32","BP32 - Axillary clearance","BP32","Axillary clearance"]
[null,"No. of OPCS-4 Qualifiers",null,{"$f":"IF(ISNA(VLOOKUP(D6,SummaryForLookups!A:F,6,FALSE)),0,VLOOKUP(D6,SummaryForLookups!A:F,6,FALSE))","v":""},null,null,null,null,null,null,null,null,null,null,null,null,null,null,null,null,null,null,null,null,null,null,null,null,null,null,null,"BP35","BP35 - Epileptic seizure","BP35","Epileptic seizure"]
[null,"Triggering OPCS-4 Position",null,{"$f":"IF(VLOOKUP($AJ$3,SummaryForLookups!A:I,7,FALSE)=0,\"\",VLOOKUP($AJ$3,SummaryForLookups!A:I,7,FALSE))","v":"Any Position"},null,null,null,null,null,null,null,null,null,null,null,null,null,null,null,null,null,null,null,null,null,null,null,null,null,null,null,"BP38","BP38 - Self harm","BP38","Self harm"]
[null,"Triggering Age",null,{"$f":"VLOOKUP($AJ$3,SummaryForLookups!A:H,8,FALSE)","v":"60 and over (60-130) (not 999)"},null,null,null,null,null,null,null,null,null,null,null,null,null,null,null,null,null,null,null,null,null,null,null,null,null,null,null,"BP39","BP39 - Cellulitis","BP39","Cellulitis"]
[null,"Triggering Admission Method",null,{"$f":"VLOOKUP($AJ$3,SummaryForLookups!A:I,9,FALSE)","v":"Emergency and transfers (21-25, 28, 81, 2A, 2B, 2C, 2D)"},null,null,null,null,null,null,null,null,null,null,null,null,null,null,null,null,null,null,null,null,null,null,null,null,null,null,null,"BP40","BP40 - Chest pain","BP40","Chest pain"]
[null,null,null,null,null,null,null,null,null,null,null,null,null,null,null,null,null,null,null,null,null,null,null,null,null,null,null,null,null,null,null,"BP41","BP41 - Falls including syncope or collapse","BP41","Falls including syncope or collapse"]
[null,null,null,null,null,null,null,null,null,null,null,"For use internally",null,null,null,null,null,null,null,null,null,null,null,null,null,null,null,null,null,"Max count list lookup numbers",null,"BP42","BP42 - Appendicular fractures not requiring immediate fixation","BP42","Appendicular fractures not requiring immediate fixation"]
[null,"Code Type","Code","Description","Combination","Code List","Combination Needed",null,"Eligible HRGs","BP Hierarchy",null,"HRGs and Respective Documentation",null,"Documentation Flag","List","Combination Order Needed","Function ID","Count of Codes in List","Qualifying Position",null,"alternative to hyperlink if doc flag does not exist","Doc Flags","Doc Flags and List combo","used to populate BPTtoListtoDocFlag(w) C","To select distinct lists","Assign number","List near number","Numbers to put in order","Correct order",{"$f":"MAX('Codes(W)'!B:B)","v":27},null,"BP44","BP44 - Asthma","BP44","Asthma"]
[null,{"$f":"IF($AD18>$AD$17,\"\",VLOOKUP($AD18,'Codes(W)'!B:H,4,FALSE))","v":"ICD"},{"$f":"IF($AD18>$AD$17,\"\",VLOOKUP($AD18,'Codes(W)'!B:H,5,FALSE))","v":"S720"},{"$f":"IF($AD18>$AD$17,\"\",VLOOKUP($AD18,'Codes(W)'!B:H,6,FALSE))","v":"Fracture of neck of femur"},{"$f":"IF($AD18>$AD$17,\"\",IF(VLOOKUP($AD18,'Codes(W)'!B:H,7,FALSE)=0,\" \",VLOOKUP($AD18,'Codes(W)'!B:H,7,FALSE)))","v":" "},{"$f":"IF($AD18>$AD$17,\"\",VLOOKUP($AD18,'Codes(W)'!B:H,2,FALSE))","v":"BP_FHF_ICD"},{"$f":"IF(ISERROR(VLOOKUP(F18,O:P,2,FALSE)),\"\",IF(VLOOKUP(F18,O:P,2,FALSE)=0,\" \",VLOOKUP(F18,O:P,2,FALSE)))","v":" "},null,{"$f":"IF(ISNA('Eligible(W)'!O2),\"\",'Eligible(W)'!O2)","v":"HT12A"},{"$f":"IF(ISNA(VLOOKUP(I18,Hierarchy!A:B,2,FALSE)),\"\",VLOOKUP(I18,Hierarchy!A:B,2,FALSE))","v":""},null,{"$f":"IF(U18=TRUE,'Eligible(W)'!H2,'Eligible(W)'!H2)","v":"HT12A - BP_FHF"},null,{"$f":"IF(ISNA(VLOOKUP(AD18,'DocFlagstoListMembe(w)'!A:L,12,FALSE)),\"\",VLOOKUP(AD18,'DocFlagstoListMembe(w)'!A:L,12,FALSE))","v":"BP_FHF"},{"$f":"IF(ISNA(Y18),\"\",HYPERLINK(\"#g\"&(MATCH(Y18,F:F,0)),Y18))","v":"BP_FHF_ICD"},{"$f":"IF(ISNA(VLOOKUP(W18,'DocFlagstoListMembe(w)'!B:H,7,FALSE)),\"\",VLOOKUP(W18,'DocFlagstoListMembe(w)'!B:H,7,FALSE))","v":0},{"$f":"IF(ISNA(VLOOKUP(W18,'DocFlagstoListMembe(w)'!B:I,8,FALSE)),\"\",VLOOKUP(W18,'DocFlagstoListMembe(w)'!B:I,8,FALSE))","v":"DataItemInList"},{"$f":"IF(O18=\"\",\"\",COUNTIF('Codes(W)'!C:C,O18))","v":9},{"$f":"IF(ISNA(VLOOKUP((V18&Y18),'DocFlagstoListMembe(w)'!J:K,2,FALSE)),\"\",VLOOKUP((V18&Y18),'DocFlagstoListMembe(w)'!J:K,2,FALSE))","v":"Any Position"},null,{"$f":"ISERROR(HYPERLINK(\"#e\"&(MATCH(MID('Eligible(W)'!H2,9,100),K:K,0)),'Eligible(W)'!H2))","v":true},{"$f":"IF(ISNA(VLOOKUP(AD18,'DocFlagstoListMembe(w)'!A:L,3,FALSE)),\"\",VLOOKUP(AB18,'DocFlagstoListMembe(w)'!A:L,3,FALSE))","v":"BP_FHF"},{"$f":"VLOOKUP(AD18,'DocFlagstoListMembe(w)'!A:H,2,FALSE)","v":"BP_FHFICDBP_FHF_ICD"},{"$f":"IF('TtoListtoDocFlag(W)'!H2 = 0,\"\",'TtoListtoDocFlag(W)'!H2)","v":"BP_FHF"},{"$f":"IF(ISNA(VLOOKUP(W18,'DocFlagstoListMembe(w)'!B:G,6,FALSE)),\"\",VLOOKUP(W18,'DocFlagstoListMembe(w)'!B:G,6,FALSE))","v":"BP_FHF_ICD"},1,{"$f":"IF(COUNTIF(Y18:$Y$18,Y18)<>1,\"\",Y18)","v":"BP_FHF_ICD"},1,{"$f":"VLOOKUP(AB18,$Z$18:$AA$28,2,0)","v":"BP_FHF_ICD"},1,null,"BP45","BP45 - Lower respiratory tract infections without COPD","BP45","Lower respiratory tract infections without COPD"]
[null,{"$f":"IF($AD19>$AD$17,\"\",VLOOKUP($AD19,'Codes(W)'!B:H,4,FALSE))","v":"ICD"},{"$f":"IF($AD19>$AD$17,\"\",VLOOKUP($AD19,'Codes(W)'!B:H,5,FALSE))","v":"S7200"},{"$f":"IF($AD19>$AD$17,\"\",VLOOKUP($AD19,'Codes(W)'!B:H,6,FALSE))","v":"Fracture of neck of femur: closed"},{"$f":"IF($AD19>$AD$17,\"\",IF(VLOOKUP($AD19,'Codes(W)'!B:H,7,FALSE)=0,\" \",VLOOKUP($AD19,'Codes(W)'!B:H,7,FALSE)))","v":" "},{"$f":"IF($AD19>$AD$17,\"\",VLOOKUP($AD19,'Codes(W)'!B:H,2,FALSE))","v":"BP_FHF_ICD"},{"$f":"IF(ISERROR(VLOOKUP(F19,O:P,2,FALSE)),\"\",IF(VLOOKUP(F19,O:P,2,FALSE)=0,\" \",VLOOKUP(F19,O:P,2,FALSE)))","v":" "},null,{"$f":"IF(ISNA('Eligible(W)'!O3),\"\",'Eligible(W)'!O3)","v":"HT12B"},{"$f":"IF(ISNA(VLOOKUP(I19,Hierarchy!A:B,2,FALSE)),\"\",VLOOKUP(I19,Hierarchy!A:B,2,FALSE))","v":""},null,{"$f":"IF(U19=TRUE,'Eligible(W)'!H3,'Eligible(W)'!H3)","v":"HT12B - BP_FHF"},null,{"$f":"IF(ISNA(VLOOKUP(AD19,'DocFlagstoListMembe(w)'!A:L,12,FALSE)),\"\",VLOOKUP(AD19,'DocFlagstoListMembe(w)'!A:L,12,FALSE))","v":"BP_FHF"},"BP_FHF_OPCS",{"$f":"IF(ISNA(VLOOKUP(W19,'DocFlagstoListMembe(w)'!B:H,7,FALSE)),\"\",VLOOKUP(W19,'DocFlagstoListMembe(w)'!B:H,7,FALSE))","v":0},{"$f":"IF(ISNA(VLOOKUP(W19,'DocFlagstoListMembe(w)'!B:I,8,FALSE)),\"\",VLOOKUP(W19,'DocFlagstoListMembe(w)'!B:I,8,FALSE))","v":"DataItemInList"},{"$f":"IF(O19=\"\",\"\",COUNTIF('Codes(W)'!C:C,O19))","v":18},{"$f":"IF(ISNA(VLOOKUP((V19&Y19),'DocFlagstoListMembe(w)'!J:K,2,FALSE)),\"\",VLOOKUP((V19&Y19),'DocFlagstoListMembe(w)'!J:K,2,FALSE))","v":"Any Position"},null,{"$f":"ISERROR(HYPERLINK(\"#e\"&(MATCH(MID('Eligible(W)'!H3,9,100),K:K,0)),'Eligible(W)'!H3))","v":true},{"$f":"IF(ISNA(VLOOKUP(AD19,'DocFlagstoListMembe(w)'!A:L,3,FALSE)),\"\",VLOOKUP(AB19,'DocFlagstoListMembe(w)'!A:L,3,FALSE))","v":"BP_FHF"},{"$f":"VLOOKUP(AD19,'DocFlagstoListMembe(w)'!A:H,2,FALSE)","v":"BP_FHFOPCSBP_FHF_OPCS"},{"$f":"IF('TtoListtoDocFlag(W)'!H3 = 0,\"\",'TtoListtoDocFlag(W)'!H3)","v":""},{"$f":"IF(ISNA(VLOOKUP(W19,'DocFlagstoListMembe(w)'!B:G,6,FALSE)),\"\",VLOOKUP(W19,'DocFlagstoListMembe(w)'!B:G,6,FALSE))","v":"BP_FHF_OPCS"},{"$f":"IF(AA19=\"\",\"\",COUNT(Z18:$Z$18,\">0\")+1)","v":2},{"$f":"IF(COUNTIF(Y$18:$Y19,Y19)<>1,\"\",Y19)","v":"BP_FHF_OPCS"},2,{"$f":"VLOOKUP(AB19,$Z$18:$AA$27,2,0)","v":"BP_FHF_OPCS"},2,null,"BP46","BP46 - Pulmonary embolism","BP46","Pulmonary embolism"]
[null,{"$f":"IF($AD20>$AD$17,\"\",VLOOKUP($AD20,'Codes(W)'!B:H,4,FALSE))","v":"ICD"},{"$f":"IF($AD20>$AD$17,\"\",VLOOKUP($AD20,'Codes(W)'!B:H,5,FALSE))","v":"S7201"},{"$f":"IF($AD20>$AD$17,\"\",VLOOKUP($AD20,'Codes(W)'!B:H,6,FALSE))","v":"Fracture of neck of femur: open"},{"$f":"IF($AD20>$AD$17,\"\",IF(VLOOKUP($AD20,'Codes(W)'!B:H,7,FALSE)=0,\" \",VLOOKUP($AD20,'Codes(W)'!B:H,7,FALSE)))","v":" "},{"$f":"IF($AD20>$AD$17,\"\",VLOOKUP($AD20,'Codes(W)'!B:H,2,FALSE))","v":"BP_FHF_ICD"}," ",null,{"$f":"IF(ISNA('Eligible(W)'!O4),\"\",'Eligible(W)'!O4)","v":"HT12C"},{"$f":"IF(ISNA(VLOOKUP(I20,Hierarchy!A:B,2,FALSE)),\"\",VLOOKUP(I20,Hierarchy!A:B,2,FALSE))","v":""},null,{"$f":"IF(U20=TRUE,'Eligible(W)'!H4,'Eligible(W)'!H4)","v":"HT12C - BP_FHF"},null,{"$f":"IF(ISNA(VLOOKUP(AD20,'DocFlagstoListMembe(w)'!A:L,12,FALSE)),\"\",VLOOKUP(AD20,'DocFlagstoListMembe(w)'!A:L,12,FALSE))","v":0},null,{"$f":"IF(ISNA(VLOOKUP(W20,'DocFlagstoListMembe(w)'!B:H,7,FALSE)),\"\",VLOOKUP(W20,'DocFlagstoListMembe(w)'!B:H,7,FALSE))","v":0},{"$f":"IF(ISNA(VLOOKUP(W20,'DocFlagstoListMembe(w)'!B:I,8,FALSE)),\"\",VLOOKUP(W20,'DocFlagstoListMembe(w)'!B:I,8,FALSE))","v":0},{"$f":"IF(O20=\"\",\"\",COUNTIF('Codes(W)'!C:C,O20))","v":""},{"$f":"IF(ISNA(VLOOKUP((V20&Y20),'DocFlagstoListMembe(w)'!J:K,2,FALSE)),\"\",VLOOKUP((V20&Y20),'DocFlagstoListMembe(w)'!J:K,2,FALSE))","v":""},null,{"$f":"ISERROR(HYPERLINK(\"#e\"&(MATCH(MID('Eligible(W)'!H4,9,100),K:K,0)),'Eligible(W)'!H4))","v":true},{"$f":"IF(ISNA(VLOOKUP(AD20,'DocFlagstoListMembe(w)'!A:L,3,FALSE)),\"\",VLOOKUP(AB20,'DocFlagstoListMembe(w)'!A:L,3,FALSE))","v":0},{"$f":"VLOOKUP(AD20,'DocFlagstoListMembe(w)'!A:H,2,FALSE)","v":""},{"$f":"IF('TtoListtoDocFlag(W)'!H4 = 0,\"\",'TtoListtoDocFlag(W)'!H4)","v":""},{"$f":"IF(ISNA(VLOOKUP(W20,'DocFlagstoListMembe(w)'!B:G,6,FALSE)),\"\",VLOOKUP(W20,'DocFlagstoListMembe(w)'!B:G,6,FALSE))","v":0},{"$f":"IF(AA20=\"\",\"\",COUNT(Z$18:$Z19,\">0\")+1)","v":3},{"$f":"IF(COUNTIF(Y$18:$Y20,Y20)<>1,\"\",Y20)","v":0},3,{"$f":"VLOOKUP(AB20,$Z$18:$AA$27,2,0)","v":0},3,null,"BP47","BP47 - Renal/ureteric stones","BP47","Renal/ureteric stones"]
[null,{"$f":"IF($AD21>$AD$17,\"\",VLOOKUP($AD21,'Codes(W)'!B:H,4,FALSE))","v":"ICD"},{"$f":"IF($AD21>$AD$17,\"\",VLOOKUP($AD21,'Codes(W)'!B:H,5,FALSE))","v":"S721"},{"$f":"IF($AD21>$AD$17,\"\",VLOOKUP($AD21,'Codes(W)'!B:H,6,FALSE))","v":"Pertrochanteric fracture"},{"$f":"IF($AD21>$AD$17,\"\",IF(VLOOKUP($AD21,'Codes(W)'!B:H,7,FALSE)=0,\" \",VLOOKUP($AD21,'Codes(W)'!B:H,7,FALSE)))","v":" "},{"$f":"IF($AD21>$AD$17,\"\",VLOOKUP($AD21,'Codes(W)'!B:H,2,FALSE))","v":"BP_FHF_ICD"}," ",null,{"$f":"IF(ISNA('Eligible(W)'!O5),\"\",'Eligible(W)'!O5)","v":"HT12D"},{"$f":"IF(ISNA(VLOOKUP(I21,Hierarchy!A:B,2,FALSE)),\"\",VLOOKUP(I21,Hierarchy!A:B,2,FALSE))","v":""},null,{"$f":"IF(U21=TRUE,'Eligible(W)'!H5,'Eligible(W)'!H5)","v":"HT12D - BP_FHF"},null,{"$f":"IF(ISNA(VLOOKUP(AD21,'DocFlagstoListMembe(w)'!A:L,12,FALSE)),\"\",VLOOKUP(AD21,'DocFlagstoListMembe(w)'!A:L,12,FALSE))","v":0},null,{"$f":"IF(ISNA(VLOOKUP(W21,'DocFlagstoListMembe(w)'!B:H,7,FALSE)),\"\",VLOOKUP(W21,'DocFlagstoListMembe(w)'!B:H,7,FALSE))","v":""},{"$f":"IF(ISNA(VLOOKUP(W21,'DocFlagstoListMembe(w)'!B:I,8,FALSE)),\"\",VLOOKUP(W21,'DocFlagstoListMembe(w)'!B:I,8,FALSE))","v":""},{"$f":"IF(O21=\"\",\"\",COUNTIF('Codes(W)'!C:C,O21))","v":""},{"$f":"IF(ISNA(VLOOKUP((V21&Y21),'DocFlagstoListMembe(w)'!J:K,2,FALSE)),\"\",VLOOKUP((V21&Y21),'DocFlagstoListMembe(w)'!J:K,2,FALSE))","v":""},null,{"$f":"ISERROR(HYPERLINK(\"#e\"&(MATCH(MID('Eligible(W)'!H5,9,100),K:K,0)),'Eligible(W)'!H5))","v":true},{"$f":"IF(ISNA(VLOOKUP(AD21,'DocFlagstoListMembe(w)'!A:L,3,FALSE)),\"\",VLOOKUP(AB21,'DocFlagstoListMembe(w)'!A:L,3,FALSE))","v":0},{"$f":"VLOOKUP(AD21,'DocFlagstoListMembe(w)'!A:H,2,FALSE)","v":0},{"$f":"IF('TtoListtoDocFlag(W)'!H5 = 0,\"\",'TtoListtoDocFlag(W)'!H5)","v":""},{"$f":"IF(ISNA(VLOOKUP(W21,'DocFlagstoListMembe(w)'!B:G,6,FALSE)),\"\",VLOOKUP(W21,'DocFlagstoListMembe(w)'!B:G,6,FALSE))","v":""},{"$f":"IF(AA21=\"\",\"\",COUNT(Z$18:$Z20,\">0\")+1)","v":""},{"$f":"IF(COUNTIF(Y$18:$Y21,Y21)<>1,\"\",Y21)","v":""},4,{"$f":"VLOOKUP(AB21,$Z$18:$AA$27,2,0)","v":{"$error":"#N/A"}},4,null,"BP48","BP48 - Deep vein thrombosis","BP48","Deep vein thrombosis"]
[null,{"$f":"IF($AD22>$AD$17,\"\",VLOOKUP($AD22,'Codes(W)'!B:H,4,FALSE))","v":"ICD"},{"$f":"IF($AD22>$AD$17,\"\",VLOOKUP($AD22,'Codes(W)'!B:H,5,FALSE))","v":"S7210"},{"$f":"IF($AD22>$AD$17,\"\",VLOOKUP($AD22,'Codes(W)'!B:H,6,FALSE))","v":"Pertrochanteric fracture: closed"},{"$f":"IF($AD22>$AD$17,\"\",IF(VLOOKUP($AD22,'Codes(W)'!B:H,7,FALSE)=0,\" \",VLOOKUP($AD22,'Codes(W)'!B:H,7,FALSE)))","v":" "},{"$f":"IF($AD22>$AD$17,\"\",VLOOKUP($AD22,'Codes(W)'!B:H,2,FALSE))","v":"BP_FHF_ICD"}," ",null,{"$f":"IF(ISNA('Eligible(W)'!O6),\"\",'Eligible(W)'!O6)","v":"HT12E"},{"$f":"IF(ISNA(VLOOKUP(I22,Hierarchy!A:B,2,FALSE)),\"\",VLOOKUP(I22,Hierarchy!A:B,2,FALSE))","v":""},null,{"$f":"IF(U22=TRUE,'Eligible(W)'!H6,'Eligible(W)'!H6)","v":"HT12E - BP_FHF"},null,{"$f":"IF(ISNA(VLOOKUP(AD22,'DocFlagstoListMembe(w)'!A:L,12,FALSE)),\"\",VLOOKUP(AD22,'DocFlagstoListMembe(w)'!A:L,12,FALSE))","v":""},null,{"$f":"IF(ISNA(VLOOKUP(W22,'DocFlagstoListMembe(w)'!B:H,7,FALSE)),\"\",VLOOKUP(W22,'DocFlagstoListMembe(w)'!B:H,7,FALSE))","v":""},{"$f":"IF(ISNA(VLOOKUP(W22,'DocFlagstoListMembe(w)'!B:I,8,FALSE)),\"\",VLOOKUP(W22,'DocFlagstoListMembe(w)'!B:I,8,FALSE))","v":""},{"$f":"IF(O22=\"\",\"\",COUNTIF('Codes(W)'!C:C,O22))","v":""},{"$f":"IF(ISNA(VLOOKUP((V22&Y22),'DocFlagstoListMembe(w)'!J:K,2,FALSE)),\"\",VLOOKUP((V22&Y22),'DocFlagstoListMembe(w)'!J:K,2,FALSE))","v":0},null,{"$f":"ISERROR(HYPERLINK(\"#e\"&(MATCH(MID('Eligible(W)'!H6,9,100),K:K,0)),'Eligible(W)'!H6))","v":true},{"$f":"IF(ISNA(VLOOKUP(AD22,'DocFlagstoListMembe(w)'!A:L,3,FALSE)),\"\",VLOOKUP(AB22,'DocFlagstoListMembe(w)'!A:L,3,FALSE))","v":""},{"$f":"VLOOKUP(AD22,'DocFlagstoListMembe(w)'!A:H,2,FALSE)","v":{"$error":"#N/A"}},{"$f":"IF('TtoListtoDocFlag(W)'!H6 = 0,\"\",'TtoListtoDocFlag(W)'!H6)","v":""},{"$f":"IF(ISNA(VLOOKUP(W22,'DocFlagstoListMembe(w)'!B:G,6,FALSE)),\"\",VLOOKUP(W22,'DocFlagstoListMembe(w)'!B:G,6,FALSE))","v":""},{"$f":"IF(AA22=\"\",\"\",COUNT(Z$18:$Z21,\">0\")+1)","v":""},{"$f":"IF(COUNTIF(Y$18:$Y22,Y22)<>1,\"\",Y22)","v":""},5,{"$error":"#N/A"},5,null,"BP49","BP49 - Acute headache","BP49","Acute headache"]
[null,{"$f":"IF($AD23>$AD$17,\"\",VLOOKUP($AD23,'Codes(W)'!B:H,4,FALSE))","v":"ICD"},{"$f":"IF($AD23>$AD$17,\"\",VLOOKUP($AD23,'Codes(W)'!B:H,5,FALSE))","v":"S7211"},{"$f":"IF($AD23>$AD$17,\"\",VLOOKUP($AD23,'Codes(W)'!B:H,6,FALSE))","v":"Pertrochanteric fracture: open"},{"$f":"IF($AD23>$AD$17,\"\",IF(VLOOKUP($AD23,'Codes(W)'!B:H,7,FALSE)=0,\" \",VLOOKUP($AD23,'Codes(W)'!B:H,7,FALSE)))","v":" "},{"$f":"IF($AD23>$AD$17,\"\",VLOOKUP($AD23,'Codes(W)'!B:H,2,FALSE))","v":"BP_FHF_ICD"}," ",null,{"$f":"IF(ISNA('Eligible(W)'!O7),\"\",'Eligible(W)'!O7)","v":"HT13A"},{"$f":"IF(ISNA(VLOOKUP(I23,Hierarchy!A:B,2,FALSE)),\"\",VLOOKUP(I23,Hierarchy!A:B,2,FALSE))","v":""},null,{"$f":"IF(U23=TRUE,'Eligible(W)'!H7,'Eligible(W)'!H7)","v":"HT13A - BP_FHF"},null,{"$f":"IF(ISNA(VLOOKUP(AD23,'DocFlagstoListMembe(w)'!A:L,12,FALSE)),\"\",VLOOKUP(AD23,'DocFlagstoListMembe(w)'!A:L,12,FALSE))","v":""},null,{"$f":"IF(ISNA(VLOOKUP(W23,'DocFlagstoListMembe(w)'!B:H,7,FALSE)),\"\",VLOOKUP(W23,'DocFlagstoListMembe(w)'!B:H,7,FALSE))","v":""},{"$f":"IF(ISNA(VLOOKUP(W23,'DocFlagstoListMembe(w)'!B:I,8,FALSE)),\"\",VLOOKUP(W23,'DocFlagstoListMembe(w)'!B:I,8,FALSE))","v":""},{"$f":"IF(O23=\"\",\"\",COUNTIF('Codes(W)'!C:C,O23))","v":""},{"$f":"IF(ISNA(VLOOKUP((V23&Y23),'DocFlagstoListMembe(w)'!J:K,2,FALSE)),\"\",VLOOKUP((V23&Y23),'DocFlagstoListMembe(w)'!J:K,2,FALSE))","v":0},null,{"$f":"ISERROR(HYPERLINK(\"#e\"&(MATCH(MID('Eligible(W)'!H7,9,100),K:K,0)),'Eligible(W)'!H7))","v":true},{"$f":"IF(ISNA(VLOOKUP(AD23,'DocFlagstoListMembe(w)'!A:L,3,FALSE)),\"\",VLOOKUP(AB23,'DocFlagstoListMembe(w)'!A:L,3,FALSE))","v":""},{"$f":"VLOOKUP(AD23,'DocFlagstoListMembe(w)'!A:H,2,FALSE)","v":{"$error":"#N/A"}},{"$f":"IF(ISNA(VLOOKUP(AD23,'DocFlagstoListMembe(w)'!A:L,3,FALSE)),\"\",VLOOKUP(AB23,'DocFlagstoListMembe(w)'!A:L,3,FALSE))","v":""},{"$f":"IF(ISNA(VLOOKUP(W23,'DocFlagstoListMembe(w)'!B:G,6,FALSE)),\"\",VLOOKUP(W23,'DocFlagstoListMembe(w)'!B:G,6,FALSE))","v":""},{"$f":"IF(AA23=\"\",\"\",COUNT(Z$18:$Z22,\">0\")+1)","v":""},{"$f":"IF(COUNTIF(Y$18:$Y23,Y23)<>1,\"\",Y23)","v":""},6,{"$error":"#N/A"},6,null,"BP50","BP50 - Timely access to coronary angiography - NSTEMI","BP50","Timely access to coronary angiography - NSTEMI"]
[null,{"$f":"IF($AD24>$AD$17,\"\",VLOOKUP($AD24,'Codes(W)'!B:H,4,FALSE))","v":"ICD"},{"$f":"IF($AD24>$AD$17,\"\",VLOOKUP($AD24,'Codes(W)'!B:H,5,FALSE))","v":"S722"},{"$f":"IF($AD24>$AD$17,\"\",VLOOKUP($AD24,'Codes(W)'!B:H,6,FALSE))","v":"Subtrochanteric fracture"},{"$f":"IF($AD24>$AD$17,\"\",IF(VLOOKUP($AD24,'Codes(W)'!B:H,7,FALSE)=0,\" \",VLOOKUP($AD24,'Codes(W)'!B:H,7,FALSE)))","v":" "},{"$f":"IF($AD24>$AD$17,\"\",VLOOKUP($AD24,'Codes(W)'!B:H,2,FALSE))","v":"BP_FHF_ICD"}," ",null,{"$f":"IF(ISNA('Eligible(W)'!O8),\"\",'Eligible(W)'!O8)","v":"HT13B"},{"$f":"IF(ISNA(VLOOKUP(I24,Hierarchy!A:B,2,FALSE)),\"\",VLOOKUP(I24,Hierarchy!A:B,2,FALSE))","v":""},null,{"$f":"IF(U24=TRUE,'Eligible(W)'!H8,'Eligible(W)'!H8)","v":"HT13B - BP_FHF"},null,{"$f":"IF(ISNA(VLOOKUP(AD24,'DocFlagstoListMembe(w)'!A:L,12,FALSE)),\"\",VLOOKUP(AD24,'DocFlagstoListMembe(w)'!A:L,12,FALSE))","v":""},null,{"$f":"IF(ISNA(VLOOKUP(W24,'DocFlagstoListMembe(w)'!B:H,7,FALSE)),\"\",VLOOKUP(W24,'DocFlagstoListMembe(w)'!B:H,7,FALSE))","v":""},{"$f":"IF(ISNA(VLOOKUP(W24,'DocFlagstoListMembe(w)'!B:I,8,FALSE)),\"\",VLOOKUP(W24,'DocFlagstoListMembe(w)'!B:I,8,FALSE))","v":""},{"$f":"IF(O24=\"\",\"\",COUNTIF('Codes(W)'!C:C,O24))","v":""},{"$f":"IF(ISNA(VLOOKUP((V24&Y24),'DocFlagstoListMembe(w)'!J:K,2,FALSE)),\"\",VLOOKUP((V24&Y24),'DocFlagstoListMembe(w)'!J:K,2,FALSE))","v":0},null,{"$f":"ISERROR(HYPERLINK(\"#e\"&(MATCH(MID('Eligible(W)'!H8,9,100),K:K,0)),'Eligible(W)'!H8))","v":true},{"$f":"IF(ISNA(VLOOKUP(AD24,'DocFlagstoListMembe(w)'!A:L,3,FALSE)),\"\",VLOOKUP(AB24,'DocFlagstoListMembe(w)'!A:L,3,FALSE))","v":""},{"$f":"VLOOKUP(AD24,'DocFlagstoListMembe(w)'!A:H,2,FALSE)","v":{"$error":"#N/A"}},{"$f":"IF(ISNA(VLOOKUP(AD24,'DocFlagstoListMembe(w)'!A:L,3,FALSE)),\"\",VLOOKUP(AB24,'DocFlagstoListMembe(w)'!A:L,3,FALSE))","v":""},{"$f":"IF(ISNA(VLOOKUP(W24,'DocFlagstoListMembe(w)'!B:G,6,FALSE)),\"\",VLOOKUP(W24,'DocFlagstoListMembe(w)'!B:G,6,FALSE))","v":""},{"$f":"IF(AA24=\"\",\"\",COUNT(Z$18:$Z23,\">0\")+1)","v":""},{"$f":"IF(COUNTIF(Y$18:$Y24,Y24)<>1,\"\",Y24)","v":""},7,{"$error":"#N/A"},7,null,"BP52","BP52 - Diabetic ketoacidosis and hypoglycaemia","BP52","Diabetic ketoacidosis and hypoglycaemia"]
[null,{"$f":"IF($AD25>$AD$17,\"\",VLOOKUP($AD25,'Codes(W)'!B:H,4,FALSE))","v":"ICD"},{"$f":"IF($AD25>$AD$17,\"\",VLOOKUP($AD25,'Codes(W)'!B:H,5,FALSE))","v":"S7220"},{"$f":"IF($AD25>$AD$17,\"\",VLOOKUP($AD25,'Codes(W)'!B:H,6,FALSE))","v":"Subtrochanteric fracture: closed"},{"$f":"IF($AD25>$AD$17,\"\",IF(VLOOKUP($AD25,'Codes(W)'!B:H,7,FALSE)=0,\" \",VLOOKUP($AD25,'Codes(W)'!B:H,7,FALSE)))","v":" "},{"$f":"IF($AD25>$AD$17,\"\",VLOOKUP($AD25,'Codes(W)'!B:H,2,FALSE))","v":"BP_FHF_ICD"}," ",null,{"$f":"IF(ISNA('Eligible(W)'!O9),\"\",'Eligible(W)'!O9)","v":"HT13C"},{"$f":"IF(ISNA(VLOOKUP(I25,Hierarchy!A:B,2,FALSE)),\"\",VLOOKUP(I25,Hierarchy!A:B,2,FALSE))","v":""},null,{"$f":"IF(U25=TRUE,'Eligible(W)'!H9,'Eligible(W)'!H9)","v":"HT13C - BP_FHF"},null,{"$f":"IF(ISNA(VLOOKUP(AD25,'DocFlagstoListMembe(w)'!A:L,12,FALSE)),\"\",VLOOKUP(AD25,'DocFlagstoListMembe(w)'!A:L,12,FALSE))","v":""},null,{"$f":"IF(ISNA(VLOOKUP(W25,'DocFlagstoListMembe(w)'!B:H,7,FALSE)),\"\",VLOOKUP(W25,'DocFlagstoListMembe(w)'!B:H,7,FALSE))","v":""},{"$f":"IF(ISNA(VLOOKUP(W25,'DocFlagstoListMembe(w)'!B:I,8,FALSE)),\"\",VLOOKUP(W25,'DocFlagstoListMembe(w)'!B:I,8,FALSE))","v":""},{"$f":"IF(O25=\"\",\"\",COUNTIF('Codes(W)'!C:C,O25))","v":""},{"$f":"IF(ISNA(VLOOKUP((V25&Y25),'DocFlagstoListMembe(w)'!J:K,2,FALSE)),\"\",VLOOKUP((V25&Y25),'DocFlagstoListMembe(w)'!J:K,2,FALSE))","v":0},null,{"$f":"ISERROR(HYPERLINK(\"#e\"&(MATCH(MID('Eligible(W)'!H9,9,100),K:K,0)),'Eligible(W)'!H9))","v":true},{"$f":"IF(ISNA(VLOOKUP(AD25,'DocFlagstoListMembe(w)'!A:L,3,FALSE)),\"\",VLOOKUP(AB25,'DocFlagstoListMembe(w)'!A:L,3,FALSE))","v":""},{"$f":"VLOOKUP(AD25,'DocFlagstoListMembe(w)'!A:H,2,FALSE)","v":{"$error":"#N/A"}},{"$f":"IF(ISNA(VLOOKUP(AD25,'DocFlagstoListMembe(w)'!A:L,3,FALSE)),\"\",VLOOKUP(AB25,'DocFlagstoListMembe(w)'!A:L,3,FALSE))","v":""},{"$f":"IF(ISNA(VLOOKUP(W25,'DocFlagstoListMembe(w)'!B:G,6,FALSE)),\"\",VLOOKUP(W25,'DocFlagstoListMembe(w)'!B:G,6,FALSE))","v":""},{"$f":"IF(AA25=\"\",\"\",COUNT(Z$18:$Z24,\">0\")+1)","v":""},{"$f":"IF(COUNTIF(Y$18:$Y25,Y25)<>1,\"\",Y25)","v":""},8,{"$error":"#N/A"},8,null,"BP53","BP53 - Low risk pubic rami","BP53","Low risk pubic rami"]
[null,{"$f":"IF($AD26>$AD$17,\"\",VLOOKUP($AD26,'Codes(W)'!B:H,4,FALSE))","v":"ICD"},{"$f":"IF($AD26>$AD$17,\"\",VLOOKUP($AD26,'Codes(W)'!B:H,5,FALSE))","v":"S7221"},{"$f":"IF($AD26>$AD$17,\"\",VLOOKUP($AD26,'Codes(W)'!B:H,6,FALSE))","v":"Subtrochanteric fracture: open"},{"$f":"IF($AD26>$AD$17,\"\",IF(VLOOKUP($AD26,'Codes(W)'!B:H,7,FALSE)=0,\" \",VLOOKUP($AD26,'Codes(W)'!B:H,7,FALSE)))","v":" "},{"$f":"IF($AD26>$AD$17,\"\",VLOOKUP($AD26,'Codes(W)'!B:H,2,FALSE))","v":"BP_FHF_ICD"}," ",null,{"$f":"IF(ISNA('Eligible(W)'!O10),\"\",'Eligible(W)'!O10)","v":"HT13D"},{"$f":"IF(ISNA(VLOOKUP(I26,Hierarchy!A:B,2,FALSE)),\"\",VLOOKUP(I26,Hierarchy!A:B,2,FALSE))","v":""},null,{"$f":"IF(U26=TRUE,'Eligible(W)'!H10,'Eligible(W)'!H10)","v":"HT13D - BP_FHF"},null,{"$f":"IF(ISNA(VLOOKUP(AD26,'DocFlagstoListMembe(w)'!A:L,12,FALSE)),\"\",VLOOKUP(AD26,'DocFlagstoListMembe(w)'!A:L,12,FALSE))","v":""},null,{"$f":"IF(ISNA(VLOOKUP(W26,'DocFlagstoListMembe(w)'!B:H,7,FALSE)),\"\",VLOOKUP(W26,'DocFlagstoListMembe(w)'!B:H,7,FALSE))","v":""},{"$f":"IF(ISNA(VLOOKUP(W26,'DocFlagstoListMembe(w)'!B:I,8,FALSE)),\"\",VLOOKUP(W26,'DocFlagstoListMembe(w)'!B:I,8,FALSE))","v":""},{"$f":"IF(O26=\"\",\"\",COUNTIF('Codes(W)'!C:C,O26))","v":""},{"$f":"IF(ISNA(VLOOKUP((V26&Y26),'DocFlagstoListMembe(w)'!J:K,2,FALSE)),\"\",VLOOKUP((V26&Y26),'DocFlagstoListMembe(w)'!J:K,2,FALSE))","v":0},null,{"$f":"ISERROR(HYPERLINK(\"#e\"&(MATCH(MID('Eligible(W)'!H10,9,100),K:K,0)),'Eligible(W)'!H10))","v":true},{"$f":"IF(ISNA(VLOOKUP(AD26,'DocFlagstoListMembe(w)'!A:L,3,FALSE)),\"\",VLOOKUP(AB26,'DocFlagstoListMembe(w)'!A:L,3,FALSE))","v":""},{"$f":"VLOOKUP(AD26,'DocFlagstoListMembe(w)'!A:H,2,FALSE)","v":{"$error":"#N/A"}},{"$f":"IF(ISNA(VLOOKUP(AD26,'DocFlagstoListMembe(w)'!A:L,3,FALSE)),\"\",VLOOKUP(AB26,'DocFlagstoListMembe(w)'!A:L,3,FALSE))","v":""},{"$f":"IF(ISNA(VLOOKUP(W26,'DocFlagstoListMembe(w)'!B:G,6,FALSE)),\"\",VLOOKUP(W26,'DocFlagstoListMembe(w)'!B:G,6,FALSE))","v":""},{"$f":"IF(AA26=\"\",\"\",COUNT(Z$18:$Z25,\">0\")+1)","v":""},{"$f":"IF(COUNTIF(Y$18:$Y26,Y26)<>1,\"\",Y26)","v":""},9,{"$error":"#N/A"},9,null,"BP54","BP54 - Anaemia","BP54","Anaemia"]
[null,{"$f":"IF($AD27>$AD$17,\"\",VLOOKUP($AD27,'Codes(W)'!B:H,4,FALSE))","v":"OPCS"},{"$f":"IF($AD27>$AD$17,\"\",VLOOKUP($AD27,'Codes(W)'!B:H,5,FALSE))","v":"O171"},{"$f":"IF($AD27>$AD$17,\"\",VLOOKUP($AD27,'Codes(W)'!B:H,6,FALSE))","v":"Remanipulation of intracapsular fracture of neck of femur and fixation using nail or screw"},{"$f":"IF($AD27>$AD$17,\"\",IF(VLOOKUP($AD27,'Codes(W)'!B:H,7,FALSE)=0,\" \",VLOOKUP($AD27,'Codes(W)'!B:H,7,FALSE)))","v":" "},{"$f":"IF($AD27>$AD$17,\"\",VLOOKUP($AD27,'Codes(W)'!B:H,2,FALSE))","v":"BP_FHF_OPCS"}," ",null,{"$f":"IF(ISNA('Eligible(W)'!O11),\"\",'Eligible(W)'!O11)","v":"HT13E"},{"$f":"IF(ISNA(VLOOKUP(I27,Hierarchy!A:B,2,FALSE)),\"\",VLOOKUP(I27,Hierarchy!A:B,2,FALSE))","v":""},null,{"$f":"IF(U27=TRUE,'Eligible(W)'!H11,'Eligible(W)'!H11)","v":"HT13E - BP_FHF"},null,{"$f":"IF(ISNA(VLOOKUP(AD27,'DocFlagstoListMembe(w)'!A:L,12,FALSE)),\"\",VLOOKUP(AD27,'DocFlagstoListMembe(w)'!A:L,12,FALSE))","v":""},null,{"$f":"IF(ISNA(VLOOKUP(W27,'DocFlagstoListMembe(w)'!B:H,7,FALSE)),\"\",VLOOKUP(W27,'DocFlagstoListMembe(w)'!B:H,7,FALSE))","v":""},{"$f":"IF(ISNA(VLOOKUP(W27,'DocFlagstoListMembe(w)'!B:I,8,FALSE)),\"\",VLOOKUP(W27,'DocFlagstoListMembe(w)'!B:I,8,FALSE))","v":""},{"$f":"IF(O27=\"\",\"\",COUNTIF('Codes(W)'!C:C,O27))","v":""},{"$f":"IF(ISNA(VLOOKUP((V27&Y27),'DocFlagstoListMembe(w)'!J:K,2,FALSE)),\"\",VLOOKUP((V27&Y27),'DocFlagstoListMembe(w)'!J:K,2,FALSE))","v":0},null,{"$f":"ISERROR(HYPERLINK(\"#e\"&(MATCH(MID('Eligible(W)'!H11,9,100),K:K,0)),'Eligible(W)'!H11))","v":true},{"$f":"IF(ISNA(VLOOKUP(AD27,'DocFlagstoListMembe(w)'!A:L,3,FALSE)),\"\",VLOOKUP(AB27,'DocFlagstoListMembe(w)'!A:L,3,FALSE))","v":""},{"$f":"VLOOKUP(AD27,'DocFlagstoListMembe(w)'!A:H,2,FALSE)","v":{"$error":"#N/A"}},{"$f":"IF(ISNA(VLOOKUP(AD27,'DocFlagstoListMembe(w)'!A:L,3,FALSE)),\"\",VLOOKUP(AB27,'DocFlagstoListMembe(w)'!A:L,3,FALSE))","v":""},{"$f":"IF(ISNA(VLOOKUP(W27,'DocFlagstoListMembe(w)'!B:G,6,FALSE)),\"\",VLOOKUP(W27,'DocFlagstoListMembe(w)'!B:G,6,FALSE))","v":""},{"$f":"IF(AA27=\"\",\"\",COUNT(Z$18:$Z26,\">0\")+1)","v":""},{"$f":"IF(COUNTIF(Y$18:$Y27,Y27)<>1,\"\",Y27)","v":""},10,{"$error":"#N/A"},10,null,"BP55","BP55 - Bladder outflow obstruction","BP55","Bladder outflow obstruction"]
[null,{"$f":"IF($AD28>$AD$17,\"\",VLOOKUP($AD28,'Codes(W)'!B:H,4,FALSE))","v":"OPCS"},{"$f":"IF($AD28>$AD$17,\"\",VLOOKUP($AD28,'Codes(W)'!B:H,5,FALSE))","v":"O172"},{"$f":"IF($AD28>$AD$17,\"\",VLOOKUP($AD28,'Codes(W)'!B:H,6,FALSE))","v":"Remanipulation of fracture of long bone and rigid internal fixation NEC"},{"$f":"IF($AD28>$AD$17,\"\",IF(VLOOKUP($AD28,'Codes(W)'!B:H,7,FALSE)=0,\" \",VLOOKUP($AD28,'Codes(W)'!B:H,7,FALSE)))","v":" "},{"$f":"IF($AD28>$AD$17,\"\",VLOOKUP($AD28,'Codes(W)'!B:H,2,FALSE))","v":"BP_FHF_OPCS"}," ",null,{"$f":"IF(ISNA('Eligible(W)'!O12),\"\",'Eligible(W)'!O12)","v":"VA11A"},{"$f":"IF(ISNA(VLOOKUP(I28,Hierarchy!A:B,2,FALSE)),\"\",VLOOKUP(I28,Hierarchy!A:B,2,FALSE))","v":""},null,{"$f":"IF(U28=TRUE,'Eligible(W)'!H12,'Eligible(W)'!H12)","v":"VA11A - BP_FHF"},null,{"$f":"IF(ISNA(VLOOKUP(AD28,'DocFlagstoListMembe(w)'!A:L,12,FALSE)),\"\",VLOOKUP(AD28,'DocFlagstoListMembe(w)'!A:L,12,FALSE))","v":""},null,{"$f":"IF(ISNA(VLOOKUP(W28,'DocFlagstoListMembe(w)'!B:H,7,FALSE)),\"\",VLOOKUP(W28,'DocFlagstoListMembe(w)'!B:H,7,FALSE))","v":""},{"$f":"IF(ISNA(VLOOKUP(W28,'DocFlagstoListMembe(w)'!B:I,8,FALSE)),\"\",VLOOKUP(W28,'DocFlagstoListMembe(w)'!B:I,8,FALSE))","v":""},{"$f":"IF(O28=\"\",\"\",COUNTIF('Codes(W)'!C:C,O28))","v":""},{"$f":"IF(ISNA(VLOOKUP((V28&Y28),'DocFlagstoListMembe(w)'!J:K,2,FALSE)),\"\",VLOOKUP((V28&Y28),'DocFlagstoListMembe(w)'!J:K,2,FALSE))","v":0},null,{"$f":"ISERROR(HYPERLINK(\"#e\"&(MATCH(MID('Eligible(W)'!H12,9,100),K:K,0)),'Eligible(W)'!H12))","v":true},{"$f":"IF(ISNA(VLOOKUP(AD28,'DocFlagstoListMembe(w)'!A:L,3,FALSE)),\"\",VLOOKUP(AB28,'DocFlagstoListMembe(w)'!A:L,3,FALSE))","v":""},{"$f":"VLOOKUP(AD28,'DocFlagstoListMembe(w)'!A:H,2,FALSE)","v":{"$error":"#N/A"}},{"$f":"IF(ISNA(VLOOKUP(AD28,'DocFlagstoListMembe(w)'!A:L,3,FALSE)),\"\",VLOOKUP(AB28,'DocFlagstoListMembe(w)'!A:L,3,FALSE))","v":""},{"$f":"IF(ISNA(VLOOKUP(W28,'DocFlagstoListMembe(w)'!B:G,6,FALSE)),\"\",VLOOKUP(W28,'DocFlagstoListMembe(w)'!B:G,6,FALSE))","v":""},{"$f":"IF(AA28=\"\",\"\",COUNT(Z$18:$Z27,\">0\")+1)","v":""},{"$f":"IF(COUNTIF(Y$18:$Y28,Y28)<>1,\"\",Y28)","v":""},11,{"$error":"#N/A"},11,null,"BP56","BP56 - Community acquired pneumonia","BP56","Community acquired pneumonia"]
[null,{"$f":"IF($AD29>$AD$17,\"\",VLOOKUP($AD29,'Codes(W)'!B:H,4,FALSE))","v":"OPCS"},{"$f":"IF($AD29>$AD$17,\"\",VLOOKUP($AD29,'Codes(W)'!B:H,5,FALSE))","v":"W191"},{"$f":"IF($AD29>$AD$17,\"\",VLOOKUP($AD29,'Codes(W)'!B:H,6,FALSE))","v":"Primary open reduction of fracture of neck of femur and open fixation using pin and plate"},{"$f":"IF($AD29>$AD$17,\"\",IF(VLOOKUP($AD29,'Codes(W)'!B:H,7,FALSE)=0,\" \",VLOOKUP($AD29,'Codes(W)'!B:H,7,FALSE)))","v":" "},{"$f":"IF($AD29>$AD$17,\"\",VLOOKUP($AD29,'Codes(W)'!B:H,2,FALSE))","v":"BP_FHF_OPCS"}," ",null,{"$f":"IF(ISNA('Eligible(W)'!O13),\"\",'Eligible(W)'!O13)","v":"VA11B"},{"$f":"IF(ISNA(VLOOKUP(I29,Hierarchy!A:B,2,FALSE)),\"\",VLOOKUP(I29,Hierarchy!A:B,2,FALSE))","v":""},null,{"$f":"IF(U29=TRUE,'Eligible(W)'!H13,'Eligible(W)'!H13)","v":"VA11B - BP_FHF"},null,{"$f":"IF(ISNA(VLOOKUP(AD29,'DocFlagstoListMembe(w)'!A:L,12,FALSE)),\"\",VLOOKUP(AD29,'DocFlagstoListMembe(w)'!A:L,12,FALSE))","v":""},null,{"$f":"IF(ISNA(VLOOKUP(W29,'DocFlagstoListMembe(w)'!B:H,7,FALSE)),\"\",VLOOKUP(W29,'DocFlagstoListMembe(w)'!B:H,7,FALSE))","v":""},{"$f":"IF(ISNA(VLOOKUP(W29,'DocFlagstoListMembe(w)'!B:I,8,FALSE)),\"\",VLOOKUP(W29,'DocFlagstoListMembe(w)'!B:I,8,FALSE))","v":""},{"$f":"IF(O29=\"\",\"\",COUNTIF('Codes(W)'!C:C,O29))","v":""},{"$f":"IF(ISNA(VLOOKUP((V29&Y29),'DocFlagstoListMembe(w)'!J:K,2,FALSE)),\"\",VLOOKUP((V29&Y29),'DocFlagstoListMembe(w)'!J:K,2,FALSE))","v":0},null,{"$f":"ISERROR(HYPERLINK(\"#e\"&(MATCH(MID('Eligible(W)'!H13,9,100),K:K,0)),'Eligible(W)'!H13))","v":true},{"$f":"IF(ISNA(VLOOKUP(AD29,'DocFlagstoListMembe(w)'!A:L,3,FALSE)),\"\",VLOOKUP(AB29,'DocFlagstoListMembe(w)'!A:L,3,FALSE))","v":""},{"$f":"VLOOKUP(AD29,'DocFlagstoListMembe(w)'!A:H,2,FALSE)","v":{"$error":"#N/A"}},{"$f":"IF(ISNA(VLOOKUP(AD29,'DocFlagstoListMembe(w)'!A:L,3,FALSE)),\"\",VLOOKUP(AB29,'DocFlagstoListMembe(w)'!A:L,3,FALSE))","v":""},{"$f":"IF(ISNA(VLOOKUP(W29,'DocFlagstoListMembe(w)'!B:G,6,FALSE)),\"\",VLOOKUP(W29,'DocFlagstoListMembe(w)'!B:G,6,FALSE))","v":""},{"$f":"IF(AA29=\"\",\"\",COUNT(Z$18:$Z28,\">0\")+1)","v":""},{"$f":"IF(COUNTIF(Y$18:$Y29,Y29)<>1,\"\",Y29)","v":""},null,{"$error":"#N/A"},12,null,"BP58","BP58 - Minor head injury","BP58","Minor head injury"]
[null,{"$f":"IF($AD30>$AD$17,\"\",VLOOKUP($AD30,'Codes(W)'!B:H,4,FALSE))","v":"OPCS"},{"$f":"IF($AD30>$AD$17,\"\",VLOOKUP($AD30,'Codes(W)'!B:H,5,FALSE))","v":"W192"},{"$f":"IF($AD30>$AD$17,\"\",VLOOKUP($AD30,'Codes(W)'!B:H,6,FALSE))","v":"Primary open reduction of fracture of long bone and fixation using rigid nail NEC"},{"$f":"IF($AD30>$AD$17,\"\",IF(VLOOKUP($AD30,'Codes(W)'!B:H,7,FALSE)=0,\" \",VLOOKUP($AD30,'Codes(W)'!B:H,7,FALSE)))","v":" "},{"$f":"IF($AD30>$AD$17,\"\",VLOOKUP($AD30,'Codes(W)'!B:H,2,FALSE))","v":"BP_FHF_OPCS"}," ",null,{"$f":"IF(ISNA('Eligible(W)'!O14),\"\",'Eligible(W)'!O14)","v":"VA11C"},{"$f":"IF(ISNA(VLOOKUP(I30,Hierarchy!A:B,2,FALSE)),\"\",VLOOKUP(I30,Hierarchy!A:B,2,FALSE))","v":""},null,{"$f":"IF(U30=TRUE,'Eligible(W)'!H14,'Eligible(W)'!H14)","v":"VA11C - BP_FHF"},null,{"$f":"IF(ISNA(VLOOKUP(AD30,'DocFlagstoListMembe(w)'!A:L,12,FALSE)),\"\",VLOOKUP(AD30,'DocFlagstoListMembe(w)'!A:L,12,FALSE))","v":""},null,{"$f":"IF(ISNA(VLOOKUP(W30,'DocFlagstoListMembe(w)'!B:H,7,FALSE)),\"\",VLOOKUP(W30,'DocFlagstoListMembe(w)'!B:H,7,FALSE))","v":""},{"$f":"IF(ISNA(VLOOKUP(W30,'DocFlagstoListMembe(w)'!B:I,8,FALSE)),\"\",VLOOKUP(W30,'DocFlagstoListMembe(w)'!B:I,8,FALSE))","v":""},{"$f":"IF(O30=\"\",\"\",COUNTIF('Codes(W)'!C:C,O30))","v":""},{"$f":"IF(ISNA(VLOOKUP((V30&Y30),'DocFlagstoListMembe(w)'!J:K,2,FALSE)),\"\",VLOOKUP((V30&Y30),'DocFlagstoListMembe(w)'!J:K,2,FALSE))","v":0},null,{"$f":"ISERROR(HYPERLINK(\"#e\"&(MATCH(MID('Eligible(W)'!H14,9,100),K:K,0)),'Eligible(W)'!H14))","v":true},null,{"$f":"VLOOKUP(AD30,'DocFlagstoListMembe(w)'!A:H,2,FALSE)","v":{"$error":"#N/A"}},{"$f":"IF(ISNA(VLOOKUP(AD30,'DocFlagstoListMembe(w)'!A:L,3,FALSE)),\"\",VLOOKUP(AB30,'DocFlagstoListMembe(w)'!A:L,3,FALSE))","v":""},{"$f":"IF(ISNA(VLOOKUP(W30,'DocFlagstoListMembe(w)'!B:G,6,FALSE)),\"\",VLOOKUP(W30,'DocFlagstoListMembe(w)'!B:G,6,FALSE))","v":""},{"$f":"IF(AA30=\"\",\"\",COUNT(Z$18:$Z29,\">0\")+1)","v":""},{"$f":"IF(COUNTIF(Y$18:$Y30,Y30)<>1,\"\",Y30)","v":""},null,{"$error":"#N/A"},13,null,"BP59","BP59 - Supraventricular tachycardia's including atrial fibrillation","BP59","Supraventricular tachycardia's including atrial fibrillation"]
[null,{"$f":"IF($AD31>$AD$17,\"\",VLOOKUP($AD31,'Codes(W)'!B:H,4,FALSE))","v":"OPCS"},{"$f":"IF($AD31>$AD$17,\"\",VLOOKUP($AD31,'Codes(W)'!B:H,5,FALSE))","v":"W241"},{"$f":"IF($AD31>$AD$17,\"\",VLOOKUP($AD31,'Codes(W)'!B:H,6,FALSE))","v":"Closed reduction of intracapsular fracture of neck of femur and fixation using nail or screw"},{"$f":"IF($AD31>$AD$17,\"\",IF(VLOOKUP($AD31,'Codes(W)'!B:H,7,FALSE)=0,\" \",VLOOKUP($AD31,'Codes(W)'!B:H,7,FALSE)))","v":" "},{"$f":"IF($AD31>$AD$17,\"\",VLOOKUP($AD31,'Codes(W)'!B:H,2,FALSE))","v":"BP_FHF_OPCS"}," ",null,{"$f":"IF(ISNA('Eligible(W)'!O15),\"\",'Eligible(W)'!O15)","v":"VA11D"},{"$f":"IF(ISNA(VLOOKUP(I31,Hierarchy!A:B,2,FALSE)),\"\",VLOOKUP(I31,Hierarchy!A:B,2,FALSE))","v":""},null,{"$f":"IF(U31=TRUE,'Eligible(W)'!H15,'Eligible(W)'!H15)","v":"VA11D - BP_FHF"},null,{"$f":"IF(ISNA(VLOOKUP(AD31,'DocFlagstoListMembe(w)'!A:L,12,FALSE)),\"\",VLOOKUP(AD31,'DocFlagstoListMembe(w)'!A:L,12,FALSE))","v":""},null,{"$f":"IF(ISNA(VLOOKUP(W31,'DocFlagstoListMembe(w)'!B:H,7,FALSE)),\"\",VLOOKUP(W31,'DocFlagstoListMembe(w)'!B:H,7,FALSE))","v":""},{"$f":"IF(ISNA(VLOOKUP(W31,'DocFlagstoListMembe(w)'!B:I,8,FALSE)),\"\",VLOOKUP(W31,'DocFlagstoListMembe(w)'!B:I,8,FALSE))","v":""},{"$f":"IF(O31=\"\",\"\",COUNTIF('Codes(W)'!C:C,O31))","v":""},null,null,{"$f":"ISERROR(HYPERLINK(\"#e\"&(MATCH(MID('Eligible(W)'!H15,9,100),K:K,0)),'Eligible(W)'!H15))","v":true},null,{"$f":"VLOOKUP(AD31,'DocFlagstoListMembe(w)'!A:H,2,FALSE)","v":{"$error":"#N/A"}},{"$f":"IF(ISNA(VLOOKUP(AD31,'DocFlagstoListMembe(w)'!A:L,3,FALSE)),\"\",VLOOKUP(AB31,'DocFlagstoListMembe(w)'!A:L,3,FALSE))","v":""},{"$f":"IF(ISNA(VLOOKUP(W31,'DocFlagstoListMembe(w)'!B:G,6,FALSE)),\"\",VLOOKUP(W31,'DocFlagstoListMembe(w)'!B:G,6,FALSE))","v":""},{"$f":"IF(AA31=\"\",\"\",COUNT(Z$18:$Z30,\">0\")+1)","v":""},{"$f":"IF(COUNTIF(Y$18:$Y31,Y31)<>1,\"\",Y31)","v":""},null,{"$error":"#N/A"},14,null,"BP61","BP61 - Abdominal pain","BP61","Abdominal pain"]
[null,{"$f":"IF($AD32>$AD$17,\"\",VLOOKUP($AD32,'Codes(W)'!B:H,4,FALSE))","v":"OPCS"},{"$f":"IF($AD32>$AD$17,\"\",VLOOKUP($AD32,'Codes(W)'!B:H,5,FALSE))","v":"W242"},{"$f":"IF($AD32>$AD$17,\"\",VLOOKUP($AD32,'Codes(W)'!B:H,6,FALSE))","v":"Closed reduction of fracture of long bone and rigid internal fixation NEC"},{"$f":"IF($AD32>$AD$17,\"\",IF(VLOOKUP($AD32,'Codes(W)'!B:H,7,FALSE)=0,\" \",VLOOKUP($AD32,'Codes(W)'!B:H,7,FALSE)))","v":" "},{"$f":"IF($AD32>$AD$17,\"\",VLOOKUP($AD32,'Codes(W)'!B:H,2,FALSE))","v":"BP_FHF_OPCS"}," ",null,{"$f":"IF(ISNA('Eligible(W)'!O16),\"\",'Eligible(W)'!O16)","v":"VA12A"},{"$f":"IF(ISNA(VLOOKUP(I32,Hierarchy!A:B,2,FALSE)),\"\",VLOOKUP(I32,Hierarchy!A:B,2,FALSE))","v":""},null,{"$f":"IF(U32=TRUE,'Eligible(W)'!H16,'Eligible(W)'!H16)","v":"VA12A - BP_FHF"},null,{"$f":"IF(ISNA(VLOOKUP(AD32,'DocFlagstoListMembe(w)'!A:L,12,FALSE)),\"\",VLOOKUP(AD32,'DocFlagstoListMembe(w)'!A:L,12,FALSE))","v":""},null,{"$f":"IF(ISNA(VLOOKUP(W32,'DocFlagstoListMembe(w)'!B:H,7,FALSE)),\"\",VLOOKUP(W32,'DocFlagstoListMembe(w)'!B:H,7,FALSE))","v":""},{"$f":"IF(ISNA(VLOOKUP(W32,'DocFlagstoListMembe(w)'!B:I,8,FALSE)),\"\",VLOOKUP(W32,'DocFlagstoListMembe(w)'!B:I,8,FALSE))","v":""},null,null,null,{"$f":"ISERROR(HYPERLINK(\"#e\"&(MATCH(MID('Eligible(W)'!H16,9,100),K:K,0)),'Eligible(W)'!H16))","v":true},null,{"$f":"VLOOKUP(AD32,'DocFlagstoListMembe(w)'!A:H,2,FALSE)","v":{"$error":"#N/A"}},{"$f":"IF(ISNA(VLOOKUP(AD32,'DocFlagstoListMembe(w)'!A:L,3,FALSE)),\"\",VLOOKUP(AB32,'DocFlagstoListMembe(w)'!A:L,3,FALSE))","v":""},null,{"$f":"IF(AA32=\"\",\"\",COUNT(Z$18:$Z31,\">0\")+1)","v":4},{"$f":"IF(COUNTIF(Y$18:$Y32,Y32)<>1,\"\",Y32)","v":0},null,{"$error":"#N/A"},15,null,"BP63","BP63 - Autograft anterior cruciate ligament reconstruction","BP63","Autograft anterior cruciate ligament reconstruction"]
[null,{"$f":"IF($AD33>$AD$17,\"\",VLOOKUP($AD33,'Codes(W)'!B:H,4,FALSE))","v":"OPCS"},{"$f":"IF($AD33>$AD$17,\"\",VLOOKUP($AD33,'Codes(W)'!B:H,5,FALSE))","v":"W246"},{"$f":"IF($AD33>$AD$17,\"\",VLOOKUP($AD33,'Codes(W)'!B:H,6,FALSE))","v":"Closed reduction of fracture of bone and fixation using nail or screw"},{"$f":"IF($AD33>$AD$17,\"\",IF(VLOOKUP($AD33,'Codes(W)'!B:H,7,FALSE)=0,\" \",VLOOKUP($AD33,'Codes(W)'!B:H,7,FALSE)))","v":" "},{"$f":"IF($AD33>$AD$17,\"\",VLOOKUP($AD33,'Codes(W)'!B:H,2,FALSE))","v":"BP_FHF_OPCS"}," ",null,{"$f":"IF(ISNA('Eligible(W)'!O17),\"\",'Eligible(W)'!O17)","v":"VA12B"},{"$f":"IF(ISNA(VLOOKUP(I33,Hierarchy!A:B,2,FALSE)),\"\",VLOOKUP(I33,Hierarchy!A:B,2,FALSE))","v":""},null,{"$f":"IF(U33=TRUE,'Eligible(W)'!H17,'Eligible(W)'!H17)","v":"VA12B - BP_FHF"},null,{"$f":"IF(ISNA(VLOOKUP(AD33,'DocFlagstoListMembe(w)'!A:L,12,FALSE)),\"\",VLOOKUP(AD33,'DocFlagstoListMembe(w)'!A:L,12,FALSE))","v":""},null,{"$f":"IF(ISNA(VLOOKUP(W33,'DocFlagstoListMembe(w)'!B:H,7,FALSE)),\"\",VLOOKUP(W33,'DocFlagstoListMembe(w)'!B:H,7,FALSE))","v":""},{"$f":"IF(ISNA(VLOOKUP(W33,'DocFlagstoListMembe(w)'!B:I,8,FALSE)),\"\",VLOOKUP(W33,'DocFlagstoListMembe(w)'!B:I,8,FALSE))","v":""},null,null,null,{"$f":"ISERROR(HYPERLINK(\"#e\"&(MATCH(MID('Eligible(W)'!H17,9,100),K:K,0)),'Eligible(W)'!H17))","v":true},null,{"$f":"VLOOKUP(AD33,'DocFlagstoListMembe(w)'!A:H,2,FALSE)","v":{"$error":"#N/A"}},{"$f":"IF(ISNA(VLOOKUP(AD33,'DocFlagstoListMembe(w)'!A:L,3,FALSE)),\"\",VLOOKUP(AB33,'DocFlagstoListMembe(w)'!A:L,3,FALSE))","v":""},null,{"$f":"IF(AA33=\"\",\"\",COUNT(Z$18:$Z32,\">0\")+1)","v":5},{"$f":"IF(COUNTIF(Y$18:$Y33,Y33)<>1,\"\",Y33)","v":0},null,{"$error":"#N/A"},16,null,"BP64","BP64 - Biopsy/sampling of cervical lymph nodes","BP64","Biopsy/sampling of cervical lymph nodes"]
[null,{"$f":"IF($AD34>$AD$17,\"\",VLOOKUP($AD34,'Codes(W)'!B:H,4,FALSE))","v":"OPCS"},{"$f":"IF($AD34>$AD$17,\"\",VLOOKUP($AD34,'Codes(W)'!B:H,5,FALSE))","v":"W371"},{"$f":"IF($AD34>$AD$17,\"\",VLOOKUP($AD34,'Codes(W)'!B:H,6,FALSE))","v":"Primary total prosthetic replacement of hip joint using cement"},{"$f":"IF($AD34>$AD$17,\"\",IF(VLOOKUP($AD34,'Codes(W)'!B:H,7,FALSE)=0,\" \",VLOOKUP($AD34,'Codes(W)'!B:H,7,FALSE)))","v":" "},{"$f":"IF($AD34>$AD$17,\"\",VLOOKUP($AD34,'Codes(W)'!B:H,2,FALSE))","v":"BP_FHF_OPCS"}," ",null,{"$f":"IF(ISNA('Eligible(W)'!O18),\"\",'Eligible(W)'!O18)","v":"VA12C"},{"$f":"IF(ISNA(VLOOKUP(I34,Hierarchy!A:B,2,FALSE)),\"\",VLOOKUP(I34,Hierarchy!A:B,2,FALSE))","v":""},null,{"$f":"IF(U34=TRUE,'Eligible(W)'!H18,'Eligible(W)'!H18)","v":"VA12C - BP_FHF"},null,{"$f":"IF(ISNA(VLOOKUP(AD34,'DocFlagstoListMembe(w)'!A:L,12,FALSE)),\"\",VLOOKUP(AD34,'DocFlagstoListMembe(w)'!A:L,12,FALSE))","v":""},null,{"$f":"IF(ISNA(VLOOKUP(W34,'DocFlagstoListMembe(w)'!B:H,7,FALSE)),\"\",VLOOKUP(W34,'DocFlagstoListMembe(w)'!B:H,7,FALSE))","v":""},{"$f":"IF(ISNA(VLOOKUP(W34,'DocFlagstoListMembe(w)'!B:I,8,FALSE)),\"\",VLOOKUP(W34,'DocFlagstoListMembe(w)'!B:I,8,FALSE))","v":""},null,null,null,{"$f":"ISERROR(HYPERLINK(\"#e\"&(MATCH(MID('Eligible(W)'!H18,9,100),K:K,0)),'Eligible(W)'!H18))","v":true},null,{"$f":"VLOOKUP(AD34,'DocFlagstoListMembe(w)'!A:H,2,FALSE)","v":{"$error":"#N/A"}},{"$f":"IF(ISNA(VLOOKUP(AD34,'DocFlagstoListMembe(w)'!A:L,3,FALSE)),\"\",VLOOKUP(AB34,'DocFlagstoListMembe(w)'!A:L,3,FALSE))","v":""},null,{"$f":"IF(AA34=\"\",\"\",COUNT(Z$18:$Z33,\">0\")+1)","v":6},{"$f":"IF(COUNTIF(Y$18:$Y34,Y34)<>1,\"\",Y34)","v":0},null,{"$error":"#N/A"},17,null,"BP65","BP65 - Creation of arteriovenous fistula for dialysis","BP65","Creation of arteriovenous fistula for dialysis"]
[null,{"$f":"IF($AD35>$AD$17,\"\",VLOOKUP($AD35,'Codes(W)'!B:H,4,FALSE))","v":"OPCS"},{"$f":"IF($AD35>$AD$17,\"\",VLOOKUP($AD35,'Codes(W)'!B:H,5,FALSE))","v":"W381"},{"$f":"IF($AD35>$AD$17,\"\",VLOOKUP($AD35,'Codes(W)'!B:H,6,FALSE))","v":"Primary total prosthetic replacement of hip joint not using cement"},{"$f":"IF($AD35>$AD$17,\"\",IF(VLOOKUP($AD35,'Codes(W)'!B:H,7,FALSE)=0,\" \",VLOOKUP($AD35,'Codes(W)'!B:H,7,FALSE)))","v":" "},{"$f":"IF($AD35>$AD$17,\"\",VLOOKUP($AD35,'Codes(W)'!B:H,2,FALSE))","v":"BP_FHF_OPCS"}," ",null,{"$f":"IF(ISNA('Eligible(W)'!O19),\"\",'Eligible(W)'!O19)","v":"VA12D"},{"$f":"IF(ISNA(VLOOKUP(I35,Hierarchy!A:B,2,FALSE)),\"\",VLOOKUP(I35,Hierarchy!A:B,2,FALSE))","v":""},null,{"$f":"IF(U35=TRUE,'Eligible(W)'!H19,'Eligible(W)'!H19)","v":"VA12D - BP_FHF"},null,{"$f":"IF(ISNA(VLOOKUP(AD35,'DocFlagstoListMembe(w)'!A:L,12,FALSE)),\"\",VLOOKUP(AD35,'DocFlagstoListMembe(w)'!A:L,12,FALSE))","v":""},null,{"$f":"IF(ISNA(VLOOKUP(W35,'DocFlagstoListMembe(w)'!B:H,7,FALSE)),\"\",VLOOKUP(W35,'DocFlagstoListMembe(w)'!B:H,7,FALSE))","v":""},{"$f":"IF(ISNA(VLOOKUP(W35,'DocFlagstoListMembe(w)'!B:I,8,FALSE)),\"\",VLOOKUP(W35,'DocFlagstoListMembe(w)'!B:I,8,FALSE))","v":""},null,null,null,{"$f":"ISERROR(HYPERLINK(\"#e\"&(MATCH(MID('Eligible(W)'!H19,9,100),K:K,0)),'Eligible(W)'!H19))","v":true},null,{"$f":"VLOOKUP(AD35,'DocFlagstoListMembe(w)'!A:H,2,FALSE)","v":{"$error":"#N/A"}},{"$f":"IF(ISNA(VLOOKUP(AD35,'DocFlagstoListMembe(w)'!A:L,3,FALSE)),\"\",VLOOKUP(AB35,'DocFlagstoListMembe(w)'!A:L,3,FALSE))","v":""},null,{"$f":"IF(AA35=\"\",\"\",COUNT(Z$18:$Z34,\">0\")+1)","v":7},{"$f":"IF(COUNTIF(Y$18:$Y35,Y35)<>1,\"\",Y35)","v":0},null,{"$error":"#N/A"},18,null,"BP66","BP66 - Dacryocysto-rhinostomy including insertion of tube","BP66","Dacryocysto-rhinostomy including insertion of tube"]
[null,{"$f":"IF($AD36>$AD$17,\"\",VLOOKUP($AD36,'Codes(W)'!B:H,4,FALSE))","v":"OPCS"},{"$f":"IF($AD36>$AD$17,\"\",VLOOKUP($AD36,'Codes(W)'!B:H,5,FALSE))","v":"W391"},{"$f":"IF($AD36>$AD$17,\"\",VLOOKUP($AD36,'Codes(W)'!B:H,6,FALSE))","v":"Primary total prosthetic replacement of hip joint NEC"},{"$f":"IF($AD36>$AD$17,\"\",IF(VLOOKUP($AD36,'Codes(W)'!B:H,7,FALSE)=0,\" \",VLOOKUP($AD36,'Codes(W)'!B:H,7,FALSE)))","v":" "},{"$f":"IF($AD36>$AD$17,\"\",VLOOKUP($AD36,'Codes(W)'!B:H,2,FALSE))","v":"BP_FHF_OPCS"}," ",null,{"$f":"IF(ISNA('Eligible(W)'!O20),\"\",'Eligible(W)'!O20)","v":""},{"$f":"IF(ISNA(VLOOKUP(I36,Hierarchy!A:B,2,FALSE)),\"\",VLOOKUP(I36,Hierarchy!A:B,2,FALSE))","v":""},null,{"$f":"IF(U36=TRUE,'Eligible(W)'!H20,'Eligible(W)'!H20)","v":""},null,{"$f":"IF(ISNA(VLOOKUP(AD36,'DocFlagstoListMembe(w)'!A:L,12,FALSE)),\"\",VLOOKUP(AD36,'DocFlagstoListMembe(w)'!A:L,12,FALSE))","v":""},null,{"$f":"IF(ISNA(VLOOKUP(W36,'DocFlagstoListMembe(w)'!B:H,7,FALSE)),\"\",VLOOKUP(W36,'DocFlagstoListMembe(w)'!B:H,7,FALSE))","v":""},{"$f":"IF(ISNA(VLOOKUP(W36,'DocFlagstoListMembe(w)'!B:I,8,FALSE)),\"\",VLOOKUP(W36,'DocFlagstoListMembe(w)'!B:I,8,FALSE))","v":""},null,null,null,{"$f":"ISERROR(HYPERLINK(\"#e\"&(MATCH(MID('Eligible(W)'!H20,9,100),K:K,0)),'Eligible(W)'!H20))","v":true},null,{"$f":"VLOOKUP(AD36,'DocFlagstoListMembe(w)'!A:H,2,FALSE)","v":{"$error":"#N/A"}},{"$f":"IF(ISNA(VLOOKUP(AD36,'DocFlagstoListMembe(w)'!A:L,3,FALSE)),\"\",VLOOKUP(AB36,'DocFlagstoListMembe(w)'!A:L,3,FALSE))","v":""},null,{"$f":"IF(AA36=\"\",\"\",COUNT(Z$18:$Z35,\">0\")+1)","v":8},{"$f":"IF(COUNTIF(Y$18:$Y36,Y36)<>1,\"\",Y36)","v":0},null,{"$error":"#N/A"},19,null,"BP68","BP68 - Endoscopic insertion of prosthesis into ureter","BP68","Endoscopic insertion of prosthesis into ureter"]
[null,{"$f":"IF($AD37>$AD$17,\"\",VLOOKUP($AD37,'Codes(W)'!B:H,4,FALSE))","v":"OPCS"},{"$f":"IF($AD37>$AD$17,\"\",VLOOKUP($AD37,'Codes(W)'!B:H,5,FALSE))","v":"W461"},{"$f":"IF($AD37>$AD$17,\"\",VLOOKUP($AD37,'Codes(W)'!B:H,6,FALSE))","v":"Primary prosthetic replacement of head of femur using cement"},{"$f":"IF($AD37>$AD$17,\"\",IF(VLOOKUP($AD37,'Codes(W)'!B:H,7,FALSE)=0,\" \",VLOOKUP($AD37,'Codes(W)'!B:H,7,FALSE)))","v":" "},{"$f":"IF($AD37>$AD$17,\"\",VLOOKUP($AD37,'Codes(W)'!B:H,2,FALSE))","v":"BP_FHF_OPCS"}," ",null,{"$f":"IF(ISNA('Eligible(W)'!O21),\"\",'Eligible(W)'!O21)","v":""},null,null,{"$f":"IF(U37=TRUE,'Eligible(W)'!H21,'Eligible(W)'!H21)","v":""},null,{"$f":"IF(ISNA(VLOOKUP(AD37,'DocFlagstoListMembe(w)'!A:L,12,FALSE)),\"\",VLOOKUP(AD37,'DocFlagstoListMembe(w)'!A:L,12,FALSE))","v":""},null,{"$f":"IF(ISNA(VLOOKUP(W37,'DocFlagstoListMembe(w)'!B:H,7,FALSE)),\"\",VLOOKUP(W37,'DocFlagstoListMembe(w)'!B:H,7,FALSE))","v":""},{"$f":"IF(ISNA(VLOOKUP(W37,'DocFlagstoListMembe(w)'!B:I,8,FALSE)),\"\",VLOOKUP(W37,'DocFlagstoListMembe(w)'!B:I,8,FALSE))","v":""},null,null,null,{"$f":"ISERROR(HYPERLINK(\"#e\"&(MATCH(MID('Eligible(W)'!H21,9,100),K:K,0)),'Eligible(W)'!H21))","v":true},null,{"$f":"VLOOKUP(AD37,'DocFlagstoListMembe(w)'!A:H,2,FALSE)","v":{"$error":"#N/A"}},{"$f":"IF(ISNA(VLOOKUP(AD37,'DocFlagstoListMembe(w)'!A:L,3,FALSE)),\"\",VLOOKUP(AB37,'DocFlagstoListMembe(w)'!A:L,3,FALSE))","v":""},null,{"$f":"IF(AA37=\"\",\"\",COUNT(Z$18:$Z36,\">0\")+1)","v":9},{"$f":"IF(COUNTIF(Y$18:$Y37,Y37)<>1,\"\",Y37)","v":0},null,{"$error":"#N/A"},20,null,"BP69","BP69 - Excision biopsy of lymph node for diagnosis (cervical, inguinal, axillary)","BP69","Excision biopsy of lymph node for diagnosis (cervical, inguinal, axillary)"]
[null,{"$f":"IF($AD38>$AD$17,\"\",VLOOKUP($AD38,'Codes(W)'!B:H,4,FALSE))","v":"OPCS"},{"$f":"IF($AD38>$AD$17,\"\",VLOOKUP($AD38,'Codes(W)'!B:H,5,FALSE))","v":"W471"},{"$f":"IF($AD38>$AD$17,\"\",VLOOKUP($AD38,'Codes(W)'!B:H,6,FALSE))","v":"Primary prosthetic replacement of head of femur not using cement"},{"$f":"IF($AD38>$AD$17,\"\",IF(VLOOKUP($AD38,'Codes(W)'!B:H,7,FALSE)=0,\" \",VLOOKUP($AD38,'Codes(W)'!B:H,7,FALSE)))","v":" "},{"$f":"IF($AD38>$AD$17,\"\",VLOOKUP($AD38,'Codes(W)'!B:H,2,FALSE))","v":"BP_FHF_OPCS"}," ",null,{"$f":"IF(ISNA('Eligible(W)'!O22),\"\",'Eligible(W)'!O22)","v":""},{"$f":"IF(ISNA(VLOOKUP(I38,Hierarchy!A:B,2,FALSE)),\"\",VLOOKUP(I38,Hierarchy!A:B,2,FALSE))","v":""},null,{"$f":"IF(U38=TRUE,'Eligible(W)'!H22,'Eligible(W)'!H22)","v":""},null,{"$f":"IF(ISNA(VLOOKUP(AD38,'DocFlagstoListMembe(w)'!A:L,12,FALSE)),\"\",VLOOKUP(AD38,'DocFlagstoListMembe(w)'!A:L,12,FALSE))","v":""},null,{"$f":"IF(ISNA(VLOOKUP(W38,'DocFlagstoListMembe(w)'!B:H,7,FALSE)),\"\",VLOOKUP(W38,'DocFlagstoListMembe(w)'!B:H,7,FALSE))","v":""},{"$f":"IF(ISNA(VLOOKUP(W38,'DocFlagstoListMembe(w)'!B:I,8,FALSE)),\"\",VLOOKUP(W38,'DocFlagstoListMembe(w)'!B:I,8,FALSE))","v":""},null,null,null,{"$f":"ISERROR(HYPERLINK(\"#e\"&(MATCH(MID('Eligible(W)'!H22,9,100),K:K,0)),'Eligible(W)'!H22))","v":true},null,{"$f":"VLOOKUP(AD38,'DocFlagstoListMembe(w)'!A:H,2,FALSE)","v":{"$error":"#N/A"}},{"$f":"IF(ISNA(VLOOKUP(AD38,'DocFlagstoListMembe(w)'!A:L,3,FALSE)),\"\",VLOOKUP(AB38,'DocFlagstoListMembe(w)'!A:L,3,FALSE))","v":""},null,{"$f":"IF(AA38=\"\",\"\",COUNT(Z$18:$Z37,\">0\")+1)","v":10},{"$f":"IF(COUNTIF(Y$18:$Y38,Y38)<>1,\"\",Y38)","v":0},null,{"$error":"#N/A"},21,null,"BP73","BP73 - Optical urethrotomy","BP73","Optical urethrotomy"]
[null,{"$f":"IF($AD39>$AD$17,\"\",VLOOKUP($AD39,'Codes(W)'!B:H,4,FALSE))","v":"OPCS"},{"$f":"IF($AD39>$AD$17,\"\",VLOOKUP($AD39,'Codes(W)'!B:H,5,FALSE))","v":"W481"},{"$f":"IF($AD39>$AD$17,\"\",VLOOKUP($AD39,'Codes(W)'!B:H,6,FALSE))","v":"Primary prosthetic replacement of head of femur NEC"},{"$f":"IF($AD39>$AD$17,\"\",IF(VLOOKUP($AD39,'Codes(W)'!B:H,7,FALSE)=0,\" \",VLOOKUP($AD39,'Codes(W)'!B:H,7,FALSE)))","v":" "},{"$f":"IF($AD39>$AD$17,\"\",VLOOKUP($AD39,'Codes(W)'!B:H,2,FALSE))","v":"BP_FHF_OPCS"}," ",null,{"$f":"IF(ISNA('Eligible(W)'!O23),\"\",'Eligible(W)'!O23)","v":""},{"$f":"IF(ISNA(VLOOKUP(I39,Hierarchy!A:B,2,FALSE)),\"\",VLOOKUP(I39,Hierarchy!A:B,2,FALSE))","v":""},null,{"$f":"IF(U39=TRUE,'Eligible(W)'!H23,'Eligible(W)'!H23)","v":""},null,{"$f":"IF(ISNA(VLOOKUP(AD39,'DocFlagstoListMembe(w)'!A:L,12,FALSE)),\"\",VLOOKUP(AD39,'DocFlagstoListMembe(w)'!A:L,12,FALSE))","v":""},null,{"$f":"IF(ISNA(VLOOKUP(W39,'DocFlagstoListMembe(w)'!B:H,7,FALSE)),\"\",VLOOKUP(W39,'DocFlagstoListMembe(w)'!B:H,7,FALSE))","v":""},{"$f":"IF(ISNA(VLOOKUP(W39,'DocFlagstoListMembe(w)'!B:I,8,FALSE)),\"\",VLOOKUP(W39,'DocFlagstoListMembe(w)'!B:I,8,FALSE))","v":""},null,null,null,{"$f":"ISERROR(HYPERLINK(\"#e\"&(MATCH(MID('Eligible(W)'!H23,9,100),K:K,0)),'Eligible(W)'!H23))","v":true},null,{"$f":"VLOOKUP(AD39,'DocFlagstoListMembe(w)'!A:H,2,FALSE)","v":{"$error":"#N/A"}},{"$f":"IF(ISNA(VLOOKUP(AD39,'DocFlagstoListMembe(w)'!A:L,3,FALSE)),\"\",VLOOKUP(AB39,'DocFlagstoListMembe(w)'!A:L,3,FALSE))","v":""},null,{"$f":"IF(AA39=\"\",\"\",COUNT(Z$18:$Z38,\">0\")+1)","v":11},{"$f":"IF(COUNTIF(Y$18:$Y39,Y39)<>1,\"\",Y39)","v":0},null,{"$error":"#N/A"},22,null,"BP74","BP74 - Polypectomy of internal nose","BP74","Polypectomy of internal nose"]
[null,{"$f":"IF($AD40>$AD$17,\"\",VLOOKUP($AD40,'Codes(W)'!B:H,4,FALSE))","v":"OPCS"},{"$f":"IF($AD40>$AD$17,\"\",VLOOKUP($AD40,'Codes(W)'!B:H,5,FALSE))","v":"W572"},{"$f":"IF($AD40>$AD$17,\"\",VLOOKUP($AD40,'Codes(W)'!B:H,6,FALSE))","v":"Primary excision arthroplasty of joint NEC"},{"$f":"IF($AD40>$AD$17,\"\",IF(VLOOKUP($AD40,'Codes(W)'!B:H,7,FALSE)=0,\" \",VLOOKUP($AD40,'Codes(W)'!B:H,7,FALSE)))","v":" "},{"$f":"IF($AD40>$AD$17,\"\",VLOOKUP($AD40,'Codes(W)'!B:H,2,FALSE))","v":"BP_FHF_OPCS"}," ",null,{"$f":"IF(ISNA('Eligible(W)'!O24),\"\",'Eligible(W)'!O24)","v":""},{"$f":"IF(ISNA(VLOOKUP(I40,Hierarchy!A:B,2,FALSE)),\"\",VLOOKUP(I40,Hierarchy!A:B,2,FALSE))","v":""},null,{"$f":"IF(U40=TRUE,'Eligible(W)'!H24,'Eligible(W)'!H24)","v":""},null,null,null,{"$f":"IF(ISNA(VLOOKUP(W40,'DocFlagstoListMembe(w)'!B:H,7,FALSE)),\"\",VLOOKUP(W40,'DocFlagstoListMembe(w)'!B:H,7,FALSE))","v":""},{"$f":"IF(ISNA(VLOOKUP(W40,'DocFlagstoListMembe(w)'!B:I,8,FALSE)),\"\",VLOOKUP(W40,'DocFlagstoListMembe(w)'!B:I,8,FALSE))","v":""},null,null,null,{"$f":"ISERROR(HYPERLINK(\"#e\"&(MATCH(MID('Eligible(W)'!H24,9,100),K:K,0)),'Eligible(W)'!H24))","v":true},null,null,null,null,null,null,null,{"$error":"#N/A"},23,null,"BP76","BP76 - Repair of other abdominal hernia","BP76","Repair of other abdominal hernia"]
[null,{"$f":"IF($AD41>$AD$17,\"\",VLOOKUP($AD41,'Codes(W)'!B:H,4,FALSE))","v":"OPCS"},{"$f":"IF($AD41>$AD$17,\"\",VLOOKUP($AD41,'Codes(W)'!B:H,5,FALSE))","v":"W654"},{"$f":"IF($AD41>$AD$17,\"\",VLOOKUP($AD41,'Codes(W)'!B:H,6,FALSE))","v":"Primary open reduction of fracture dislocation of joint and internal fixation NEC"},{"$f":"IF($AD41>$AD$17,\"\",IF(VLOOKUP($AD41,'Codes(W)'!B:H,7,FALSE)=0,\" \",VLOOKUP($AD41,'Codes(W)'!B:H,7,FALSE)))","v":" "},{"$f":"IF($AD41>$AD$17,\"\",VLOOKUP($AD41,'Codes(W)'!B:H,2,FALSE))","v":"BP_FHF_OPCS"}," ",null,{"$f":"IF(ISNA('Eligible(W)'!O25),\"\",'Eligible(W)'!O25)","v":""},{"$f":"IF(ISNA(VLOOKUP(I41,Hierarchy!A:B,2,FALSE)),\"\",VLOOKUP(I41,Hierarchy!A:B,2,FALSE))","v":""},null,{"$f":"IF(U41=TRUE,'Eligible(W)'!H25,'Eligible(W)'!H25)","v":""},null,null,null,{"$f":"IF(ISNA(VLOOKUP(W41,'DocFlagstoListMembe(w)'!B:H,7,FALSE)),\"\",VLOOKUP(W41,'DocFlagstoListMembe(w)'!B:H,7,FALSE))","v":""},{"$f":"IF(ISNA(VLOOKUP(W41,'DocFlagstoListMembe(w)'!B:I,8,FALSE)),\"\",VLOOKUP(W41,'DocFlagstoListMembe(w)'!B:I,8,FALSE))","v":""},null,null,null,{"$f":"ISERROR(HYPERLINK(\"#e\"&(MATCH(MID('Eligible(W)'!H25,9,100),K:K,0)),'Eligible(W)'!H25))","v":true},null,null,null,null,null,null,null,{"$error":"#N/A"},24,null,"BP77","BP77 - Transluminal operations on iliac and femoral artery","BP77","Transluminal operations on iliac and femoral artery"]
[null,{"$f":"IF($AD42>$AD$17,\"\",VLOOKUP($AD42,'Codes(W)'!B:H,4,FALSE))","v":"OPCS"},{"$f":"IF($AD42>$AD$17,\"\",VLOOKUP($AD42,'Codes(W)'!B:H,5,FALSE))","v":"W931"},{"$f":"IF($AD42>$AD$17,\"\",VLOOKUP($AD42,'Codes(W)'!B:H,6,FALSE))","v":"Primary hybrid prosthetic replacement of hip joint using cemented acetabular component"},{"$f":"IF($AD42>$AD$17,\"\",IF(VLOOKUP($AD42,'Codes(W)'!B:H,7,FALSE)=0,\" \",VLOOKUP($AD42,'Codes(W)'!B:H,7,FALSE)))","v":" "},{"$f":"IF($AD42>$AD$17,\"\",VLOOKUP($AD42,'Codes(W)'!B:H,2,FALSE))","v":"BP_FHF_OPCS"}," ",null,{"$f":"IF(ISNA('Eligible(W)'!O26),\"\",'Eligible(W)'!O26)","v":""},{"$f":"IF(ISNA(VLOOKUP(I42,Hierarchy!A:B,2,FALSE)),\"\",VLOOKUP(I42,Hierarchy!A:B,2,FALSE))","v":""},null,{"$f":"IF(U42=TRUE,'Eligible(W)'!H26,'Eligible(W)'!H26)","v":""},null,null,null,{"$f":"IF(ISNA(VLOOKUP(W42,'DocFlagstoListMembe(w)'!B:H,7,FALSE)),\"\",VLOOKUP(W42,'DocFlagstoListMembe(w)'!B:H,7,FALSE))","v":""},{"$f":"IF(ISNA(VLOOKUP(W42,'DocFlagstoListMembe(w)'!B:I,8,FALSE)),\"\",VLOOKUP(W42,'DocFlagstoListMembe(w)'!B:I,8,FALSE))","v":""},null,null,null,{"$f":"ISERROR(HYPERLINK(\"#e\"&(MATCH(MID('Eligible(W)'!H26,9,100),K:K,0)),'Eligible(W)'!H26))","v":true},null,null,null,null,null,null,null,{"$error":"#N/A"},25,null,"BP78","BP78 - Ureteroscopic extraction of calculus of ureter","BP78","Ureteroscopic extraction of calculus of ureter"]
[null,{"$f":"IF($AD43>$AD$17,\"\",VLOOKUP($AD43,'Codes(W)'!B:H,4,FALSE))","v":"OPCS"},{"$f":"IF($AD43>$AD$17,\"\",VLOOKUP($AD43,'Codes(W)'!B:H,5,FALSE))","v":"W941"},{"$f":"IF($AD43>$AD$17,\"\",VLOOKUP($AD43,'Codes(W)'!B:H,6,FALSE))","v":"Primary hybrid prosthetic replacement of hip joint using cemented femoral component"},{"$f":"IF($AD43>$AD$17,\"\",IF(VLOOKUP($AD43,'Codes(W)'!B:H,7,FALSE)=0,\" \",VLOOKUP($AD43,'Codes(W)'!B:H,7,FALSE)))","v":" "},{"$f":"IF($AD43>$AD$17,\"\",VLOOKUP($AD43,'Codes(W)'!B:H,2,FALSE))","v":"BP_FHF_OPCS"}," ",null,{"$f":"IF(ISNA('Eligible(W)'!O27),\"\",'Eligible(W)'!O27)","v":""},{"$f":"IF(ISNA(VLOOKUP(I43,Hierarchy!A:B,2,FALSE)),\"\",VLOOKUP(I43,Hierarchy!A:B,2,FALSE))","v":""},null,{"$f":"IF(U43=TRUE,'Eligible(W)'!H27,'Eligible(W)'!H27)","v":""},null,null,null,{"$f":"IF(ISNA(VLOOKUP(W43,'DocFlagstoListMembe(w)'!B:H,7,FALSE)),\"\",VLOOKUP(W43,'DocFlagstoListMembe(w)'!B:H,7,FALSE))","v":""},{"$f":"IF(ISNA(VLOOKUP(W43,'DocFlagstoListMembe(w)'!B:I,8,FALSE)),\"\",VLOOKUP(W43,'DocFlagstoListMembe(w)'!B:I,8,FALSE))","v":""},{"$f":"IF(O43=\"\",\"\",COUNTIF('Codes(W)'!#REF!,O43))","v":""},null,null,{"$f":"ISERROR(HYPERLINK(\"#e\"&(MATCH(MID('Eligible(W)'!H27,9,100),K:K,0)),'Eligible(W)'!H27))","v":true},null,null,null,null,null,null,null,{"$error":"#N/A"},26,null,"BP79","BP79 - Laparoscopic oophorectomy and salpingectomy (including bilateral)","BP79","Laparoscopic oophorectomy and salpingectomy (including bilateral)"]
[null,{"$f":"IF($AD44>$AD$17,\"\",VLOOKUP($AD44,'Codes(W)'!B:H,4,FALSE))","v":"OPCS"},{"$f":"IF($AD44>$AD$17,\"\",VLOOKUP($AD44,'Codes(W)'!B:H,5,FALSE))","v":"W951"},{"$f":"IF($AD44>$AD$17,\"\",VLOOKUP($AD44,'Codes(W)'!B:H,6,FALSE))","v":"Primary hybrid prosthetic replacement of hip joint using cement NEC"},{"$f":"IF($AD44>$AD$17,\"\",IF(VLOOKUP($AD44,'Codes(W)'!B:H,7,FALSE)=0,\" \",VLOOKUP($AD44,'Codes(W)'!B:H,7,FALSE)))","v":" "},{"$f":"IF($AD44>$AD$17,\"\",VLOOKUP($AD44,'Codes(W)'!B:H,2,FALSE))","v":"BP_FHF_OPCS"}," ",null,{"$f":"IF(ISNA('Eligible(W)'!O28),\"\",'Eligible(W)'!O28)","v":""},{"$f":"IF(ISNA(VLOOKUP(I44,Hierarchy!A:B,2,FALSE)),\"\",VLOOKUP(I44,Hierarchy!A:B,2,FALSE))","v":""},null,{"$f":"IF(U44=TRUE,'Eligible(W)'!H28,'Eligible(W)'!H28)","v":""},null,null,null,{"$f":"IF(ISNA(VLOOKUP(W44,'DocFlagstoListMembe(w)'!B:H,7,FALSE)),\"\",VLOOKUP(W44,'DocFlagstoListMembe(w)'!B:H,7,FALSE))","v":""},{"$f":"IF(ISNA(VLOOKUP(W44,'DocFlagstoListMembe(w)'!B:I,8,FALSE)),\"\",VLOOKUP(W44,'DocFlagstoListMembe(w)'!B:I,8,FALSE))","v":""},{"$f":"IF(O44=\"\",\"\",COUNTIF('Codes(W)'!#REF!,O44))","v":""},null,null,{"$f":"ISERROR(HYPERLINK(\"#e\"&(MATCH(MID('Eligible(W)'!H28,9,100),K:K,0)),'Eligible(W)'!H28))","v":true},null,null,null,null,null,null,null,{"$error":"#N/A"},27,null,"BP80","BP80 - Abnormal liver function","BP80","Abnormal liver function"]
[null,{"$f":"IF($AD45>$AD$17,\"\",VLOOKUP($AD45,'Codes(W)'!B:H,4,FALSE))","v":""},{"$f":"IF($AD45>$AD$17,\"\",VLOOKUP($AD45,'Codes(W)'!B:H,5,FALSE))","v":""},{"$f":"IF($AD45>$AD$17,\"\",VLOOKUP($AD45,'Codes(W)'!B:H,6,FALSE))","v":""},{"$f":"IF($AD45>$AD$17,\"\",IF(VLOOKUP($AD45,'Codes(W)'!B:H,7,FALSE)=0,\" \",VLOOKUP($AD45,'Codes(W)'!B:H,7,FALSE)))","v":""},{"$f":"IF($AD45>$AD$17,\"\",VLOOKUP($AD45,'Codes(W)'!B:H,2,FALSE))","v":""},"",null,{"$f":"IF(ISNA('Eligible(W)'!O29),\"\",'Eligible(W)'!O29)","v":""},{"$f":"IF(ISNA(VLOOKUP(I45,Hierarchy!A:B,2,FALSE)),\"\",VLOOKUP(I45,Hierarchy!A:B,2,FALSE))","v":""},null,{"$f":"IF(U45=TRUE,'Eligible(W)'!H29,'Eligible(W)'!H29)","v":""},null,null,null,{"$f":"IF(ISNA(VLOOKUP(W45,'DocFlagstoListMembe(w)'!B:H,7,FALSE)),\"\",VLOOKUP(W45,'DocFlagstoListMembe(w)'!B:H,7,FALSE))","v":""},{"$f":"IF(ISNA(VLOOKUP(W45,'DocFlagstoListMembe(w)'!B:I,8,FALSE)),\"\",VLOOKUP(W45,'DocFlagstoListMembe(w)'!B:I,8,FALSE))","v":""},{"$f":"IF(O45=\"\",\"\",COUNTIF('Codes(W)'!#REF!,O45))","v":""},null,null,{"$f":"ISERROR(HYPERLINK(\"#e\"&(MATCH(MID('Eligible(W)'!H29,9,100),K:K,0)),'Eligible(W)'!H29))","v":true},null,null,null,null,null,null,null,{"$error":"#N/A"},28,null,"BP81","BP81 - Acutely hot painful joint","BP81","Acutely hot painful joint"]
[null,{"$f":"IF($AD46>$AD$17,\"\",VLOOKUP($AD46,'Codes(W)'!B:H,4,FALSE))","v":""},{"$f":"IF($AD46>$AD$17,\"\",VLOOKUP($AD46,'Codes(W)'!B:H,5,FALSE))","v":""},{"$f":"IF($AD46>$AD$17,\"\",VLOOKUP($AD46,'Codes(W)'!B:H,6,FALSE))","v":""},{"$f":"IF($AD46>$AD$17,\"\",IF(VLOOKUP($AD46,'Codes(W)'!B:H,7,FALSE)=0,\" \",VLOOKUP($AD46,'Codes(W)'!B:H,7,FALSE)))","v":""},{"$f":"IF($AD46>$AD$17,\"\",VLOOKUP($AD46,'Codes(W)'!B:H,2,FALSE))","v":""},"",null,{"$f":"IF(ISNA('Eligible(W)'!O30),\"\",'Eligible(W)'!O30)","v":""},{"$f":"IF(ISNA(VLOOKUP(I46,Hierarchy!A:B,2,FALSE)),\"\",VLOOKUP(I46,Hierarchy!A:B,2,FALSE))","v":""},null,{"$f":"IF(U46=TRUE,'Eligible(W)'!H30,'Eligible(W)'!H30)","v":""},null,null,null,{"$f":"IF(ISNA(VLOOKUP(W46,'DocFlagstoListMembe(w)'!B:H,7,FALSE)),\"\",VLOOKUP(W46,'DocFlagstoListMembe(w)'!B:H,7,FALSE))","v":""},{"$f":"IF(ISNA(VLOOKUP(W46,'DocFlagstoListMembe(w)'!B:I,8,FALSE)),\"\",VLOOKUP(W46,'DocFlagstoListMembe(w)'!B:I,8,FALSE))","v":""},{"$f":"IF(O46=\"\",\"\",COUNTIF('Codes(W)'!#REF!,O46))","v":""},null,null,{"$f":"ISERROR(HYPERLINK(\"#e\"&(MATCH(MID('Eligible(W)'!H30,9,100),K:K,0)),'Eligible(W)'!H30))","v":true},null,null,null,null,null,null,null,{"$error":"#N/A"},29,null,"BP82","BP82 - Chronic indwelling catheter related problems","BP82","Chronic indwelling catheter related problems"]
[null,{"$f":"IF($AD47>$AD$17,\"\",VLOOKUP($AD47,'Codes(W)'!B:H,4,FALSE))","v":""},{"$f":"IF($AD47>$AD$17,\"\",VLOOKUP($AD47,'Codes(W)'!B:H,5,FALSE))","v":""},{"$f":"IF($AD47>$AD$17,\"\",VLOOKUP($AD47,'Codes(W)'!B:H,6,FALSE))","v":""},{"$f":"IF($AD47>$AD$17,\"\",IF(VLOOKUP($AD47,'Codes(W)'!B:H,7,FALSE)=0,\" \",VLOOKUP($AD47,'Codes(W)'!B:H,7,FALSE)))","v":""},{"$f":"IF($AD47>$AD$17,\"\",VLOOKUP($AD47,'Codes(W)'!B:H,2,FALSE))","v":""},"",null,{"$f":"IF(ISNA('Eligible(W)'!O31),\"\",'Eligible(W)'!O31)","v":""},{"$f":"IF(ISNA(VLOOKUP(I47,Hierarchy!A:B,2,FALSE)),\"\",VLOOKUP(I47,Hierarchy!A:B,2,FALSE))","v":""},null,{"$f":"IF(U47=TRUE,'Eligible(W)'!H31,'Eligible(W)'!H31)","v":""},null,null,null,{"$f":"IF(ISNA(VLOOKUP(W47,'DocFlagstoListMembe(w)'!B:H,7,FALSE)),\"\",VLOOKUP(W47,'DocFlagstoListMembe(w)'!B:H,7,FALSE))","v":""},{"$f":"IF(ISNA(VLOOKUP(W47,'DocFlagstoListMembe(w)'!B:I,8,FALSE)),\"\",VLOOKUP(W47,'DocFlagstoListMembe(w)'!B:I,8,FALSE))","v":""},{"$f":"IF(O47=\"\",\"\",COUNTIF('Codes(W)'!#REF!,O47))","v":""},null,null,{"$f":"ISERROR(HYPERLINK(\"#e\"&(MATCH(MID('Eligible(W)'!H31,9,100),K:K,0)),'Eligible(W)'!H31))","v":true},null,null,null,null,null,null,null,{"$error":"#N/A"},30,null,"BP83","BP83 - Gastroenteritis","BP83","Gastroenteritis"]
[null,{"$f":"IF($AD48>$AD$17,\"\",VLOOKUP($AD48,'Codes(W)'!B:H,4,FALSE))","v":""},{"$f":"IF($AD48>$AD$17,\"\",VLOOKUP($AD48,'Codes(W)'!B:H,5,FALSE))","v":""},{"$f":"IF($AD48>$AD$17,\"\",VLOOKUP($AD48,'Codes(W)'!B:H,6,FALSE))","v":""},{"$f":"IF($AD48>$AD$17,\"\",IF(VLOOKUP($AD48,'Codes(W)'!B:H,7,FALSE)=0,\" \",VLOOKUP($AD48,'Codes(W)'!B:H,7,FALSE)))","v":""},{"$f":"IF($AD48>$AD$17,\"\",VLOOKUP($AD48,'Codes(W)'!B:H,2,FALSE))","v":""},"",null,{"$f":"IF(ISNA('Eligible(W)'!O32),\"\",'Eligible(W)'!O32)","v":""},{"$f":"IF(ISNA(VLOOKUP(I48,Hierarchy!A:B,2,FALSE)),\"\",VLOOKUP(I48,Hierarchy!A:B,2,FALSE))","v":""},null,{"$f":"IF(U48=TRUE,'Eligible(W)'!H32,'Eligible(W)'!H32)","v":""},null,null,null,{"$f":"IF(ISNA(VLOOKUP(W48,'DocFlagstoListMembe(w)'!B:H,7,FALSE)),\"\",VLOOKUP(W48,'DocFlagstoListMembe(w)'!B:H,7,FALSE))","v":""},{"$f":"IF(ISNA(VLOOKUP(W48,'DocFlagstoListMembe(w)'!B:I,8,FALSE)),\"\",VLOOKUP(W48,'DocFlagstoListMembe(w)'!B:I,8,FALSE))","v":""},{"$f":"IF(O48=\"\",\"\",COUNTIF('Codes(W)'!#REF!,O48))","v":""},null,null,{"$f":"ISERROR(HYPERLINK(\"#e\"&(MATCH(MID('Eligible(W)'!H32,9,100),K:K,0)),'Eligible(W)'!H32))","v":true},null,null,null,null,null,null,null,{"$error":"#N/A"},31,null,"BP84","BP84 - Upper gastro-intestinal haemorrhage","BP84","Upper gastro-intestinal haemorrhage"]
[null,{"$f":"IF($AD49>$AD$17,\"\",VLOOKUP($AD49,'Codes(W)'!B:H,4,FALSE))","v":""},{"$f":"IF($AD49>$AD$17,\"\",VLOOKUP($AD49,'Codes(W)'!B:H,5,FALSE))","v":""},{"$f":"IF($AD49>$AD$17,\"\",VLOOKUP($AD49,'Codes(W)'!B:H,6,FALSE))","v":""},{"$f":"IF($AD49>$AD$17,\"\",IF(VLOOKUP($AD49,'Codes(W)'!B:H,7,FALSE)=0,\" \",VLOOKUP($AD49,'Codes(W)'!B:H,7,FALSE)))","v":""},{"$f":"IF($AD49>$AD$17,\"\",VLOOKUP($AD49,'Codes(W)'!B:H,2,FALSE))","v":""},"",null,{"$f":"IF(ISNA('Eligible(W)'!O33),\"\",'Eligible(W)'!O33)","v":""},{"$f":"IF(ISNA(VLOOKUP(I49,Hierarchy!A:B,2,FALSE)),\"\",VLOOKUP(I49,Hierarchy!A:B,2,FALSE))","v":""},null,{"$f":"IF(U49=TRUE,'Eligible(W)'!H33,'Eligible(W)'!H33)","v":""},null,null,null,{"$f":"IF(ISNA(VLOOKUP(W49,'DocFlagstoListMembe(w)'!B:H,7,FALSE)),\"\",VLOOKUP(W49,'DocFlagstoListMembe(w)'!B:H,7,FALSE))","v":""},{"$f":"IF(ISNA(VLOOKUP(W49,'DocFlagstoListMembe(w)'!B:I,8,FALSE)),\"\",VLOOKUP(W49,'DocFlagstoListMembe(w)'!B:I,8,FALSE))","v":""},{"$f":"IF(O49=\"\",\"\",COUNTIF('Codes(W)'!#REF!,O49))","v":""},null,null,{"$f":"ISERROR(HYPERLINK(\"#e\"&(MATCH(MID('Eligible(W)'!H33,9,100),K:K,0)),'Eligible(W)'!H33))","v":true},null,null,null,null,null,null,null,{"$error":"#N/A"},32,null,"BP85","BP85 - Urinary tract infections","BP85","Urinary tract infections"]
[null,{"$f":"IF($AD50>$AD$17,\"\",VLOOKUP($AD50,'Codes(W)'!B:H,4,FALSE))","v":""},{"$f":"IF($AD50>$AD$17,\"\",VLOOKUP($AD50,'Codes(W)'!B:H,5,FALSE))","v":""},{"$f":"IF($AD50>$AD$17,\"\",VLOOKUP($AD50,'Codes(W)'!B:H,6,FALSE))","v":""},{"$f":"IF($AD50>$AD$17,\"\",IF(VLOOKUP($AD50,'Codes(W)'!B:H,7,FALSE)=0,\" \",VLOOKUP($AD50,'Codes(W)'!B:H,7,FALSE)))","v":""},{"$f":"IF($AD50>$AD$17,\"\",VLOOKUP($AD50,'Codes(W)'!B:H,2,FALSE))","v":""},"",null,{"$f":"IF(ISNA('Eligible(W)'!O34),\"\",'Eligible(W)'!O34)","v":""},{"$f":"IF(ISNA(VLOOKUP(I50,Hierarchy!A:B,2,FALSE)),\"\",VLOOKUP(I50,Hierarchy!A:B,2,FALSE))","v":""},null,{"$f":"IF(U50=TRUE,'Eligible(W)'!H34,'Eligible(W)'!H34)","v":""},null,null,null,{"$f":"IF(ISNA(VLOOKUP(W50,'DocFlagstoListMembe(w)'!B:H,7,FALSE)),\"\",VLOOKUP(W50,'DocFlagstoListMembe(w)'!B:H,7,FALSE))","v":""},{"$f":"IF(ISNA(VLOOKUP(W50,'DocFlagstoListMembe(w)'!B:I,8,FALSE)),\"\",VLOOKUP(W50,'DocFlagstoListMembe(w)'!B:I,8,FALSE))","v":""},{"$f":"IF(O50=\"\",\"\",COUNTIF('Codes(W)'!#REF!,O50))","v":""},null,null,{"$f":"ISERROR(HYPERLINK(\"#e\"&(MATCH(MID('Eligible(W)'!H34,9,100),K:K,0)),'Eligible(W)'!H34))","v":true},null,null,null,null,null,null,null,{"$error":"#N/A"},33,null,"BP86","BP86 - Transient ischaemic attack","BP86","Transient ischaemic attack"]
[null,{"$f":"IF($AD51>$AD$17,\"\",VLOOKUP($AD51,'Codes(W)'!B:H,4,FALSE))","v":""},{"$f":"IF($AD51>$AD$17,\"\",VLOOKUP($AD51,'Codes(W)'!B:H,5,FALSE))","v":""},{"$f":"IF($AD51>$AD$17,\"\",VLOOKUP($AD51,'Codes(W)'!B:H,6,FALSE))","v":""},{"$f":"IF($AD51>$AD$17,\"\",IF(VLOOKUP($AD51,'Codes(W)'!B:H,7,FALSE)=0,\" \",VLOOKUP($AD51,'Codes(W)'!B:H,7,FALSE)))","v":""},{"$f":"IF($AD51>$AD$17,\"\",VLOOKUP($AD51,'Codes(W)'!B:H,2,FALSE))","v":""},"",null,{"$f":"IF(ISNA('Eligible(W)'!O35),\"\",'Eligible(W)'!O35)","v":""},{"$f":"IF(ISNA(VLOOKUP(I51,Hierarchy!A:B,2,FALSE)),\"\",VLOOKUP(I51,Hierarchy!A:B,2,FALSE))","v":""},null,{"$f":"IF(U51=TRUE,'Eligible(W)'!H35,'Eligible(W)'!H35)","v":""},null,null,null,{"$f":"IF(ISNA(VLOOKUP(W51,'DocFlagstoListMembe(w)'!B:H,7,FALSE)),\"\",VLOOKUP(W51,'DocFlagstoListMembe(w)'!B:H,7,FALSE))","v":""},{"$f":"IF(ISNA(VLOOKUP(W51,'DocFlagstoListMembe(w)'!B:I,8,FALSE)),\"\",VLOOKUP(W51,'DocFlagstoListMembe(w)'!B:I,8,FALSE))","v":""},{"$f":"IF(O51=\"\",\"\",COUNTIF('Codes(W)'!#REF!,O51))","v":""},null,null,{"$f":"ISERROR(HYPERLINK(\"#e\"&(MATCH(MID('Eligible(W)'!H35,9,100),K:K,0)),'Eligible(W)'!H35))","v":true},null,null,null,null,null,null,null,{"$error":"#N/A"},34,null,0," - "]
[null,{"$f":"IF($AD52>$AD$17,\"\",VLOOKUP($AD52,'Codes(W)'!B:H,4,FALSE))","v":""},{"$f":"IF($AD52>$AD$17,\"\",VLOOKUP($AD52,'Codes(W)'!B:H,5,FALSE))","v":""},{"$f":"IF($AD52>$AD$17,\"\",VLOOKUP($AD52,'Codes(W)'!B:H,6,FALSE))","v":""},{"$f":"IF($AD52>$AD$17,\"\",IF(VLOOKUP($AD52,'Codes(W)'!B:H,7,FALSE)=0,\" \",VLOOKUP($AD52,'Codes(W)'!B:H,7,FALSE)))","v":""},{"$f":"IF($AD52>$AD$17,\"\",VLOOKUP($AD52,'Codes(W)'!B:H,2,FALSE))","v":""},"",null,{"$f":"IF(ISNA('Eligible(W)'!O36),\"\",'Eligible(W)'!O36)","v":""},{"$f":"IF(ISNA(VLOOKUP(I52,Hierarchy!A:B,2,FALSE)),\"\",VLOOKUP(I52,Hierarchy!A:B,2,FALSE))","v":""},null,{"$f":"IF(U52=TRUE,'Eligible(W)'!H36,'Eligible(W)'!H36)","v":""},null,null,null,null,{"$f":"IF(ISNA(VLOOKUP(W52,'DocFlagstoListMembe(w)'!B:I,8,FALSE)),\"\",VLOOKUP(W52,'DocFlagstoListMembe(w)'!B:I,8,FALSE))","v":""},{"$f":"IF(O52=\"\",\"\",COUNTIF('Codes(W)'!#REF!,O52))","v":""},null,null,{"$f":"ISERROR(HYPERLINK(\"#e\"&(MATCH(MID('Eligible(W)'!H36,9,100),K:K,0)),'Eligible(W)'!H36))","v":true},null,null,null,null,null,null,null,null,35]
[null,{"$f":"IF($AD53>$AD$17,\"\",VLOOKUP($AD53,'Codes(W)'!B:H,4,FALSE))","v":""},{"$f":"IF($AD53>$AD$17,\"\",VLOOKUP($AD53,'Codes(W)'!B:H,5,FALSE))","v":""},{"$f":"IF($AD53>$AD$17,\"\",VLOOKUP($AD53,'Codes(W)'!B:H,6,FALSE))","v":""},{"$f":"IF($AD53>$AD$17,\"\",IF(VLOOKUP($AD53,'Codes(W)'!B:H,7,FALSE)=0,\" \",VLOOKUP($AD53,'Codes(W)'!B:H,7,FALSE)))","v":""},{"$f":"IF($AD53>$AD$17,\"\",VLOOKUP($AD53,'Codes(W)'!B:H,2,FALSE))","v":""},"",null,{"$f":"IF(ISNA('Eligible(W)'!O37),\"\",'Eligible(W)'!O37)","v":""},{"$f":"IF(ISNA(VLOOKUP(I53,Hierarchy!A:B,2,FALSE)),\"\",VLOOKUP(I53,Hierarchy!A:B,2,FALSE))","v":""},null,null,null,null,null,null,{"$f":"IF(ISNA(VLOOKUP(W53,'DocFlagstoListMembe(w)'!B:I,8,FALSE)),\"\",VLOOKUP(W53,'DocFlagstoListMembe(w)'!B:I,8,FALSE))","v":""},{"$f":"IF(O53=\"\",\"\",COUNTIF('Codes(W)'!#REF!,O53))","v":""},null,null,null,null,null,null,null,null,null,null,null,36]
[null,{"$f":"IF($AD54>$AD$17,\"\",VLOOKUP($AD54,'Codes(W)'!B:H,4,FALSE))","v":""},{"$f":"IF($AD54>$AD$17,\"\",VLOOKUP($AD54,'Codes(W)'!B:H,5,FALSE))","v":""},{"$f":"IF($AD54>$AD$17,\"\",VLOOKUP($AD54,'Codes(W)'!B:H,6,FALSE))","v":""},{"$f":"IF($AD54>$AD$17,\"\",IF(VLOOKUP($AD54,'Codes(W)'!B:H,7,FALSE)=0,\" \",VLOOKUP($AD54,'Codes(W)'!B:H,7,FALSE)))","v":""},{"$f":"IF($AD54>$AD$17,\"\",VLOOKUP($AD54,'Codes(W)'!B:H,2,FALSE))","v":""},"",null,{"$f":"IF(ISNA('Eligible(W)'!O38),\"\",'Eligible(W)'!O38)","v":""},{"$f":"IF(ISNA(VLOOKUP(I54,Hierarchy!A:B,2,FALSE)),\"\",VLOOKUP(I54,Hierarchy!A:B,2,FALSE))","v":""},null,null,null,null,null,null,{"$f":"IF(ISNA(VLOOKUP(W54,'DocFlagstoListMembe(w)'!B:I,8,FALSE)),\"\",VLOOKUP(W54,'DocFlagstoListMembe(w)'!B:I,8,FALSE))","v":""},{"$f":"IF(O54=\"\",\"\",COUNTIF('Codes(W)'!#REF!,O54))","v":""},null,null,null,null,null,null,null,null,null,null,null,37]
[null,{"$f":"IF($AD55>$AD$17,\"\",VLOOKUP($AD55,'Codes(W)'!B:H,4,FALSE))","v":""},{"$f":"IF($AD55>$AD$17,\"\",VLOOKUP($AD55,'Codes(W)'!B:H,5,FALSE))","v":""},{"$f":"IF($AD55>$AD$17,\"\",VLOOKUP($AD55,'Codes(W)'!B:H,6,FALSE))","v":""},{"$f":"IF($AD55>$AD$17,\"\",IF(VLOOKUP($AD55,'Codes(W)'!B:H,7,FALSE)=0,\" \",VLOOKUP($AD55,'Codes(W)'!B:H,7,FALSE)))","v":""},{"$f":"IF($AD55>$AD$17,\"\",VLOOKUP($AD55,'Codes(W)'!B:H,2,FALSE))","v":""},"",null,{"$f":"IF(ISNA('Eligible(W)'!O39),\"\",'Eligible(W)'!O39)","v":""},{"$f":"IF(ISNA(VLOOKUP(I55,Hierarchy!A:B,2,FALSE)),\"\",VLOOKUP(I55,Hierarchy!A:B,2,FALSE))","v":""},null,null,null,null,null,null,{"$f":"IF(ISNA(VLOOKUP(W55,'DocFlagstoListMembe(w)'!B:I,8,FALSE)),\"\",VLOOKUP(W55,'DocFlagstoListMembe(w)'!B:I,8,FALSE))","v":""},{"$f":"IF(O55=\"\",\"\",COUNTIF('Codes(W)'!#REF!,O55))","v":""},null,null,null,null,null,null,null,null,null,null,null,38]
[null,{"$f":"IF($AD56>$AD$17,\"\",VLOOKUP($AD56,'Codes(W)'!B:H,4,FALSE))","v":""},{"$f":"IF($AD56>$AD$17,\"\",VLOOKUP($AD56,'Codes(W)'!B:H,5,FALSE))","v":""},{"$f":"IF($AD56>$AD$17,\"\",VLOOKUP($AD56,'Codes(W)'!B:H,6,FALSE))","v":""},{"$f":"IF($AD56>$AD$17,\"\",IF(VLOOKUP($AD56,'Codes(W)'!B:H,7,FALSE)=0,\" \",VLOOKUP($AD56,'Codes(W)'!B:H,7,FALSE)))","v":""},{"$f":"IF($AD56>$AD$17,\"\",VLOOKUP($AD56,'Codes(W)'!B:H,2,FALSE))","v":""},"",null,{"$f":"IF(ISNA('Eligible(W)'!O40),\"\",'Eligible(W)'!O40)","v":""},{"$f":"IF(ISNA(VLOOKUP(I56,Hierarchy!A:B,2,FALSE)),\"\",VLOOKUP(I56,Hierarchy!A:B,2,FALSE))","v":""},null,null,null,null,null,null,{"$f":"IF(ISNA(VLOOKUP(W56,'DocFlagstoListMembe(w)'!B:I,8,FALSE)),\"\",VLOOKUP(W56,'DocFlagstoListMembe(w)'!B:I,8,FALSE))","v":""},{"$f":"IF(O56=\"\",\"\",COUNTIF('Codes(W)'!#REF!,O56))","v":""},null,null,null,null,null,null,null,null,null,null,null,39]
[null,{"$f":"IF($AD57>$AD$17,\"\",VLOOKUP($AD57,'Codes(W)'!B:H,4,FALSE))","v":""},{"$f":"IF($AD57>$AD$17,\"\",VLOOKUP($AD57,'Codes(W)'!B:H,5,FALSE))","v":""},{"$f":"IF($AD57>$AD$17,\"\",VLOOKUP($AD57,'Codes(W)'!B:H,6,FALSE))","v":""},{"$f":"IF($AD57>$AD$17,\"\",IF(VLOOKUP($AD57,'Codes(W)'!B:H,7,FALSE)=0,\" \",VLOOKUP($AD57,'Codes(W)'!B:H,7,FALSE)))","v":""},{"$f":"IF($AD57>$AD$17,\"\",VLOOKUP($AD57,'Codes(W)'!B:H,2,FALSE))","v":""},"",null,{"$f":"IF(ISNA('Eligible(W)'!O41),\"\",'Eligible(W)'!O41)","v":""},{"$f":"IF(ISNA(VLOOKUP(I57,Hierarchy!A:B,2,FALSE)),\"\",VLOOKUP(I57,Hierarchy!A:B,2,FALSE))","v":""},null,null,null,null,null,null,{"$f":"IF(ISNA(VLOOKUP(W57,'DocFlagstoListMembe(w)'!B:I,8,FALSE)),\"\",VLOOKUP(W57,'DocFlagstoListMembe(w)'!B:I,8,FALSE))","v":""},{"$f":"IF(O57=\"\",\"\",COUNTIF('Codes(W)'!#REF!,O57))","v":""},null,null,null,null,null,null,null,null,null,null,null,40]
[null,{"$f":"IF($AD58>$AD$17,\"\",VLOOKUP($AD58,'Codes(W)'!B:H,4,FALSE))","v":""},{"$f":"IF($AD58>$AD$17,\"\",VLOOKUP($AD58,'Codes(W)'!B:H,5,FALSE))","v":""},{"$f":"IF($AD58>$AD$17,\"\",VLOOKUP($AD58,'Codes(W)'!B:H,6,FALSE))","v":""},{"$f":"IF($AD58>$AD$17,\"\",IF(VLOOKUP($AD58,'Codes(W)'!B:H,7,FALSE)=0,\" \",VLOOKUP($AD58,'Codes(W)'!B:H,7,FALSE)))","v":""},{"$f":"IF($AD58>$AD$17,\"\",VLOOKUP($AD58,'Codes(W)'!B:H,2,FALSE))","v":""},"",null,{"$f":"IF(ISNA('Eligible(W)'!O42),\"\",'Eligible(W)'!O42)","v":""},{"$f":"IF(ISNA(VLOOKUP(I58,Hierarchy!A:B,2,FALSE)),\"\",VLOOKUP(I58,Hierarchy!A:B,2,FALSE))","v":""},null,null,null,null,null,null,{"$f":"IF(ISNA(VLOOKUP(W58,'DocFlagstoListMembe(w)'!B:I,8,FALSE)),\"\",VLOOKUP(W58,'DocFlagstoListMembe(w)'!B:I,8,FALSE))","v":""},{"$f":"IF(O58=\"\",\"\",COUNTIF('Codes(W)'!#REF!,O58))","v":""},null,null,null,null,null,null,null,null,null,null,null,41]
[null,{"$f":"IF($AD59>$AD$17,\"\",VLOOKUP($AD59,'Codes(W)'!B:H,4,FALSE))","v":""},{"$f":"IF($AD59>$AD$17,\"\",VLOOKUP($AD59,'Codes(W)'!B:H,5,FALSE))","v":""},{"$f":"IF($AD59>$AD$17,\"\",VLOOKUP($AD59,'Codes(W)'!B:H,6,FALSE))","v":""},{"$f":"IF($AD59>$AD$17,\"\",IF(VLOOKUP($AD59,'Codes(W)'!B:H,7,FALSE)=0,\" \",VLOOKUP($AD59,'Codes(W)'!B:H,7,FALSE)))","v":""},{"$f":"IF($AD59>$AD$17,\"\",VLOOKUP($AD59,'Codes(W)'!B:H,2,FALSE))","v":""},"",null,null,null,null,null,null,null,null,null,{"$f":"IF(ISNA(VLOOKUP(W59,'DocFlagstoListMembe(w)'!B:I,8,FALSE)),\"\",VLOOKUP(W59,'DocFlagstoListMembe(w)'!B:I,8,FALSE))","v":""},{"$f":"IF(O59=\"\",\"\",COUNTIF('Codes(W)'!#REF!,O59))","v":""},null,null,null,null,null,null,null,null,null,null,null,42]
[null,{"$f":"IF($AD60>$AD$17,\"\",VLOOKUP($AD60,'Codes(W)'!B:H,4,FALSE))","v":""},{"$f":"IF($AD60>$AD$17,\"\",VLOOKUP($AD60,'Codes(W)'!B:H,5,FALSE))","v":""},{"$f":"IF($AD60>$AD$17,\"\",VLOOKUP($AD60,'Codes(W)'!B:H,6,FALSE))","v":""},{"$f":"IF($AD60>$AD$17,\"\",IF(VLOOKUP($AD60,'Codes(W)'!B:H,7,FALSE)=0,\" \",VLOOKUP($AD60,'Codes(W)'!B:H,7,FALSE)))","v":""},{"$f":"IF($AD60>$AD$17,\"\",VLOOKUP($AD60,'Codes(W)'!B:H,2,FALSE))","v":""},"",null,null,null,null,null,null,null,null,null,{"$f":"IF(ISNA(VLOOKUP(W60,'DocFlagstoListMembe(w)'!B:I,8,FALSE)),\"\",VLOOKUP(W60,'DocFlagstoListMembe(w)'!B:I,8,FALSE))","v":""},{"$f":"IF(O60=\"\",\"\",COUNTIF('Codes(W)'!#REF!,O60))","v":""},null,null,null,null,null,null,null,null,null,null,null,43]
[null,{"$f":"IF($AD61>$AD$17,\"\",VLOOKUP($AD61,'Codes(W)'!B:H,4,FALSE))","v":""},{"$f":"IF($AD61>$AD$17,\"\",VLOOKUP($AD61,'Codes(W)'!B:H,5,FALSE))","v":""},{"$f":"IF($AD61>$AD$17,\"\",VLOOKUP($AD61,'Codes(W)'!B:H,6,FALSE))","v":""},{"$f":"IF($AD61>$AD$17,\"\",IF(VLOOKUP($AD61,'Codes(W)'!B:H,7,FALSE)=0,\" \",VLOOKUP($AD61,'Codes(W)'!B:H,7,FALSE)))","v":""},{"$f":"IF($AD61>$AD$17,\"\",VLOOKUP($AD61,'Codes(W)'!B:H,2,FALSE))","v":""},"",null,null,null,null,null,null,null,null,null,{"$f":"IF(ISNA(VLOOKUP(W61,'DocFlagstoListMembe(w)'!B:I,8,FALSE)),\"\",VLOOKUP(W61,'DocFlagstoListMembe(w)'!B:I,8,FALSE))","v":""},{"$f":"IF(O61=\"\",\"\",COUNTIF('Codes(W)'!#REF!,O61))","v":""},null,null,null,null,null,null,null,null,null,null,null,44]
[null,{"$f":"IF($AD62>$AD$17,\"\",VLOOKUP($AD62,'Codes(W)'!B:H,4,FALSE))","v":""},{"$f":"IF($AD62>$AD$17,\"\",VLOOKUP($AD62,'Codes(W)'!B:H,5,FALSE))","v":""},{"$f":"IF($AD62>$AD$17,\"\",VLOOKUP($AD62,'Codes(W)'!B:H,6,FALSE))","v":""},{"$f":"IF($AD62>$AD$17,\"\",IF(VLOOKUP($AD62,'Codes(W)'!B:H,7,FALSE)=0,\" \",VLOOKUP($AD62,'Codes(W)'!B:H,7,FALSE)))","v":""},{"$f":"IF($AD62>$AD$17,\"\",VLOOKUP($AD62,'Codes(W)'!B:H,2,FALSE))","v":""},"",null,null,{"$f":"IF(ISNA(VLOOKUP(I62,Hierarchy!A:B,2,FALSE)),\"\",VLOOKUP(I62,Hierarchy!A:B,2,FALSE))","v":""},null,null,null,null,null,null,{"$f":"IF(ISNA(VLOOKUP(W62,'DocFlagstoListMembe(w)'!B:I,8,FALSE)),\"\",VLOOKUP(W62,'DocFlagstoListMembe(w)'!B:I,8,FALSE))","v":""},{"$f":"IF(O62=\"\",\"\",COUNTIF('Codes(W)'!#REF!,O62))","v":""},null,null,null,null,null,null,null,null,null,null,null,45]
[null,{"$f":"IF($AD63>$AD$17,\"\",VLOOKUP($AD63,'Codes(W)'!B:H,4,FALSE))","v":""},{"$f":"IF($AD63>$AD$17,\"\",VLOOKUP($AD63,'Codes(W)'!B:H,5,FALSE))","v":""},{"$f":"IF($AD63>$AD$17,\"\",VLOOKUP($AD63,'Codes(W)'!B:H,6,FALSE))","v":""},{"$f":"IF($AD63>$AD$17,\"\",IF(VLOOKUP($AD63,'Codes(W)'!B:H,7,FALSE)=0,\" \",VLOOKUP($AD63,'Codes(W)'!B:H,7,FALSE)))","v":""},{"$f":"IF($AD63>$AD$17,\"\",VLOOKUP($AD63,'Codes(W)'!B:H,2,FALSE))","v":""},"",null,null,{"$f":"IF(ISNA(VLOOKUP(I63,Hierarchy!A:B,2,FALSE)),\"\",VLOOKUP(I63,Hierarchy!A:B,2,FALSE))","v":""},null,null,null,null,null,null,{"$f":"IF(ISNA(VLOOKUP(W63,'DocFlagstoListMembe(w)'!B:I,8,FALSE)),\"\",VLOOKUP(W63,'DocFlagstoListMembe(w)'!B:I,8,FALSE))","v":""},{"$f":"IF(O63=\"\",\"\",COUNTIF('Codes(W)'!#REF!,O63))","v":""},null,null,null,null,null,null,null,null,null,null,null,46]
[null,{"$f":"IF($AD64>$AD$17,\"\",VLOOKUP($AD64,'Codes(W)'!B:H,4,FALSE))","v":""},{"$f":"IF($AD64>$AD$17,\"\",VLOOKUP($AD64,'Codes(W)'!B:H,5,FALSE))","v":""},{"$f":"IF($AD64>$AD$17,\"\",VLOOKUP($AD64,'Codes(W)'!B:H,6,FALSE))","v":""},{"$f":"IF($AD64>$AD$17,\"\",IF(VLOOKUP($AD64,'Codes(W)'!B:H,7,FALSE)=0,\" \",VLOOKUP($AD64,'Codes(W)'!B:H,7,FALSE)))","v":""},{"$f":"IF($AD64>$AD$17,\"\",VLOOKUP($AD64,'Codes(W)'!B:H,2,FALSE))","v":""},"",null,null,{"$f":"IF(ISNA(VLOOKUP(I64,Hierarchy!A:B,2,FALSE)),\"\",VLOOKUP(I64,Hierarchy!A:B,2,FALSE))","v":""},null,null,null,null,null,null,{"$f":"IF(ISNA(VLOOKUP(W64,'DocFlagstoListMembe(w)'!B:I,8,FALSE)),\"\",VLOOKUP(W64,'DocFlagstoListMembe(w)'!B:I,8,FALSE))","v":""},{"$f":"IF(O64=\"\",\"\",COUNTIF('Codes(W)'!#REF!,O64))","v":""},null,null,null,null,null,null,null,null,null,null,null,47]
[null,{"$f":"IF($AD65>$AD$17,\"\",VLOOKUP($AD65,'Codes(W)'!B:H,4,FALSE))","v":""},{"$f":"IF($AD65>$AD$17,\"\",VLOOKUP($AD65,'Codes(W)'!B:H,5,FALSE))","v":""},{"$f":"IF($AD65>$AD$17,\"\",VLOOKUP($AD65,'Codes(W)'!B:H,6,FALSE))","v":""},{"$f":"IF($AD65>$AD$17,\"\",IF(VLOOKUP($AD65,'Codes(W)'!B:H,7,FALSE)=0,\" \",VLOOKUP($AD65,'Codes(W)'!B:H,7,FALSE)))","v":""},{"$f":"IF($AD65>$AD$17,\"\",VLOOKUP($AD65,'Codes(W)'!B:H,2,FALSE))","v":""},"",null,null,{"$f":"IF(ISNA(VLOOKUP(I65,Hierarchy!A:B,2,FALSE)),\"\",VLOOKUP(I65,Hierarchy!A:B,2,FALSE))","v":""},null,null,null,null,null,null,{"$f":"IF(ISNA(VLOOKUP(W65,'DocFlagstoListMembe(w)'!B:I,8,FALSE)),\"\",VLOOKUP(W65,'DocFlagstoListMembe(w)'!B:I,8,FALSE))","v":""},{"$f":"IF(O65=\"\",\"\",COUNTIF('Codes(W)'!#REF!,O65))","v":""},null,null,null,null,null,null,null,null,null,null,null,48]
[null,{"$f":"IF($AD66>$AD$17,\"\",VLOOKUP($AD66,'Codes(W)'!B:H,4,FALSE))","v":""},{"$f":"IF($AD66>$AD$17,\"\",VLOOKUP($AD66,'Codes(W)'!B:H,5,FALSE))","v":""},{"$f":"IF($AD66>$AD$17,\"\",VLOOKUP($AD66,'Codes(W)'!B:H,6,FALSE))","v":""},{"$f":"IF($AD66>$AD$17,\"\",IF(VLOOKUP($AD66,'Codes(W)'!B:H,7,FALSE)=0,\" \",VLOOKUP($AD66,'Codes(W)'!B:H,7,FALSE)))","v":""},{"$f":"IF($AD66>$AD$17,\"\",VLOOKUP($AD66,'Codes(W)'!B:H,2,FALSE))","v":""},"",null,null,{"$f":"IF(ISNA(VLOOKUP(I66,Hierarchy!A:B,2,FALSE)),\"\",VLOOKUP(I66,Hierarchy!A:B,2,FALSE))","v":""},null,null,null,null,null,null,{"$f":"IF(ISNA(VLOOKUP(W66,'DocFlagstoListMembe(w)'!B:I,8,FALSE)),\"\",VLOOKUP(W66,'DocFlagstoListMembe(w)'!B:I,8,FALSE))","v":""},{"$f":"IF(O66=\"\",\"\",COUNTIF('Codes(W)'!#REF!,O66))","v":""},null,null,null,null,null,null,null,null,null,null,null,49]
[null,{"$f":"IF($AD67>$AD$17,\"\",VLOOKUP($AD67,'Codes(W)'!B:H,4,FALSE))","v":""},{"$f":"IF($AD67>$AD$17,\"\",VLOOKUP($AD67,'Codes(W)'!B:H,5,FALSE))","v":""},{"$f":"IF($AD67>$AD$17,\"\",VLOOKUP($AD67,'Codes(W)'!B:H,6,FALSE))","v":""},{"$f":"IF($AD67>$AD$17,\"\",IF(VLOOKUP($AD67,'Codes(W)'!B:H,7,FALSE)=0,\" \",VLOOKUP($AD67,'Codes(W)'!B:H,7,FALSE)))","v":""},{"$f":"IF($AD67>$AD$17,\"\",VLOOKUP($AD67,'Codes(W)'!B:H,2,FALSE))","v":""},"",null,null,{"$f":"IF(ISNA(VLOOKUP(I67,Hierarchy!A:B,2,FALSE)),\"\",VLOOKUP(I67,Hierarchy!A:B,2,FALSE))","v":""},null,null,null,null,null,null,{"$f":"IF(ISNA(VLOOKUP(W67,'DocFlagstoListMembe(w)'!B:I,8,FALSE)),\"\",VLOOKUP(W67,'DocFlagstoListMembe(w)'!B:I,8,FALSE))","v":""},{"$f":"IF(O67=\"\",\"\",COUNTIF('Codes(W)'!#REF!,O67))","v":""},null,null,null,null,null,null,null,null,null,null,null,50]
[null,{"$f":"IF($AD68>$AD$17,\"\",VLOOKUP($AD68,'Codes(W)'!B:H,4,FALSE))","v":""},{"$f":"IF($AD68>$AD$17,\"\",VLOOKUP($AD68,'Codes(W)'!B:H,5,FALSE))","v":""},{"$f":"IF($AD68>$AD$17,\"\",VLOOKUP($AD68,'Codes(W)'!B:H,6,FALSE))","v":""},{"$f":"IF($AD68>$AD$17,\"\",IF(VLOOKUP($AD68,'Codes(W)'!B:H,7,FALSE)=0,\" \",VLOOKUP($AD68,'Codes(W)'!B:H,7,FALSE)))","v":""},{"$f":"IF($AD68>$AD$17,\"\",VLOOKUP($AD68,'Codes(W)'!B:H,2,FALSE))","v":""},"",null,{"$f":"IF(ISNA('Eligible(W)'!O52),\"\",'Eligible(W)'!O52)","v":""},{"$f":"IF(ISNA(VLOOKUP(I68,Hierarchy!A:B,2,FALSE)),\"\",VLOOKUP(I68,Hierarchy!A:B,2,FALSE))","v":""},null,null,null,null,null,null,{"$f":"IF(ISNA(VLOOKUP(W68,'DocFlagstoListMembe(w)'!B:I,8,FALSE)),\"\",VLOOKUP(W68,'DocFlagstoListMembe(w)'!B:I,8,FALSE))","v":""},{"$f":"IF(O68=\"\",\"\",COUNTIF('Codes(W)'!#REF!,O68))","v":""},null,null,null,null,null,null,null,null,null,null,null,51]
[null,{"$f":"IF($AD69>$AD$17,\"\",VLOOKUP($AD69,'Codes(W)'!B:H,4,FALSE))","v":""},{"$f":"IF($AD69>$AD$17,\"\",VLOOKUP($AD69,'Codes(W)'!B:H,5,FALSE))","v":""},{"$f":"IF($AD69>$AD$17,\"\",VLOOKUP($AD69,'Codes(W)'!B:H,6,FALSE))","v":""},{"$f":"IF($AD69>$AD$17,\"\",IF(VLOOKUP($AD69,'Codes(W)'!B:H,7,FALSE)=0,\" \",VLOOKUP($AD69,'Codes(W)'!B:H,7,FALSE)))","v":""},{"$f":"IF($AD69>$AD$17,\"\",VLOOKUP($AD69,'Codes(W)'!B:H,2,FALSE))","v":""},"",null,{"$f":"IF(ISNA('Eligible(W)'!O53),\"\",'Eligible(W)'!O53)","v":""},{"$f":"IF(ISNA(VLOOKUP(I69,Hierarchy!A:B,2,FALSE)),\"\",VLOOKUP(I69,Hierarchy!A:B,2,FALSE))","v":""},null,null,null,null,null,null,{"$f":"IF(ISNA(VLOOKUP(W69,'DocFlagstoListMembe(w)'!B:I,8,FALSE)),\"\",VLOOKUP(W69,'DocFlagstoListMembe(w)'!B:I,8,FALSE))","v":""},{"$f":"IF(O69=\"\",\"\",COUNTIF('Codes(W)'!#REF!,O69))","v":""},null,null,null,null,null,null,null,null,null,null,null,52]
[null,{"$f":"IF($AD70>$AD$17,\"\",VLOOKUP($AD70,'Codes(W)'!B:H,4,FALSE))","v":""},{"$f":"IF($AD70>$AD$17,\"\",VLOOKUP($AD70,'Codes(W)'!B:H,5,FALSE))","v":""},{"$f":"IF($AD70>$AD$17,\"\",VLOOKUP($AD70,'Codes(W)'!B:H,6,FALSE))","v":""},{"$f":"IF($AD70>$AD$17,\"\",IF(VLOOKUP($AD70,'Codes(W)'!B:H,7,FALSE)=0,\" \",VLOOKUP($AD70,'Codes(W)'!B:H,7,FALSE)))","v":""},{"$f":"IF($AD70>$AD$17,\"\",VLOOKUP($AD70,'Codes(W)'!B:H,2,FALSE))","v":""},"",null,{"$f":"IF(ISNA('Eligible(W)'!O54),\"\",'Eligible(W)'!O54)","v":""},{"$f":"IF(ISNA(VLOOKUP(I70,Hierarchy!A:B,2,FALSE)),\"\",VLOOKUP(I70,Hierarchy!A:B,2,FALSE))","v":""},null,null,null,null,null,null,{"$f":"IF(ISNA(VLOOKUP(W70,'DocFlagstoListMembe(w)'!B:I,8,FALSE)),\"\",VLOOKUP(W70,'DocFlagstoListMembe(w)'!B:I,8,FALSE))","v":""},{"$f":"IF(O70=\"\",\"\",COUNTIF('Codes(W)'!#REF!,O70))","v":""},null,null,null,null,null,null,null,null,null,null,null,53]
[null,{"$f":"IF($AD71>$AD$17,\"\",VLOOKUP($AD71,'Codes(W)'!B:H,4,FALSE))","v":""},{"$f":"IF($AD71>$AD$17,\"\",VLOOKUP($AD71,'Codes(W)'!B:H,5,FALSE))","v":""},{"$f":"IF($AD71>$AD$17,\"\",VLOOKUP($AD71,'Codes(W)'!B:H,6,FALSE))","v":""},{"$f":"IF($AD71>$AD$17,\"\",IF(VLOOKUP($AD71,'Codes(W)'!B:H,7,FALSE)=0,\" \",VLOOKUP($AD71,'Codes(W)'!B:H,7,FALSE)))","v":""},{"$f":"IF($AD71>$AD$17,\"\",VLOOKUP($AD71,'Codes(W)'!B:H,2,FALSE))","v":""},"",null,{"$f":"IF(ISNA('Eligible(W)'!O55),\"\",'Eligible(W)'!O55)","v":""},{"$f":"IF(ISNA(VLOOKUP(I71,Hierarchy!A:B,2,FALSE)),\"\",VLOOKUP(I71,Hierarchy!A:B,2,FALSE))","v":""},null,null,null,null,null,null,{"$f":"IF(ISNA(VLOOKUP(W71,'DocFlagstoListMembe(w)'!B:I,8,FALSE)),\"\",VLOOKUP(W71,'DocFlagstoListMembe(w)'!B:I,8,FALSE))","v":""},{"$f":"IF(O71=\"\",\"\",COUNTIF('Codes(W)'!#REF!,O71))","v":""},null,null,null,null,null,null,null,null,null,null,null,54]
[null,{"$f":"IF($AD72>$AD$17,\"\",VLOOKUP($AD72,'Codes(W)'!B:H,4,FALSE))","v":""},{"$f":"IF($AD72>$AD$17,\"\",VLOOKUP($AD72,'Codes(W)'!B:H,5,FALSE))","v":""},{"$f":"IF($AD72>$AD$17,\"\",VLOOKUP($AD72,'Codes(W)'!B:H,6,FALSE))","v":""},{"$f":"IF($AD72>$AD$17,\"\",IF(VLOOKUP($AD72,'Codes(W)'!B:H,7,FALSE)=0,\" \",VLOOKUP($AD72,'Codes(W)'!B:H,7,FALSE)))","v":""},{"$f":"IF($AD72>$AD$17,\"\",VLOOKUP($AD72,'Codes(W)'!B:H,2,FALSE))","v":""},"",null,{"$f":"IF(ISNA('Eligible(W)'!O56),\"\",'Eligible(W)'!O56)","v":""},{"$f":"IF(ISNA(VLOOKUP(I72,Hierarchy!A:B,2,FALSE)),\"\",VLOOKUP(I72,Hierarchy!A:B,2,FALSE))","v":""},null,null,null,null,null,null,{"$f":"IF(ISNA(VLOOKUP(W72,'DocFlagstoListMembe(w)'!B:I,8,FALSE)),\"\",VLOOKUP(W72,'DocFlagstoListMembe(w)'!B:I,8,FALSE))","v":""},{"$f":"IF(O72=\"\",\"\",COUNTIF('Codes(W)'!#REF!,O72))","v":""},null,null,null,null,null,null,null,null,null,null,null,55]
[null,{"$f":"IF($AD73>$AD$17,\"\",VLOOKUP($AD73,'Codes(W)'!B:H,4,FALSE))","v":""},{"$f":"IF($AD73>$AD$17,\"\",VLOOKUP($AD73,'Codes(W)'!B:H,5,FALSE))","v":""},{"$f":"IF($AD73>$AD$17,\"\",VLOOKUP($AD73,'Codes(W)'!B:H,6,FALSE))","v":""},{"$f":"IF($AD73>$AD$17,\"\",IF(VLOOKUP($AD73,'Codes(W)'!B:H,7,FALSE)=0,\" \",VLOOKUP($AD73,'Codes(W)'!B:H,7,FALSE)))","v":""},{"$f":"IF($AD73>$AD$17,\"\",VLOOKUP($AD73,'Codes(W)'!B:H,2,FALSE))","v":""},"",null,{"$f":"IF(ISNA('Eligible(W)'!O57),\"\",'Eligible(W)'!O57)","v":""},{"$f":"IF(ISNA(VLOOKUP(I73,Hierarchy!A:B,2,FALSE)),\"\",VLOOKUP(I73,Hierarchy!A:B,2,FALSE))","v":""},null,null,null,null,null,null,{"$f":"IF(ISNA(VLOOKUP(W73,'DocFlagstoListMembe(w)'!B:I,8,FALSE)),\"\",VLOOKUP(W73,'DocFlagstoListMembe(w)'!B:I,8,FALSE))","v":""},{"$f":"IF(O73=\"\",\"\",COUNTIF('Codes(W)'!#REF!,O73))","v":""},null,null,null,null,null,null,null,null,null,null,null,56]
[null,{"$f":"IF($AD74>$AD$17,\"\",VLOOKUP($AD74,'Codes(W)'!B:H,4,FALSE))","v":""},{"$f":"IF($AD74>$AD$17,\"\",VLOOKUP($AD74,'Codes(W)'!B:H,5,FALSE))","v":""},{"$f":"IF($AD74>$AD$17,\"\",VLOOKUP($AD74,'Codes(W)'!B:H,6,FALSE))","v":""},{"$f":"IF($AD74>$AD$17,\"\",IF(VLOOKUP($AD74,'Codes(W)'!B:H,7,FALSE)=0,\" \",VLOOKUP($AD74,'Codes(W)'!B:H,7,FALSE)))","v":""},{"$f":"IF($AD74>$AD$17,\"\",VLOOKUP($AD74,'Codes(W)'!B:H,2,FALSE))","v":""},"",null,{"$f":"IF(ISNA('Eligible(W)'!O58),\"\",'Eligible(W)'!O58)","v":""},{"$f":"IF(ISNA(VLOOKUP(I74,Hierarchy!A:B,2,FALSE)),\"\",VLOOKUP(I74,Hierarchy!A:B,2,FALSE))","v":""},null,null,null,null,null,null,{"$f":"IF(ISNA(VLOOKUP(W74,'DocFlagstoListMembe(w)'!B:I,8,FALSE)),\"\",VLOOKUP(W74,'DocFlagstoListMembe(w)'!B:I,8,FALSE))","v":""},{"$f":"IF(O74=\"\",\"\",COUNTIF('Codes(W)'!#REF!,O74))","v":""},null,null,null,null,null,null,null,null,null,null,null,57]
[null,{"$f":"IF($AD75>$AD$17,\"\",VLOOKUP($AD75,'Codes(W)'!B:H,4,FALSE))","v":""},{"$f":"IF($AD75>$AD$17,\"\",VLOOKUP($AD75,'Codes(W)'!B:H,5,FALSE))","v":""},{"$f":"IF($AD75>$AD$17,\"\",VLOOKUP($AD75,'Codes(W)'!B:H,6,FALSE))","v":""},{"$f":"IF($AD75>$AD$17,\"\",IF(VLOOKUP($AD75,'Codes(W)'!B:H,7,FALSE)=0,\" \",VLOOKUP($AD75,'Codes(W)'!B:H,7,FALSE)))","v":""},{"$f":"IF($AD75>$AD$17,\"\",VLOOKUP($AD75,'Codes(W)'!B:H,2,FALSE))","v":""},"",null,{"$f":"IF(ISNA('Eligible(W)'!O59),\"\",'Eligible(W)'!O59)","v":""},{"$f":"IF(ISNA(VLOOKUP(I75,Hierarchy!A:B,2,FALSE)),\"\",VLOOKUP(I75,Hierarchy!A:B,2,FALSE))","v":""},null,null,null,null,null,null,{"$f":"IF(ISNA(VLOOKUP(W75,'DocFlagstoListMembe(w)'!B:I,8,FALSE)),\"\",VLOOKUP(W75,'DocFlagstoListMembe(w)'!B:I,8,FALSE))","v":""},{"$f":"IF(O75=\"\",\"\",COUNTIF('Codes(W)'!#REF!,O75))","v":""},null,null,null,null,null,null,null,null,null,null,null,58]
[null,null,null,null,null,null,null,null,null,{"$f":"IF(ISNA(VLOOKUP(I76,Hierarchy!A:B,2,FALSE)),\"\",VLOOKUP(I76,Hierarchy!A:B,2,FALSE))","v":""},null,null,null,null,null,null,{"$f":"IF(ISNA(VLOOKUP(W76,'DocFlagstoListMembe(w)'!B:I,8,FALSE)),\"\",VLOOKUP(W76,'DocFlagstoListMembe(w)'!B:I,8,FALSE))","v":""},{"$f":"IF(O76=\"\",\"\",COUNTIF('Codes(W)'!#REF!,O76))","v":""},null,null,null,null,null,null,null,null,null,null,null,59]
[null,null,null,null,null,null,null,null,null,{"$f":"IF(ISNA(VLOOKUP(I77,Hierarchy!A:B,2,FALSE)),\"\",VLOOKUP(I77,Hierarchy!A:B,2,FALSE))","v":""},null,null,null,null,null,null,{"$f":"IF(ISNA(VLOOKUP(W77,'DocFlagstoListMembe(w)'!B:I,8,FALSE)),\"\",VLOOKUP(W77,'DocFlagstoListMembe(w)'!B:I,8,FALSE))","v":""},{"$f":"IF(O77=\"\",\"\",COUNTIF('Codes(W)'!#REF!,O77))","v":""},null,null,null,null,null,null,null,null,null,null,null,60]
[null,null,null,null,null,null,null,null,null,{"$f":"IF(ISNA(VLOOKUP(I78,Hierarchy!A:B,2,FALSE)),\"\",VLOOKUP(I78,Hierarchy!A:B,2,FALSE))","v":""},null,null,null,null,null,null,{"$f":"IF(ISNA(VLOOKUP(W78,'DocFlagstoListMembe(w)'!B:I,8,FALSE)),\"\",VLOOKUP(W78,'DocFlagstoListMembe(w)'!B:I,8,FALSE))","v":""},{"$f":"IF(O78=\"\",\"\",COUNTIF('Codes(W)'!#REF!,O78))","v":""},null,null,null,null,null,null,null,null,null,null,null,61]
[null,null,null,null,null,null,null,null,null,{"$f":"IF(ISNA(VLOOKUP(I79,Hierarchy!A:B,2,FALSE)),\"\",VLOOKUP(I79,Hierarchy!A:B,2,FALSE))","v":""},null,null,null,null,null,null,{"$f":"IF(ISNA(VLOOKUP(W79,'DocFlagstoListMembe(w)'!B:I,8,FALSE)),\"\",VLOOKUP(W79,'DocFlagstoListMembe(w)'!B:I,8,FALSE))","v":""},{"$f":"IF(O79=\"\",\"\",COUNTIF('Codes(W)'!#REF!,O79))","v":""},null,null,null,null,null,null,null,null,null,null,null,62]
[null,null,null,null,null,null,null,null,null,{"$f":"IF(ISNA(VLOOKUP(I80,Hierarchy!A:B,2,FALSE)),\"\",VLOOKUP(I80,Hierarchy!A:B,2,FALSE))","v":""},null,null,null,null,null,null,{"$f":"IF(ISNA(VLOOKUP(W80,'DocFlagstoListMembe(w)'!B:I,8,FALSE)),\"\",VLOOKUP(W80,'DocFlagstoListMembe(w)'!B:I,8,FALSE))","v":""},{"$f":"IF(O80=\"\",\"\",COUNTIF('Codes(W)'!#REF!,O80))","v":""},null,null,null,null,null,null,null,null,null,null,null,63]
[null,null,null,null,null,null,null,null,null,{"$f":"IF(ISNA(VLOOKUP(I81,Hierarchy!A:B,2,FALSE)),\"\",VLOOKUP(I81,Hierarchy!A:B,2,FALSE))","v":""},null,null,null,null,null,null,{"$f":"IF(ISNA(VLOOKUP(W81,'DocFlagstoListMembe(w)'!B:I,8,FALSE)),\"\",VLOOKUP(W81,'DocFlagstoListMembe(w)'!B:I,8,FALSE))","v":""},{"$f":"IF(O81=\"\",\"\",COUNTIF('Codes(W)'!#REF!,O81))","v":""},null,null,null,null,null,null,null,null,null,null,null,64]
[null,null,null,null,null,null,null,null,null,{"$f":"IF(ISNA(VLOOKUP(I82,Hierarchy!A:B,2,FALSE)),\"\",VLOOKUP(I82,Hierarchy!A:B,2,FALSE))","v":""},null,null,null,null,null,null,{"$f":"IF(ISNA(VLOOKUP(W82,'DocFlagstoListMembe(w)'!B:I,8,FALSE)),\"\",VLOOKUP(W82,'DocFlagstoListMembe(w)'!B:I,8,FALSE))","v":""},{"$f":"IF(O82=\"\",\"\",COUNTIF('Codes(W)'!#REF!,O82))","v":""},null,null,null,null,null,null,null,null,null,null,null,65]
[null,null,null,null,null,null,null,null,null,{"$f":"IF(ISNA(VLOOKUP(I83,Hierarchy!A:B,2,FALSE)),\"\",VLOOKUP(I83,Hierarchy!A:B,2,FALSE))","v":""},null,null,null,null,null,null,{"$f":"IF(ISNA(VLOOKUP(W83,'DocFlagstoListMembe(w)'!B:I,8,FALSE)),\"\",VLOOKUP(W83,'DocFlagstoListMembe(w)'!B:I,8,FALSE))","v":""},{"$f":"IF(O83=\"\",\"\",COUNTIF('Codes(W)'!#REF!,O83))","v":""},null,null,null,null,null,null,null,null,null,null,null,66]
[null,null,null,null,null,null,null,null,null,{"$f":"IF(ISNA(VLOOKUP(I84,Hierarchy!A:B,2,FALSE)),\"\",VLOOKUP(I84,Hierarchy!A:B,2,FALSE))","v":""},null,null,null,null,null,null,{"$f":"IF(ISNA(VLOOKUP(W84,'DocFlagstoListMembe(w)'!B:I,8,FALSE)),\"\",VLOOKUP(W84,'DocFlagstoListMembe(w)'!B:I,8,FALSE))","v":""},{"$f":"IF(O84=\"\",\"\",COUNTIF('Codes(W)'!#REF!,O84))","v":""},null,null,null,null,null,null,null,null,null,null,null,67]
[null,null,null,null,null,null,null,null,null,{"$f":"IF(ISNA(VLOOKUP(I85,Hierarchy!A:B,2,FALSE)),\"\",VLOOKUP(I85,Hierarchy!A:B,2,FALSE))","v":""},null,null,null,null,null,null,{"$f":"IF(ISNA(VLOOKUP(W85,'DocFlagstoListMembe(w)'!B:I,8,FALSE)),\"\",VLOOKUP(W85,'DocFlagstoListMembe(w)'!B:I,8,FALSE))","v":""},{"$f":"IF(O85=\"\",\"\",COUNTIF('Codes(W)'!#REF!,O85))","v":""},null,null,null,null,null,null,null,null,null,null,null,68]
[null,null,null,null,null,null,null,null,null,{"$f":"IF(ISNA(VLOOKUP(I86,Hierarchy!A:B,2,FALSE)),\"\",VLOOKUP(I86,Hierarchy!A:B,2,FALSE))","v":""},null,null,null,null,null,null,{"$f":"IF(ISNA(VLOOKUP(W86,'DocFlagstoListMembe(w)'!B:I,8,FALSE)),\"\",VLOOKUP(W86,'DocFlagstoListMembe(w)'!B:I,8,FALSE))","v":""},{"$f":"IF(O86=\"\",\"\",COUNTIF('Codes(W)'!#REF!,O86))","v":""},null,null,null,null,null,null,null,null,null,null,null,69]
[null,null,null,null,null,null,null,null,null,{"$f":"IF(ISNA(VLOOKUP(I87,Hierarchy!A:B,2,FALSE)),\"\",VLOOKUP(I87,Hierarchy!A:B,2,FALSE))","v":""},null,null,null,null,null,null,{"$f":"IF(ISNA(VLOOKUP(W87,'DocFlagstoListMembe(w)'!B:I,8,FALSE)),\"\",VLOOKUP(W87,'DocFlagstoListMembe(w)'!B:I,8,FALSE))","v":""},{"$f":"IF(O87=\"\",\"\",COUNTIF('Codes(W)'!#REF!,O87))","v":""},null,null,null,null,null,null,null,null,null,null,null,70]
[null,null,null,null,null,null,null,null,null,{"$f":"IF(ISNA(VLOOKUP(I88,Hierarchy!A:B,2,FALSE)),\"\",VLOOKUP(I88,Hierarchy!A:B,2,FALSE))","v":""},null,null,null,null,null,null,{"$f":"IF(ISNA(VLOOKUP(W88,'DocFlagstoListMembe(w)'!B:I,8,FALSE)),\"\",VLOOKUP(W88,'DocFlagstoListMembe(w)'!B:I,8,FALSE))","v":""},{"$f":"IF(O88=\"\",\"\",COUNTIF('Codes(W)'!#REF!,O88))","v":""},null,null,null,null,null,null,null,null,null,null,null,71]
[null,null,null,null,null,null,null,null,null,{"$f":"IF(ISNA(VLOOKUP(I89,Hierarchy!A:B,2,FALSE)),\"\",VLOOKUP(I89,Hierarchy!A:B,2,FALSE))","v":""},null,null,null,null,null,null,{"$f":"IF(ISNA(VLOOKUP(W89,'DocFlagstoListMembe(w)'!B:I,8,FALSE)),\"\",VLOOKUP(W89,'DocFlagstoListMembe(w)'!B:I,8,FALSE))","v":""},{"$f":"IF(O89=\"\",\"\",COUNTIF('Codes(W)'!#REF!,O89))","v":""},null,null,null,null,null,null,null,null,null,null,null,72]
[null,null,null,null,null,null,null,null,null,{"$f":"IF(ISNA(VLOOKUP(I90,Hierarchy!A:B,2,FALSE)),\"\",VLOOKUP(I90,Hierarchy!A:B,2,FALSE))","v":""},null,null,null,null,null,null,{"$f":"IF(ISNA(VLOOKUP(W90,'DocFlagstoListMembe(w)'!B:I,8,FALSE)),\"\",VLOOKUP(W90,'DocFlagstoListMembe(w)'!B:I,8,FALSE))","v":""},{"$f":"IF(O90=\"\",\"\",COUNTIF('Codes(W)'!#REF!,O90))","v":""},null,null,null,null,null,null,null,null,null,null,null,73]
[null,null,null,null,null,null,null,null,null,null,null,null,null,null,null,null,{"$f":"IF(ISNA(VLOOKUP(W91,'DocFlagstoListMembe(w)'!B:I,8,FALSE)),\"\",VLOOKUP(W91,'DocFlagstoListMembe(w)'!B:I,8,FALSE))","v":""},{"$f":"IF(O91=\"\",\"\",COUNTIF('Codes(W)'!#REF!,O91))","v":""},null,null,null,null,null,null,null,null,null,null,null,74]
[null,null,null,null,null,null,null,null,null,null,null,null,null,null,null,null,{"$f":"IF(ISNA(VLOOKUP(W92,'DocFlagstoListMembe(w)'!B:I,8,FALSE)),\"\",VLOOKUP(W92,'DocFlagstoListMembe(w)'!B:I,8,FALSE))","v":""},{"$f":"IF(O92=\"\",\"\",COUNTIF('Codes(W)'!#REF!,O92))","v":""},null,null,null,null,null,null,null,null,null,null,null,75]
[null,null,null,null,null,null,null,null,null,null,null,null,null,null,null,null,{"$f":"IF(ISNA(VLOOKUP(W93,'DocFlagstoListMembe(w)'!B:I,8,FALSE)),\"\",VLOOKUP(W93,'DocFlagstoListMembe(w)'!B:I,8,FALSE))","v":""},{"$f":"IF(O93=\"\",\"\",COUNTIF('Codes(W)'!#REF!,O93))","v":""},null,null,null,null,null,null,null,null,null,null,null,76]
[null,null,null,null,null,null,null,null,null,null,null,null,null,null,null,null,{"$f":"IF(ISNA(VLOOKUP(W94,'DocFlagstoListMembe(w)'!B:I,8,FALSE)),\"\",VLOOKUP(W94,'DocFlagstoListMembe(w)'!B:I,8,FALSE))","v":""},{"$f":"IF(O94=\"\",\"\",COUNTIF('Codes(W)'!#REF!,O94))","v":""},null,null,null,null,null,null,null,null,null,null,null,77]
[null,null,null,null,null,null,null,null,null,null,null,null,null,null,null,null,{"$f":"IF(ISNA(VLOOKUP(W95,'DocFlagstoListMembe(w)'!B:I,8,FALSE)),\"\",VLOOKUP(W95,'DocFlagstoListMembe(w)'!B:I,8,FALSE))","v":""},{"$f":"IF(O95=\"\",\"\",COUNTIF('Codes(W)'!#REF!,O95))","v":""},null,null,null,null,null,null,null,null,null,null,null,78]
[null,null,null,null,null,null,null,null,null,null,null,null,null,null,null,null,{"$f":"IF(ISNA(VLOOKUP(W96,'DocFlagstoListMembe(w)'!B:I,8,FALSE)),\"\",VLOOKUP(W96,'DocFlagstoListMembe(w)'!B:I,8,FALSE))","v":""},{"$f":"IF(O96=\"\",\"\",COUNTIF('Codes(W)'!#REF!,O96))","v":""},null,null,null,null,null,null,null,null,null,null,null,79]
[null,null,null,null,null,null,null,null,null,null,null,null,null,null,null,null,{"$f":"IF(ISNA(VLOOKUP(W97,'DocFlagstoListMembe(w)'!B:I,8,FALSE)),\"\",VLOOKUP(W97,'DocFlagstoListMembe(w)'!B:I,8,FALSE))","v":""},{"$f":"IF(O97=\"\",\"\",COUNTIF('Codes(W)'!#REF!,O97))","v":""},null,null,null,null,null,null,null,null,null,null,null,80]
[null,null,null,null,null,null,null,null,null,null,null,null,null,null,null,null,{"$f":"IF(ISNA(VLOOKUP(W98,'DocFlagstoListMembe(w)'!B:I,8,FALSE)),\"\",VLOOKUP(W98,'DocFlagstoListMembe(w)'!B:I,8,FALSE))","v":""},{"$f":"IF(O98=\"\",\"\",COUNTIF('Codes(W)'!#REF!,O98))","v":""},null,null,null,null,null,null,null,null,null,null,null,81]
[null,null,null,null,null,null,null,null,null,null,null,null,null,null,null,null,{"$f":"IF(ISNA(VLOOKUP(W99,'DocFlagstoListMembe(w)'!B:I,8,FALSE)),\"\",VLOOKUP(W99,'DocFlagstoListMembe(w)'!B:I,8,FALSE))","v":""},{"$f":"IF(O99=\"\",\"\",COUNTIF('Codes(W)'!#REF!,O99))","v":""},null,null,null,null,null,null,null,null,null,null,null,82]
[null,null,null,null,null,null,null,null,null,null,null,null,null,null,null,null,{"$f":"IF(ISNA(VLOOKUP(W100,'DocFlagstoListMembe(w)'!B:I,8,FALSE)),\"\",VLOOKUP(W100,'DocFlagstoListMembe(w)'!B:I,8,FALSE))","v":""},{"$f":"IF(O100=\"\",\"\",COUNTIF('Codes(W)'!#REF!,O100))","v":""},null,null,null,null,null,null,null,null,null,null,null,83]
[null,null,null,null,null,null,null,null,null,null,null,null,null,null,null,null,{"$f":"IF(ISNA(VLOOKUP(W101,'DocFlagstoListMembe(w)'!B:I,8,FALSE)),\"\",VLOOKUP(W101,'DocFlagstoListMembe(w)'!B:I,8,FALSE))","v":""},{"$f":"IF(O101=\"\",\"\",COUNTIF('Codes(W)'!#REF!,O101))","v":""},null,null,null,null,null,null,null,null,null,null,null,84]
[null,null,null,null,null,null,null,null,null,null,null,null,null,null,null,null,{"$f":"IF(ISNA(VLOOKUP(W102,'DocFlagstoListMembe(w)'!B:I,8,FALSE)),\"\",VLOOKUP(W102,'DocFlagstoListMembe(w)'!B:I,8,FALSE))","v":""},{"$f":"IF(O102=\"\",\"\",COUNTIF('Codes(W)'!#REF!,O102))","v":""},null,null,null,null,null,null,null,null,null,null,null,85]
[null,null,null,null,null,null,null,null,null,null,null,null,null,null,null,null,{"$f":"IF(ISNA(VLOOKUP(W103,'DocFlagstoListMembe(w)'!B:I,8,FALSE)),\"\",VLOOKUP(W103,'DocFlagstoListMembe(w)'!B:I,8,FALSE))","v":""},{"$f":"IF(O103=\"\",\"\",COUNTIF('Codes(W)'!#REF!,O103))","v":""},null,null,null,null,null,null,null,null,null,null,null,86]
[null,null,null,null,null,null,null,null,null,null,null,null,null,null,null,null,{"$f":"IF(ISNA(VLOOKUP(W104,'DocFlagstoListMembe(w)'!B:I,8,FALSE)),\"\",VLOOKUP(W104,'DocFlagstoListMembe(w)'!B:I,8,FALSE))","v":""},{"$f":"IF(O104=\"\",\"\",COUNTIF('Codes(W)'!#REF!,O104))","v":""},null,null,null,null,null,null,null,null,null,null,null,87]
[null,null,null,null,null,null,null,null,null,null,null,null,null,null,null,null,{"$f":"IF(ISNA(VLOOKUP(W105,'DocFlagstoListMembe(w)'!B:I,8,FALSE)),\"\",VLOOKUP(W105,'DocFlagstoListMembe(w)'!B:I,8,FALSE))","v":""},{"$f":"IF(O105=\"\",\"\",COUNTIF('Codes(W)'!#REF!,O105))","v":""},null,null,null,null,null,null,null,null,null,null,null,88]
[null,null,null,null,null,null,null,null,null,null,null,null,null,null,null,null,{"$f":"IF(ISNA(VLOOKUP(W106,'DocFlagstoListMembe(w)'!B:I,8,FALSE)),\"\",VLOOKUP(W106,'DocFlagstoListMembe(w)'!B:I,8,FALSE))","v":""},{"$f":"IF(O106=\"\",\"\",COUNTIF('Codes(W)'!#REF!,O106))","v":""},null,null,null,null,null,null,null,null,null,null,null,89]
[null,null,null,null,null,null,null,null,null,null,null,null,null,null,null,null,{"$f":"IF(ISNA(VLOOKUP(W107,'DocFlagstoListMembe(w)'!B:I,8,FALSE)),\"\",VLOOKUP(W107,'DocFlagstoListMembe(w)'!B:I,8,FALSE))","v":""},{"$f":"IF(O107=\"\",\"\",COUNTIF('Codes(W)'!#REF!,O107))","v":""},null,null,null,null,null,null,null,null,null,null,null,90]
[null,null,null,null,null,null,null,null,null,null,null,null,null,null,null,null,{"$f":"IF(ISNA(VLOOKUP(W108,'DocFlagstoListMembe(w)'!B:I,8,FALSE)),\"\",VLOOKUP(W108,'DocFlagstoListMembe(w)'!B:I,8,FALSE))","v":""},{"$f":"IF(O108=\"\",\"\",COUNTIF('Codes(W)'!#REF!,O108))","v":""},null,null,null,null,null,null,null,null,null,null,null,91]
[null,null,null,null,null,null,null,null,null,null,null,null,null,null,null,null,{"$f":"IF(ISNA(VLOOKUP(W109,'DocFlagstoListMembe(w)'!B:I,8,FALSE)),\"\",VLOOKUP(W109,'DocFlagstoListMembe(w)'!B:I,8,FALSE))","v":""},{"$f":"IF(O109=\"\",\"\",COUNTIF('Codes(W)'!#REF!,O109))","v":""},null,null,null,null,null,null,null,null,null,null,null,92]
[null,null,null,null,null,null,null,null,null,null,null,null,null,null,null,null,{"$f":"IF(ISNA(VLOOKUP(W110,'DocFlagstoListMembe(w)'!B:I,8,FALSE)),\"\",VLOOKUP(W110,'DocFlagstoListMembe(w)'!B:I,8,FALSE))","v":""},{"$f":"IF(O110=\"\",\"\",COUNTIF('Codes(W)'!#REF!,O110))","v":""},null,null,null,null,null,null,null,null,null,null,null,93]
[null,null,null,null,null,null,null,null,null,null,null,null,null,null,null,null,{"$f":"IF(ISNA(VLOOKUP(W111,'DocFlagstoListMembe(w)'!B:I,8,FALSE)),\"\",VLOOKUP(W111,'DocFlagstoListMembe(w)'!B:I,8,FALSE))","v":""},{"$f":"IF(O111=\"\",\"\",COUNTIF('Codes(W)'!#REF!,O111))","v":""},null,null,null,null,null,null,null,null,null,null,null,94]
[null,null,null,null,null,null,null,null,null,null,null,null,null,null,null,null,{"$f":"IF(ISNA(VLOOKUP(W112,'DocFlagstoListMembe(w)'!B:I,8,FALSE)),\"\",VLOOKUP(W112,'DocFlagstoListMembe(w)'!B:I,8,FALSE))","v":""},{"$f":"IF(O112=\"\",\"\",COUNTIF('Codes(W)'!#REF!,O112))","v":""},null,null,null,null,null,null,null,null,null,null,null,95]
[null,null,null,null,null,null,null,null,null,null,null,null,null,null,null,null,{"$f":"IF(ISNA(VLOOKUP(W113,'DocFlagstoListMembe(w)'!B:I,8,FALSE)),\"\",VLOOKUP(W113,'DocFlagstoListMembe(w)'!B:I,8,FALSE))","v":""},{"$f":"IF(O113=\"\",\"\",COUNTIF('Codes(W)'!#REF!,O113))","v":""},null,null,null,null,null,null,null,null,null,null,null,96]
[null,null,null,null,null,null,null,null,null,null,null,null,null,null,null,null,{"$f":"IF(ISNA(VLOOKUP(W114,'DocFlagstoListMembe(w)'!B:I,8,FALSE)),\"\",VLOOKUP(W114,'DocFlagstoListMembe(w)'!B:I,8,FALSE))","v":""},{"$f":"IF(O114=\"\",\"\",COUNTIF('Codes(W)'!#REF!,O114))","v":""},null,null,null,null,null,null,null,null,null,null,null,97]
[null,null,null,null,null,null,null,null,null,null,null,null,null,null,null,null,{"$f":"IF(ISNA(VLOOKUP(W115,'DocFlagstoListMembe(w)'!B:I,8,FALSE)),\"\",VLOOKUP(W115,'DocFlagstoListMembe(w)'!B:I,8,FALSE))","v":""},{"$f":"IF(O115=\"\",\"\",COUNTIF('Codes(W)'!#REF!,O115))","v":""},null,null,null,null,null,null,null,null,null,null,null,98]
[null,null,null,null,null,null,null,null,null,null,null,null,null,null,null,null,{"$f":"IF(ISNA(VLOOKUP(W116,'DocFlagstoListMembe(w)'!B:I,8,FALSE)),\"\",VLOOKUP(W116,'DocFlagstoListMembe(w)'!B:I,8,FALSE))","v":""},{"$f":"IF(O116=\"\",\"\",COUNTIF('Codes(W)'!#REF!,O116))","v":""},null,null,null,null,null,null,null,null,null,null,null,99]
[null,null,null,null,null,null,null,null,null,null,null,null,null,null,null,null,{"$f":"IF(ISNA(VLOOKUP(W117,'DocFlagstoListMembe(w)'!B:I,8,FALSE)),\"\",VLOOKUP(W117,'DocFlagstoListMembe(w)'!B:I,8,FALSE))","v":""},{"$f":"IF(O117=\"\",\"\",COUNTIF('Codes(W)'!#REF!,O117))","v":""},null,null,null,null,null,null,null,null,null,null,null,100]
[null,null,null,null,null,null,null,null,null,null,null,null,null,null,null,null,{"$f":"IF(ISNA(VLOOKUP(W118,'DocFlagstoListMembe(w)'!B:I,8,FALSE)),\"\",VLOOKUP(W118,'DocFlagstoListMembe(w)'!B:I,8,FALSE))","v":""},{"$f":"IF(O118=\"\",\"\",COUNTIF('Codes(W)'!#REF!,O118))","v":""},null,null,null,null,null,null,null,null,null,null,null,101]
[null,null,null,null,null,null,null,null,null,null,null,null,null,null,null,null,{"$f":"IF(ISNA(VLOOKUP(W119,'DocFlagstoListMembe(w)'!B:I,8,FALSE)),\"\",VLOOKUP(W119,'DocFlagstoListMembe(w)'!B:I,8,FALSE))","v":""},{"$f":"IF(O119=\"\",\"\",COUNTIF('Codes(W)'!#REF!,O119))","v":""},null,null,null,null,null,null,null,null,null,null,null,102]
[null,null,null,null,null,null,null,null,null,null,null,null,null,null,null,null,{"$f":"IF(ISNA(VLOOKUP(W120,'DocFlagstoListMembe(w)'!B:I,8,FALSE)),\"\",VLOOKUP(W120,'DocFlagstoListMembe(w)'!B:I,8,FALSE))","v":""},{"$f":"IF(O120=\"\",\"\",COUNTIF('Codes(W)'!#REF!,O120))","v":""},null,null,null,null,null,null,null,null,null,null,null,103]
[null,null,null,null,null,null,null,null,null,null,null,null,null,null,null,null,{"$f":"IF(ISNA(VLOOKUP(W121,'DocFlagstoListMembe(w)'!B:I,8,FALSE)),\"\",VLOOKUP(W121,'DocFlagstoListMembe(w)'!B:I,8,FALSE))","v":""},{"$f":"IF(O121=\"\",\"\",COUNTIF('Codes(W)'!#REF!,O121))","v":""},null,null,null,null,null,null,null,null,null,null,null,104]
[null,null,null,null,null,null,null,null,null,null,null,null,null,null,null,null,{"$f":"IF(ISNA(VLOOKUP(W122,'DocFlagstoListMembe(w)'!B:I,8,FALSE)),\"\",VLOOKUP(W122,'DocFlagstoListMembe(w)'!B:I,8,FALSE))","v":""},{"$f":"IF(O122=\"\",\"\",COUNTIF('Codes(W)'!#REF!,O122))","v":""},null,null,null,null,null,null,null,null,null,null,null,105]
[null,null,null,null,null,null,null,null,null,null,null,null,null,null,null,null,{"$f":"IF(ISNA(VLOOKUP(W123,'DocFlagstoListMembe(w)'!B:I,8,FALSE)),\"\",VLOOKUP(W123,'DocFlagstoListMembe(w)'!B:I,8,FALSE))","v":""},{"$f":"IF(O123=\"\",\"\",COUNTIF('Codes(W)'!#REF!,O123))","v":""},null,null,null,null,null,null,null,null,null,null,null,106]
[null,null,null,null,null,null,null,null,null,null,null,null,null,null,null,null,{"$f":"IF(ISNA(VLOOKUP(W124,'DocFlagstoListMembe(w)'!B:I,8,FALSE)),\"\",VLOOKUP(W124,'DocFlagstoListMembe(w)'!B:I,8,FALSE))","v":""},{"$f":"IF(O124=\"\",\"\",COUNTIF('Codes(W)'!#REF!,O124))","v":""},null,null,null,null,null,null,null,null,null,null,null,107]
[null,null,null,null,null,null,null,null,null,null,null,null,null,null,null,null,{"$f":"IF(ISNA(VLOOKUP(W125,'DocFlagstoListMembe(w)'!B:I,8,FALSE)),\"\",VLOOKUP(W125,'DocFlagstoListMembe(w)'!B:I,8,FALSE))","v":""},{"$f":"IF(O125=\"\",\"\",COUNTIF('Codes(W)'!#REF!,O125))","v":""},null,null,null,null,null,null,null,null,null,null,null,108]
[null,null,null,null,null,null,null,null,null,null,null,null,null,null,null,null,{"$f":"IF(ISNA(VLOOKUP(W126,'DocFlagstoListMembe(w)'!B:I,8,FALSE)),\"\",VLOOKUP(W126,'DocFlagstoListMembe(w)'!B:I,8,FALSE))","v":""},{"$f":"IF(O126=\"\",\"\",COUNTIF('Codes(W)'!#REF!,O126))","v":""},null,null,null,null,null,null,null,null,null,null,null,109]
[null,null,null,null,null,null,null,null,null,null,null,null,null,null,null,null,{"$f":"IF(ISNA(VLOOKUP(W127,'DocFlagstoListMembe(w)'!B:I,8,FALSE)),\"\",VLOOKUP(W127,'DocFlagstoListMembe(w)'!B:I,8,FALSE))","v":""},{"$f":"IF(O127=\"\",\"\",COUNTIF('Codes(W)'!#REF!,O127))","v":""},null,null,null,null,null,null,null,null,null,null,null,110]
[null,null,null,null,null,null,null,null,null,null,null,null,null,null,null,null,{"$f":"IF(ISNA(VLOOKUP(W128,'DocFlagstoListMembe(w)'!B:I,8,FALSE)),\"\",VLOOKUP(W128,'DocFlagstoListMembe(w)'!B:I,8,FALSE))","v":""},{"$f":"IF(O128=\"\",\"\",COUNTIF('Codes(W)'!#REF!,O128))","v":""},null,null,null,null,null,null,null,null,null,null,null,111]
[null,null,null,null,null,null,null,null,null,null,null,null,null,null,null,null,{"$f":"IF(ISNA(VLOOKUP(W129,'DocFlagstoListMembe(w)'!B:I,8,FALSE)),\"\",VLOOKUP(W129,'DocFlagstoListMembe(w)'!B:I,8,FALSE))","v":""},{"$f":"IF(O129=\"\",\"\",COUNTIF('Codes(W)'!#REF!,O129))","v":""},null,null,null,null,null,null,null,null,null,null,null,112]
[null,null,null,null,null,null,null,null,null,null,null,null,null,null,null,null,{"$f":"IF(ISNA(VLOOKUP(W130,'DocFlagstoListMembe(w)'!B:I,8,FALSE)),\"\",VLOOKUP(W130,'DocFlagstoListMembe(w)'!B:I,8,FALSE))","v":""},{"$f":"IF(O130=\"\",\"\",COUNTIF('Codes(W)'!#REF!,O130))","v":""},null,null,null,null,null,null,null,null,null,null,null,113]
[null,null,null,null,null,null,null,null,null,null,null,null,null,null,null,null,{"$f":"IF(ISNA(VLOOKUP(W131,'DocFlagstoListMembe(w)'!B:I,8,FALSE)),\"\",VLOOKUP(W131,'DocFlagstoListMembe(w)'!B:I,8,FALSE))","v":""},{"$f":"IF(O131=\"\",\"\",COUNTIF('Codes(W)'!#REF!,O131))","v":""},null,null,null,null,null,null,null,null,null,null,null,114]
[null,null,null,null,null,null,null,null,null,null,null,null,null,null,null,null,{"$f":"IF(ISNA(VLOOKUP(W132,'DocFlagstoListMembe(w)'!B:I,8,FALSE)),\"\",VLOOKUP(W132,'DocFlagstoListMembe(w)'!B:I,8,FALSE))","v":""},{"$f":"IF(O132=\"\",\"\",COUNTIF('Codes(W)'!#REF!,O132))","v":""},null,null,null,null,null,null,null,null,null,null,null,115]
[null,null,null,null,null,null,null,null,null,null,null,null,null,null,null,null,{"$f":"IF(ISNA(VLOOKUP(W133,'DocFlagstoListMembe(w)'!B:I,8,FALSE)),\"\",VLOOKUP(W133,'DocFlagstoListMembe(w)'!B:I,8,FALSE))","v":""},{"$f":"IF(O133=\"\",\"\",COUNTIF('Codes(W)'!#REF!,O133))","v":""},null,null,null,null,null,null,null,null,null,null,null,116]
[null,null,null,null,null,null,null,null,null,null,null,null,null,null,null,null,{"$f":"IF(ISNA(VLOOKUP(W134,'DocFlagstoListMembe(w)'!B:I,8,FALSE)),\"\",VLOOKUP(W134,'DocFlagstoListMembe(w)'!B:I,8,FALSE))","v":""},{"$f":"IF(O134=\"\",\"\",COUNTIF('Codes(W)'!#REF!,O134))","v":""},null,null,null,null,null,null,null,null,null,null,null,117]
[null,null,null,null,null,null,null,null,null,null,null,null,null,null,null,null,{"$f":"IF(ISNA(VLOOKUP(W135,'DocFlagstoListMembe(w)'!B:I,8,FALSE)),\"\",VLOOKUP(W135,'DocFlagstoListMembe(w)'!B:I,8,FALSE))","v":""},{"$f":"IF(O135=\"\",\"\",COUNTIF('Codes(W)'!#REF!,O135))","v":""},null,null,null,null,null,null,null,null,null,null,null,118]
[null,null,null,null,null,null,null,null,null,null,null,null,null,null,null,null,{"$f":"IF(ISNA(VLOOKUP(W136,'DocFlagstoListMembe(w)'!B:I,8,FALSE)),\"\",VLOOKUP(W136,'DocFlagstoListMembe(w)'!B:I,8,FALSE))","v":""},{"$f":"IF(O136=\"\",\"\",COUNTIF('Codes(W)'!#REF!,O136))","v":""},null,null,null,null,null,null,null,null,null,null,null,119]
[null,null,null,null,null,null,null,null,null,null,null,null,null,null,null,null,{"$f":"IF(ISNA(VLOOKUP(W137,'DocFlagstoListMembe(w)'!B:I,8,FALSE)),\"\",VLOOKUP(W137,'DocFlagstoListMembe(w)'!B:I,8,FALSE))","v":""},{"$f":"IF(O137=\"\",\"\",COUNTIF('Codes(W)'!#REF!,O137))","v":""},null,null,null,null,null,null,null,null,null,null,null,120]
[null,null,null,null,null,null,null,null,null,null,null,null,null,null,null,null,{"$f":"IF(ISNA(VLOOKUP(W138,'DocFlagstoListMembe(w)'!B:I,8,FALSE)),\"\",VLOOKUP(W138,'DocFlagstoListMembe(w)'!B:I,8,FALSE))","v":""},{"$f":"IF(O138=\"\",\"\",COUNTIF('Codes(W)'!#REF!,O138))","v":""},null,null,null,null,null,null,null,null,null,null,null,121]
[null,null,null,null,null,null,null,null,null,null,null,null,null,null,null,null,{"$f":"IF(ISNA(VLOOKUP(W139,'DocFlagstoListMembe(w)'!B:I,8,FALSE)),\"\",VLOOKUP(W139,'DocFlagstoListMembe(w)'!B:I,8,FALSE))","v":""},{"$f":"IF(O139=\"\",\"\",COUNTIF('Codes(W)'!#REF!,O139))","v":""},null,null,null,null,null,null,null,null,null,null,null,122]
[null,null,null,null,null,null,null,null,null,null,null,null,null,null,null,null,{"$f":"IF(ISNA(VLOOKUP(W140,'DocFlagstoListMembe(w)'!B:I,8,FALSE)),\"\",VLOOKUP(W140,'DocFlagstoListMembe(w)'!B:I,8,FALSE))","v":""},{"$f":"IF(O140=\"\",\"\",COUNTIF('Codes(W)'!#REF!,O140))","v":""},null,null,null,null,null,null,null,null,null,null,null,123]
[null,null,null,null,null,null,null,null,null,null,null,null,null,null,null,null,{"$f":"IF(ISNA(VLOOKUP(W141,'DocFlagstoListMembe(w)'!B:I,8,FALSE)),\"\",VLOOKUP(W141,'DocFlagstoListMembe(w)'!B:I,8,FALSE))","v":""},{"$f":"IF(O141=\"\",\"\",COUNTIF('Codes(W)'!#REF!,O141))","v":""},null,null,null,null,null,null,null,null,null,null,null,124]
[null,null,null,null,null,null,null,null,null,null,null,null,null,null,null,null,{"$f":"IF(ISNA(VLOOKUP(W142,'DocFlagstoListMembe(w)'!B:I,8,FALSE)),\"\",VLOOKUP(W142,'DocFlagstoListMembe(w)'!B:I,8,FALSE))","v":""},{"$f":"IF(O142=\"\",\"\",COUNTIF('Codes(W)'!#REF!,O142))","v":""},null,null,null,null,null,null,null,null,null,null,null,125]
[null,null,null,null,null,null,null,null,null,null,null,null,null,null,null,null,{"$f":"IF(ISNA(VLOOKUP(W143,'DocFlagstoListMembe(w)'!B:I,8,FALSE)),\"\",VLOOKUP(W143,'DocFlagstoListMembe(w)'!B:I,8,FALSE))","v":""},{"$f":"IF(O143=\"\",\"\",COUNTIF('Codes(W)'!#REF!,O143))","v":""},null,null,null,null,null,null,null,null,null,null,null,126]
[null,null,null,null,null,null,null,null,null,null,null,null,null,null,null,null,{"$f":"IF(ISNA(VLOOKUP(W144,'DocFlagstoListMembe(w)'!B:I,8,FALSE)),\"\",VLOOKUP(W144,'DocFlagstoListMembe(w)'!B:I,8,FALSE))","v":""},{"$f":"IF(O144=\"\",\"\",COUNTIF('Codes(W)'!#REF!,O144))","v":""},null,null,null,null,null,null,null,null,null,null,null,127]
[null,null,null,null,null,null,null,null,null,null,null,null,null,null,null,null,{"$f":"IF(ISNA(VLOOKUP(W145,'DocFlagstoListMembe(w)'!B:I,8,FALSE)),\"\",VLOOKUP(W145,'DocFlagstoListMembe(w)'!B:I,8,FALSE))","v":""},{"$f":"IF(O145=\"\",\"\",COUNTIF('Codes(W)'!#REF!,O145))","v":""},null,null,null,null,null,null,null,null,null,null,null,128]
[null,null,null,null,null,null,null,null,null,null,null,null,null,null,null,null,{"$f":"IF(ISNA(VLOOKUP(W146,'DocFlagstoListMembe(w)'!B:I,8,FALSE)),\"\",VLOOKUP(W146,'DocFlagstoListMembe(w)'!B:I,8,FALSE))","v":""},{"$f":"IF(O146=\"\",\"\",COUNTIF('Codes(W)'!#REF!,O146))","v":""},null,null,null,null,null,null,null,null,null,null,null,129]
[null,null,null,null,null,null,null,null,null,null,null,null,null,null,null,null,{"$f":"IF(ISNA(VLOOKUP(W147,'DocFlagstoListMembe(w)'!B:I,8,FALSE)),\"\",VLOOKUP(W147,'DocFlagstoListMembe(w)'!B:I,8,FALSE))","v":""},{"$f":"IF(O147=\"\",\"\",COUNTIF('Codes(W)'!#REF!,O147))","v":""},null,null,null,null,null,null,null,null,null,null,null,130]
[null,null,null,null,null,null,null,null,null,null,null,null,null,null,null,null,{"$f":"IF(ISNA(VLOOKUP(W148,'DocFlagstoListMembe(w)'!B:I,8,FALSE)),\"\",VLOOKUP(W148,'DocFlagstoListMembe(w)'!B:I,8,FALSE))","v":""},{"$f":"IF(O148=\"\",\"\",COUNTIF('Codes(W)'!#REF!,O148))","v":""},null,null,null,null,null,null,null,null,null,null,null,131]
[null,null,null,null,null,null,null,null,null,null,null,null,null,null,null,null,{"$f":"IF(ISNA(VLOOKUP(W149,'DocFlagstoListMembe(w)'!B:I,8,FALSE)),\"\",VLOOKUP(W149,'DocFlagstoListMembe(w)'!B:I,8,FALSE))","v":""},{"$f":"IF(O149=\"\",\"\",COUNTIF('Codes(W)'!#REF!,O149))","v":""},null,null,null,null,null,null,null,null,null,null,null,132]
[null,null,null,null,null,null,null,null,null,null,null,null,null,null,null,null,{"$f":"IF(ISNA(VLOOKUP(W150,'DocFlagstoListMembe(w)'!B:I,8,FALSE)),\"\",VLOOKUP(W150,'DocFlagstoListMembe(w)'!B:I,8,FALSE))","v":""},{"$f":"IF(O150=\"\",\"\",COUNTIF('Codes(W)'!#REF!,O150))","v":""},null,null,null,null,null,null,null,null,null,null,null,133]
[null,null,null,null,null,null,null,null,null,null,null,null,null,null,null,null,{"$f":"IF(ISNA(VLOOKUP(W151,'DocFlagstoListMembe(w)'!B:I,8,FALSE)),\"\",VLOOKUP(W151,'DocFlagstoListMembe(w)'!B:I,8,FALSE))","v":""},{"$f":"IF(O151=\"\",\"\",COUNTIF('Codes(W)'!#REF!,O151))","v":""},null,null,null,null,null,null,null,null,null,null,null,134]
[null,null,null,null,null,null,null,null,null,null,null,null,null,null,null,null,{"$f":"IF(ISNA(VLOOKUP(W152,'DocFlagstoListMembe(w)'!B:I,8,FALSE)),\"\",VLOOKUP(W152,'DocFlagstoListMembe(w)'!B:I,8,FALSE))","v":""},{"$f":"IF(O152=\"\",\"\",COUNTIF('Codes(W)'!#REF!,O152))","v":""},null,null,null,null,null,null,null,null,null,null,null,135]
[null,null,null,null,null,null,null,null,null,null,null,null,null,null,null,null,{"$f":"IF(ISNA(VLOOKUP(W153,'DocFlagstoListMembe(w)'!B:I,8,FALSE)),\"\",VLOOKUP(W153,'DocFlagstoListMembe(w)'!B:I,8,FALSE))","v":""},{"$f":"IF(O153=\"\",\"\",COUNTIF('Codes(W)'!#REF!,O153))","v":""},null,null,null,null,null,null,null,null,null,null,null,136]
[null,null,null,null,null,null,null,null,null,null,null,null,null,null,null,null,{"$f":"IF(ISNA(VLOOKUP(W154,'DocFlagstoListMembe(w)'!B:I,8,FALSE)),\"\",VLOOKUP(W154,'DocFlagstoListMembe(w)'!B:I,8,FALSE))","v":""},{"$f":"IF(O154=\"\",\"\",COUNTIF('Codes(W)'!#REF!,O154))","v":""},null,null,null,null,null,null,null,null,null,null,null,137]
[null,null,null,null,null,null,null,null,null,null,null,null,null,null,null,null,{"$f":"IF(ISNA(VLOOKUP(W155,'DocFlagstoListMembe(w)'!B:I,8,FALSE)),\"\",VLOOKUP(W155,'DocFlagstoListMembe(w)'!B:I,8,FALSE))","v":""},{"$f":"IF(O155=\"\",\"\",COUNTIF('Codes(W)'!#REF!,O155))","v":""},null,null,null,null,null,null,null,null,null,null,null,138]
[null,null,null,null,null,null,null,null,null,null,null,null,null,null,null,null,{"$f":"IF(ISNA(VLOOKUP(W156,'DocFlagstoListMembe(w)'!B:I,8,FALSE)),\"\",VLOOKUP(W156,'DocFlagstoListMembe(w)'!B:I,8,FALSE))","v":""},{"$f":"IF(O156=\"\",\"\",COUNTIF('Codes(W)'!#REF!,O156))","v":""},null,null,null,null,null,null,null,null,null,null,null,139]
[null,null,null,null,null,null,null,null,null,null,null,null,null,null,null,null,{"$f":"IF(ISNA(VLOOKUP(W157,'DocFlagstoListMembe(w)'!B:I,8,FALSE)),\"\",VLOOKUP(W157,'DocFlagstoListMembe(w)'!B:I,8,FALSE))","v":""},{"$f":"IF(O157=\"\",\"\",COUNTIF('Codes(W)'!#REF!,O157))","v":""},null,null,null,null,null,null,null,null,null,null,null,140]
[null,null,null,null,null,null,null,null,null,null,null,null,null,null,null,null,{"$f":"IF(ISNA(VLOOKUP(W158,'DocFlagstoListMembe(w)'!B:I,8,FALSE)),\"\",VLOOKUP(W158,'DocFlagstoListMembe(w)'!B:I,8,FALSE))","v":""},{"$f":"IF(O158=\"\",\"\",COUNTIF('Codes(W)'!#REF!,O158))","v":""},null,null,null,null,null,null,null,null,null,null,null,141]
[null,null,null,null,null,null,null,null,null,null,null,null,null,null,null,null,{"$f":"IF(ISNA(VLOOKUP(W159,'DocFlagstoListMembe(w)'!B:I,8,FALSE)),\"\",VLOOKUP(W159,'DocFlagstoListMembe(w)'!B:I,8,FALSE))","v":""},{"$f":"IF(O159=\"\",\"\",COUNTIF('Codes(W)'!#REF!,O159))","v":""},null,null,null,null,null,null,null,null,null,null,null,142]
[null,null,null,null,null,null,null,null,null,null,null,null,null,null,null,null,{"$f":"IF(ISNA(VLOOKUP(W160,'DocFlagstoListMembe(w)'!B:I,8,FALSE)),\"\",VLOOKUP(W160,'DocFlagstoListMembe(w)'!B:I,8,FALSE))","v":""},{"$f":"IF(O160=\"\",\"\",COUNTIF('Codes(W)'!#REF!,O160))","v":""},null,null,null,null,null,null,null,null,null,null,null,143]
[null,null,null,null,null,null,null,null,null,null,null,null,null,null,null,null,{"$f":"IF(ISNA(VLOOKUP(W161,'DocFlagstoListMembe(w)'!B:I,8,FALSE)),\"\",VLOOKUP(W161,'DocFlagstoListMembe(w)'!B:I,8,FALSE))","v":""},{"$f":"IF(O161=\"\",\"\",COUNTIF('Codes(W)'!#REF!,O161))","v":""},null,null,null,null,null,null,null,null,null,null,null,144]
[null,null,null,null,null,null,null,null,null,null,null,null,null,null,null,null,{"$f":"IF(ISNA(VLOOKUP(W162,'DocFlagstoListMembe(w)'!B:I,8,FALSE)),\"\",VLOOKUP(W162,'DocFlagstoListMembe(w)'!B:I,8,FALSE))","v":""},{"$f":"IF(O162=\"\",\"\",COUNTIF('Codes(W)'!#REF!,O162))","v":""},null,null,null,null,null,null,null,null,null,null,null,145]
[null,null,null,null,null,null,null,null,null,null,null,null,null,null,null,null,{"$f":"IF(ISNA(VLOOKUP(W163,'DocFlagstoListMembe(w)'!B:I,8,FALSE)),\"\",VLOOKUP(W163,'DocFlagstoListMembe(w)'!B:I,8,FALSE))","v":""},{"$f":"IF(O163=\"\",\"\",COUNTIF('Codes(W)'!#REF!,O163))","v":""},null,null,null,null,null,null,null,null,null,null,null,146]
[null,null,null,null,null,null,null,null,null,null,null,null,null,null,null,null,{"$f":"IF(ISNA(VLOOKUP(W164,'DocFlagstoListMembe(w)'!B:I,8,FALSE)),\"\",VLOOKUP(W164,'DocFlagstoListMembe(w)'!B:I,8,FALSE))","v":""},{"$f":"IF(O164=\"\",\"\",COUNTIF('Codes(W)'!#REF!,O164))","v":""},null,null,null,null,null,null,null,null,null,null,null,147]
[null,null,null,null,null,null,null,null,null,null,null,null,null,null,null,null,{"$f":"IF(ISNA(VLOOKUP(W165,'DocFlagstoListMembe(w)'!B:I,8,FALSE)),\"\",VLOOKUP(W165,'DocFlagstoListMembe(w)'!B:I,8,FALSE))","v":""},{"$f":"IF(O165=\"\",\"\",COUNTIF('Codes(W)'!#REF!,O165))","v":""},null,null,null,null,null,null,null,null,null,null,null,148]
[null,null,null,null,null,null,null,null,null,null,null,null,null,null,null,null,{"$f":"IF(ISNA(VLOOKUP(W166,'DocFlagstoListMembe(w)'!B:I,8,FALSE)),\"\",VLOOKUP(W166,'DocFlagstoListMembe(w)'!B:I,8,FALSE))","v":""},{"$f":"IF(O166=\"\",\"\",COUNTIF('Codes(W)'!#REF!,O166))","v":""},null,null,null,null,null,null,null,null,null,null,null,149]
[null,null,null,null,null,null,null,null,null,null,null,null,null,null,null,null,{"$f":"IF(ISNA(VLOOKUP(W167,'DocFlagstoListMembe(w)'!B:I,8,FALSE)),\"\",VLOOKUP(W167,'DocFlagstoListMembe(w)'!B:I,8,FALSE))","v":""},{"$f":"IF(O167=\"\",\"\",COUNTIF('Codes(W)'!#REF!,O167))","v":""},null,null,null,null,null,null,null,null,null,null,null,150]
[null,null,null,null,null,null,null,null,null,null,null,null,null,null,null,null,{"$f":"IF(ISNA(VLOOKUP(W168,'DocFlagstoListMembe(w)'!B:I,8,FALSE)),\"\",VLOOKUP(W168,'DocFlagstoListMembe(w)'!B:I,8,FALSE))","v":""},{"$f":"IF(O168=\"\",\"\",COUNTIF('Codes(W)'!#REF!,O168))","v":""},null,null,null,null,null,null,null,null,null,null,null,151]
[null,null,null,null,null,null,null,null,null,null,null,null,null,null,null,null,{"$f":"IF(ISNA(VLOOKUP(W169,'DocFlagstoListMembe(w)'!B:I,8,FALSE)),\"\",VLOOKUP(W169,'DocFlagstoListMembe(w)'!B:I,8,FALSE))","v":""},{"$f":"IF(O169=\"\",\"\",COUNTIF('Codes(W)'!#REF!,O169))","v":""},null,null,null,null,null,null,null,null,null,null,null,152]
[null,null,null,null,null,null,null,null,null,null,null,null,null,null,null,null,{"$f":"IF(ISNA(VLOOKUP(W170,'DocFlagstoListMembe(w)'!B:I,8,FALSE)),\"\",VLOOKUP(W170,'DocFlagstoListMembe(w)'!B:I,8,FALSE))","v":""},{"$f":"IF(O170=\"\",\"\",COUNTIF('Codes(W)'!#REF!,O170))","v":""},null,null,null,null,null,null,null,null,null,null,null,153]
[null,null,null,null,null,null,null,null,null,null,null,null,null,null,null,null,{"$f":"IF(ISNA(VLOOKUP(W171,'DocFlagstoListMembe(w)'!B:I,8,FALSE)),\"\",VLOOKUP(W171,'DocFlagstoListMembe(w)'!B:I,8,FALSE))","v":""},{"$f":"IF(O171=\"\",\"\",COUNTIF('Codes(W)'!#REF!,O171))","v":""},null,null,null,null,null,null,null,null,null,null,null,154]
[null,null,null,null,null,null,null,null,null,null,null,null,null,null,null,null,{"$f":"IF(ISNA(VLOOKUP(W172,'DocFlagstoListMembe(w)'!B:I,8,FALSE)),\"\",VLOOKUP(W172,'DocFlagstoListMembe(w)'!B:I,8,FALSE))","v":""},{"$f":"IF(O172=\"\",\"\",COUNTIF('Codes(W)'!#REF!,O172))","v":""},null,null,null,null,null,null,null,null,null,null,null,155]
[null,null,null,null,null,null,null,null,null,null,null,null,null,null,null,null,{"$f":"IF(ISNA(VLOOKUP(W173,'DocFlagstoListMembe(w)'!B:I,8,FALSE)),\"\",VLOOKUP(W173,'DocFlagstoListMembe(w)'!B:I,8,FALSE))","v":""},{"$f":"IF(O173=\"\",\"\",COUNTIF('Codes(W)'!#REF!,O173))","v":""},null,null,null,null,null,null,null,null,null,null,null,156]
[null,null,null,null,null,null,null,null,null,null,null,null,null,null,null,null,{"$f":"IF(ISNA(VLOOKUP(W174,'DocFlagstoListMembe(w)'!B:I,8,FALSE)),\"\",VLOOKUP(W174,'DocFlagstoListMembe(w)'!B:I,8,FALSE))","v":""},{"$f":"IF(O174=\"\",\"\",COUNTIF('Codes(W)'!#REF!,O174))","v":""},null,null,null,null,null,null,null,null,null,null,null,157]
[null,null,null,null,null,null,null,null,null,null,null,null,null,null,null,null,{"$f":"IF(ISNA(VLOOKUP(W175,'DocFlagstoListMembe(w)'!B:I,8,FALSE)),\"\",VLOOKUP(W175,'DocFlagstoListMembe(w)'!B:I,8,FALSE))","v":""},{"$f":"IF(O175=\"\",\"\",COUNTIF('Codes(W)'!#REF!,O175))","v":""},null,null,null,null,null,null,null,null,null,null,null,158]
[null,null,null,null,null,null,null,null,null,null,null,null,null,null,null,null,{"$f":"IF(ISNA(VLOOKUP(W176,'DocFlagstoListMembe(w)'!B:I,8,FALSE)),\"\",VLOOKUP(W176,'DocFlagstoListMembe(w)'!B:I,8,FALSE))","v":""},{"$f":"IF(O176=\"\",\"\",COUNTIF('Codes(W)'!#REF!,O176))","v":""},null,null,null,null,null,null,null,null,null,null,null,159]
[null,null,null,null,null,null,null,null,null,null,null,null,null,null,null,null,{"$f":"IF(ISNA(VLOOKUP(W177,'DocFlagstoListMembe(w)'!B:I,8,FALSE)),\"\",VLOOKUP(W177,'DocFlagstoListMembe(w)'!B:I,8,FALSE))","v":""},{"$f":"IF(O177=\"\",\"\",COUNTIF('Codes(W)'!#REF!,O177))","v":""},null,null,null,null,null,null,null,null,null,null,null,160]
[null,null,null,null,null,null,null,null,null,null,null,null,null,null,null,null,{"$f":"IF(ISNA(VLOOKUP(W178,'DocFlagstoListMembe(w)'!B:I,8,FALSE)),\"\",VLOOKUP(W178,'DocFlagstoListMembe(w)'!B:I,8,FALSE))","v":""},{"$f":"IF(O178=\"\",\"\",COUNTIF('Codes(W)'!#REF!,O178))","v":""},null,null,null,null,null,null,null,null,null,null,null,161]
[null,null,null,null,null,null,null,null,null,null,null,null,null,null,null,null,{"$f":"IF(ISNA(VLOOKUP(W179,'DocFlagstoListMembe(w)'!B:I,8,FALSE)),\"\",VLOOKUP(W179,'DocFlagstoListMembe(w)'!B:I,8,FALSE))","v":""},{"$f":"IF(O179=\"\",\"\",COUNTIF('Codes(W)'!#REF!,O179))","v":""},null,null,null,null,null,null,null,null,null,null,null,162]
[null,null,null,null,null,null,null,null,null,null,null,null,null,null,null,null,{"$f":"IF(ISNA(VLOOKUP(W180,'DocFlagstoListMembe(w)'!B:I,8,FALSE)),\"\",VLOOKUP(W180,'DocFlagstoListMembe(w)'!B:I,8,FALSE))","v":""},{"$f":"IF(O180=\"\",\"\",COUNTIF('Codes(W)'!#REF!,O180))","v":""},null,null,null,null,null,null,null,null,null,null,null,163]
[null,null,null,null,null,null,null,null,null,null,null,null,null,null,null,null,{"$f":"IF(ISNA(VLOOKUP(W181,'DocFlagstoListMembe(w)'!B:I,8,FALSE)),\"\",VLOOKUP(W181,'DocFlagstoListMembe(w)'!B:I,8,FALSE))","v":""},{"$f":"IF(O181=\"\",\"\",COUNTIF('Codes(W)'!#REF!,O181))","v":""},null,null,null,null,null,null,null,null,null,null,null,164]
[null,null,null,null,null,null,null,null,null,null,null,null,null,null,null,null,{"$f":"IF(ISNA(VLOOKUP(W182,'DocFlagstoListMembe(w)'!B:I,8,FALSE)),\"\",VLOOKUP(W182,'DocFlagstoListMembe(w)'!B:I,8,FALSE))","v":""},{"$f":"IF(O182=\"\",\"\",COUNTIF('Codes(W)'!#REF!,O182))","v":""},null,null,null,null,null,null,null,null,null,null,null,165]
[null,null,null,null,null,null,null,null,null,null,null,null,null,null,null,null,{"$f":"IF(ISNA(VLOOKUP(W183,'DocFlagstoListMembe(w)'!B:I,8,FALSE)),\"\",VLOOKUP(W183,'DocFlagstoListMembe(w)'!B:I,8,FALSE))","v":""},{"$f":"IF(O183=\"\",\"\",COUNTIF('Codes(W)'!#REF!,O183))","v":""},null,null,null,null,null,null,null,null,null,null,null,166]
[null,null,null,null,null,null,null,null,null,null,null,null,null,null,null,null,{"$f":"IF(ISNA(VLOOKUP(W184,'DocFlagstoListMembe(w)'!B:I,8,FALSE)),\"\",VLOOKUP(W184,'DocFlagstoListMembe(w)'!B:I,8,FALSE))","v":""},{"$f":"IF(O184=\"\",\"\",COUNTIF('Codes(W)'!#REF!,O184))","v":""},null,null,null,null,null,null,null,null,null,null,null,167]
[null,null,null,null,null,null,null,null,null,null,null,null,null,null,null,null,{"$f":"IF(ISNA(VLOOKUP(W185,'DocFlagstoListMembe(w)'!B:I,8,FALSE)),\"\",VLOOKUP(W185,'DocFlagstoListMembe(w)'!B:I,8,FALSE))","v":""},{"$f":"IF(O185=\"\",\"\",COUNTIF('Codes(W)'!#REF!,O185))","v":""},null,null,null,null,null,null,null,null,null,null,null,168]
[null,null,null,null,null,null,null,null,null,null,null,null,null,null,null,null,{"$f":"IF(ISNA(VLOOKUP(W186,'DocFlagstoListMembe(w)'!B:I,8,FALSE)),\"\",VLOOKUP(W186,'DocFlagstoListMembe(w)'!B:I,8,FALSE))","v":""},{"$f":"IF(O186=\"\",\"\",COUNTIF('Codes(W)'!#REF!,O186))","v":""},null,null,null,null,null,null,null,null,null,null,null,169]
[null,null,null,null,null,null,null,null,null,null,null,null,null,null,null,null,{"$f":"IF(ISNA(VLOOKUP(W187,'DocFlagstoListMembe(w)'!B:I,8,FALSE)),\"\",VLOOKUP(W187,'DocFlagstoListMembe(w)'!B:I,8,FALSE))","v":""},{"$f":"IF(O187=\"\",\"\",COUNTIF('Codes(W)'!#REF!,O187))","v":""},null,null,null,null,null,null,null,null,null,null,null,170]
[null,null,null,null,null,null,null,null,null,null,null,null,null,null,null,null,{"$f":"IF(ISNA(VLOOKUP(W188,'DocFlagstoListMembe(w)'!B:I,8,FALSE)),\"\",VLOOKUP(W188,'DocFlagstoListMembe(w)'!B:I,8,FALSE))","v":""},{"$f":"IF(O188=\"\",\"\",COUNTIF('Codes(W)'!#REF!,O188))","v":""},null,null,null,null,null,null,null,null,null,null,null,171]
[null,null,null,null,null,null,null,null,null,null,null,null,null,null,null,null,{"$f":"IF(ISNA(VLOOKUP(W189,'DocFlagstoListMembe(w)'!B:I,8,FALSE)),\"\",VLOOKUP(W189,'DocFlagstoListMembe(w)'!B:I,8,FALSE))","v":""},{"$f":"IF(O189=\"\",\"\",COUNTIF('Codes(W)'!#REF!,O189))","v":""},null,null,null,null,null,null,null,null,null,null,null,172]
[null,null,null,null,null,null,null,null,null,null,null,null,null,null,null,null,{"$f":"IF(ISNA(VLOOKUP(W190,'DocFlagstoListMembe(w)'!B:I,8,FALSE)),\"\",VLOOKUP(W190,'DocFlagstoListMembe(w)'!B:I,8,FALSE))","v":""},{"$f":"IF(O190=\"\",\"\",COUNTIF('Codes(W)'!#REF!,O190))","v":""},null,null,null,null,null,null,null,null,null,null,null,173]
[null,null,null,null,null,null,null,null,null,null,null,null,null,null,null,null,{"$f":"IF(ISNA(VLOOKUP(W191,'DocFlagstoListMembe(w)'!B:I,8,FALSE)),\"\",VLOOKUP(W191,'DocFlagstoListMembe(w)'!B:I,8,FALSE))","v":""},{"$f":"IF(O191=\"\",\"\",COUNTIF('Codes(W)'!#REF!,O191))","v":""},null,null,null,null,null,null,null,null,null,null,null,174]
[null,null,null,null,null,null,null,null,null,null,null,null,null,null,null,null,{"$f":"IF(ISNA(VLOOKUP(W192,'DocFlagstoListMembe(w)'!B:I,8,FALSE)),\"\",VLOOKUP(W192,'DocFlagstoListMembe(w)'!B:I,8,FALSE))","v":""},{"$f":"IF(O192=\"\",\"\",COUNTIF('Codes(W)'!#REF!,O192))","v":""},null,null,null,null,null,null,null,null,null,null,null,175]
[null,null,null,null,null,null,null,null,null,null,null,null,null,null,null,null,{"$f":"IF(ISNA(VLOOKUP(W193,'DocFlagstoListMembe(w)'!B:I,8,FALSE)),\"\",VLOOKUP(W193,'DocFlagstoListMembe(w)'!B:I,8,FALSE))","v":""},{"$f":"IF(O193=\"\",\"\",COUNTIF('Codes(W)'!#REF!,O193))","v":""},null,null,null,null,null,null,null,null,null,null,null,176]
[null,null,null,null,null,null,null,null,null,null,null,null,null,null,null,null,{"$f":"IF(ISNA(VLOOKUP(W194,'DocFlagstoListMembe(w)'!B:I,8,FALSE)),\"\",VLOOKUP(W194,'DocFlagstoListMembe(w)'!B:I,8,FALSE))","v":""},{"$f":"IF(O194=\"\",\"\",COUNTIF('Codes(W)'!#REF!,O194))","v":""},null,null,null,null,null,null,null,null,null,null,null,177]
[null,null,null,null,null,null,null,null,null,null,null,null,null,null,null,null,{"$f":"IF(ISNA(VLOOKUP(W195,'DocFlagstoListMembe(w)'!B:I,8,FALSE)),\"\",VLOOKUP(W195,'DocFlagstoListMembe(w)'!B:I,8,FALSE))","v":""},{"$f":"IF(O195=\"\",\"\",COUNTIF('Codes(W)'!#REF!,O195))","v":""},null,null,null,null,null,null,null,null,null,null,null,178]
[null,null,null,null,null,null,null,null,null,null,null,null,null,null,null,null,{"$f":"IF(ISNA(VLOOKUP(W196,'DocFlagstoListMembe(w)'!B:I,8,FALSE)),\"\",VLOOKUP(W196,'DocFlagstoListMembe(w)'!B:I,8,FALSE))","v":""},{"$f":"IF(O196=\"\",\"\",COUNTIF('Codes(W)'!#REF!,O196))","v":""},null,null,null,null,null,null,null,null,null,null,null,179]
[null,null,null,null,null,null,null,null,null,null,null,null,null,null,null,null,{"$f":"IF(ISNA(VLOOKUP(W197,'DocFlagstoListMembe(w)'!B:I,8,FALSE)),\"\",VLOOKUP(W197,'DocFlagstoListMembe(w)'!B:I,8,FALSE))","v":""},{"$f":"IF(O197=\"\",\"\",COUNTIF('Codes(W)'!#REF!,O197))","v":""},null,null,null,null,null,null,null,null,null,null,null,180]
[null,null,null,null,null,null,null,null,null,null,null,null,null,null,null,null,{"$f":"IF(ISNA(VLOOKUP(W198,'DocFlagstoListMembe(w)'!B:I,8,FALSE)),\"\",VLOOKUP(W198,'DocFlagstoListMembe(w)'!B:I,8,FALSE))","v":""},{"$f":"IF(O198=\"\",\"\",COUNTIF('Codes(W)'!#REF!,O198))","v":""},null,null,null,null,null,null,null,null,null,null,null,181]
[null,null,null,null,null,null,null,null,null,null,null,null,null,null,null,null,{"$f":"IF(ISNA(VLOOKUP(W199,'DocFlagstoListMembe(w)'!B:I,8,FALSE)),\"\",VLOOKUP(W199,'DocFlagstoListMembe(w)'!B:I,8,FALSE))","v":""},{"$f":"IF(O199=\"\",\"\",COUNTIF('Codes(W)'!#REF!,O199))","v":""},null,null,null,null,null,null,null,null,null,null,null,182]
[null,null,null,null,null,null,null,null,null,null,null,null,null,null,null,null,{"$f":"IF(ISNA(VLOOKUP(W200,'DocFlagstoListMembe(w)'!B:I,8,FALSE)),\"\",VLOOKUP(W200,'DocFlagstoListMembe(w)'!B:I,8,FALSE))","v":""},{"$f":"IF(O200=\"\",\"\",COUNTIF('Codes(W)'!#REF!,O200))","v":""},null,null,null,null,null,null,null,null,null,null,null,183]
[null,null,null,null,null,null,null,null,null,null,null,null,null,null,null,null,{"$f":"IF(ISNA(VLOOKUP(W201,'DocFlagstoListMembe(w)'!B:I,8,FALSE)),\"\",VLOOKUP(W201,'DocFlagstoListMembe(w)'!B:I,8,FALSE))","v":""},{"$f":"IF(O201=\"\",\"\",COUNTIF('Codes(W)'!#REF!,O201))","v":""},null,null,null,null,null,null,null,null,null,null,null,184]
[null,null,null,null,null,null,null,null,null,null,null,null,null,null,null,null,{"$f":"IF(ISNA(VLOOKUP(W202,'DocFlagstoListMembe(w)'!B:I,8,FALSE)),\"\",VLOOKUP(W202,'DocFlagstoListMembe(w)'!B:I,8,FALSE))","v":""},{"$f":"IF(O202=\"\",\"\",COUNTIF('Codes(W)'!#REF!,O202))","v":""},null,null,null,null,null,null,null,null,null,null,null,185]
[null,null,null,null,null,null,null,null,null,null,null,null,null,null,null,null,{"$f":"IF(ISNA(VLOOKUP(W203,'DocFlagstoListMembe(w)'!B:I,8,FALSE)),\"\",VLOOKUP(W203,'DocFlagstoListMembe(w)'!B:I,8,FALSE))","v":""},{"$f":"IF(O203=\"\",\"\",COUNTIF('Codes(W)'!#REF!,O203))","v":""},null,null,null,null,null,null,null,null,null,null,null,186]
[null,null,null,null,null,null,null,null,null,null,null,null,null,null,null,null,{"$f":"IF(ISNA(VLOOKUP(W204,'DocFlagstoListMembe(w)'!B:I,8,FALSE)),\"\",VLOOKUP(W204,'DocFlagstoListMembe(w)'!B:I,8,FALSE))","v":""},{"$f":"IF(O204=\"\",\"\",COUNTIF('Codes(W)'!#REF!,O204))","v":""},null,null,null,null,null,null,null,null,null,null,null,187]
[null,null,null,null,null,null,null,null,null,null,null,null,null,null,null,null,{"$f":"IF(ISNA(VLOOKUP(W205,'DocFlagstoListMembe(w)'!B:I,8,FALSE)),\"\",VLOOKUP(W205,'DocFlagstoListMembe(w)'!B:I,8,FALSE))","v":""},{"$f":"IF(O205=\"\",\"\",COUNTIF('Codes(W)'!#REF!,O205))","v":""},null,null,null,null,null,null,null,null,null,null,null,188]
[null,null,null,null,null,null,null,null,null,null,null,null,null,null,null,null,{"$f":"IF(ISNA(VLOOKUP(W206,'DocFlagstoListMembe(w)'!B:I,8,FALSE)),\"\",VLOOKUP(W206,'DocFlagstoListMembe(w)'!B:I,8,FALSE))","v":""},{"$f":"IF(O206=\"\",\"\",COUNTIF('Codes(W)'!#REF!,O206))","v":""},null,null,null,null,null,null,null,null,null,null,null,189]
[null,null,null,null,null,null,null,null,null,null,null,null,null,null,null,null,{"$f":"IF(ISNA(VLOOKUP(W207,'DocFlagstoListMembe(w)'!B:I,8,FALSE)),\"\",VLOOKUP(W207,'DocFlagstoListMembe(w)'!B:I,8,FALSE))","v":""},{"$f":"IF(O207=\"\",\"\",COUNTIF('Codes(W)'!#REF!,O207))","v":""},null,null,null,null,null,null,null,null,null,null,null,190]
[null,null,null,null,null,null,null,null,null,null,null,null,null,null,null,null,{"$f":"IF(ISNA(VLOOKUP(W208,'DocFlagstoListMembe(w)'!B:I,8,FALSE)),\"\",VLOOKUP(W208,'DocFlagstoListMembe(w)'!B:I,8,FALSE))","v":""},{"$f":"IF(O208=\"\",\"\",COUNTIF('Codes(W)'!#REF!,O208))","v":""},null,null,null,null,null,null,null,null,null,null,null,191]
[null,null,null,null,null,null,null,null,null,null,null,null,null,null,null,null,{"$f":"IF(ISNA(VLOOKUP(W209,'DocFlagstoListMembe(w)'!B:I,8,FALSE)),\"\",VLOOKUP(W209,'DocFlagstoListMembe(w)'!B:I,8,FALSE))","v":""},{"$f":"IF(O209=\"\",\"\",COUNTIF('Codes(W)'!#REF!,O209))","v":""},null,null,null,null,null,null,null,null,null,null,null,192]
[null,null,null,null,null,null,null,null,null,null,null,null,null,null,null,null,{"$f":"IF(ISNA(VLOOKUP(W210,'DocFlagstoListMembe(w)'!B:I,8,FALSE)),\"\",VLOOKUP(W210,'DocFlagstoListMembe(w)'!B:I,8,FALSE))","v":""},{"$f":"IF(O210=\"\",\"\",COUNTIF('Codes(W)'!#REF!,O210))","v":""},null,null,null,null,null,null,null,null,null,null,null,193]
[null,null,null,null,null,null,null,null,null,null,null,null,null,null,null,null,{"$f":"IF(ISNA(VLOOKUP(W211,'DocFlagstoListMembe(w)'!B:I,8,FALSE)),\"\",VLOOKUP(W211,'DocFlagstoListMembe(w)'!B:I,8,FALSE))","v":""},{"$f":"IF(O211=\"\",\"\",COUNTIF('Codes(W)'!#REF!,O211))","v":""},null,null,null,null,null,null,null,null,null,null,null,194]
[null,null,null,null,null,null,null,null,null,null,null,null,null,null,null,null,{"$f":"IF(ISNA(VLOOKUP(W212,'DocFlagstoListMembe(w)'!B:I,8,FALSE)),\"\",VLOOKUP(W212,'DocFlagstoListMembe(w)'!B:I,8,FALSE))","v":""},{"$f":"IF(O212=\"\",\"\",COUNTIF('Codes(W)'!#REF!,O212))","v":""},null,null,null,null,null,null,null,null,null,null,null,195]

{"sheet":"BP Code Sets","index":3,"n_rows":927,"n_cols":10,"rows_kept":927,"cut":false,"hidden":false,"merged":[]}
[]
[null,"HRG4+ 2017/18 Payment Grouper: Best Practice Code Sets"]
[]
[null,"Design Base","BP Flag","BP Name","BP Category","Sub Categories (DC and SDEM only)","Code Type","Code Value","Code","Code Description"]
[null,"P1718","BP01","Fragility hip fracture","Non-Elective Fragility Hip Fracture",null,"ADMIMETH","Criteria",21,"Accident and emergency or dental casualty department of the Health Care Provider"]
[null,"P1718","BP01","Fragility hip fracture","Non-Elective Fragility Hip Fracture",null,"ADMIMETH","Criteria",22,"General practitioner: after a request for immediate admission has been made direct to a Hospital Provider, i.e. not through a Bed bureau, by a GENERAL PRACTITIONER or deputy"]
[null,"P1718","BP01","Fragility hip fracture","Non-Elective Fragility Hip Fracture",null,"ADMIMETH","Criteria",23,"Bed bureau"]
[null,"P1718","BP01","Fragility hip fracture","Non-Elective Fragility Hip Fracture",null,"ADMIMETH","Criteria",24,"Consultant clinic, of this or another Health Care Provider"]
[null,"P1718","BP01","Fragility hip fracture","Non-Elective Fragility Hip Fracture",null,"ADMIMETH","Criteria",25,"Admission via mental health crisis resolution team"]
[null,"P1718","BP01","Fragility hip fracture","Non-Elective Fragility Hip Fracture",null,"ADMIMETH","Criteria",28,"Other means"]
[null,"P1718","BP01","Fragility hip fracture","Non-Elective Fragility Hip Fracture",null,"ADMIMETH","Criteria",81,"Transfer of any admitted PATIENT from other Hospital Provider other than in an emergency"]
[null,"P1718","BP01","Fragility hip fracture","Non-Elective Fragility Hip Fracture",null,"ADMIMETH","Criteria","2A","Accident and Emergency Department of another provider where the PATIENT had not been admitted"]
[null,"P1718","BP01","Fragility hip fracture","Non-Elective Fragility Hip Fracture",null,"ADMIMETH","Criteria","2B","Transfer of an admitted PATIENT from another Hospital Provider in an emergency"]
[null,"P1718","BP01","Fragility hip fracture","Non-Elective Fragility Hip Fracture",null,"ADMIMETH","Criteria","2C","Baby born at home as intended"]
[null,"P1718","BP01","Fragility hip fracture","Non-Elective Fragility Hip Fracture",null,"ADMIMETH","Criteria","2D","Other emergency admission"]
[null,"P1718","BP01","Fragility hip fracture","Non-Elective Fragility Hip Fracture",null,"Age","Criteria","60 and over (60-130) (not 999)","Age criteria applied - 60 and over (eligible ages 60-130, but not the default age code 999)"]
[null,"P1718","BP01","Fragility hip fracture","Non-Elective Fragility Hip Fracture",null,"Eligible HRG","Criteria","HT12A","Very Major Hip Procedures for Trauma with CC Score 12+"]
[null,"P1718","BP01","Fragility hip fracture","Non-Elective Fragility Hip Fracture",null,"Eligible HRG","Criteria","HT12B","Very Major Hip Procedures for Trauma with CC Score 9-11"]
[null,"P1718","BP01","Fragility hip fracture","Non-Elective Fragility Hip Fracture",null,"Eligible HRG","Criteria","HT12C","Very Major Hip Procedures for Trauma with CC Score 6-8"]
[null,"P1718","BP01","Fragility hip fracture","Non-Elective Fragility Hip Fracture",null,"Eligible HRG","Criteria","HT12D","Very Major Hip Procedures for Trauma with CC Score 3-5"]
[null,"P1718","BP01","Fragility hip fracture","Non-Elective Fragility Hip Fracture",null,"Eligible HRG","Criteria","HT12E","Very Major Hip Procedures for Trauma with CC Score 0-2"]
[null,"P1718","BP01","Fragility hip fracture","Non-Elective Fragility Hip Fracture",null,"Eligible HRG","Criteria","HT13A","Major Hip Procedures for Trauma with CC Score 12+"]
[null,"P1718","BP01","Fragility hip fracture","Non-Elective Fragility Hip Fracture",null,"Eligible HRG","Criteria","HT13B","Major Hip Procedures for Trauma with CC Score 9-11"]
[null,"P1718","BP01","Fragility hip fracture","Non-Elective Fragility Hip Fracture",null,"Eligible HRG","Criteria","HT13C","Major Hip Procedures for Trauma with CC Score 6-8"]
[null,"P1718","BP01","Fragility hip fracture","Non-Elective Fragility Hip Fracture",null,"Eligible HRG","Criteria","HT13D","Major Hip Procedures for Trauma with CC Score 3-5"]
[null,"P1718","BP01","Fragility hip fracture","Non-Elective Fragility Hip Fracture",null,"Eligible HRG","Criteria","HT13E","Major Hip Procedures for Trauma with CC Score 0-2"]
[null,"P1718","BP01","Fragility hip fracture","Non-Elective Fragility Hip Fracture",null,"Eligible HRG","Criteria","VA11A","Multiple Trauma with Diagnosis Score <=23, with Intervention Score 1-8"]
[null,"P1718","BP01","Fragility hip fracture","Non-Elective Fragility Hip Fracture",null,"Eligible HRG","Criteria","VA11B","Multiple Trauma with Diagnosis Score 24-32, with Intervention Score 1-8"]
[null,"P1718","BP01","Fragility hip fracture","Non-Elective Fragility Hip Fracture",null,"Eligible HRG","Criteria","VA11C","Multiple Trauma with Diagnosis Score 33-50, with Intervention Score 1-8"]
[null,"P1718","BP01","Fragility hip fracture","Non-Elective Fragility Hip Fracture",null,"Eligible HRG","Criteria","VA11D","Multiple Trauma with Diagnosis Score >=51, with Intervention Score 1-8"]
[null,"P1718","BP01","Fragility hip fracture","Non-Elective Fragility Hip Fracture",null,"Eligible HRG","Criteria","VA12A","Multiple Trauma with Diagnosis Score <=23, with Intervention Score 9-18"]
[null,"P1718","BP01","Fragility hip fracture","Non-Elective Fragility Hip Fracture",null,"Eligible HRG","Criteria","VA12B","Multiple Trauma with Diagnosis Score 24-32, with Intervention Score 9-18"]
[null,"P1718","BP01","Fragility hip fracture","Non-Elective Fragility Hip Fracture",null,"Eligible HRG","Criteria","VA12C","Multiple Trauma with Diagnosis Score 33-50, with Intervention Score 9-18"]
[null,"P1718","BP01","Fragility hip fracture","Non-Elective Fragility Hip Fracture",null,"Eligible HRG","Criteria","VA12D","Multiple Trauma with Diagnosis Score >=51, with Intervention Score 9-18"]
[null,"P1718","BP01","Fragility hip fracture","Non-Elective Fragility Hip Fracture",null,"ICD-10","Trigger","S720","Fracture of neck of femur"]
[null,"P1718","BP01","Fragility hip fracture","Non-Elective Fragility Hip Fracture",null,"ICD-10","Trigger","S7200","Fracture of neck of femur: closed"]
[null,"P1718","BP01","Fragility hip fracture","Non-Elective Fragility Hip Fracture",null,"ICD-10","Trigger","S7201","Fracture of neck of femur: open"]
[null,"P1718","BP01","Fragility hip fracture","Non-Elective Fragility Hip Fracture",null,"ICD-10","Trigger","S721","Pertrochanteric fracture"]
[null,"P1718","BP01","Fragility hip fracture","Non-Elective Fragility Hip Fracture",null,"ICD-10","Trigger","S7210","Pertrochanteric fracture: closed"]
[null,"P1718","BP01","Fragility hip fracture","Non-Elective Fragility Hip Fracture",null,"ICD-10","Trigger","S7211","Pertrochanteric fracture: open"]
[null,"P1718","BP01","Fragility hip fracture","Non-Elective Fragility Hip Fracture",null,"ICD-10","Trigger","S722","Subtrochanteric fracture"]
[null,"P1718","BP01","Fragility hip fracture","Non-Elective Fragility Hip Fracture",null,"ICD-10","Trigger","S7220","Subtrochanteric fracture: closed"]
[null,"P1718","BP01","Fragility hip fracture","Non-Elective Fragility Hip Fracture",null,"ICD-10","Trigger","S7221","Subtrochanteric fracture: open"]
[null,"P1718","BP01","Fragility hip fracture","Non-Elective Fragility Hip Fracture",null,"OPCS-4","Trigger","O171","Remanipulation of intracapsular fracture of neck of femur and fixation using nail or screw"]
[null,"P1718","BP01","Fragility hip fracture","Non-Elective Fragility Hip Fracture",null,"OPCS-4","Trigger","O172","Remanipulation of fracture of long bone and rigid internal fixation NEC"]
[null,"P1718","BP01","Fragility hip fracture","Non-Elective Fragility Hip Fracture",null,"OPCS-4","Trigger","W191","Primary open reduction of fracture of neck of femur and open fixation using pin and plate"]
[null,"P1718","BP01","Fragility hip fracture","Non-Elective Fragility Hip Fracture",null,"OPCS-4","Trigger","W192","Primary open reduction of fracture of long bone and fixation using rigid nail NEC"]
[null,"P1718","BP01","Fragility hip fracture","Non-Elective Fragility Hip Fracture",null,"OPCS-4","Trigger","W241","Closed reduction of intracapsular fracture of neck of femur and fixation using nail or screw"]
[null,"P1718","BP01","Fragility hip fracture","Non-Elective Fragility Hip Fracture",null,"OPCS-4","Trigger","W242","Closed reduction of fracture of long bone and rigid internal fixation NEC"]
[null,"P1718","BP01","Fragility hip fracture","Non-Elective Fragility Hip Fracture",null,"OPCS-4","Trigger","W246","Closed reduction of fracture of bone and fixation using nail or screw"]
[null,"P1718","BP01","Fragility hip fracture","Non-Elective Fragility Hip Fracture",null,"OPCS-4","Trigger","W371","Primary total prosthetic replacement of hip joint using cement"]
[null,"P1718","BP01","Fragility hip fracture","Non-Elective Fragility Hip Fracture",null,"OPCS-4","Trigger","W381","Primary total prosthetic replacement of hip joint not using cement"]
[null,"P1718","BP01","Fragility hip fracture","Non-Elective Fragility Hip Fracture",null,"OPCS-4","Trigger","W391","Primary total prosthetic replacement of hip joint NEC"]
[null,"P1718","BP01","Fragility hip fracture","Non-Elective Fragility Hip Fracture",null,"OPCS-4","Trigger","W461","Primary prosthetic replacement of head of femur using cement"]
[null,"P1718","BP01","Fragility hip fracture","Non-Elective Fragility Hip Fracture",null,"OPCS-4","Trigger","W471","Primary prosthetic replacement of head of femur not using cement"]
[null,"P1718","BP01","Fragility hip fracture","Non-Elective Fragility Hip Fracture",null,"OPCS-4","Trigger","W481","Primary prosthetic replacement of head of femur NEC"]
[null,"P1718","BP01","Fragility hip fracture","Non-Elective Fragility Hip Fracture",null,"OPCS-4","Trigger","W572","Primary excision arthroplasty of joint NEC"]
[null,"P1718","BP01","Fragility hip fracture","Non-Elective Fragility Hip Fracture",null,"OPCS-4","Trigger","W654","Primary open reduction of fracture dislocation of joint and internal fixation NEC"]
[null,"P1718","BP01","Fragility hip fracture","Non-Elective Fragility Hip Fracture",null,"OPCS-4","Trigger","W931","Primary hybrid prosthetic replacement of hip joint using cemented acetabular component"]
[null,"P1718","BP01","Fragility hip fracture","Non-Elective Fragility Hip Fracture",null,"OPCS-4","Trigger","W941","Primary hybrid prosthetic replacement of hip joint using cemented femoral component"]
[null,"P1718","BP01","Fragility hip fracture","Non-Elective Fragility Hip Fracture",null,"OPCS-4","Trigger","W951","Primary hybrid prosthetic replacement of hip joint using cement NEC"]
[null,"P1718","BP02","Myocardial infarction","Non-Elective MI",null,"ADMIMETH","Criteria",21,"Accident and emergency or dental casualty department of the Health Care Provider"]
[null,"P1718","BP02","Myocardial infarction","Non-Elective MI",null,"ADMIMETH","Criteria",22,"General practitioner: after a request for immediate admission has been made direct to a Hospital Provider, i.e. not through a Bed bureau, by a GENERAL PRACTITIONER or deputy"]
[null,"P1718","BP02","Myocardial infarction","Non-Elective MI",null,"ADMIMETH","Criteria",23,"Bed bureau"]
[null,"P1718","BP02","Myocardial infarction","Non-Elective MI",null,"ADMIMETH","Criteria",24,"Consultant clinic, of this or another Health Care Provider"]
[null,"P1718","BP02","Myocardial infarction","Non-Elective MI",null,"ADMIMETH","Criteria",25,"Admission via mental health crisis resolution team"]
[null,"P1718","BP02","Myocardial infarction","Non-Elective MI",null,"ADMIMETH","Criteria",28,"Other means"]
[null,"P1718","BP02","Myocardial infarction","Non-Elective MI",null,"ADMIMETH","Criteria",81,"Transfer of any admitted PATIENT from other Hospital Provider other than in an emergency"]
[null,"P1718","BP02","Myocardial infarction","Non-Elective MI",null,"ADMIMETH","Criteria","2A","Accident and Emergency Department of another provider where the PATIENT had not been admitted"]
[null,"P1718","BP02","Myocardial infarction","Non-Elective MI",null,"ADMIMETH","Criteria","2B","Transfer of an admitted PATIENT from another Hospital Provider in an emergency"]
[null,"P1718","BP02","Myocardial infarction","Non-Elective MI",null,"ADMIMETH","Criteria","2C","Baby born at home as intended"]
[null,"P1718","BP02","Myocardial infarction","Non-Elective MI",null,"ADMIMETH","Criteria","2D","Other emergency admission"]
[null,"P1718","BP02","Myocardial infarction","Non-Elective MI",null,"Age","Criteria","19 and over (19-130 or 999)","Age criteria applied - 19 and over (eligible ages 19-130 or the default age code 999)"]
[null,"P1718","BP02","Myocardial infarction","Non-Elective MI",null,"Eligible HRG","Criteria","EB10A","Actual or Suspected Myocardial Infarction, with CC Score 13+"]
[null,"P1718","BP02","Myocardial infarction","Non-Elective MI",null,"Eligible HRG","Criteria","EB10B","Actual or Suspected Myocardial Infarction, with CC Score 10-12"]
[null,"P1718","BP02","Myocardial infarction","Non-Elective MI",null,"Eligible HRG","Criteria","EB10C","Actual or Suspected Myocardial Infarction, with CC Score 7-9"]
[null,"P1718","BP02","Myocardial infarction","Non-Elective MI",null,"Eligible HRG","Criteria","EB10D","Actual or Suspected Myocardial Infarction, with CC Score 4-6"]
[null,"P1718","BP02","Myocardial infarction","Non-Elective MI",null,"Eligible HRG","Criteria","EB10E","Actual or Suspected Myocardial Infarction, with CC Score 0-3"]
[null,"P1718","BP02","Myocardial infarction","Non-Elective MI",null,"Eligible HRG","Criteria","EY40A","Complex Percutaneous Transluminal Coronary Angioplasty with CC Score 12+"]
[null,"P1718","BP02","Myocardial infarction","Non-Elective MI",null,"Eligible HRG","Criteria","EY40B","Complex Percutaneous Transluminal Coronary Angioplasty with CC Score 8-11"]
[null,"P1718","BP02","Myocardial infarction","Non-Elective MI",null,"Eligible HRG","Criteria","EY40C","Complex Percutaneous Transluminal Coronary Angioplasty with CC Score 4-7"]
[null,"P1718","BP02","Myocardial infarction","Non-Elective MI",null,"Eligible HRG","Criteria","EY40D","Complex Percutaneous Transluminal Coronary Angioplasty with CC Score 0-3"]
[null,"P1718","BP02","Myocardial infarction","Non-Elective MI",null,"Eligible HRG","Criteria","EY41A","Standard Percutaneous Transluminal Coronary Angioplasty with CC Score 12+"]
[null,"P1718","BP02","Myocardial infarction","Non-Elective MI",null,"Eligible HRG","Criteria","EY41B","Standard Percutaneous Transluminal Coronary Angioplasty with CC Score 8-11"]
[null,"P1718","BP02","Myocardial infarction","Non-Elective MI",null,"Eligible HRG","Criteria","EY41C","Standard Percutaneous Transluminal Coronary Angioplasty with CC Score 4-7"]
[null,"P1718","BP02","Myocardial infarction","Non-Elective MI",null,"Eligible HRG","Criteria","EY41D","Standard Percutaneous Transluminal Coronary Angioplasty with CC Score 0-3"]
[null,"P1718","BP02","Myocardial infarction","Non-Elective MI",null,"Eligible HRG","Criteria","EY42A","Complex Cardiac Catheterisation with CC Score 7+"]
[null,"P1718","BP02","Myocardial infarction","Non-Elective MI",null,"Eligible HRG","Criteria","EY42B","Complex Cardiac Catheterisation with CC Score 4-6"]
[null,"P1718","BP02","Myocardial infarction","Non-Elective MI",null,"Eligible HRG","Criteria","EY42C","Complex Cardiac Catheterisation with CC Score 2-3"]
[null,"P1718","BP02","Myocardial infarction","Non-Elective MI",null,"Eligible HRG","Criteria","EY42D","Complex Cardiac Catheterisation with CC Score 0-1"]
[null,"P1718","BP02","Myocardial infarction","Non-Elective MI",null,"Eligible HRG","Criteria","EY43A","Standard Cardiac Catheterisation with CC Score 13+"]
[null,"P1718","BP02","Myocardial infarction","Non-Elective MI",null,"Eligible HRG","Criteria","EY43B","Standard Cardiac Catheterisation with CC Score 10-12"]
[null,"P1718","BP02","Myocardial infarction","Non-Elective MI",null,"Eligible HRG","Criteria","EY43C","Standard Cardiac Catheterisation with CC Score 7-9"]
[null,"P1718","BP02","Myocardial infarction","Non-Elective MI",null,"Eligible HRG","Criteria","EY43D","Standard Cardiac Catheterisation with CC Score 4-6"]
[null,"P1718","BP02","Myocardial infarction","Non-Elective MI",null,"Eligible HRG","Criteria","EY43E","Standard Cardiac Catheterisation with CC Score 2-3"]
[null,"P1718","BP02","Myocardial infarction","Non-Elective MI",null,"Eligible HRG","Criteria","EY43F","Standard Cardiac Catheterisation with CC Score 0-1"]
[null,"P1718","BP02","Myocardial infarction","Non-Elective MI",null,"ICD-10","Trigger","I210","Acute transmural myocardial infarction of anterior wall"]
[null,"P1718","BP02","Myocardial infarction","Non-Elective MI",null,"ICD-10","Trigger","I211","Acute transmural myocardial infarction of inferior wall"]
[null,"P1718","BP02","Myocardial infarction","Non-Elective MI",null,"ICD-10","Trigger","I212","Acute transmural myocardial infarction of other sites"]
[null,"P1718","BP02","Myocardial infarction","Non-Elective MI",null,"ICD-10","Trigger","I213","Acute transmural myocardial infarction of unspecified site"]
[null,"P1718","BP02","Myocardial infarction","Non-Elective MI",null,"ICD-10","Trigger","I219","Acute myocardial infarction, unspecified"]
[null,"P1718","BP02","Myocardial infarction","Non-Elective MI",null,"ICD-10","Trigger","I220","Subsequent myocardial infarction of anterior wall"]
[null,"P1718","BP02","Myocardial infarction","Non-Elective MI",null,"ICD-10","Trigger","I221","Subsequent myocardial infarction of inferior wall"]
[null,"P1718","BP02","Myocardial infarction","Non-Elective MI",null,"ICD-10","Trigger","I228","Subsequent myocardial infarction of other sites"]
[null,"P1718","BP02","Myocardial infarction","Non-Elective MI",null,"ICD-10","Trigger","I229","Subsequent myocardial infarction of unspecified site"]
[null,"P1718","BP15","Therapeutic arthroscopy of shoulder","Day Case Incentive","Orthopaedic surgery","ADMIMETH","Criteria",11,"Waiting list"]
[null,"P1718","BP15","Therapeutic arthroscopy of shoulder","Day Case Incentive","Orthopaedic surgery","ADMIMETH","Criteria",12,"Booked"]
[null,"P1718","BP15","Therapeutic arthroscopy of shoulder","Day Case Incentive","Orthopaedic surgery","ADMIMETH","Criteria",13,"Planned"]
[null,"P1718","BP15","Therapeutic arthroscopy of shoulder","Day Case Incentive","Orthopaedic surgery","Age","Criteria","19 and over (19-130 or 999)","Age criteria applied - 19 and over (eligible ages 19-130 or the default age code 999)"]
[null,"P1718","BP15","Therapeutic arthroscopy of shoulder","Day Case Incentive","Orthopaedic surgery","Eligible HRG","Criteria","HN54C","Intermediate Shoulder Procedures for Non-Trauma, 19 years and over, with CC Score 0-1"]
[null,"P1718","BP15","Therapeutic arthroscopy of shoulder","Day Case Incentive","Orthopaedic surgery","OPCS-4","Qualifier","Y767","Arthroscopic approach to joint"]
[null,"P1718","BP15","Therapeutic arthroscopy of shoulder","Day Case Incentive","Orthopaedic surgery","OPCS-4","Trigger","O291","Subacromial decompression"]
[null,"P1718","BP16","Bunion operations","Day Case Incentive","Orthopaedic surgery","ADMIMETH","Criteria",11,"Waiting list"]
[null,"P1718","BP16","Bunion operations","Day Case Incentive","Orthopaedic surgery","ADMIMETH","Criteria",12,"Booked"]
[null,"P1718","BP16","Bunion operations","Day Case Incentive","Orthopaedic surgery","ADMIMETH","Criteria",13,"Planned"]
[null,"P1718","BP16","Bunion operations","Day Case Incentive","Orthopaedic surgery","Age","Criteria","19 and over (19-130 or 999)","Age criteria applied - 19 and over (eligible ages 19-130 or the default age code 999)"]
[null,"P1718","BP16","Bunion operations","Day Case Incentive","Orthopaedic surgery","Eligible HRG","Criteria","HN34C","Intermediate Foot Procedures for Non-Trauma, 19 years and over, with CC Score 0-1"]
[null,"P1718","BP16","Bunion operations","Day Case Incentive","Orthopaedic surgery","OPCS-4","Trigger","W593","Fusion of first metatarsophalangeal joint NEC"]
[null,"P1718","BP16","Bunion operations","Day Case Incentive","Orthopaedic surgery","OPCS-4","Trigger","W791","Soft tissue correction of hallux valgus"]
[null,"P1718","BP16","Bunion operations","Day Case Incentive","Orthopaedic surgery","OPCS-4","Trigger","W792","Excision of bunion NEC"]
[null,"P1718","BP17","Dupuytren's fasciectomy","Day Case Incentive","Orthopaedic surgery","ADMIMETH","Criteria",11,"Waiting list"]
[null,"P1718","BP17","Dupuytren's fasciectomy","Day Case Incentive","Orthopaedic surgery","ADMIMETH","Criteria",12,"Booked"]
[null,"P1718","BP17","Dupuytren's fasciectomy","Day Case Incentive","Orthopaedic surgery","ADMIMETH","Criteria",13,"Planned"]
[null,"P1718","BP17","Dupuytren's fasciectomy","Day Case Incentive","Orthopaedic surgery","Age","Criteria","19 and over (19-130 or 999)","Age criteria applied - 19 and over (eligible ages 19-130 or the default age code 999)"]
[null,"P1718","BP17","Dupuytren's fasciectomy","Day Case Incentive","Orthopaedic surgery","Eligible HRG","Criteria","HN44B","Intermediate Hand Procedures for Non-Trauma, 19 years and over, with CC Score 0-1"]
[null,"P1718","BP17","Dupuytren's fasciectomy","Day Case Incentive","Orthopaedic surgery","OPCS-4","Trigger","T521","Palmar fasciectomy"]
[null,"P1718","BP28","Simple mastectomy","Day Case Incentive","Breast surgery","ADMIMETH","Criteria",11,"Waiting list"]
[null,"P1718","BP28","Simple mastectomy","Day Case Incentive","Breast surgery","ADMIMETH","Criteria",12,"Booked"]
[null,"P1718","BP28","Simple mastectomy","Day Case Incentive","Breast surgery","ADMIMETH","Criteria",13,"Planned"]
[null,"P1718","BP28","Simple mastectomy","Day Case Incentive","Breast surgery","Age","Criteria","19 and over (19-130 or 999)","Age criteria applied - 19 and over (eligible ages 19-130 or the default age code 999)"]
[null,"P1718","BP28","Simple mastectomy","Day Case Incentive","Breast surgery","Eligible HRG","Criteria","JA20F","Unilateral Major Breast Procedures with CC Score 0-2"]
[null,"P1718","BP28","Simple mastectomy","Day Case Incentive","Breast surgery","Eligible HRG","Criteria","JA38C","Unilateral Major Breast Procedures with Lymph Node Clearance, with CC Score 0-1"]
[null,"P1718","BP28","Simple mastectomy","Day Case Incentive","Breast surgery","OPCS-4","Trigger","B274","Total mastectomy NEC"]
[null,"P1718","BP28","Simple mastectomy","Day Case Incentive","Breast surgery","OPCS-4","Trigger","B275","Subcutaneous mastectomy"]
[null,"P1718","BP28","Simple mastectomy","Day Case Incentive","Breast surgery","OPCS-4","Trigger","B276","Skin sparing mastectomy"]
[null,"P1718","BP28","Simple mastectomy","Day Case Incentive","Breast surgery","OPCS-4","Trigger","B278","Other specified total excision of breast"]
[null,"P1718","BP28","Simple mastectomy","Day Case Incentive","Breast surgery","OPCS-4","Trigger","B279","Unspecified total excision of breast"]
[null,"P1718","BP29","Excision of breast","Day Case Incentive","Breast surgery","ADMIMETH","Criteria",11,"Waiting list"]
[null,"P1718","BP29","Excision of breast","Day Case Incentive","Breast surgery","ADMIMETH","Criteria",12,"Booked"]
[null,"P1718","BP29","Excision of breast","Day Case Incentive","Breast surgery","ADMIMETH","Criteria",13,"Planned"]
[null,"P1718","BP29","Excision of breast","Day Case Incentive","Breast surgery","Age","Criteria","19 and over (19-130 or 999)","Age criteria applied - 19 and over (eligible ages 19-130 or the default age code 999)"]
[null,"P1718","BP29","Excision of breast","Day Case Incentive","Breast surgery","Eligible HRG","Criteria","JA20F","Unilateral Major Breast Procedures with CC Score 0-2"]
[null,"P1718","BP29","Excision of breast","Day Case Incentive","Breast surgery","Eligible HRG","Criteria","JA43B","Unilateral Intermediate Breast Procedures with CC Score 0-2"]
[null,"P1718","BP29","Excision of breast","Day Case Incentive","Breast surgery","OPCS-4","Trigger","B281","Quadrantectomy of breast"]
[null,"P1718","BP29","Excision of breast","Day Case Incentive","Breast surgery","OPCS-4","Trigger","B282","Partial excision of breast NEC"]
[null,"P1718","BP29","Excision of breast","Day Case Incentive","Breast surgery","OPCS-4","Trigger","B283","Excision of lesion of breast NEC"]
[null,"P1718","BP29","Excision of breast","Day Case Incentive","Breast surgery","OPCS-4","Trigger","B284","Re-excision of breast margins"]
[null,"P1718","BP29","Excision of breast","Day Case Incentive","Breast surgery","OPCS-4","Trigger","B287","Wire guided excision of lesion of breast"]
[null,"P1718","BP31","Sentinel lymph node biopsy/axillary sample","Day Case Incentive","Breast surgery","ADMIMETH","Criteria",11,"Waiting list"]
[null,"P1718","BP31","Sentinel lymph node biopsy/axillary sample","Day Case Incentive","Breast surgery","ADMIMETH","Criteria",12,"Booked"]
[null,"P1718","BP31","Sentinel lymph node biopsy/axillary sample","Day Case Incentive","Breast surgery","ADMIMETH","Criteria",13,"Planned"]
[null,"P1718","BP31","Sentinel lymph node biopsy/axillary sample","Day Case Incentive","Breast surgery","Age","Criteria","19 and over (19-130 or 999)","Age criteria applied - 19 and over (eligible ages 19-130 or the default age code 999)"]
[null,"P1718","BP31","Sentinel lymph node biopsy/axillary sample","Day Case Incentive","Breast surgery","Eligible HRG","Criteria","YJ04Z","Core Needle Biopsy of Axillary Lymph Nodes"]
[null,"P1718","BP31","Sentinel lymph node biopsy/axillary sample","Day Case Incentive","Breast surgery","OPCS-4","Qualifier","O142","Sentinel lymph node"]
[null,"P1718","BP31","Sentinel lymph node biopsy/axillary sample","Day Case Incentive","Breast surgery","OPCS-4","Trigger","T862","Sampling of axillary lymph nodes"]
[null,"P1718","BP31","Sentinel lymph node biopsy/axillary sample","Day Case Incentive","Breast surgery","OPCS-4","Trigger","T873","Excision or biopsy of axillary lymph node"]
[null,"P1718","BP32","Axillary clearance","Day Case Incentive","Breast surgery","ADMIMETH","Criteria",11,"Waiting list"]
[null,"P1718","BP32","Axillary clearance","Day Case Incentive","Breast surgery","ADMIMETH","Criteria",12,"Booked"]
[null,"P1718","BP32","Axillary clearance","Day Case Incentive","Breast surgery","ADMIMETH","Criteria",13,"Planned"]
[null,"P1718","BP32","Axillary clearance","Day Case Incentive","Breast surgery","Age","Criteria","19 and over (19-130 or 999)","Age criteria applied - 19 and over (eligible ages 19-130 or the default age code 999)"]
[null,"P1718","BP32","Axillary clearance","Day Case Incentive","Breast surgery","Eligible HRG","Criteria","JA20F","Unilateral Major Breast Procedures with CC Score 0-2"]
[null,"P1718","BP32","Axillary clearance","Day Case Incentive","Breast surgery","OPCS-4","Trigger","T852","Block dissection of axillary lymph nodes"]
[null,"P1718","BP35","Epileptic seizure","Non-Elective Same Day Emergency","Epilepsy","ADMIMETH","Criteria",21,"Accident and emergency or dental casualty department of the Health Care Provider"]
[null,"P1718","BP35","Epileptic seizure","Non-Elective Same Day Emergency","Epilepsy","ADMIMETH","Criteria",22,"General practitioner: after a request for immediate admission has been made direct to a Hospital Provider, i.e. not through a Bed bureau, by a GENERAL PRACTITIONER or deputy"]
[null,"P1718","BP35","Epileptic seizure","Non-Elective Same Day Emergency","Epilepsy","ADMIMETH","Criteria",23,"Bed bureau"]
[null,"P1718","BP35","Epileptic seizure","Non-Elective Same Day Emergency","Epilepsy","ADMIMETH","Criteria",24,"Consultant clinic, of this or another Health Care Provider"]
[null,"P1718","BP35","Epileptic seizure","Non-Elective Same Day Emergency","Epilepsy","ADMIMETH","Criteria",25,"Admission via mental health crisis resolution team"]
[null,"P1718","BP35","Epileptic seizure","Non-Elective Same Day Emergency","Epilepsy","ADMIMETH","Criteria",28,"Other means"]
[null,"P1718","BP35","Epileptic seizure","Non-Elective Same Day Emergency","Epilepsy","ADMIMETH","Criteria","2A","Accident and Emergency Department of another provider where the PATIENT had not been admitted"]
[null,"P1718","BP35","Epileptic seizure","Non-Elective Same Day Emergency","Epilepsy","ADMIMETH","Criteria","2B","Transfer of an admitted PATIENT from another Hospital Provider in an emergency"]
[null,"P1718","BP35","Epileptic seizure","Non-Elective Same Day Emergency","Epilepsy","ADMIMETH","Criteria","2C","Baby born at home as intended"]
[null,"P1718","BP35","Epileptic seizure","Non-Elective Same Day Emergency","Epilepsy","ADMIMETH","Criteria","2D","Other emergency admission"]
[null,"P1718","BP35","Epileptic seizure","Non-Elective Same Day Emergency","Epilepsy","Age","Criteria","19 and over (19-130 or 999)","Age criteria applied - 19 and over (eligible ages 19-130 or the default age code 999)"]
[null,"P1718","BP35","Epileptic seizure","Non-Elective Same Day Emergency","Epilepsy","Eligible HRG","Criteria","AA26F","Muscular, Balance, Cranial or Peripheral Nerve Disorders, Epilepsy or Head Injury, with CC Score 6-8"]
[null,"P1718","BP35","Epileptic seizure","Non-Elective Same Day Emergency","Epilepsy","Eligible HRG","Criteria","AA26G","Muscular, Balance, Cranial or Peripheral Nerve Disorders, Epilepsy or Head Injury, with CC Score 3-5"]
[null,"P1718","BP35","Epileptic seizure","Non-Elective Same Day Emergency","Epilepsy","Eligible HRG","Criteria","AA26H","Muscular, Balance, Cranial or Peripheral Nerve Disorders, Epilepsy or Head Injury, with CC Score 0-2"]
[null,"P1718","BP35","Epileptic seizure","Non-Elective Same Day Emergency","Epilepsy","ICD-10","Trigger","G253","Myoclonus"]
[null,"P1718","BP35","Epileptic seizure","Non-Elective Same Day Emergency","Epilepsy","ICD-10","Trigger","G400","Localization-related (focal)(partial) idiopathic epilepsy and epileptic syndromes with seizures of localized onset"]
[null,"P1718","BP35","Epileptic seizure","Non-Elective Same Day Emergency","Epilepsy","ICD-10","Trigger","G401","Localization-related (focal)(partial) symptomatic epilepsy and epileptic syndromes with simple partial seizures"]
[null,"P1718","BP35","Epileptic seizure","Non-Elective Same Day Emergency","Epilepsy","ICD-10","Trigger","G402","Localization-related (focal)(partial) symptomatic epilepsy and epileptic syndromes with complex partial seizures"]
[null,"P1718","BP35","Epileptic seizure","Non-Elective Same Day Emergency","Epilepsy","ICD-10","Trigger","G403","Generalized idiopathic epilepsy and epileptic syndromes"]
[null,"P1718","BP35","Epileptic seizure","Non-Elective Same Day Emergency","Epilepsy","ICD-10","Trigger","G404","Other generalized epilepsy and epileptic syndromes"]
[null,"P1718","BP35","Epileptic seizure","Non-Elective Same Day Emergency","Epilepsy","ICD-10","Trigger","G405","Special epileptic syndromes"]
[null,"P1718","BP35","Epileptic seizure","Non-Elective Same Day Emergency","Epilepsy","ICD-10","Trigger","G406","Grand mal seizures, unspecified (with or without petit mal)"]
[null,"P1718","BP35","Epileptic seizure","Non-Elective Same Day Emergency","Epilepsy","ICD-10","Trigger","G407","Petit mal, unspecified, without grand mal seizures"]
[null,"P1718","BP35","Epileptic seizure","Non-Elective Same Day Emergency","Epilepsy","ICD-10","Trigger","G408","Other epilepsy"]
[null,"P1718","BP35","Epileptic seizure","Non-Elective Same Day Emergency","Epilepsy","ICD-10","Trigger","G409","Epilepsy, unspecified"]
[null,"P1718","BP35","Epileptic seizure","Non-Elective Same Day Emergency","Epilepsy","ICD-10","Trigger","R568","Other and unspecified convulsions"]
[null,"P1718","BP38","Self harm","Non-Elective Same Day Emergency","Self harm","ADMIMETH","Criteria",21,"Accident and emergency or dental casualty department of the Health Care Provider"]
[null,"P1718","BP38","Self harm","Non-Elective Same Day Emergency","Self harm","ADMIMETH","Criteria",22,"General practitioner: after a request for immediate admission has been made direct to a Hospital Provider, i.e. not through a Bed bureau, by a GENERAL PRACTITIONER or deputy"]
[null,"P1718","BP38","Self harm","Non-Elective Same Day Emergency","Self harm","ADMIMETH","Criteria",23,"Bed bureau"]
[null,"P1718","BP38","Self harm","Non-Elective Same Day Emergency","Self harm","ADMIMETH","Criteria",24,"Consultant clinic, of this or another Health Care Provider"]
[null,"P1718","BP38","Self harm","Non-Elective Same Day Emergency","Self harm","ADMIMETH","Criteria",25,"Admission via mental health crisis resolution team"]
[null,"P1718","BP38","Self harm","Non-Elective Same Day Emergency","Self harm","ADMIMETH","Criteria",28,"Other means"]
[null,"P1718","BP38","Self harm","Non-Elective Same Day Emergency","Self harm","ADMIMETH","Criteria","2A","Accident and Emergency Department of another provider where the PATIENT had not been admitted"]
[null,"P1718","BP38","Self harm","Non-Elective Same Day Emergency","Self harm","ADMIMETH","Criteria","2B","Transfer of an admitted PATIENT from another Hospital Provider in an emergency"]
[null,"P1718","BP38","Self harm","Non-Elective Same Day Emergency","Self harm","ADMIMETH","Criteria","2C","Baby born at home as intended"]
[null,"P1718","BP38","Self harm","Non-Elective Same Day Emergency","Self harm","ADMIMETH","Criteria","2D","Other emergency admission"]
[null,"P1718","BP38","Self harm","Non-Elective Same Day Emergency","Self harm","Age","Criteria","19 and over (19-130 or 999)","Age criteria applied - 19 and over (eligible ages 19-130 or the default age code 999)"]
[null,"P1718","BP38","Self harm","Non-Elective Same Day Emergency","Self harm","Eligible HRG","Criteria","WH04E","Poisoning Diagnosis without Interventions, with CC Score 0-1"]
[null,"P1718","BP39","Cellulitis","Non-Elective Same Day Emergency","Cellulitis","ADMIMETH","Criteria",21,"Accident and emergency or dental casualty department of the Health Care Provider"]
[null,"P1718","BP39","Cellulitis","Non-Elective Same Day Emergency","Cellulitis","ADMIMETH","Criteria",22,"General practitioner: after a request for immediate admission has been made direct to a Hospital Provider, i.e. not through a Bed bureau, by a GENERAL PRACTITIONER or deputy"]
[null,"P1718","BP39","Cellulitis","Non-Elective Same Day Emergency","Cellulitis","ADMIMETH","Criteria",23,"Bed bureau"]
[null,"P1718","BP39","Cellulitis","Non-Elective Same Day Emergency","Cellulitis","ADMIMETH","Criteria",24,"Consultant clinic, of this or another Health Care Provider"]
[null,"P1718","BP39","Cellulitis","Non-Elective Same Day Emergency","Cellulitis","ADMIMETH","Criteria",25,"Admission via mental health crisis resolution team"]
[null,"P1718","BP39","Cellulitis","Non-Elective Same Day Emergency","Cellulitis","ADMIMETH","Criteria",28,"Other means"]
[null,"P1718","BP39","Cellulitis","Non-Elective Same Day Emergency","Cellulitis","ADMIMETH","Criteria","2A","Accident and Emergency Department of another provider where the PATIENT had not been admitted"]
[null,"P1718","BP39","Cellulitis","Non-Elective Same Day Emergency","Cellulitis","ADMIMETH","Criteria","2B","Transfer of an admitted PATIENT from another Hospital Provider in an emergency"]
[null,"P1718","BP39","Cellulitis","Non-Elective Same Day Emergency","Cellulitis","ADMIMETH","Criteria","2C","Baby born at home as intended"]
[null,"P1718","BP39","Cellulitis","Non-Elective Same Day Emergency","Cellulitis","ADMIMETH","Criteria","2D","Other emergency admission"]
[null,"P1718","BP39","Cellulitis","Non-Elective Same Day Emergency","Cellulitis","Age","Criteria","19 and over (19-130 or 999)","Age criteria applied - 19 and over (eligible ages 19-130 or the default age code 999)"]
[null,"P1718","BP39","Cellulitis","Non-Elective Same Day Emergency","Cellulitis","Eligible HRG","Criteria","JD07H","Skin Disorders without Interventions, with CC Score 6-9"]
[null,"P1718","BP39","Cellulitis","Non-Elective Same Day Emergency","Cellulitis","Eligible HRG","Criteria","JD07J","Skin Disorders without Interventions, with CC Score 2-5"]
[null,"P1718","BP39","Cellulitis","Non-Elective Same Day Emergency","Cellulitis","Eligible HRG","Criteria","JD07K","Skin Disorders without Interventions, with CC Score 0-1"]
[null,"P1718","BP39","Cellulitis","Non-Elective Same Day Emergency","Cellulitis","ICD-10","Trigger","I891","Lymphangitis"]
[null,"P1718","BP39","Cellulitis","Non-Elective Same Day Emergency","Cellulitis","ICD-10","Trigger","L030","Cellulitis of finger and toe"]
[null,"P1718","BP39","Cellulitis","Non-Elective Same Day Emergency","Cellulitis","ICD-10","Trigger","L031","Cellulitis of other parts of limb"]
[null,"P1718","BP39","Cellulitis","Non-Elective Same Day Emergency","Cellulitis","ICD-10","Trigger","L032","Cellulitis of face"]
[null,"P1718","BP39","Cellulitis","Non-Elective Same Day Emergency","Cellulitis","ICD-10","Trigger","L033","Cellulitis of trunk"]
[null,"P1718","BP39","Cellulitis","Non-Elective Same Day Emergency","Cellulitis","ICD-10","Trigger","L038","Cellulitis of other sites"]
[null,"P1718","BP39","Cellulitis","Non-Elective Same Day Emergency","Cellulitis","ICD-10","Trigger","L039","Cellulitis, unspecified"]
[null,"P1718","BP39","Cellulitis","Non-Elective Same Day Emergency","Cellulitis","ICD-10","Trigger","L088","Other specified local infections of skin and subcutaneous tissue"]
[null,"P1718","BP39","Cellulitis","Non-Elective Same Day Emergency","Cellulitis","ICD-10","Trigger","L089","Local infection of skin and subcutaneous tissue, unspecified"]
[null,"P1718","BP40","Chest pain","Non-Elective Same Day Emergency","Chest pain","ADMIMETH","Criteria",21,"Accident and emergency or dental casualty department of the Health Care Provider"]
[null,"P1718","BP40","Chest pain","Non-Elective Same Day Emergency","Chest pain","ADMIMETH","Criteria",22,"General practitioner: after a request for immediate admission has been made direct to a Hospital Provider, i.e. not through a Bed bureau, by a GENERAL PRACTITIONER or deputy"]
[null,"P1718","BP40","Chest pain","Non-Elective Same Day Emergency","Chest pain","ADMIMETH","Criteria",23,"Bed bureau"]
[null,"P1718","BP40","Chest pain","Non-Elective Same Day Emergency","Chest pain","ADMIMETH","Criteria",24,"Consultant clinic, of this or another Health Care Provider"]
[null,"P1718","BP40","Chest pain","Non-Elective Same Day Emergency","Chest pain","ADMIMETH","Criteria",25,"Admission via mental health crisis resolution team"]
[null,"P1718","BP40","Chest pain","Non-Elective Same Day Emergency","Chest pain","ADMIMETH","Criteria",28,"Other means"]
[null,"P1718","BP40","Chest pain","Non-Elective Same Day Emergency","Chest pain","ADMIMETH","Criteria","2A","Accident and Emergency Department of another provider where the PATIENT had not been admitted"]
[null,"P1718","BP40","Chest pain","Non-Elective Same Day Emergency","Chest pain","ADMIMETH","Criteria","2B","Transfer of an admitted PATIENT from another Hospital Provider in an emergency"]
[null,"P1718","BP40","Chest pain","Non-Elective Same Day Emergency","Chest pain","ADMIMETH","Criteria","2C","Baby born at home as intended"]
[null,"P1718","BP40","Chest pain","Non-Elective Same Day Emergency","Chest pain","ADMIMETH","Criteria","2D","Other emergency admission"]
[null,"P1718","BP40","Chest pain","Non-Elective Same Day Emergency","Chest pain","Age","Criteria","19 and over (19-130 or 999)","Age criteria applied - 19 and over (eligible ages 19-130 or the default age code 999)"]
[null,"P1718","BP40","Chest pain","Non-Elective Same Day Emergency","Chest pain","Eligible HRG","Criteria","EB12B","Unspecified Chest Pain with CC Score 5-10"]
[null,"P1718","BP40","Chest pain","Non-Elective Same Day Emergency","Chest pain","Eligible HRG","Criteria","EB12C","Unspecified Chest Pain with CC Score 0-4"]
[null,"P1718","BP40","Chest pain","Non-Elective Same Day Emergency","Chest pain","Eligible HRG","Criteria","EB13C","Angina with CC Score 4-7"]
[null,"P1718","BP40","Chest pain","Non-Elective Same Day Emergency","Chest pain","Eligible HRG","Criteria","EB13D","Angina with CC Score 0-3"]
[null,"P1718","BP40","Chest pain","Non-Elective Same Day Emergency","Chest pain","ICD-10","Trigger","I201","Angina pectoris with documented spasm"]
[null,"P1718","BP40","Chest pain","Non-Elective Same Day Emergency","Chest pain","ICD-10","Trigger","I208","Other forms of angina pectoris"]
[null,"P1718","BP40","Chest pain","Non-Elective Same Day Emergency","Chest pain","ICD-10","Trigger","I209","Angina pectoris, unspecified"]
[null,"P1718","BP40","Chest pain","Non-Elective Same Day Emergency","Chest pain","ICD-10","Trigger","I248","Other forms of acute ischaemic heart disease"]
[null,"P1718","BP40","Chest pain","Non-Elective Same Day Emergency","Chest pain","ICD-10","Trigger","I249","Acute ischaemic heart disease, unspecified"]
[null,"P1718","BP40","Chest pain","Non-Elective Same Day Emergency","Chest pain","ICD-10","Trigger","I256","Silent myocardial ischaemia"]
[null,"P1718","BP40","Chest pain","Non-Elective Same Day Emergency","Chest pain","ICD-10","Trigger","R072","Precordial pain"]
[null,"P1718","BP40","Chest pain","Non-Elective Same Day Emergency","Chest pain","ICD-10","Trigger","R073","Other chest pain"]
[null,"P1718","BP40","Chest pain","Non-Elective Same Day Emergency","Chest pain","ICD-10","Trigger","R074","Chest pain, unspecified"]
[null,"P1718","BP40","Chest pain","Non-Elective Same Day Emergency","Chest pain","ICD-10","Trigger","Z034","Observation for suspected myocardial infarction"]
[null,"P1718","BP40","Chest pain","Non-Elective Same Day Emergency","Chest pain","ICD-10","Trigger","Z035","Observation for other suspected cardiovascular diseases"]
[null,"P1718","BP41","Falls including syncope or collapse","Non-Elective Same Day Emergency","Falls including syncope or collapse","ADMIMETH","Criteria",21,"Accident and emergency or dental casualty department of the Health Care Provider"]
[null,"P1718","BP41","Falls including syncope or collapse","Non-Elective Same Day Emergency","Falls including syncope or collapse","ADMIMETH","Criteria",22,"General practitioner: after a request for immediate admission has been made direct to a Hospital Provider, i.e. not through a Bed bureau, by a GENERAL PRACTITIONER or deputy"]
[null,"P1718","BP41","Falls including syncope or collapse","Non-Elective Same Day Emergency","Falls including syncope or collapse","ADMIMETH","Criteria",23,"Bed bureau"]
[null,"P1718","BP41","Falls including syncope or collapse","Non-Elective Same Day Emergency","Falls including syncope or collapse","ADMIMETH","Criteria",24,"Consultant clinic, of this or another Health Care Provider"]
[null,"P1718","BP41","Falls including syncope or collapse","Non-Elective Same Day Emergency","Falls including syncope or collapse","ADMIMETH","Criteria",25,"Admission via mental health crisis resolution team"]
[null,"P1718","BP41","Falls including syncope or collapse","Non-Elective Same Day Emergency","Falls including syncope or collapse","ADMIMETH","Criteria",28,"Other means"]
[null,"P1718","BP41","Falls including syncope or collapse","Non-Elective Same Day Emergency","Falls including syncope or collapse","ADMIMETH","Criteria","2A","Accident and Emergency Department of another provider where the PATIENT had not been admitted"]
[null,"P1718","BP41","Falls including syncope or collapse","Non-Elective Same Day Emergency","Falls including syncope or collapse","ADMIMETH","Criteria","2B","Transfer of an admitted PATIENT from another Hospital Provider in an emergency"]
[null,"P1718","BP41","Falls including syncope or collapse","Non-Elective Same Day Emergency","Falls including syncope or collapse","ADMIMETH","Criteria","2C","Baby born at home as intended"]
[null,"P1718","BP41","Falls including syncope or collapse","Non-Elective Same Day Emergency","Falls including syncope or collapse","ADMIMETH","Criteria","2D","Other emergency admission"]
[null,"P1718","BP41","Falls including syncope or collapse","Non-Elective Same Day Emergency","Falls including syncope or collapse","Age","Criteria","19 and over (19-130 or 999)","Age criteria applied - 19 and over (eligible ages 19-130 or the default age code 999)"]
[null,"P1718","BP41","Falls including syncope or collapse","Non-Elective Same Day Emergency","Falls including syncope or collapse","Eligible HRG","Criteria","EB08E","Syncope or Collapse, with CC Score 0-3"]
[null,"P1718","BP42","Appendicular fractures not requiring immediate fixation","Non-Elective Same Day Emergency","Appendicular fractures not requiring immediate internal fixation","ADMIMETH","Criteria",21,"Accident and emergency or dental casualty department of the Health Care Provider"]
[null,"P1718","BP42","Appendicular fractures not requiring immediate fixation","Non-Elective Same Day Emergency","Appendicular fractures not requiring immediate internal fixation","ADMIMETH","Criteria",22,"General practitioner: after a request for immediate admission has been made direct to a Hospital Provider, i.e. not through a Bed bureau, by a GENERAL PRACTITIONER or deputy"]
[null,"P1718","BP42","Appendicular fractures not requiring immediate fixation","Non-Elective Same Day Emergency","Appendicular fractures not requiring immediate internal fixation","ADMIMETH","Criteria",23,"Bed bureau"]
[null,"P1718","BP42","Appendicular fractures not requiring immediate fixation","Non-Elective Same Day Emergency","Appendicular fractures not requiring immediate internal fixation","ADMIMETH","Criteria",24,"Consultant clinic, of this or another Health Care Provider"]
[null,"P1718","BP42","Appendicular fractures not requiring immediate fixation","Non-Elective Same Day Emergency","Appendicular fractures not requiring immediate internal fixation","ADMIMETH","Criteria",25,"Admission via mental health crisis resolution team"]
[null,"P1718","BP42","Appendicular fractures not requiring immediate fixation","Non-Elective Same Day Emergency","Appendicular fractures not requiring immediate internal fixation","ADMIMETH","Criteria",28,"Other means"]
[null,"P1718","BP42","Appendicular fractures not requiring immediate fixation","Non-Elective Same Day Emergency","Appendicular fractures not requiring immediate internal fixation","ADMIMETH","Criteria","2A","Accident and Emergency Department of another provider where the PATIENT had not been admitted"]
[null,"P1718","BP42","Appendicular fractures not requiring immediate fixation","Non-Elective Same Day Emergency","Appendicular fractures not requiring immediate internal fixation","ADMIMETH","Criteria","2B","Transfer of an admitted PATIENT from another Hospital Provider in an emergency"]
[null,"P1718","BP42","Appendicular fractures not requiring immediate fixation","Non-Elective Same Day Emergency","Appendicular fractures not requiring immediate internal fixation","ADMIMETH","Criteria","2C","Baby born at home as intended"]
[null,"P1718","BP42","Appendicular fractures not requiring immediate fixation","Non-Elective Same Day Emergency","Appendicular fractures not requiring immediate internal fixation","ADMIMETH","Criteria","2D","Other emergency admission"]
[null,"P1718","BP42","Appendicular fractures not requiring immediate fixation","Non-Elective Same Day Emergency","Appendicular fractures not requiring immediate internal fixation","Age","Criteria","19 and over (19-130 or 999)","Age criteria applied - 19 and over (eligible ages 19-130 or the default age code 999)"]
[null,"P1718","BP42","Appendicular fractures not requiring immediate fixation","Non-Elective Same Day Emergency","Appendicular fractures not requiring immediate internal fixation","Eligible HRG","Criteria","HE21F","Knee Fracture without Interventions, with CC Score 2-4"]
[null,"P1718","BP42","Appendicular fractures not requiring immediate fixation","Non-Elective Same Day Emergency","Appendicular fractures not requiring immediate internal fixation","Eligible HRG","Criteria","HE21G","Knee Fracture without Interventions, with CC Score 0-1"]
[null,"P1718","BP42","Appendicular fractures not requiring immediate fixation","Non-Elective Same Day Emergency","Appendicular fractures not requiring immediate internal fixation","Eligible HRG","Criteria","HE31F","Foot Fracture without Interventions, with CC Score 2-3"]
[null,"P1718","BP42","Appendicular fractures not requiring immediate fixation","Non-Elective Same Day Emergency","Appendicular fractures not requiring immediate internal fixation","Eligible HRG","Criteria","HE31G","Foot Fracture without Interventions, with CC Score 0-1"]
[null,"P1718","BP42","Appendicular fractures not requiring immediate fixation","Non-Elective Same Day Emergency","Appendicular fractures not requiring immediate internal fixation","Eligible HRG","Criteria","HE41C","Hand Fracture without Interventions, with CC Score 1-2"]
[null,"P1718","BP42","Appendicular fractures not requiring immediate fixation","Non-Elective Same Day Emergency","Appendicular fractures not requiring immediate internal fixation","Eligible HRG","Criteria","HE41D","Hand Fracture without Interventions, with CC Score 0"]
[null,"P1718","BP42","Appendicular fractures not requiring immediate fixation","Non-Elective Same Day Emergency","Appendicular fractures not requiring immediate internal fixation","Eligible HRG","Criteria","HE51G","Arm Fracture without Interventions, with CC Score 2-3"]
[null,"P1718","BP42","Appendicular fractures not requiring immediate fixation","Non-Elective Same Day Emergency","Appendicular fractures not requiring immediate internal fixation","Eligible HRG","Criteria","HE51H","Arm Fracture without Interventions, with CC Score 0-1"]
[null,"P1718","BP42","Appendicular fractures not requiring immediate fixation","Non-Elective Same Day Emergency","Appendicular fractures not requiring immediate internal fixation","ICD-10","Trigger","S420","Fracture of clavicle"]
[null,"P1718","BP42","Appendicular fractures not requiring immediate fixation","Non-Elective Same Day Emergency","Appendicular fractures not requiring immediate internal fixation","ICD-10","Trigger","S4200","Fracture of clavicle: closed"]
[null,"P1718","BP42","Appendicular fractures not requiring immediate fixation","Non-Elective Same Day Emergency","Appendicular fractures not requiring immediate internal fixation","ICD-10","Trigger","S422","Fracture of upper end of humerus"]
[null,"P1718","BP42","Appendicular fractures not requiring immediate fixation","Non-Elective Same Day Emergency","Appendicular fractures not requiring immediate internal fixation","ICD-10","Trigger","S4220","Fracture of upper end of humerus: closed"]
[null,"P1718","BP42","Appendicular fractures not requiring immediate fixation","Non-Elective Same Day Emergency","Appendicular fractures not requiring immediate internal fixation","ICD-10","Trigger","S423","Fracture of shaft of humerus"]
[null,"P1718","BP42","Appendicular fractures not requiring immediate fixation","Non-Elective Same Day Emergency","Appendicular fractures not requiring immediate internal fixation","ICD-10","Trigger","S4230","Fracture of shaft of humerus: closed"]
[null,"P1718","BP42","Appendicular fractures not requiring immediate fixation","Non-Elective Same Day Emergency","Appendicular fractures not requiring immediate internal fixation","ICD-10","Trigger","S424","Fracture of lower end of humerus"]
[null,"P1718","BP42","Appendicular fractures not requiring immediate fixation","Non-Elective Same Day Emergency","Appendicular fractures not requiring immediate internal fixation","ICD-10","Trigger","S4240","Fracture of lower end of humerus: closed"]
[null,"P1718","BP42","Appendicular fractures not requiring immediate fixation","Non-Elective Same Day Emergency","Appendicular fractures not requiring immediate internal fixation","ICD-10","Trigger","S520","Fracture of upper end of ulna"]
[null,"P1718","BP42","Appendicular fractures not requiring immediate fixation","Non-Elective Same Day Emergency","Appendicular fractures not requiring immediate internal fixation","ICD-10","Trigger","S5200","Fracture of upper end of ulna: closed"]
[null,"P1718","BP42","Appendicular fractures not requiring immediate fixation","Non-Elective Same Day Emergency","Appendicular fractures not requiring immediate internal fixation","ICD-10","Trigger","S521","Fracture of upper end of radius"]
[null,"P1718","BP42","Appendicular fractures not requiring immediate fixation","Non-Elective Same Day Emergency","Appendicular fractures not requiring immediate internal fixation","ICD-10","Trigger","S5210","Fracture of upper end of radius: closed"]
[null,"P1718","BP42","Appendicular fractures not requiring immediate fixation","Non-Elective Same Day Emergency","Appendicular fractures not requiring immediate internal fixation","ICD-10","Trigger","S522","Fracture of shaft of ulna"]
[null,"P1718","BP42","Appendicular fractures not requiring immediate fixation","Non-Elective Same Day Emergency","Appendicular fractures not requiring immediate internal fixation","ICD-10","Trigger","S5220","Fracture of shaft of ulna: closed"]
[null,"P1718","BP42","Appendicular fractures not requiring immediate fixation","Non-Elective Same Day Emergency","Appendicular fractures not requiring immediate internal fixation","ICD-10","Trigger","S523","Fracture of shaft of radius"]
[null,"P1718","BP42","Appendicular fractures not requiring immediate fixation","Non-Elective Same Day Emergency","Appendicular fractures not requiring immediate internal fixation","ICD-10","Trigger","S5230","Fracture of shaft of radius: closed"]
[null,"P1718","BP42","Appendicular fractures not requiring immediate fixation","Non-Elective Same Day Emergency","Appendicular fractures not requiring immediate internal fixation","ICD-10","Trigger","S524","Fracture of shafts of both ulna and radius"]
[null,"P1718","BP42","Appendicular fractures not requiring immediate fixation","Non-Elective Same Day Emergency","Appendicular fractures not requiring immediate internal fixation","ICD-10","Trigger","S5240","Fracture of shafts of both ulna and radius: closed"]
[null,"P1718","BP42","Appendicular fractures not requiring immediate fixation","Non-Elective Same Day Emergency","Appendicular fractures not requiring immediate internal fixation","ICD-10","Trigger","S525","Fracture of lower end of radius"]
[null,"P1718","BP42","Appendicular fractures not requiring immediate fixation","Non-Elective Same Day Emergency","Appendicular fractures not requiring immediate internal fixation","ICD-10","Trigger","S5250","Fracture of lower end of radius: closed"]
[null,"P1718","BP42","Appendicular fractures not requiring immediate fixation","Non-Elective Same Day Emergency","Appendicular fractures not requiring immediate internal fixation","ICD-10","Trigger","S526","Fracture of lower end of both ulna and radius"]
[null,"P1718","BP42","Appendicular fractures not requiring immediate fixation","Non-Elective Same Day Emergency","Appendicular fractures not requiring immediate internal fixation","ICD-10","Trigger","S5260","Fracture of lower end of both ulna and radius: closed"]
[null,"P1718","BP42","Appendicular fractures not requiring immediate fixation","Non-Elective Same Day Emergency","Appendicular fractures not requiring immediate internal fixation","ICD-10","Trigger","S528","Fracture of other parts of forearm"]
[null,"P1718","BP42","Appendicular fractures not requiring immediate fixation","Non-Elective Same Day Emergency","Appendicular fractures not requiring immediate internal fixation","ICD-10","Trigger","S5280","Fracture of other parts of forearm: closed"]
[null,"P1718","BP42","Appendicular fractures not requiring immediate fixation","Non-Elective Same Day Emergency","Appendicular fractures not requiring immediate internal fixation","ICD-10","Trigger","S529","Fracture of forearm, part unspecified"]
[null,"P1718","BP42","Appendicular fractures not requiring immediate fixation","Non-Elective Same Day Emergency","Appendicular fractures not requiring immediate internal fixation","ICD-10","Trigger","S5290","Fracture of forearm, part unspecified: closed"]
[null,"P1718","BP42","Appendicular fractures not requiring immediate fixation","Non-Elective Same Day Emergency","Appendicular fractures not requiring immediate internal fixation","ICD-10","Trigger","S620","Fracture of navicular [scaphoid] bone of hand"]
[null,"P1718","BP42","Appendicular fractures not requiring immediate fixation","Non-Elective Same Day Emergency","Appendicular fractures not requiring immediate internal fixation","ICD-10","Trigger","S6200","Fracture of navicular [scaphoid] bone of hand: closed"]
[null,"P1718","BP42","Appendicular fractures not requiring immediate fixation","Non-Elective Same Day Emergency","Appendicular fractures not requiring immediate internal fixation","ICD-10","Trigger","S621","Fracture of other carpal bone(s)"]
[null,"P1718","BP42","Appendicular fractures not requiring immediate fixation","Non-Elective Same Day Emergency","Appendicular fractures not requiring immediate internal fixation","ICD-10","Trigger","S6210","Fracture of other carpal bone(s): closed"]
[null,"P1718","BP42","Appendicular fractures not requiring immediate fixation","Non-Elective Same Day Emergency","Appendicular fractures not requiring immediate internal fixation","ICD-10","Trigger","S820","Fracture of patella"]
[null,"P1718","BP42","Appendicular fractures not requiring immediate fixation","Non-Elective Same Day Emergency","Appendicular fractures not requiring immediate internal fixation","ICD-10","Trigger","S8200","Fracture of patella: closed"]
[null,"P1718","BP42","Appendicular fractures not requiring immediate fixation","Non-Elective Same Day Emergency","Appendicular fractures not requiring immediate internal fixation","ICD-10","Trigger","S823","Fracture of lower end of tibia"]
[null,"P1718","BP42","Appendicular fractures not requiring immediate fixation","Non-Elective Same Day Emergency","Appendicular fractures not requiring immediate internal fixation","ICD-10","Trigger","S8230","Fracture of lower end of tibia: closed"]
[null,"P1718","BP42","Appendicular fractures not requiring immediate fixation","Non-Elective Same Day Emergency","Appendicular fractures not requiring immediate internal fixation","ICD-10","Trigger","S824","Fracture of fibula alone"]
[null,"P1718","BP42","Appendicular fractures not requiring immediate fixation","Non-Elective Same Day Emergency","Appendicular fractures not requiring immediate internal fixation","ICD-10","Trigger","S8240","Fracture of fibula alone: closed"]
[null,"P1718","BP42","Appendicular fractures not requiring immediate fixation","Non-Elective Same Day Emergency","Appendicular fractures not requiring immediate internal fixation","ICD-10","Trigger","S825","Fracture of medial malleolus"]
[null,"P1718","BP42","Appendicular fractures not requiring immediate fixation","Non-Elective Same Day Emergency","Appendicular fractures not requiring immediate internal fixation","ICD-10","Trigger","S8250","Fracture of medial malleolus: closed"]
[null,"P1718","BP42","Appendicular fractures not requiring immediate fixation","Non-Elective Same Day Emergency","Appendicular fractures not requiring immediate internal fixation","ICD-10","Trigger","S826","Fracture of lateral malleolus"]
[null,"P1718","BP42","Appendicular fractures not requiring immediate fixation","Non-Elective Same Day Emergency","Appendicular fractures not requiring immediate internal fixation","ICD-10","Trigger","S8260","Fracture of lateral malleolus: closed"]
[null,"P1718","BP42","Appendicular fractures not requiring immediate fixation","Non-Elective Same Day Emergency","Appendicular fractures not requiring immediate internal fixation","ICD-10","Trigger","S828","Fractures of other parts of lower leg"]
[null,"P1718","BP42","Appendicular fractures not requiring immediate fixation","Non-Elective Same Day Emergency","Appendicular fractures not requiring immediate internal fixation","ICD-10","Trigger","S8280","Fractures of other parts of lower leg: closed"]
[null,"P1718","BP42","Appendicular fractures not requiring immediate fixation","Non-Elective Same Day Emergency","Appendicular fractures not requiring immediate internal fixation","ICD-10","Trigger","S829","Fracture of lower leg, part unspecified"]
[null,"P1718","BP42","Appendicular fractures not requiring immediate fixation","Non-Elective Same Day Emergency","Appendicular fractures not requiring immediate internal fixation","ICD-10","Trigger","S8290","Fracture of lower leg, part unspecified: closed"]
[null,"P1718","BP42","Appendicular fractures not requiring immediate fixation","Non-Elective Same Day Emergency","Appendicular fractures not requiring immediate internal fixation","ICD-10","Trigger","S920","Fracture of calcaneus"]
[null,"P1718","BP42","Appendicular fractures not requiring immediate fixation","Non-Elective Same Day Emergency","Appendicular fractures not requiring immediate internal fixation","ICD-10","Trigger","S9200","Fracture of calcaneus: closed"]
[null,"P1718","BP42","Appendicular fractures not requiring immediate fixation","Non-Elective Same Day Emergency","Appendicular fractures not requiring immediate internal fixation","ICD-10","Trigger","S923","Fracture of metatarsal bone"]
[null,"P1718","BP42","Appendicular fractures not requiring immediate fixation","Non-Elective Same Day Emergency","Appendicular fractures not requiring immediate internal fixation","ICD-10","Trigger","S9230","Fracture of metatarsal bone: closed"]
[null,"P1718","BP42","Appendicular fractures not requiring immediate fixation","Non-Elective Same Day Emergency","Appendicular fractures not requiring immediate internal fixation","ICD-10","Trigger","S929","Fracture of foot, unspecified"]
[null,"P1718","BP42","Appendicular fractures not requiring immediate fixation","Non-Elective Same Day Emergency","Appendicular fractures not requiring immediate internal fixation","ICD-10","Trigger","S9290","Fracture of foot, unspecified: closed"]
[null,"P1718","BP42","Appendicular fractures not requiring immediate fixation","Non-Elective Same Day Emergency","Appendicular fractures not requiring immediate internal fixation","ICD-10","Trigger","T10X","Fracture of upper limb, level unspecified"]
[null,"P1718","BP42","Appendicular fractures not requiring immediate fixation","Non-Elective Same Day Emergency","Appendicular fractures not requiring immediate internal fixation","ICD-10","Trigger","T10X0","Fracture of upper limb, level unspecified: closed"]
[null,"P1718","BP44","Asthma","Non-Elective Same Day Emergency","Asthma","ADMIMETH","Criteria",21,"Accident and emergency or dental casualty department of the Health Care Provider"]
[null,"P1718","BP44","Asthma","Non-Elective Same Day Emergency","Asthma","ADMIMETH","Criteria",22,"General practitioner: after a request for immediate admission has been made direct to a Hospital Provider, i.e. not through a Bed bureau, by a GENERAL PRACTITIONER or deputy"]
[null,"P1718","BP44","Asthma","Non-Elective Same Day Emergency","Asthma","ADMIMETH","Criteria",23,"Bed bureau"]
[null,"P1718","BP44","Asthma","Non-Elective Same Day Emergency","Asthma","ADMIMETH","Criteria",24,"Consultant clinic, of this or another Health Care Provider"]
[null,"P1718","BP44","Asthma","Non-Elective Same Day Emergency","Asthma","ADMIMETH","Criteria",25,"Admission via mental health crisis resolution team"]
[null,"P1718","BP44","Asthma","Non-Elective Same Day Emergency","Asthma","ADMIMETH","Criteria",28,"Other means"]
[null,"P1718","BP44","Asthma","Non-Elective Same Day Emergency","Asthma","ADMIMETH","Criteria","2A","Accident and Emergency Department of another provider where the PATIENT had not been admitted"]
[null,"P1718","BP44","Asthma","Non-Elective Same Day Emergency","Asthma","ADMIMETH","Criteria","2B","Transfer of an admitted PATIENT from another Hospital Provider in an emergency"]
[null,"P1718","BP44","Asthma","Non-Elective Same Day Emergency","Asthma","ADMIMETH","Criteria","2C","Baby born at home as intended"]
[null,"P1718","BP44","Asthma","Non-Elective Same Day Emergency","Asthma","ADMIMETH","Criteria","2D","Other emergency admission"]
[null,"P1718","BP44","Asthma","Non-Elective Same Day Emergency","Asthma","Age","Criteria","19 and over (19-130 or 999)","Age criteria applied - 19 and over (eligible ages 19-130 or the default age code 999)"]
[null,"P1718","BP44","Asthma","Non-Elective Same Day Emergency","Asthma","Eligible HRG","Criteria","DZ15Q","Asthma without Interventions, with CC Score 3-5"]
[null,"P1718","BP44","Asthma","Non-Elective Same Day Emergency","Asthma","Eligible HRG","Criteria","DZ15R","Asthma without Interventions, with CC Score 0-2"]
[null,"P1718","BP45","Lower respiratory tract infections without COPD","Non-Elective Same Day Emergency","Lower respiratory tract infections without COPD","ADMIMETH","Criteria",21,"Accident and emergency or dental casualty department of the Health Care Provider"]
[null,"P1718","BP45","Lower respiratory tract infections without COPD","Non-Elective Same Day Emergency","Lower respiratory tract infections without COPD","ADMIMETH","Criteria",22,"General practitioner: after a request for immediate admission has been made direct to a Hospital Provider, i.e. not through a Bed bureau, by a GENERAL PRACTITIONER or deputy"]
[null,"P1718","BP45","Lower respiratory tract infections without COPD","Non-Elective Same Day Emergency","Lower respiratory tract infections without COPD","ADMIMETH","Criteria",23,"Bed bureau"]
[null,"P1718","BP45","Lower respiratory tract infections without COPD","Non-Elective Same Day Emergency","Lower respiratory tract infections without COPD","ADMIMETH","Criteria",24,"Consultant clinic, of this or another Health Care Provider"]
[null,"P1718","BP45","Lower respiratory tract infections without COPD","Non-Elective Same Day Emergency","Lower respiratory tract infections without COPD","ADMIMETH","Criteria",25,"Admission via mental health crisis resolution team"]
[null,"P1718","BP45","Lower respiratory tract infections without COPD","Non-Elective Same Day Emergency","Lower respiratory tract infections without COPD","ADMIMETH","Criteria",28,"Other means"]
[null,"P1718","BP45","Lower respiratory tract infections without COPD","Non-Elective Same Day Emergency","Lower respiratory tract infections without COPD","ADMIMETH","Criteria","2A","Accident and Emergency Department of another provider where the PATIENT had not been admitted"]
[null,"P1718","BP45","Lower respiratory tract infections without COPD","Non-Elective Same Day Emergency","Lower respiratory tract infections without COPD","ADMIMETH","Criteria","2B","Transfer of an admitted PATIENT from another Hospital Provider in an emergency"]
[null,"P1718","BP45","Lower respiratory tract infections without COPD","Non-Elective Same Day Emergency","Lower respiratory tract infections without COPD","ADMIMETH","Criteria","2C","Baby born at home as intended"]
[null,"P1718","BP45","Lower respiratory tract infections without COPD","Non-Elective Same Day Emergency","Lower respiratory tract infections without COPD","ADMIMETH","Criteria","2D","Other emergency admission"]
[null,"P1718","BP45","Lower respiratory tract infections without COPD","Non-Elective Same Day Emergency","Lower respiratory tract infections without COPD","Age","Criteria","19 and over (19-130 or 999)","Age criteria applied - 19 and over (eligible ages 19-130 or the default age code 999)"]
[null,"P1718","BP45","Lower respiratory tract infections without COPD","Non-Elective Same Day Emergency","Lower respiratory tract infections without COPD","Eligible HRG","Criteria","DZ22Q","Unspecified Acute Lower Respiratory Infection without Interventions, with CC Score 0-4"]
[null,"P1718","BP46","Pulmonary embolism","Non-Elective Same Day Emergency","Pulmonary embolism","ADMIMETH","Criteria",21,"Accident and emergency or dental casualty department of the Health Care Provider"]
[null,"P1718","BP46","Pulmonary embolism","Non-Elective Same Day Emergency","Pulmonary embolism","ADMIMETH","Criteria",22,"General practitioner: after a request for immediate admission has been made direct to a Hospital Provider, i.e. not through a Bed bureau, by a GENERAL PRACTITIONER or deputy"]
[null,"P1718","BP46","Pulmonary embolism","Non-Elective Same Day Emergency","Pulmonary embolism","ADMIMETH","Criteria",23,"Bed bureau"]
[null,"P1718","BP46","Pulmonary embolism","Non-Elective Same Day Emergency","Pulmonary embolism","ADMIMETH","Criteria",24,"Consultant clinic, of this or another Health Care Provider"]
[null,"P1718","BP46","Pulmonary embolism","Non-Elective Same Day Emergency","Pulmonary embolism","ADMIMETH","Criteria",25,"Admission via mental health crisis resolution team"]
[null,"P1718","BP46","Pulmonary embolism","Non-Elective Same Day Emergency","Pulmonary embolism","ADMIMETH","Criteria",28,"Other means"]
[null,"P1718","BP46","Pulmonary embolism","Non-Elective Same Day Emergency","Pulmonary embolism","ADMIMETH","Criteria","2A","Accident and Emergency Department of another provider where the PATIENT had not been admitted"]
[null,"P1718","BP46","Pulmonary embolism","Non-Elective Same Day Emergency","Pulmonary embolism","ADMIMETH","Criteria","2B","Transfer of an admitted PATIENT from another Hospital Provider in an emergency"]
[null,"P1718","BP46","Pulmonary embolism","Non-Elective Same Day Emergency","Pulmonary embolism","ADMIMETH","Criteria","2C","Baby born at home as intended"]
[null,"P1718","BP46","Pulmonary embolism","Non-Elective Same Day Emergency","Pulmonary embolism","ADMIMETH","Criteria","2D","Other emergency admission"]
[null,"P1718","BP46","Pulmonary embolism","Non-Elective Same Day Emergency","Pulmonary embolism","Age","Criteria","19 and over (19-130 or 999)","Age criteria applied - 19 and over (eligible ages 19-130 or the default age code 999)"]
[null,"P1718","BP46","Pulmonary embolism","Non-Elective Same Day Emergency","Pulmonary embolism","Eligible HRG","Criteria","DZ09P","Pulmonary Embolus without Interventions, with CC Score 3-5"]
[null,"P1718","BP46","Pulmonary embolism","Non-Elective Same Day Emergency","Pulmonary embolism","Eligible HRG","Criteria","DZ09Q","Pulmonary Embolus without Interventions, with CC Score 0-2"]
[null,"P1718","BP47","Renal/ureteric stones","Non-Elective Same Day Emergency","Renal/ureteric stones","ADMIMETH","Criteria",21,"Accident and emergency or dental casualty department of the Health Care Provider"]
[null,"P1718","BP47","Renal/ureteric stones","Non-Elective Same Day Emergency","Renal/ureteric stones","ADMIMETH","Criteria",22,"General practitioner: after a request for immediate admission has been made direct to a Hospital Provider, i.e. not through a Bed bureau, by a GENERAL PRACTITIONER or deputy"]
[null,"P1718","BP47","Renal/ureteric stones","Non-Elective Same Day Emergency","Renal/ureteric stones","ADMIMETH","Criteria",23,"Bed bureau"]
[null,"P1718","BP47","Renal/ureteric stones","Non-Elective Same Day Emergency","Renal/ureteric stones","ADMIMETH","Criteria",24,"Consultant clinic, of this or another Health Care Provider"]
[null,"P1718","BP47","Renal/ureteric stones","Non-Elective Same Day Emergency","Renal/ureteric stones","ADMIMETH","Criteria",25,"Admission via mental health crisis resolution team"]
[null,"P1718","BP47","Renal/ureteric stones","Non-Elective Same Day Emergency","Renal/ureteric stones","ADMIMETH","Criteria",28,"Other means"]
[null,"P1718","BP47","Renal/ureteric stones","Non-Elective Same Day Emergency","Renal/ureteric stones","ADMIMETH","Criteria","2A","Accident and Emergency Department of another provider where the PATIENT had not been admitted"]
[null,"P1718","BP47","Renal/ureteric stones","Non-Elective Same Day Emergency","Renal/ureteric stones","ADMIMETH","Criteria","2B","Transfer of an admitted PATIENT from another Hospital Provider in an emergency"]
[null,"P1718","BP47","Renal/ureteric stones","Non-Elective Same Day Emergency","Renal/ureteric stones","ADMIMETH","Criteria","2C","Baby born at home as intended"]
[null,"P1718","BP47","Renal/ureteric stones","Non-Elective Same Day Emergency","Renal/ureteric stones","ADMIMETH","Criteria","2D","Other emergency admission"]
[null,"P1718","BP47","Renal/ureteric stones","Non-Elective Same Day Emergency","Renal/ureteric stones","Age","Criteria","19 and over (19-130 or 999)","Age criteria applied - 19 and over (eligible ages 19-130 or the default age code 999)"]
[null,"P1718","BP47","Renal/ureteric stones","Non-Elective Same Day Emergency","Renal/ureteric stones","Eligible HRG","Criteria","LB40G","Urinary Tract Stone Disease without Interventions, with CC Score 0-2"]
[null,"P1718","BP48","Deep vein thrombosis","Non-Elective Same Day Emergency","Deep vein thrombosis","ADMIMETH","Criteria",21,"Accident and emergency or dental casualty department of the Health Care Provider"]
[null,"P1718","BP48","Deep vein thrombosis","Non-Elective Same Day Emergency","Deep vein thrombosis","ADMIMETH","Criteria",22,"General practitioner: after a request for immediate admission has been made direct to a Hospital Provider, i.e. not through a Bed bureau, by a GENERAL PRACTITIONER or deputy"]
[null,"P1718","BP48","Deep vein thrombosis","Non-Elective Same Day Emergency","Deep vein thrombosis","ADMIMETH","Criteria",23,"Bed bureau"]
[null,"P1718","BP48","Deep vein thrombosis","Non-Elective Same Day Emergency","Deep vein thrombosis","ADMIMETH","Criteria",24,"Consultant clinic, of this or another Health Care Provider"]
[null,"P1718","BP48","Deep vein thrombosis","Non-Elective Same Day Emergency","Deep vein thrombosis","ADMIMETH","Criteria",25,"Admission via mental health crisis resolution team"]
[null,"P1718","BP48","Deep vein thrombosis","Non-Elective Same Day Emergency","Deep vein thrombosis","ADMIMETH","Criteria",28,"Other means"]
[null,"P1718","BP48","Deep vein thrombosis","Non-Elective Same Day Emergency","Deep vein thrombosis","ADMIMETH","Criteria","2A","Accident and Emergency Department of another provider where the PATIENT had not been admitted"]
[null,"P1718","BP48","Deep vein thrombosis","Non-Elective Same Day Emergency","Deep vein thrombosis","ADMIMETH","Criteria","2B","Transfer of an admitted PATIENT from another Hospital Provider in an emergency"]
[null,"P1718","BP48","Deep vein thrombosis","Non-Elective Same Day Emergency","Deep vein thrombosis","ADMIMETH","Criteria","2C","Baby born at home as intended"]
[null,"P1718","BP48","Deep vein thrombosis","Non-Elective Same Day Emergency","Deep vein thrombosis","ADMIMETH","Criteria","2D","Other emergency admission"]
[null,"P1718","BP48","Deep vein thrombosis","Non-Elective Same Day Emergency","Deep vein thrombosis","Age","Criteria","19 and over (19-130 or 999)","Age criteria applied - 19 and over (eligible ages 19-130 or the default age code 999)"]
[null,"P1718","BP48","Deep vein thrombosis","Non-Elective Same Day Emergency","Deep vein thrombosis","Eligible HRG","Criteria","YQ51C","Deep Vein Thrombosis with CC Score 6-8"]
[null,"P1718","BP48","Deep vein thrombosis","Non-Elective Same Day Emergency","Deep vein thrombosis","Eligible HRG","Criteria","YQ51D","Deep Vein Thrombosis with CC Score 3-5"]
[null,"P1718","BP48","Deep vein thrombosis","Non-Elective Same Day Emergency","Deep vein thrombosis","Eligible HRG","Criteria","YQ51E","Deep Vein Thrombosis with CC Score 0-2"]
[null,"P1718","BP49","Acute headache","Non-Elective Same Day Emergency","Acute headache","ADMIMETH","Criteria",21,"Accident and emergency or dental casualty department of the Health Care Provider"]
[null,"P1718","BP49","Acute headache","Non-Elective Same Day Emergency","Acute headache","ADMIMETH","Criteria",22,"General practitioner: after a request for immediate admission has been made direct to a Hospital Provider, i.e. not through a Bed bureau, by a GENERAL PRACTITIONER or deputy"]
[null,"P1718","BP49","Acute headache","Non-Elective Same Day Emergency","Acute headache","ADMIMETH","Criteria",23,"Bed bureau"]
[null,"P1718","BP49","Acute headache","Non-Elective Same Day Emergency","Acute headache","ADMIMETH","Criteria",24,"Consultant clinic, of this or another Health Care Provider"]
[null,"P1718","BP49","Acute headache","Non-Elective Same Day Emergency","Acute headache","ADMIMETH","Criteria",25,"Admission via mental health crisis resolution team"]
[null,"P1718","BP49","Acute headache","Non-Elective Same Day Emergency","Acute headache","ADMIMETH","Criteria",28,"Other means"]
[null,"P1718","BP49","Acute headache","Non-Elective Same Day Emergency","Acute headache","ADMIMETH","Criteria","2A","Accident and Emergency Department of another provider where the PATIENT had not been admitted"]
[null,"P1718","BP49","Acute headache","Non-Elective Same Day Emergency","Acute headache","ADMIMETH","Criteria","2B","Transfer of an admitted PATIENT from another Hospital Provider in an emergency"]
[null,"P1718","BP49","Acute headache","Non-Elective Same Day Emergency","Acute headache","ADMIMETH","Criteria","2C","Baby born at home as intended"]
[null,"P1718","BP49","Acute headache","Non-Elective Same Day Emergency","Acute headache","ADMIMETH","Criteria","2D","Other emergency admission"]
[null,"P1718","BP49","Acute headache","Non-Elective Same Day Emergency","Acute headache","Age","Criteria","19 and over (19-130 or 999)","Age criteria applied - 19 and over (eligible ages 19-130 or the default age code 999)"]
[null,"P1718","BP49","Acute headache","Non-Elective Same Day Emergency","Acute headache","Eligible HRG","Criteria","AA31D","Headache, Migraine or Cerebrospinal Fluid Leak, with CC Score 7-10"]
[null,"P1718","BP49","Acute headache","Non-Elective Same Day Emergency","Acute headache","Eligible HRG","Criteria","AA31E","Headache, Migraine or Cerebrospinal Fluid Leak, with CC Score 0-6"]
[null,"P1718","BP50","Timely access to coronary angiography - NSTEMI","Non-Elective NSTEMI",null,"ADMIMETH","Criteria",21,"Accident and emergency or dental casualty department of the Health Care Provider"]
[null,"P1718","BP50","Timely access to coronary angiography - NSTEMI","Non-Elective NSTEMI",null,"ADMIMETH","Criteria",22,"General practitioner: after a request for immediate admission has been made direct to a Hospital Provider, i.e. not through a Bed bureau, by a GENERAL PRACTITIONER or deputy"]
[null,"P1718","BP50","Timely access to coronary angiography - NSTEMI","Non-Elective NSTEMI",null,"ADMIMETH","Criteria",23,"Bed bureau"]
[null,"P1718","BP50","Timely access to coronary angiography - NSTEMI","Non-Elective NSTEMI",null,"ADMIMETH","Criteria",24,"Consultant clinic, of this or another Health Care Provider"]
[null,"P1718","BP50","Timely access to coronary angiography - NSTEMI","Non-Elective NSTEMI",null,"ADMIMETH","Criteria",25,"Admission via mental health crisis resolution team"]
[null,"P1718","BP50","Timely access to coronary angiography - NSTEMI","Non-Elective NSTEMI",null,"ADMIMETH","Criteria",28,"Other means"]
[null,"P1718","BP50","Timely access to coronary angiography - NSTEMI","Non-Elective NSTEMI",null,"ADMIMETH","Criteria",81,"Transfer of any admitted PATIENT from other Hospital Provider other than in an emergency"]
[null,"P1718","BP50","Timely access to coronary angiography - NSTEMI","Non-Elective NSTEMI",null,"ADMIMETH","Criteria","2A","Accident and Emergency Department of another provider where the PATIENT had not been admitted"]
[null,"P1718","BP50","Timely access to coronary angiography - NSTEMI","Non-Elective NSTEMI",null,"ADMIMETH","Criteria","2B","Transfer of an admitted PATIENT from another Hospital Provider in an emergency"]
[null,"P1718","BP50","Timely access to coronary angiography - NSTEMI","Non-Elective NSTEMI",null,"ADMIMETH","Criteria","2C","Baby born at home as intended"]
[null,"P1718","BP50","Timely access to coronary angiography - NSTEMI","Non-Elective NSTEMI",null,"ADMIMETH","Criteria","2D","Other emergency admission"]
[null,"P1718","BP50","Timely access to coronary angiography - NSTEMI","Non-Elective NSTEMI",null,"Age","Criteria","19 and over (19-130 or 999)","Age criteria applied - 19 and over (eligible ages 19-130 or the default age code 999)"]
[null,"P1718","BP50","Timely access to coronary angiography - NSTEMI","Non-Elective NSTEMI",null,"Eligible HRG","Criteria","EY40A","Complex Percutaneous Transluminal Coronary Angioplasty with CC Score 12+"]
[null,"P1718","BP50","Timely access to coronary angiography - NSTEMI","Non-Elective NSTEMI",null,"Eligible HRG","Criteria","EY40B","Complex Percutaneous Transluminal Coronary Angioplasty with CC Score 8-11"]
[null,"P1718","BP50","Timely access to coronary angiography - NSTEMI","Non-Elective NSTEMI",null,"Eligible HRG","Criteria","EY40C","Complex Percutaneous Transluminal Coronary Angioplasty with CC Score 4-7"]
[null,"P1718","BP50","Timely access to coronary angiography - NSTEMI","Non-Elective NSTEMI",null,"Eligible HRG","Criteria","EY40D","Complex Percutaneous Transluminal Coronary Angioplasty with CC Score 0-3"]
[null,"P1718","BP50","Timely access to coronary angiography - NSTEMI","Non-Elective NSTEMI",null,"Eligible HRG","Criteria","EY41A","Standard Percutaneous Transluminal Coronary Angioplasty with CC Score 12+"]
[null,"P1718","BP50","Timely access to coronary angiography - NSTEMI","Non-Elective NSTEMI",null,"Eligible HRG","Criteria","EY41B","Standard Percutaneous Transluminal Coronary Angioplasty with CC Score 8-11"]
[null,"P1718","BP50","Timely access to coronary angiography - NSTEMI","Non-Elective NSTEMI",null,"Eligible HRG","Criteria","EY41C","Standard Percutaneous Transluminal Coronary Angioplasty with CC Score 4-7"]
[null,"P1718","BP50","Timely access to coronary angiography - NSTEMI","Non-Elective NSTEMI",null,"Eligible HRG","Criteria","EY41D","Standard Percutaneous Transluminal Coronary Angioplasty with CC Score 0-3"]
[null,"P1718","BP50","Timely access to coronary angiography - NSTEMI","Non-Elective NSTEMI",null,"Eligible HRG","Criteria","EY42A","Complex Cardiac Catheterisation with CC Score 7+"]
[null,"P1718","BP50","Timely access to coronary angiography - NSTEMI","Non-Elective NSTEMI",null,"Eligible HRG","Criteria","EY42B","Complex Cardiac Catheterisation with CC Score 4-6"]
[null,"P1718","BP50","Timely access to coronary angiography - NSTEMI","Non-Elective NSTEMI",null,"Eligible HRG","Criteria","EY42C","Complex Cardiac Catheterisation with CC Score 2-3"]
[null,"P1718","BP50","Timely access to coronary angiography - NSTEMI","Non-Elective NSTEMI",null,"Eligible HRG","Criteria","EY42D","Complex Cardiac Catheterisation with CC Score 0-1"]
[null,"P1718","BP50","Timely access to coronary angiography - NSTEMI","Non-Elective NSTEMI",null,"Eligible HRG","Criteria","EY43A","Standard Cardiac Catheterisation with CC Score 13+"]
[null,"P1718","BP50","Timely access to coronary angiography - NSTEMI","Non-Elective NSTEMI",null,"Eligible HRG","Criteria","EY43B","Standard Cardiac Catheterisation with CC Score 10-12"]
[null,"P1718","BP50","Timely access to coronary angiography - NSTEMI","Non-Elective NSTEMI",null,"Eligible HRG","Criteria","EY43C","Standard Cardiac Catheterisation with CC Score 7-9"]
[null,"P1718","BP50","Timely access to coronary angiography - NSTEMI","Non-Elective NSTEMI",null,"Eligible HRG","Criteria","EY43D","Standard Cardiac Catheterisation with CC Score 4-6"]
[null,"P1718","BP50","Timely access to coronary angiography - NSTEMI","Non-Elective NSTEMI",null,"Eligible HRG","Criteria","EY43E","Standard Cardiac Catheterisation with CC Score 2-3"]
[null,"P1718","BP50","Timely access to coronary angiography - NSTEMI","Non-Elective NSTEMI",null,"Eligible HRG","Criteria","EY43F","Standard Cardiac Catheterisation with CC Score 0-1"]
[null,"P1718","BP50","Timely access to coronary angiography - NSTEMI","Non-Elective NSTEMI",null,"ICD-10","Trigger","I214","Acute subendocardial myocardial infarction"]
[null,"P1718","BP52","Diabetic ketoacidosis and hypoglycaemia","Non-Elective Diabetes",null,"ADMIMETH","Criteria",21,"Accident and emergency or dental casualty department of the Health Care Provider"]
[null,"P1718","BP52","Diabetic ketoacidosis and hypoglycaemia","Non-Elective Diabetes",null,"ADMIMETH","Criteria",22,"General practitioner: after a request for immediate admission has been made direct to a Hospital Provider, i.e. not through a Bed bureau, by a GENERAL PRACTITIONER or deputy"]
[null,"P1718","BP52","Diabetic ketoacidosis and hypoglycaemia","Non-Elective Diabetes",null,"ADMIMETH","Criteria",23,"Bed bureau"]
[null,"P1718","BP52","Diabetic ketoacidosis and hypoglycaemia","Non-Elective Diabetes",null,"ADMIMETH","Criteria",24,"Consultant clinic, of this or another Health Care Provider"]
[null,"P1718","BP52","Diabetic ketoacidosis and hypoglycaemia","Non-Elective Diabetes",null,"ADMIMETH","Criteria",25,"Admission via mental health crisis resolution team"]
[null,"P1718","BP52","Diabetic ketoacidosis and hypoglycaemia","Non-Elective Diabetes",null,"ADMIMETH","Criteria",28,"Other means"]
[null,"P1718","BP52","Diabetic ketoacidosis and hypoglycaemia","Non-Elective Diabetes",null,"ADMIMETH","Criteria","2A","Accident and Emergency Department of another provider where the PATIENT had not been admitted"]
[null,"P1718","BP52","Diabetic ketoacidosis and hypoglycaemia","Non-Elective Diabetes",null,"ADMIMETH","Criteria","2B","Transfer of an admitted PATIENT from another Hospital Provider in an emergency"]
[null,"P1718","BP52","Diabetic ketoacidosis and hypoglycaemia","Non-Elective Diabetes",null,"ADMIMETH","Criteria","2C","Baby born at home as intended"]
[null,"P1718","BP52","Diabetic ketoacidosis and hypoglycaemia","Non-Elective Diabetes",null,"ADMIMETH","Criteria","2D","Other emergency admission"]
[null,"P1718","BP52","Diabetic ketoacidosis and hypoglycaemia","Non-Elective Diabetes",null,"Age","Criteria","19 and over (19-130 or 999)","Age criteria applied - 19 and over (eligible ages 19-130 or the default age code 999)"]
[null,"P1718","BP52","Diabetic ketoacidosis and hypoglycaemia","Non-Elective Diabetes",null,"Eligible HRG","Criteria","KB01C","Diabetes with Hypoglycaemic Disorders, with CC Score 8+"]
[null,"P1718","BP52","Diabetic ketoacidosis and hypoglycaemia","Non-Elective Diabetes",null,"Eligible HRG","Criteria","KB01D","Diabetes with Hypoglycaemic Disorders, with CC Score 5-7"]
[null,"P1718","BP52","Diabetic ketoacidosis and hypoglycaemia","Non-Elective Diabetes",null,"Eligible HRG","Criteria","KB01E","Diabetes with Hypoglycaemic Disorders, with CC Score 3-4"]
[null,"P1718","BP52","Diabetic ketoacidosis and hypoglycaemia","Non-Elective Diabetes",null,"Eligible HRG","Criteria","KB01F","Diabetes with Hypoglycaemic Disorders, with CC Score 0-2"]
[null,"P1718","BP52","Diabetic ketoacidosis and hypoglycaemia","Non-Elective Diabetes",null,"Eligible HRG","Criteria","KB02G","Diabetes with Hyperglycaemic Disorders, with CC Score 8+"]
[null,"P1718","BP52","Diabetic ketoacidosis and hypoglycaemia","Non-Elective Diabetes",null,"Eligible HRG","Criteria","KB02H","Diabetes with Hyperglycaemic Disorders, with CC Score 5-7"]
[null,"P1718","BP52","Diabetic ketoacidosis and hypoglycaemia","Non-Elective Diabetes",null,"Eligible HRG","Criteria","KB02J","Diabetes with Hyperglycaemic Disorders, with CC Score 2-4"]
[null,"P1718","BP52","Diabetic ketoacidosis and hypoglycaemia","Non-Elective Diabetes",null,"Eligible HRG","Criteria","KB02K","Diabetes with Hyperglycaemic Disorders, with CC Score 0-1"]
[null,"P1718","BP52","Diabetic ketoacidosis and hypoglycaemia","Non-Elective Diabetes",null,"ICD-10","Combo","E160","Drug-induced hypoglycaemia without coma"]
[null,"P1718","BP52","Diabetic ketoacidosis and hypoglycaemia","Non-Elective Diabetes",null,"ICD-10","Combo","E161","Other hypoglycaemia"]
[null,"P1718","BP52","Diabetic ketoacidosis and hypoglycaemia","Non-Elective Diabetes",null,"ICD-10","Combo","E162","Hypoglycaemia, unspecified"]
[null,"P1718","BP52","Diabetic ketoacidosis and hypoglycaemia","Non-Elective Diabetes",null,"ICD-10","Qualifier","E100","Type 1 diabetes mellitus: With coma"]
[null,"P1718","BP52","Diabetic ketoacidosis and hypoglycaemia","Non-Elective Diabetes",null,"ICD-10","Qualifier","E101","Type 1 diabetes mellitus: With ketoacidosis"]
[null,"P1718","BP52","Diabetic ketoacidosis and hypoglycaemia","Non-Elective Diabetes",null,"ICD-10","Qualifier","E110","Type 2 diabetes mellitus: With coma"]
[null,"P1718","BP52","Diabetic ketoacidosis and hypoglycaemia","Non-Elective Diabetes",null,"ICD-10","Qualifier","E111","Type 2 diabetes mellitus: With ketoacidosis"]
[null,"P1718","BP52","Diabetic ketoacidosis and hypoglycaemia","Non-Elective Diabetes",null,"ICD-10","Qualifier","E120","Malnutrition-related diabetes mellitus: With coma"]
[null,"P1718","BP52","Diabetic ketoacidosis and hypoglycaemia","Non-Elective Diabetes",null,"ICD-10","Qualifier","E121","Malnutrition-related diabetes mellitus: With ketoacidosis"]
[null,"P1718","BP52","Diabetic ketoacidosis and hypoglycaemia","Non-Elective Diabetes",null,"ICD-10","Qualifier","E130","Other specified diabetes mellitus: With coma"]
[null,"P1718","BP52","Diabetic ketoacidosis and hypoglycaemia","Non-Elective Diabetes",null,"ICD-10","Qualifier","E131","Other specified diabetes mellitus: With ketoacidosis"]
[null,"P1718","BP52","Diabetic ketoacidosis and hypoglycaemia","Non-Elective Diabetes",null,"ICD-10","Qualifier","E140","Unspecified diabetes mellitus: With coma"]
[null,"P1718","BP52","Diabetic ketoacidosis and hypoglycaemia","Non-Elective Diabetes",null,"ICD-10","Qualifier","E141","Unspecified diabetes mellitus: With ketoacidosis"]
[null,"P1718","BP52","Diabetic ketoacidosis and hypoglycaemia","Non-Elective Diabetes",null,"ICD-10","Trigger","E100","Type 1 diabetes mellitus: With coma"]
[null,"P1718","BP52","Diabetic ketoacidosis and hypoglycaemia","Non-Elective Diabetes",null,"ICD-10","Trigger","E101","Type 1 diabetes mellitus: With ketoacidosis"]
[null,"P1718","BP52","Diabetic ketoacidosis and hypoglycaemia","Non-Elective Diabetes",null,"ICD-10","Trigger","E110","Type 2 diabetes mellitus: With coma"]
[null,"P1718","BP52","Diabetic ketoacidosis and hypoglycaemia","Non-Elective Diabetes",null,"ICD-10","Trigger","E111","Type 2 diabetes mellitus: With ketoacidosis"]
[null,"P1718","BP52","Diabetic ketoacidosis and hypoglycaemia","Non-Elective Diabetes",null,"ICD-10","Trigger","E120","Malnutrition-related diabetes mellitus: With coma"]
[null,"P1718","BP52","Diabetic ketoacidosis and hypoglycaemia","Non-Elective Diabetes",null,"ICD-10","Trigger","E121","Malnutrition-related diabetes mellitus: With ketoacidosis"]
[null,"P1718","BP52","Diabetic ketoacidosis and hypoglycaemia","Non-Elective Diabetes",null,"ICD-10","Trigger","E130","Other specified diabetes mellitus: With coma"]
[null,"P1718","BP52","Diabetic ketoacidosis and hypoglycaemia","Non-Elective Diabetes",null,"ICD-10","Trigger","E131","Other specified diabetes mellitus: With ketoacidosis"]
[null,"P1718","BP52","Diabetic ketoacidosis and hypoglycaemia","Non-Elective Diabetes",null,"ICD-10","Trigger","E140","Unspecified diabetes mellitus: With coma"]
[null,"P1718","BP52","Diabetic ketoacidosis and hypoglycaemia","Non-Elective Diabetes",null,"ICD-10","Trigger","E141","Unspecified diabetes mellitus: With ketoacidosis"]
[null,"P1718","BP53","Low risk pubic rami","Non-Elective Same Day Emergency","Low risk pubic rami","ADMIMETH","Criteria",21,"Accident and emergency or dental casualty department of the Health Care Provider"]
[null,"P1718","BP53","Low risk pubic rami","Non-Elective Same Day Emergency","Low risk pubic rami","ADMIMETH","Criteria",22,"General practitioner: after a request for immediate admission has been made direct to a Hospital Provider, i.e. not through a Bed bureau, by a GENERAL PRACTITIONER or deputy"]
[null,"P1718","BP53","Low risk pubic rami","Non-Elective Same Day Emergency","Low risk pubic rami","ADMIMETH","Criteria",23,"Bed bureau"]
[null,"P1718","BP53","Low risk pubic rami","Non-Elective Same Day Emergency","Low risk pubic rami","ADMIMETH","Criteria",24,"Consultant clinic, of this or another Health Care Provider"]
[null,"P1718","BP53","Low risk pubic rami","Non-Elective Same Day Emergency","Low risk pubic rami","ADMIMETH","Criteria",25,"Admission via mental health crisis resolution team"]
[null,"P1718","BP53","Low risk pubic rami","Non-Elective Same Day Emergency","Low risk pubic rami","ADMIMETH","Criteria",28,"Other means"]
[null,"P1718","BP53","Low risk pubic rami","Non-Elective Same Day Emergency","Low risk pubic rami","ADMIMETH","Criteria","2A","Accident and Emergency Department of another provider where the PATIENT had not been admitted"]
[null,"P1718","BP53","Low risk pubic rami","Non-Elective Same Day Emergency","Low risk pubic rami","ADMIMETH","Criteria","2B","Transfer of an admitted PATIENT from another Hospital Provider in an emergency"]
[null,"P1718","BP53","Low risk pubic rami","Non-Elective Same Day Emergency","Low risk pubic rami","ADMIMETH","Criteria","2C","Baby born at home as intended"]
[null,"P1718","BP53","Low risk pubic rami","Non-Elective Same Day Emergency","Low risk pubic rami","ADMIMETH","Criteria","2D","Other emergency admission"]
[null,"P1718","BP53","Low risk pubic rami","Non-Elective Same Day Emergency","Low risk pubic rami","Age","Criteria","19 and over (19-130 or 999)","Age criteria applied - 19 and over (eligible ages 19-130 or the default age code 999)"]
[null,"P1718","BP53","Low risk pubic rami","Non-Elective Same Day Emergency","Low risk pubic rami","Eligible HRG","Criteria","HE11G","Hip Fracture without Interventions, with CC Score 4-7"]
[null,"P1718","BP53","Low risk pubic rami","Non-Elective Same Day Emergency","Low risk pubic rami","Eligible HRG","Criteria","HE11H","Hip Fracture without Interventions, with CC Score 0-3"]
[null,"P1718","BP53","Low risk pubic rami","Non-Elective Same Day Emergency","Low risk pubic rami","ICD-10","Trigger","S325","Fracture of pubis"]
[null,"P1718","BP53","Low risk pubic rami","Non-Elective Same Day Emergency","Low risk pubic rami","ICD-10","Trigger","S3250","Fracture of pubis: closed"]
[null,"P1718","BP54","Anaemia","Non-Elective Same Day Emergency","Anaemia","ADMIMETH","Criteria",21,"Accident and emergency or dental casualty department of the Health Care Provider"]
[null,"P1718","BP54","Anaemia","Non-Elective Same Day Emergency","Anaemia","ADMIMETH","Criteria",22,"General practitioner: after a request for immediate admission has been made direct to a Hospital Provider, i.e. not through a Bed bureau, by a GENERAL PRACTITIONER or deputy"]
[null,"P1718","BP54","Anaemia","Non-Elective Same Day Emergency","Anaemia","ADMIMETH","Criteria",23,"Bed bureau"]
[null,"P1718","BP54","Anaemia","Non-Elective Same Day Emergency","Anaemia","ADMIMETH","Criteria",24,"Consultant clinic, of this or another Health Care Provider"]
[null,"P1718","BP54","Anaemia","Non-Elective Same Day Emergency","Anaemia","ADMIMETH","Criteria",25,"Admission via mental health crisis resolution team"]
[null,"P1718","BP54","Anaemia","Non-Elective Same Day Emergency","Anaemia","ADMIMETH","Criteria",28,"Other means"]
[null,"P1718","BP54","Anaemia","Non-Elective Same Day Emergency","Anaemia","ADMIMETH","Criteria","2A","Accident and Emergency Department of another provider where the PATIENT had not been admitted"]
[null,"P1718","BP54","Anaemia","Non-Elective Same Day Emergency","Anaemia","ADMIMETH","Criteria","2B","Transfer of an admitted PATIENT from another Hospital Provider in an emergency"]
[null,"P1718","BP54","Anaemia","Non-Elective Same Day Emergency","Anaemia","ADMIMETH","Criteria","2C","Baby born at home as intended"]
[null,"P1718","BP54","Anaemia","Non-Elective Same Day Emergency","Anaemia","ADMIMETH","Criteria","2D","Other emergency admission"]
[null,"P1718","BP54","Anaemia","Non-Elective Same Day Emergency","Anaemia","Age","Criteria","19 and over (19-130 or 999)","Age criteria applied - 19 and over (eligible ages 19-130 or the default age code 999)"]
[null,"P1718","BP54","Anaemia","Non-Elective Same Day Emergency","Anaemia","Eligible HRG","Criteria","SA04K","Iron Deficiency Anaemia with CC Score 2-5"]
[null,"P1718","BP54","Anaemia","Non-Elective Same Day Emergency","Anaemia","Eligible HRG","Criteria","SA04L","Iron Deficiency Anaemia with CC Score 0-1"]
[null,"P1718","BP54","Anaemia","Non-Elective Same Day Emergency","Anaemia","Eligible HRG","Criteria","SA09K","Other Red Blood Cell Disorders with CC Score 2-5"]
[null,"P1718","BP54","Anaemia","Non-Elective Same Day Emergency","Anaemia","Eligible HRG","Criteria","SA09L","Other Red Blood Cell Disorders with CC Score 0-1"]
[null,"P1718","BP55","Bladder outflow obstruction","Non-Elective Same Day Emergency","Bladder outflow obstruction","ADMIMETH","Criteria",21,"Accident and emergency or dental casualty department of the Health Care Provider"]
[null,"P1718","BP55","Bladder outflow obstruction","Non-Elective Same Day Emergency","Bladder outflow obstruction","ADMIMETH","Criteria",22,"General practitioner: after a request for immediate admission has been made direct to a Hospital Provider, i.e. not through a Bed bureau, by a GENERAL PRACTITIONER or deputy"]
[null,"P1718","BP55","Bladder outflow obstruction","Non-Elective Same Day Emergency","Bladder outflow obstruction","ADMIMETH","Criteria",23,"Bed bureau"]
[null,"P1718","BP55","Bladder outflow obstruction","Non-Elective Same Day Emergency","Bladder outflow obstruction","ADMIMETH","Criteria",24,"Consultant clinic, of this or another Health Care Provider"]
[null,"P1718","BP55","Bladder outflow obstruction","Non-Elective Same Day Emergency","Bladder outflow obstruction","ADMIMETH","Criteria",25,"Admission via mental health crisis resolution team"]
[null,"P1718","BP55","Bladder outflow obstruction","Non-Elective Same Day Emergency","Bladder outflow obstruction","ADMIMETH","Criteria",28,"Other means"]
[null,"P1718","BP55","Bladder outflow obstruction","Non-Elective Same Day Emergency","Bladder outflow obstruction","ADMIMETH","Criteria","2A","Accident and Emergency Department of another provider where the PATIENT had not been admitted"]
[null,"P1718","BP55","Bladder outflow obstruction","Non-Elective Same Day Emergency","Bladder outflow obstruction","ADMIMETH","Criteria","2B","Transfer of an admitted PATIENT from another Hospital Provider in an emergency"]
[null,"P1718","BP55","Bladder outflow obstruction","Non-Elective Same Day Emergency","Bladder outflow obstruction","ADMIMETH","Criteria","2C","Baby born at home as intended"]
[null,"P1718","BP55","Bladder outflow obstruction","Non-Elective Same Day Emergency","Bladder outflow obstruction","ADMIMETH","Criteria","2D","Other emergency admission"]
[null,"P1718","BP55","Bladder outflow obstruction","Non-Elective Same Day Emergency","Bladder outflow obstruction","Age","Criteria","19 and over (19-130 or 999)","Age criteria applied - 19 and over (eligible ages 19-130 or the default age code 999)"]
[null,"P1718","BP55","Bladder outflow obstruction","Non-Elective Same Day Emergency","Bladder outflow obstruction","Eligible HRG","Criteria","LB16J","Urinary Incontinence or Other Urinary Problems, without Interventions, with CC Score 2-4"]
[null,"P1718","BP55","Bladder outflow obstruction","Non-Elective Same Day Emergency","Bladder outflow obstruction","Eligible HRG","Criteria","LB16K","Urinary Incontinence or Other Urinary Problems, without Interventions, with CC Score 0-1"]
[null,"P1718","BP56","Community acquired pneumonia","Non-Elective Same Day Emergency","Community acquired pneumonia","ADMIMETH","Criteria",21,"Accident and emergency or dental casualty department of the Health Care Provider"]
[null,"P1718","BP56","Community acquired pneumonia","Non-Elective Same Day Emergency","Community acquired pneumonia","ADMIMETH","Criteria",22,"General practitioner: after a request for immediate admission has been made direct to a Hospital Provider, i.e. not through a Bed bureau, by a GENERAL PRACTITIONER or deputy"]
[null,"P1718","BP56","Community acquired pneumonia","Non-Elective Same Day Emergency","Community acquired pneumonia","ADMIMETH","Criteria",23,"Bed bureau"]
[null,"P1718","BP56","Community acquired pneumonia","Non-Elective Same Day Emergency","Community acquired pneumonia","ADMIMETH","Criteria",24,"Consultant clinic, of this or another Health Care Provider"]
[null,"P1718","BP56","Community acquired pneumonia","Non-Elective Same Day Emergency","Community acquired pneumonia","ADMIMETH","Criteria",25,"Admission via mental health crisis resolution team"]
[null,"P1718","BP56","Community acquired pneumonia","Non-Elective Same Day Emergency","Community acquired pneumonia","ADMIMETH","Criteria",28,"Other means"]
[null,"P1718","BP56","Community acquired pneumonia","Non-Elective Same Day Emergency","Community acquired pneumonia","ADMIMETH","Criteria","2A","Accident and Emergency Department of another provider where the PATIENT had not been admitted"]
[null,"P1718","BP56","Community acquired pneumonia","Non-Elective Same Day Emergency","Community acquired pneumonia","ADMIMETH","Criteria","2B","Transfer of an admitted PATIENT from another Hospital Provider in an emergency"]
[null,"P1718","BP56","Community acquired pneumonia","Non-Elective Same Day Emergency","Community acquired pneumonia","ADMIMETH","Criteria","2C","Baby born at home as intended"]
[null,"P1718","BP56","Community acquired pneumonia","Non-Elective Same Day Emergency","Community acquired pneumonia","ADMIMETH","Criteria","2D","Other emergency admission"]
[null,"P1718","BP56","Community acquired pneumonia","Non-Elective Same Day Emergency","Community acquired pneumonia","Age","Criteria","19 and over (19-130 or 999)","Age criteria applied - 19 and over (eligible ages 19-130 or the default age code 999)"]
[null,"P1718","BP56","Community acquired pneumonia","Non-Elective Same Day Emergency","Community acquired pneumonia","Eligible HRG","Criteria","DZ11V","Lobar, Atypical or Viral Pneumonia, without Interventions, with CC Score 0-3"]
[null,"P1718","BP58","Minor head injury","Non-Elective Same Day Emergency","Minor head injury","ADMIMETH","Criteria",21,"Accident and emergency or dental casualty department of the Health Care Provider"]
[null,"P1718","BP58","Minor head injury","Non-Elective Same Day Emergency","Minor head injury","ADMIMETH","Criteria",22,"General practitioner: after a request for immediate admission has been made direct to a Hospital Provider, i.e. not through a Bed bureau, by a GENERAL PRACTITIONER or deputy"]
[null,"P1718","BP58","Minor head injury","Non-Elective Same Day Emergency","Minor head injury","ADMIMETH","Criteria",23,"Bed bureau"]
[null,"P1718","BP58","Minor head injury","Non-Elective Same Day Emergency","Minor head injury","ADMIMETH","Criteria",24,"Consultant clinic, of this or another Health Care Provider"]
[null,"P1718","BP58","Minor head injury","Non-Elective Same Day Emergency","Minor head injury","ADMIMETH","Criteria",25,"Admission via mental health crisis resolution team"]
[null,"P1718","BP58","Minor head injury","Non-Elective Same Day Emergency","Minor head injury","ADMIMETH","Criteria",28,"Other means"]
[null,"P1718","BP58","Minor head injury","Non-Elective Same Day Emergency","Minor head injury","ADMIMETH","Criteria","2A","Accident and Emergency Department of another provider where the PATIENT had not been admitted"]
[null,"P1718","BP58","Minor head injury","Non-Elective Same Day Emergency","Minor head injury","ADMIMETH","Criteria","2B","Transfer of an admitted PATIENT from another Hospital Provider in an emergency"]
[null,"P1718","BP58","Minor head injury","Non-Elective Same Day Emergency","Minor head injury","ADMIMETH","Criteria","2C","Baby born at home as intended"]
[null,"P1718","BP58","Minor head injury","Non-Elective Same Day Emergency","Minor head injury","ADMIMETH","Criteria","2D","Other emergency admission"]
[null,"P1718","BP58","Minor head injury","Non-Elective Same Day Emergency","Minor head injury","Age","Criteria","19 and over (19-130 or 999)","Age criteria applied - 19 and over (eligible ages 19-130 or the default age code 999)"]
[null,"P1718","BP58","Minor head injury","Non-Elective Same Day Emergency","Minor head injury","Eligible HRG","Criteria","CB02E","Non-Malignant, Ear, Nose, Mouth, Throat or Neck Disorders, without Interventions, with CC Score 1-4"]
[null,"P1718","BP58","Minor head injury","Non-Elective Same Day Emergency","Minor head injury","Eligible HRG","Criteria","CB02F","Non-Malignant, Ear, Nose, Mouth, Throat or Neck Disorders, without Interventions, with CC Score 0"]
[null,"P1718","BP58","Minor head injury","Non-Elective Same Day Emergency","Minor head injury","ICD-10","Trigger","S060","Concussion"]
[null,"P1718","BP58","Minor head injury","Non-Elective Same Day Emergency","Minor head injury","ICD-10","Trigger","S0600","Concussion: without open intracranial wound"]
[null,"P1718","BP58","Minor head injury","Non-Elective Same Day Emergency","Minor head injury","ICD-10","Trigger","S0601","Concussion: with open intracranial wound"]
[null,"P1718","BP58","Minor head injury","Non-Elective Same Day Emergency","Minor head injury","ICD-10","Trigger","S098","Other specified injuries of head"]
[null,"P1718","BP58","Minor head injury","Non-Elective Same Day Emergency","Minor head injury","ICD-10","Trigger","S099","Unspecified injury of head"]
[null,"P1718","BP59","Supraventricular tachycardia's including atrial fibrillation","Non-Elective Same Day Emergency","Supraventricular tachycardia's including atrial fibrillation","ADMIMETH","Criteria",21,"Accident and emergency or dental casualty department of the Health Care Provider"]
[null,"P1718","BP59","Supraventricular tachycardia's including atrial fibrillation","Non-Elective Same Day Emergency","Supraventricular tachycardia's including atrial fibrillation","ADMIMETH","Criteria",22,"General practitioner: after a request for immediate admission has been made direct to a Hospital Provider, i.e. not through a Bed bureau, by a GENERAL PRACTITIONER or deputy"]
[null,"P1718","BP59","Supraventricular tachycardia's including atrial fibrillation","Non-Elective Same Day Emergency","Supraventricular tachycardia's including atrial fibrillation","ADMIMETH","Criteria",23,"Bed bureau"]
[null,"P1718","BP59","Supraventricular tachycardia's including atrial fibrillation","Non-Elective Same Day Emergency","Supraventricular tachycardia's including atrial fibrillation","ADMIMETH","Criteria",24,"Consultant clinic, of this or another Health Care Provider"]
[null,"P1718","BP59","Supraventricular tachycardia's including atrial fibrillation","Non-Elective Same Day Emergency","Supraventricular tachycardia's including atrial fibrillation","ADMIMETH","Criteria",25,"Admission via mental health crisis resolution team"]
[null,"P1718","BP59","Supraventricular tachycardia's including atrial fibrillation","Non-Elective Same Day Emergency","Supraventricular tachycardia's including atrial fibrillation","ADMIMETH","Criteria",28,"Other means"]
[null,"P1718","BP59","Supraventricular tachycardia's including atrial fibrillation","Non-Elective Same Day Emergency","Supraventricular tachycardia's including atrial fibrillation","ADMIMETH","Criteria","2A","Accident and Emergency Department of another provider where the PATIENT had not been admitted"]
[null,"P1718","BP59","Supraventricular tachycardia's including atrial fibrillation","Non-Elective Same Day Emergency","Supraventricular tachycardia's including atrial fibrillation","ADMIMETH","Criteria","2B","Transfer of an admitted PATIENT from another Hospital Provider in an emergency"]
[null,"P1718","BP59","Supraventricular tachycardia's including atrial fibrillation","Non-Elective Same Day Emergency","Supraventricular tachycardia's including atrial fibrillation","ADMIMETH","Criteria","2C","Baby born at home as intended"]
[null,"P1718","BP59","Supraventricular tachycardia's including atrial fibrillation","Non-Elective Same Day Emergency","Supraventricular tachycardia's including atrial fibrillation","ADMIMETH","Criteria","2D","Other emergency admission"]
[null,"P1718","BP59","Supraventricular tachycardia's including atrial fibrillation","Non-Elective Same Day Emergency","Supraventricular tachycardia's including atrial fibrillation","Age","Criteria","19 and over (19-130 or 999)","Age criteria applied - 19 and over (eligible ages 19-130 or the default age code 999)"]
[null,"P1718","BP59","Supraventricular tachycardia's including atrial fibrillation","Non-Elective Same Day Emergency","Supraventricular tachycardia's including atrial fibrillation","Eligible HRG","Criteria","EB07C","Arrhythmia or Conduction Disorders, with CC Score 7-9"]
[null,"P1718","BP59","Supraventricular tachycardia's including atrial fibrillation","Non-Elective Same Day Emergency","Supraventricular tachycardia's including atrial fibrillation","Eligible HRG","Criteria","EB07D","Arrhythmia or Conduction Disorders, with CC Score 4-6"]
[null,"P1718","BP59","Supraventricular tachycardia's including atrial fibrillation","Non-Elective Same Day Emergency","Supraventricular tachycardia's including atrial fibrillation","Eligible HRG","Criteria","EB07E","Arrhythmia or Conduction Disorders, with CC Score 0-3"]
[null,"P1718","BP61","Abdominal pain","Non-Elective Same Day Emergency","Abdominal pain","ADMIMETH","Criteria",21,"Accident and emergency or dental casualty department of the Health Care Provider"]
[null,"P1718","BP61","Abdominal pain","Non-Elective Same Day Emergency","Abdominal pain","ADMIMETH","Criteria",22,"General practitioner: after a request for immediate admission has been made direct to a Hospital Provider, i.e. not through a Bed bureau, by a GENERAL PRACTITIONER or deputy"]
[null,"P1718","BP61","Abdominal pain","Non-Elective Same Day Emergency","Abdominal pain","ADMIMETH","Criteria",23,"Bed bureau"]
[null,"P1718","BP61","Abdominal pain","Non-Elective Same Day Emergency","Abdominal pain","ADMIMETH","Criteria",24,"Consultant clinic, of this or another Health Care Provider"]
[null,"P1718","BP61","Abdominal pain","Non-Elective Same Day Emergency","Abdominal pain","ADMIMETH","Criteria",25,"Admission via mental health crisis resolution team"]
[null,"P1718","BP61","Abdominal pain","Non-Elective Same Day Emergency","Abdominal pain","ADMIMETH","Criteria",28,"Other means"]
[null,"P1718","BP61","Abdominal pain","Non-Elective Same Day Emergency","Abdominal pain","ADMIMETH","Criteria","2A","Accident and Emergency Department of another provider where the PATIENT had not been admitted"]
[null,"P1718","BP61","Abdominal pain","Non-Elective Same Day Emergency","Abdominal pain","ADMIMETH","Criteria","2B","Transfer of an admitted PATIENT from another Hospital Provider in an emergency"]
[null,"P1718","BP61","Abdominal pain","Non-Elective Same Day Emergency","Abdominal pain","ADMIMETH","Criteria","2C","Baby born at home as intended"]
[null,"P1718","BP61","Abdominal pain","Non-Elective Same Day Emergency","Abdominal pain","ADMIMETH","Criteria","2D","Other emergency admission"]
[null,"P1718","BP61","Abdominal pain","Non-Elective Same Day Emergency","Abdominal pain","Age","Criteria","19 and over (19-130 or 999)","Age criteria applied - 19 and over (eligible ages 19-130 or the default age code 999)"]
[null,"P1718","BP61","Abdominal pain","Non-Elective Same Day Emergency","Abdominal pain","Eligible HRG","Criteria","FZ90B","Abdominal Pain without Interventions"]
[null,"P1718","BP63","Autograft anterior cruciate ligament reconstruction","Day Case Incentive","Orthopaedic surgery","ADMIMETH","Criteria",11,"Waiting list"]
[null,"P1718","BP63","Autograft anterior cruciate ligament reconstruction","Day Case Incentive","Orthopaedic surgery","ADMIMETH","Criteria",12,"Booked"]
[null,"P1718","BP63","Autograft anterior cruciate ligament reconstruction","Day Case Incentive","Orthopaedic surgery","ADMIMETH","Criteria",13,"Planned"]
[null,"P1718","BP63","Autograft anterior cruciate ligament reconstruction","Day Case Incentive","Orthopaedic surgery","Age","Criteria","19 and over (19-130 or 999)","Age criteria applied - 19 and over (eligible ages 19-130 or the default age code 999)"]
[null,"P1718","BP63","Autograft anterior cruciate ligament reconstruction","Day Case Incentive","Orthopaedic surgery","Eligible HRG","Criteria","HN23C","Major Knee Procedures for Non-Trauma, 19 years and over, with CC Score 0-1"]
[null,"P1718","BP63","Autograft anterior cruciate ligament reconstruction","Day Case Incentive","Orthopaedic surgery","OPCS-4","Trigger","W742","Reconstruction of intra-articular ligament NEC"]
[null,"P1718","BP64","Biopsy/sampling of cervical lymph nodes","Day Case Incentive","Head and neck","ADMIMETH","Criteria",11,"Waiting list"]
[null,"P1718","BP64","Biopsy/sampling of cervical lymph nodes","Day Case Incentive","Head and neck","ADMIMETH","Criteria",12,"Booked"]
[null,"P1718","BP64","Biopsy/sampling of cervical lymph nodes","Day Case Incentive","Head and neck","ADMIMETH","Criteria",13,"Planned"]
[null,"P1718","BP64","Biopsy/sampling of cervical lymph nodes","Day Case Incentive","Head and neck","Age","Criteria","19 and over (19-130 or 999)","Age criteria applied - 19 and over (eligible ages 19-130 or the default age code 999)"]
[null,"P1718","BP64","Biopsy/sampling of cervical lymph nodes","Day Case Incentive","Head and neck","Eligible HRG","Criteria","CA05A","Minor Neck Procedures, 19 years and over"]
[null,"P1718","BP64","Biopsy/sampling of cervical lymph nodes","Day Case Incentive","Head and neck","OPCS-4","Trigger","T861","Sampling of cervical lymph nodes"]
[null,"P1718","BP64","Biopsy/sampling of cervical lymph nodes","Day Case Incentive","Head and neck","OPCS-4","Trigger","T871","Excision or biopsy of scalene lymph node"]
[null,"P1718","BP64","Biopsy/sampling of cervical lymph nodes","Day Case Incentive","Head and neck","OPCS-4","Trigger","T872","Excision or biopsy of cervical lymph node NEC"]
[null,"P1718","BP65","Creation of arteriovenous fistula for dialysis","Day Case Incentive","Vascular surgery","ADMIMETH","Criteria",11,"Waiting list"]
[null,"P1718","BP65","Creation of arteriovenous fistula for dialysis","Day Case Incentive","Vascular surgery","ADMIMETH","Criteria",12,"Booked"]
[null,"P1718","BP65","Creation of arteriovenous fistula for dialysis","Day Case Incentive","Vascular surgery","ADMIMETH","Criteria",13,"Planned"]
[null,"P1718","BP65","Creation of arteriovenous fistula for dialysis","Day Case Incentive","Vascular surgery","Age","Criteria","19 and over (19-130 or 999)","Age criteria applied - 19 and over (eligible ages 19-130 or the default age code 999)"]
[null,"P1718","BP65","Creation of arteriovenous fistula for dialysis","Day Case Incentive","Vascular surgery","Eligible HRG","Criteria","YQ42Z","Open Arteriovenous Fistula, Graft or Shunt Procedures"]
[null,"P1718","BP65","Creation of arteriovenous fistula for dialysis","Day Case Incentive","Vascular surgery","OPCS-4","Trigger","L741","Insertion of arteriovenous prosthesis"]
[null,"P1718","BP65","Creation of arteriovenous fistula for dialysis","Day Case Incentive","Vascular surgery","OPCS-4","Trigger","L742","Creation of arteriovenous fistula NEC"]
[null,"P1718","BP65","Creation of arteriovenous fistula for dialysis","Day Case Incentive","Vascular surgery","OPCS-4","Trigger","L746","Creation of graft fistula for dialysis"]
[null,"P1718","BP66","Dacryocysto-rhinostomy including insertion of tube","Day Case Incentive","Ophthalmology","ADMIMETH","Criteria",11,"Waiting list"]
[null,"P1718","BP66","Dacryocysto-rhinostomy including insertion of tube","Day Case Incentive","Ophthalmology","ADMIMETH","Criteria",12,"Booked"]
[null,"P1718","BP66","Dacryocysto-rhinostomy including insertion of tube","Day Case Incentive","Ophthalmology","ADMIMETH","Criteria",13,"Planned"]
[null,"P1718","BP66","Dacryocysto-rhinostomy including insertion of tube","Day Case Incentive","Ophthalmology","Age","Criteria","19 and over (19-130 or 999)","Age criteria applied - 19 and over (eligible ages 19-130 or the default age code 999)"]
[null,"P1718","BP66","Dacryocysto-rhinostomy including insertion of tube","Day Case Incentive","Ophthalmology","Eligible HRG","Criteria","BZ54B","Major, Orbit or Lacrimal Procedures, 19 years and over, with CC Score 0"]
[null,"P1718","BP66","Dacryocysto-rhinostomy including insertion of tube","Day Case Incentive","Ophthalmology","OPCS-4","Trigger","C253","Dacryocystorhinostomy and insertion of tube HFQ"]
[null,"P1718","BP66","Dacryocysto-rhinostomy including insertion of tube","Day Case Incentive","Ophthalmology","OPCS-4","Trigger","C254","Dacryocystorhinostomy NEC"]
[null,"P1718","BP68","Endoscopic insertion of prosthesis into ureter","Day Case Incentive","Urology","ADMIMETH","Criteria",11,"Waiting list"]
[null,"P1718","BP68","Endoscopic insertion of prosthesis into ureter","Day Case Incentive","Urology","ADMIMETH","Criteria",12,"Booked"]
[null,"P1718","BP68","Endoscopic insertion of prosthesis into ureter","Day Case Incentive","Urology","ADMIMETH","Criteria",13,"Planned"]
[null,"P1718","BP68","Endoscopic insertion of prosthesis into ureter","Day Case Incentive","Urology","Age","Criteria","19 and over (19-130 or 999)","Age criteria applied - 19 and over (eligible ages 19-130 or the default age code 999)"]
[null,"P1718","BP68","Endoscopic insertion of prosthesis into ureter","Day Case Incentive","Urology","Eligible HRG","Criteria","LB09D","Intermediate Endoscopic Ureter Procedures, 19 years and over"]
[null,"P1718","BP68","Endoscopic insertion of prosthesis into ureter","Day Case Incentive","Urology","OPCS-4","Trigger","M274","Ureteroscopic insertion of ureteric stent"]
[null,"P1718","BP68","Endoscopic insertion of prosthesis into ureter","Day Case Incentive","Urology","OPCS-4","Trigger","M292","Endoscopic insertion of tubal prosthesis into ureter NEC"]
[null,"P1718","BP68","Endoscopic insertion of prosthesis into ureter","Day Case Incentive","Urology","OPCS-4","Trigger","M295","Endoscopic renewal of tubal prosthesis into ureter"]
[null,"P1718","BP69","Excision biopsy of lymph node for diagnosis (cervical, inguinal, axillary)","Day Case Incentive","General surgery","ADMIMETH","Criteria",11,"Waiting list"]
[null,"P1718","BP69","Excision biopsy of lymph node for diagnosis (cervical, inguinal, axillary)","Day Case Incentive","General surgery","ADMIMETH","Criteria",12,"Booked"]
[null,"P1718","BP69","Excision biopsy of lymph node for diagnosis (cervical, inguinal, axillary)","Day Case Incentive","General surgery","ADMIMETH","Criteria",13,"Planned"]
[null,"P1718","BP69","Excision biopsy of lymph node for diagnosis (cervical, inguinal, axillary)","Day Case Incentive","General surgery","Age","Criteria","19 and over (19-130 or 999)","Age criteria applied - 19 and over (eligible ages 19-130 or the default age code 999)"]
[null,"P1718","BP69","Excision biopsy of lymph node for diagnosis (cervical, inguinal, axillary)","Day Case Incentive","General surgery","Eligible HRG","Criteria","FZ12Q","Major General Abdominal Procedures, 19 years and over, with CC Score 0"]
[null,"P1718","BP69","Excision biopsy of lymph node for diagnosis (cervical, inguinal, axillary)","Day Case Incentive","General surgery","OPCS-4","Trigger","T871","Excision or biopsy of scalene lymph node"]
[null,"P1718","BP69","Excision biopsy of lymph node for diagnosis (cervical, inguinal, axillary)","Day Case Incentive","General surgery","OPCS-4","Trigger","T873","Excision or biopsy of axillary lymph node"]
[null,"P1718","BP69","Excision biopsy of lymph node for diagnosis (cervical, inguinal, axillary)","Day Case Incentive","General surgery","OPCS-4","Trigger","T877","Excision or biopsy of inguinal lymph node"]
[null,"P1718","BP69","Excision biopsy of lymph node for diagnosis (cervical, inguinal, axillary)","Day Case Incentive","General surgery","OPCS-4","Trigger","T878","Other specified excision or biopsy of lymph node"]
[null,"P1718","BP69","Excision biopsy of lymph node for diagnosis (cervical, inguinal, axillary)","Day Case Incentive","General surgery","OPCS-4","Trigger","T879","Unspecified excision or biopsy of lymph node"]
[null,"P1718","BP73","Optical urethrotomy","Day Case Incentive","Urology","ADMIMETH","Criteria",11,"Waiting list"]
[null,"P1718","BP73","Optical urethrotomy","Day Case Incentive","Urology","ADMIMETH","Criteria",12,"Booked"]
[null,"P1718","BP73","Optical urethrotomy","Day Case Incentive","Urology","ADMIMETH","Criteria",13,"Planned"]
[null,"P1718","BP73","Optical urethrotomy","Day Case Incentive","Urology","Age","Criteria","19 and over (19-130 or 999)","Age criteria applied - 19 and over (eligible ages 19-130 or the default age code 999)"]
[null,"P1718","BP73","Optical urethrotomy","Day Case Incentive","Urology","Eligible HRG","Criteria","LB55A","Minor or Intermediate, Urethra Procedures, 19 years and over"]
[null,"P1718","BP73","Optical urethrotomy","Day Case Incentive","Urology","OPCS-4","Trigger","M763","Optical urethrotomy"]
[null,"P1718","BP74","Polypectomy of internal nose","Day Case Incentive","Ear, nose and throat (ENT)","ADMIMETH","Criteria",11,"Waiting list"]
[null,"P1718","BP74","Polypectomy of internal nose","Day Case Incentive","Ear, nose and throat (ENT)","ADMIMETH","Criteria",12,"Booked"]
[null,"P1718","BP74","Polypectomy of internal nose","Day Case Incentive","Ear, nose and throat (ENT)","ADMIMETH","Criteria",13,"Planned"]
[null,"P1718","BP74","Polypectomy of internal nose","Day Case Incentive","Ear, nose and throat (ENT)","Age","Criteria","19 and over (19-130 or 999)","Age criteria applied - 19 and over (eligible ages 19-130 or the default age code 999)"]
[null,"P1718","BP74","Polypectomy of internal nose","Day Case Incentive","Ear, nose and throat (ENT)","Eligible HRG","Criteria","CA28Z","Intermediate Sinus Procedures"]
[null,"P1718","BP74","Polypectomy of internal nose","Day Case Incentive","Ear, nose and throat (ENT)","OPCS-4","Trigger","E081","Polypectomy of internal nose"]
[null,"P1718","BP76","Repair of other abdominal hernia","Day Case Incentive","General surgery","ADMIMETH","Criteria",11,"Waiting list"]
[null,"P1718","BP76","Repair of other abdominal hernia","Day Case Incentive","General surgery","ADMIMETH","Criteria",12,"Booked"]
[null,"P1718","BP76","Repair of other abdominal hernia","Day Case Incentive","General surgery","ADMIMETH","Criteria",13,"Planned"]
[null,"P1718","BP76","Repair of other abdominal hernia","Day Case Incentive","General surgery","Age","Criteria","19 and over (19-130 or 999)","Age criteria applied - 19 and over (eligible ages 19-130 or the default age code 999)"]
[null,"P1718","BP76","Repair of other abdominal hernia","Day Case Incentive","General surgery","Eligible HRG","Criteria","FZ17G","Abdominal Hernia Procedures, 19 years and over, with CC Score 0"]
[null,"P1718","BP76","Repair of other abdominal hernia","Day Case Incentive","General surgery","OPCS-4","Trigger","T271","Repair of ventral hernia using insert of natural material"]
[null,"P1718","BP76","Repair of other abdominal hernia","Day Case Incentive","General surgery","OPCS-4","Trigger","T272","Repair of ventral hernia using insert of prosthetic material"]
[null,"P1718","BP76","Repair of other abdominal hernia","Day Case Incentive","General surgery","OPCS-4","Trigger","T273","Repair of ventral hernia using sutures"]
[null,"P1718","BP76","Repair of other abdominal hernia","Day Case Incentive","General surgery","OPCS-4","Trigger","T278","Other specified repair of other hernia of abdominal wall"]
[null,"P1718","BP76","Repair of other abdominal hernia","Day Case Incentive","General surgery","OPCS-4","Trigger","T279","Unspecified repair of other hernia of abdominal wall"]
[null,"P1718","BP77","Transluminal operations on iliac and femoral artery","Day Case Incentive","Vascular surgery","ADMIMETH","Criteria",11,"Waiting list"]
[null,"P1718","BP77","Transluminal operations on iliac and femoral artery","Day Case Incentive","Vascular surgery","ADMIMETH","Criteria",12,"Booked"]
[null,"P1718","BP77","Transluminal operations on iliac and femoral artery","Day Case Incentive","Vascular surgery","ADMIMETH","Criteria",13,"Planned"]
[null,"P1718","BP77","Transluminal operations on iliac and femoral artery","Day Case Incentive","Vascular surgery","Age","Criteria","19 and over (19-130 or 999)","Age criteria applied - 19 and over (eligible ages 19-130 or the default age code 999)"]
[null,"P1718","BP77","Transluminal operations on iliac and femoral artery","Day Case Incentive","Vascular surgery","Eligible HRG","Criteria","YR11D","Percutaneous Transluminal Angioplasty of Single Blood Vessel with CC Score 0-2"]
[null,"P1718","BP77","Transluminal operations on iliac and femoral artery","Day Case Incentive","Vascular surgery","Eligible HRG","Criteria","YR25Z","Arteriography"]
[null,"P1718","BP77","Transluminal operations on iliac and femoral artery","Day Case Incentive","Vascular surgery","OPCS-4","Trigger","L541","Percutaneous transluminal angioplasty of iliac artery"]
[null,"P1718","BP77","Transluminal operations on iliac and femoral artery","Day Case Incentive","Vascular surgery","OPCS-4","Trigger","L542","Percutaneous transluminal embolectomy of iliac artery"]
[null,"P1718","BP77","Transluminal operations on iliac and femoral artery","Day Case Incentive","Vascular surgery","OPCS-4","Trigger","L543","Arteriography of iliac artery"]
[null,"P1718","BP77","Transluminal operations on iliac and femoral artery","Day Case Incentive","Vascular surgery","OPCS-4","Trigger","L544","Percutaneous transluminal insertion of stent into iliac artery"]
[null,"P1718","BP77","Transluminal operations on iliac and femoral artery","Day Case Incentive","Vascular surgery","OPCS-4","Trigger","L548","Other specified transluminal operations on iliac artery"]
[null,"P1718","BP77","Transluminal operations on iliac and femoral artery","Day Case Incentive","Vascular surgery","OPCS-4","Trigger","L549","Unspecified transluminal operations on iliac artery"]
[null,"P1718","BP77","Transluminal operations on iliac and femoral artery","Day Case Incentive","Vascular surgery","OPCS-4","Trigger","L631","Percutaneous transluminal angioplasty of femoral artery"]
[null,"P1718","BP77","Transluminal operations on iliac and femoral artery","Day Case Incentive","Vascular surgery","OPCS-4","Trigger","L632","Percutaneous transluminal embolectomy of femoral artery"]
[null,"P1718","BP77","Transluminal operations on iliac and femoral artery","Day Case Incentive","Vascular surgery","OPCS-4","Trigger","L633","Percutaneous transluminal embolisation of femoral artery"]
[null,"P1718","BP77","Transluminal operations on iliac and femoral artery","Day Case Incentive","Vascular surgery","OPCS-4","Trigger","L634","Arteriography of femoral artery"]
[null,"P1718","BP77","Transluminal operations on iliac and femoral artery","Day Case Incentive","Vascular surgery","OPCS-4","Trigger","L635","Percutaneous transluminal insertion of stent into femoral artery"]
[null,"P1718","BP77","Transluminal operations on iliac and femoral artery","Day Case Incentive","Vascular surgery","OPCS-4","Trigger","L638","Other specified transluminal operations on femoral artery"]
[null,"P1718","BP77","Transluminal operations on iliac and femoral artery","Day Case Incentive","Vascular surgery","OPCS-4","Trigger","L639","Unspecified transluminal operations on femoral artery"]
[null,"P1718","BP78","Ureteroscopic extraction of calculus of ureter","Day Case Incentive","Urology","ADMIMETH","Criteria",11,"Waiting list"]
[null,"P1718","BP78","Ureteroscopic extraction of calculus of ureter","Day Case Incentive","Urology","ADMIMETH","Criteria",12,"Booked"]
[null,"P1718","BP78","Ureteroscopic extraction of calculus of ureter","Day Case Incentive","Urology","ADMIMETH","Criteria",13,"Planned"]
[null,"P1718","BP78","Ureteroscopic extraction of calculus of ureter","Day Case Incentive","Urology","Age","Criteria","19 and over (19-130 or 999)","Age criteria applied - 19 and over (eligible ages 19-130 or the default age code 999)"]
[null,"P1718","BP78","Ureteroscopic extraction of calculus of ureter","Day Case Incentive","Urology","Eligible HRG","Criteria","LB65E","Major Endoscopic, Kidney or Ureter Procedures, 19 years and over, with CC Score 0-2"]
[null,"P1718","BP78","Ureteroscopic extraction of calculus of ureter","Day Case Incentive","Urology","OPCS-4","Trigger","M271","Ureteroscopic laser fragmentation of calculus of ureter"]
[null,"P1718","BP78","Ureteroscopic extraction of calculus of ureter","Day Case Incentive","Urology","OPCS-4","Trigger","M272","Ureteroscopic fragmentation of calculus of ureter NEC"]
[null,"P1718","BP78","Ureteroscopic extraction of calculus of ureter","Day Case Incentive","Urology","OPCS-4","Trigger","M273","Ureteroscopic extraction of calculus of ureter"]
[null,"P1718","BP79","Laparoscopic oophorectomy and salpingectomy (including bilateral)","Day Case Incentive","Gynaecology","ADMIMETH","Criteria",11,"Waiting list"]
[null,"P1718","BP79","Laparoscopic oophorectomy and salpingectomy (including bilateral)","Day Case Incentive","Gynaecology","ADMIMETH","Criteria",12,"Booked"]
[null,"P1718","BP79","Laparoscopic oophorectomy and salpingectomy (including bilateral)","Day Case Incentive","Gynaecology","ADMIMETH","Criteria",13,"Planned"]
[null,"P1718","BP79","Laparoscopic oophorectomy and salpingectomy (including bilateral)","Day Case Incentive","Gynaecology","Age","Criteria","19 and over (19-130 or 999)","Age criteria applied - 19 and over (eligible ages 19-130 or the default age code 999)"]
[null,"P1718","BP79","Laparoscopic oophorectomy and salpingectomy (including bilateral)","Day Case Incentive","Gynaecology","Eligible HRG","Criteria","MA08B","Major, Laparoscopic or Endoscopic, Upper Genital Tract Procedures, with CC Score 0-1"]
[null,"P1718","BP79","Laparoscopic oophorectomy and salpingectomy (including bilateral)","Day Case Incentive","Gynaecology","OPCS-4","Qualifier","Y752","Laparoscopic approach to abdominal cavity NEC"]
[null,"P1718","BP79","Laparoscopic oophorectomy and salpingectomy (including bilateral)","Day Case Incentive","Gynaecology","OPCS-4","Trigger","Q221","Bilateral salpingoophorectomy"]
[null,"P1718","BP79","Laparoscopic oophorectomy and salpingectomy (including bilateral)","Day Case Incentive","Gynaecology","OPCS-4","Trigger","Q222","Bilateral salpingectomy NEC"]
[null,"P1718","BP79","Laparoscopic oophorectomy and salpingectomy (including bilateral)","Day Case Incentive","Gynaecology","OPCS-4","Trigger","Q223","Bilateral oophorectomy NEC"]
[null,"P1718","BP79","Laparoscopic oophorectomy and salpingectomy (including bilateral)","Day Case Incentive","Gynaecology","OPCS-4","Trigger","Q228","Other specified bilateral excision of adnexa of uterus"]
[null,"P1718","BP79","Laparoscopic oophorectomy and salpingectomy (including bilateral)","Day Case Incentive","Gynaecology","OPCS-4","Trigger","Q229","Unspecified bilateral excision of adnexa of uterus"]
[null,"P1718","BP79","Laparoscopic oophorectomy and salpingectomy (including bilateral)","Day Case Incentive","Gynaecology","OPCS-4","Trigger","Q231","Unilateral salpingoophorectomy NEC"]
[null,"P1718","BP79","Laparoscopic oophorectomy and salpingectomy (including bilateral)","Day Case Incentive","Gynaecology","OPCS-4","Trigger","Q232","Salpingoophorectomy of remaining solitary fallopian tube and ovary"]
[null,"P1718","BP79","Laparoscopic oophorectomy and salpingectomy (including bilateral)","Day Case Incentive","Gynaecology","OPCS-4","Trigger","Q233","Unilateral salpingectomy NEC"]
[null,"P1718","BP79","Laparoscopic oophorectomy and salpingectomy (including bilateral)","Day Case Incentive","Gynaecology","OPCS-4","Trigger","Q234","Salpingectomy of remaining solitary fallopian tube NEC"]
[null,"P1718","BP79","Laparoscopic oophorectomy and salpingectomy (including bilateral)","Day Case Incentive","Gynaecology","OPCS-4","Trigger","Q235","Unilateral oophorectomy NEC"]
[null,"P1718","BP79","Laparoscopic oophorectomy and salpingectomy (including bilateral)","Day Case Incentive","Gynaecology","OPCS-4","Trigger","Q236","Oophorectomy of remaining solitary ovary NEC"]
[null,"P1718","BP79","Laparoscopic oophorectomy and salpingectomy (including bilateral)","Day Case Incentive","Gynaecology","OPCS-4","Trigger","Q238","Other specified unilateral excision of adnexa of uterus"]
[null,"P1718","BP79","Laparoscopic oophorectomy and salpingectomy (including bilateral)","Day Case Incentive","Gynaecology","OPCS-4","Trigger","Q239","Unspecified unilateral excision of adnexa of uterus"]
[null,"P1718","BP79","Laparoscopic oophorectomy and salpingectomy (including bilateral)","Day Case Incentive","Gynaecology","OPCS-4","Trigger","Q241","Salpingoophorectomy NEC"]
[null,"P1718","BP79","Laparoscopic oophorectomy and salpingectomy (including bilateral)","Day Case Incentive","Gynaecology","OPCS-4","Trigger","Q242","Salpingectomy NEC"]
[null,"P1718","BP79","Laparoscopic oophorectomy and salpingectomy (including bilateral)","Day Case Incentive","Gynaecology","OPCS-4","Trigger","Q243","Oophorectomy NEC"]
[null,"P1718","BP79","Laparoscopic oophorectomy and salpingectomy (including bilateral)","Day Case Incentive","Gynaecology","OPCS-4","Trigger","Q248","Other specified other excision of adnexa of uterus"]
[null,"P1718","BP79","Laparoscopic oophorectomy and salpingectomy (including bilateral)","Day Case Incentive","Gynaecology","OPCS-4","Trigger","Q249","Unspecified other excision of adnexa of uterus"]
[null,"P1718","BP79","Laparoscopic oophorectomy and salpingectomy (including bilateral)","Day Case Incentive","Gynaecology","OPCS-4","Trigger","Q251","Excision of lesion of fallopian tube"]
[null,"P1718","BP79","Laparoscopic oophorectomy and salpingectomy (including bilateral)","Day Case Incentive","Gynaecology","OPCS-4","Trigger","Q258","Other specified partial excision of fallopian tube"]
[null,"P1718","BP79","Laparoscopic oophorectomy and salpingectomy (including bilateral)","Day Case Incentive","Gynaecology","OPCS-4","Trigger","Q259","Unspecified partial excision of fallopian tube"]
[null,"P1718","BP80","Abnormal liver function","Non-Elective Same Day Emergency","Abnormal liver function","ADMIMETH","Criteria",21,"Accident and emergency or dental casualty department of the Health Care Provider"]
[null,"P1718","BP80","Abnormal liver function","Non-Elective Same Day Emergency","Abnormal liver function","ADMIMETH","Criteria",22,"General practitioner: after a request for immediate admission has been made direct to a Hospital Provider, i.e. not through a Bed bureau, by a GENERAL PRACTITIONER or deputy"]
[null,"P1718","BP80","Abnormal liver function","Non-Elective Same Day Emergency","Abnormal liver function","ADMIMETH","Criteria",23,"Bed bureau"]
[null,"P1718","BP80","Abnormal liver function","Non-Elective Same Day Emergency","Abnormal liver function","ADMIMETH","Criteria",24,"Consultant clinic, of this or another Health Care Provider"]
[null,"P1718","BP80","Abnormal liver function","Non-Elective Same Day Emergency","Abnormal liver function","ADMIMETH","Criteria",25,"Admission via mental health crisis resolution team"]
[null,"P1718","BP80","Abnormal liver function","Non-Elective Same Day Emergency","Abnormal liver function","ADMIMETH","Criteria",28,"Other means"]
[null,"P1718","BP80","Abnormal liver function","Non-Elective Same Day Emergency","Abnormal liver function","ADMIMETH","Criteria","2A","Accident and Emergency Department of another provider where the PATIENT had not been admitted"]
[null,"P1718","BP80","Abnormal liver function","Non-Elective Same Day Emergency","Abnormal liver function","ADMIMETH","Criteria","2B","Transfer of an admitted PATIENT from another Hospital Provider in an emergency"]
[null,"P1718","BP80","Abnormal liver function","Non-Elective Same Day Emergency","Abnormal liver function","ADMIMETH","Criteria","2C","Baby born at home as intended"]
[null,"P1718","BP80","Abnormal liver function","Non-Elective Same Day Emergency","Abnormal liver function","ADMIMETH","Criteria","2D","Other emergency admission"]
[null,"P1718","BP80","Abnormal liver function","Non-Elective Same Day Emergency","Abnormal liver function","Age","Criteria","19 and over (19-130 or 999)","Age criteria applied - 19 and over (eligible ages 19-130 or the default age code 999)"]
[null,"P1718","BP80","Abnormal liver function","Non-Elective Same Day Emergency","Abnormal liver function","Eligible HRG","Criteria","GC17K","Non-Malignant, Hepatobiliary or Pancreatic Disorders, without Interventions, with CC Score 0-1"]
[null,"P1718","BP80","Abnormal liver function","Non-Elective Same Day Emergency","Abnormal liver function","ICD-10","Trigger","D135","Benign neoplasm: Extrahepatic bile ducts"]
[null,"P1718","BP80","Abnormal liver function","Non-Elective Same Day Emergency","Abnormal liver function","ICD-10","Trigger","D376","Neoplasm of uncertain or unknown behaviour: Liver, gallbladder and bile ducts"]
[null,"P1718","BP80","Abnormal liver function","Non-Elective Same Day Emergency","Abnormal liver function","ICD-10","Trigger","K700","Alcoholic fatty liver"]
[null,"P1718","BP80","Abnormal liver function","Non-Elective Same Day Emergency","Abnormal liver function","ICD-10","Trigger","K701","Alcoholic hepatitis"]
[null,"P1718","BP80","Abnormal liver function","Non-Elective Same Day Emergency","Abnormal liver function","ICD-10","Trigger","K702","Alcoholic fibrosis and sclerosis of liver"]
[null,"P1718","BP80","Abnormal liver function","Non-Elective Same Day Emergency","Abnormal liver function","ICD-10","Trigger","K703","Alcoholic cirrhosis of liver"]
[null,"P1718","BP80","Abnormal liver function","Non-Elective Same Day Emergency","Abnormal liver function","ICD-10","Trigger","K709","Alcoholic liver disease, unspecified"]
[null,"P1718","BP80","Abnormal liver function","Non-Elective Same Day Emergency","Abnormal liver function","ICD-10","Trigger","K721","Chronic hepatic failure"]
[null,"P1718","BP80","Abnormal liver function","Non-Elective Same Day Emergency","Abnormal liver function","ICD-10","Trigger","K729","Hepatic failure, unspecified"]
[null,"P1718","BP80","Abnormal liver function","Non-Elective Same Day Emergency","Abnormal liver function","ICD-10","Trigger","K732","Chronic active hepatitis, not elsewhere classified"]
[null,"P1718","BP80","Abnormal liver function","Non-Elective Same Day Emergency","Abnormal liver function","ICD-10","Trigger","K738","Other chronic hepatitis, not elsewhere classified"]
[null,"P1718","BP80","Abnormal liver function","Non-Elective Same Day Emergency","Abnormal liver function","ICD-10","Trigger","K739","Chronic hepatitis, unspecified"]
[null,"P1718","BP80","Abnormal liver function","Non-Elective Same Day Emergency","Abnormal liver function","ICD-10","Trigger","K740","Hepatic fibrosis"]
[null,"P1718","BP80","Abnormal liver function","Non-Elective Same Day Emergency","Abnormal liver function","ICD-10","Trigger","K741","Hepatic sclerosis"]
[null,"P1718","BP80","Abnormal liver function","Non-Elective Same Day Emergency","Abnormal liver function","ICD-10","Trigger","K743","Primary biliary cirrhosis"]
[null,"P1718","BP80","Abnormal liver function","Non-Elective Same Day Emergency","Abnormal liver function","ICD-10","Trigger","K745","Biliary cirrhosis, unspecified"]
[null,"P1718","BP80","Abnormal liver function","Non-Elective Same Day Emergency","Abnormal liver function","ICD-10","Trigger","K746","Other and unspecified cirrhosis of liver"]
[null,"P1718","BP80","Abnormal liver function","Non-Elective Same Day Emergency","Abnormal liver function","ICD-10","Trigger","K752","Nonspecific reactive hepatitis"]
[null,"P1718","BP80","Abnormal liver function","Non-Elective Same Day Emergency","Abnormal liver function","ICD-10","Trigger","K753","Granulomatous hepatitis, not elsewhere classified"]
[null,"P1718","BP80","Abnormal liver function","Non-Elective Same Day Emergency","Abnormal liver function","ICD-10","Trigger","K754","Autoimmune hepatitis"]
[null,"P1718","BP80","Abnormal liver function","Non-Elective Same Day Emergency","Abnormal liver function","ICD-10","Trigger","K758","Other specified inflammatory liver diseases"]
[null,"P1718","BP80","Abnormal liver function","Non-Elective Same Day Emergency","Abnormal liver function","ICD-10","Trigger","K759","Inflammatory liver disease, unspecified"]
[null,"P1718","BP80","Abnormal liver function","Non-Elective Same Day Emergency","Abnormal liver function","ICD-10","Trigger","K760","Fatty (change of) liver, not elsewhere classified"]
[null,"P1718","BP80","Abnormal liver function","Non-Elective Same Day Emergency","Abnormal liver function","ICD-10","Trigger","K761","Chronic passive congestion of liver"]
[null,"P1718","BP80","Abnormal liver function","Non-Elective Same Day Emergency","Abnormal liver function","ICD-10","Trigger","K766","Portal hypertension"]
[null,"P1718","BP80","Abnormal liver function","Non-Elective Same Day Emergency","Abnormal liver function","ICD-10","Trigger","K768","Other specified diseases of liver"]
[null,"P1718","BP80","Abnormal liver function","Non-Elective Same Day Emergency","Abnormal liver function","ICD-10","Trigger","K769","Liver disease, unspecified"]
[null,"P1718","BP80","Abnormal liver function","Non-Elective Same Day Emergency","Abnormal liver function","ICD-10","Trigger","K800","Calculus of gallbladder with acute cholecystitis"]
[null,"P1718","BP80","Abnormal liver function","Non-Elective Same Day Emergency","Abnormal liver function","ICD-10","Trigger","K801","Calculus of gallbladder with other cholecystitis"]
[null,"P1718","BP80","Abnormal liver function","Non-Elective Same Day Emergency","Abnormal liver function","ICD-10","Trigger","K802","Calculus of gallbladder without cholecystitis"]
[null,"P1718","BP80","Abnormal liver function","Non-Elective Same Day Emergency","Abnormal liver function","ICD-10","Trigger","K803","Calculus of bile duct with cholangitis"]
[null,"P1718","BP80","Abnormal liver function","Non-Elective Same Day Emergency","Abnormal liver function","ICD-10","Trigger","K804","Calculus of bile duct with cholecystitis"]
[null,"P1718","BP80","Abnormal liver function","Non-Elective Same Day Emergency","Abnormal liver function","ICD-10","Trigger","K805","Calculus of bile duct without cholangitis or cholecystitis"]
[null,"P1718","BP80","Abnormal liver function","Non-Elective Same Day Emergency","Abnormal liver function","ICD-10","Trigger","K808","Other cholelithiasis"]
[null,"P1718","BP80","Abnormal liver function","Non-Elective Same Day Emergency","Abnormal liver function","ICD-10","Trigger","K810","Acute cholecystitis"]
[null,"P1718","BP80","Abnormal liver function","Non-Elective Same Day Emergency","Abnormal liver function","ICD-10","Trigger","K811","Chronic cholecystitis"]
[null,"P1718","BP80","Abnormal liver function","Non-Elective Same Day Emergency","Abnormal liver function","ICD-10","Trigger","K818","Other cholecystitis"]
[null,"P1718","BP80","Abnormal liver function","Non-Elective Same Day Emergency","Abnormal liver function","ICD-10","Trigger","K819","Cholecystitis, unspecified"]
[null,"P1718","BP80","Abnormal liver function","Non-Elective Same Day Emergency","Abnormal liver function","ICD-10","Trigger","K821","Hydrops of gallbladder"]
[null,"P1718","BP80","Abnormal liver function","Non-Elective Same Day Emergency","Abnormal liver function","ICD-10","Trigger","K822","Perforation of gallbladder"]
[null,"P1718","BP80","Abnormal liver function","Non-Elective Same Day Emergency","Abnormal liver function","ICD-10","Trigger","K823","Fistula of gallbladder"]
[null,"P1718","BP80","Abnormal liver function","Non-Elective Same Day Emergency","Abnormal liver function","ICD-10","Trigger","K824","Cholesterolosis of gallbladder"]
[null,"P1718","BP80","Abnormal liver function","Non-Elective Same Day Emergency","Abnormal liver function","ICD-10","Trigger","K828","Other specified diseases of gallbladder"]
[null,"P1718","BP80","Abnormal liver function","Non-Elective Same Day Emergency","Abnormal liver function","ICD-10","Trigger","K829","Disease of gallbladder, unspecified"]
[null,"P1718","BP80","Abnormal liver function","Non-Elective Same Day Emergency","Abnormal liver function","ICD-10","Trigger","K831","Obstruction of bile duct"]
[null,"P1718","BP80","Abnormal liver function","Non-Elective Same Day Emergency","Abnormal liver function","ICD-10","Trigger","K834","Spasm of sphincter of Oddi"]
[null,"P1718","BP80","Abnormal liver function","Non-Elective Same Day Emergency","Abnormal liver function","ICD-10","Trigger","K838","Other specified diseases of biliary tract"]
[null,"P1718","BP80","Abnormal liver function","Non-Elective Same Day Emergency","Abnormal liver function","ICD-10","Trigger","K839","Disease of biliary tract, unspecified"]
[null,"P1718","BP80","Abnormal liver function","Non-Elective Same Day Emergency","Abnormal liver function","ICD-10","Trigger","K860","Alcohol-induced chronic pancreatitis"]
[null,"P1718","BP80","Abnormal liver function","Non-Elective Same Day Emergency","Abnormal liver function","ICD-10","Trigger","K861","Other chronic pancreatitis"]
[null,"P1718","BP80","Abnormal liver function","Non-Elective Same Day Emergency","Abnormal liver function","ICD-10","Trigger","K862","Cyst of pancreas"]
[null,"P1718","BP80","Abnormal liver function","Non-Elective Same Day Emergency","Abnormal liver function","ICD-10","Trigger","K863","Pseudocyst of pancreas"]
[null,"P1718","BP80","Abnormal liver function","Non-Elective Same Day Emergency","Abnormal liver function","ICD-10","Trigger","K868","Other specified diseases of pancreas"]
[null,"P1718","BP80","Abnormal liver function","Non-Elective Same Day Emergency","Abnormal liver function","ICD-10","Trigger","K869","Disease of pancreas, unspecified"]
[null,"P1718","BP80","Abnormal liver function","Non-Elective Same Day Emergency","Abnormal liver function","ICD-10","Trigger","K915","Postcholecystectomy syndrome"]
[null,"P1718","BP80","Abnormal liver function","Non-Elective Same Day Emergency","Abnormal liver function","ICD-10","Trigger","R160","Hepatomegaly, not elsewhere classified"]
[null,"P1718","BP80","Abnormal liver function","Non-Elective Same Day Emergency","Abnormal liver function","ICD-10","Trigger","R161","Splenomegaly, not elsewhere classified"]
[null,"P1718","BP80","Abnormal liver function","Non-Elective Same Day Emergency","Abnormal liver function","ICD-10","Trigger","R162","Hepatomegaly with splenomegaly, not elsewhere classified"]
[null,"P1718","BP81","Acutely hot painful joint","Non-Elective Same Day Emergency","Acutely hot painful joint","ADMIMETH","Criteria",21,"Accident and emergency or dental casualty department of the Health Care Provider"]
[null,"P1718","BP81","Acutely hot painful joint","Non-Elective Same Day Emergency","Acutely hot painful joint","ADMIMETH","Criteria",22,"General practitioner: after a request for immediate admission has been made direct to a Hospital Provider, i.e. not through a Bed bureau, by a GENERAL PRACTITIONER or deputy"]
[null,"P1718","BP81","Acutely hot painful joint","Non-Elective Same Day Emergency","Acutely hot painful joint","ADMIMETH","Criteria",23,"Bed bureau"]
[null,"P1718","BP81","Acutely hot painful joint","Non-Elective Same Day Emergency","Acutely hot painful joint","ADMIMETH","Criteria",24,"Consultant clinic, of this or another Health Care Provider"]
[null,"P1718","BP81","Acutely hot painful joint","Non-Elective Same Day Emergency","Acutely hot painful joint","ADMIMETH","Criteria",25,"Admission via mental health crisis resolution team"]
[null,"P1718","BP81","Acutely hot painful joint","Non-Elective Same Day Emergency","Acutely hot painful joint","ADMIMETH","Criteria",28,"Other means"]
[null,"P1718","BP81","Acutely hot painful joint","Non-Elective Same Day Emergency","Acutely hot painful joint","ADMIMETH","Criteria","2A","Accident and Emergency Department of another provider where the PATIENT had not been admitted"]
[null,"P1718","BP81","Acutely hot painful joint","Non-Elective Same Day Emergency","Acutely hot painful joint","ADMIMETH","Criteria","2B","Transfer of an admitted PATIENT from another Hospital Provider in an emergency"]
[null,"P1718","BP81","Acutely hot painful joint","Non-Elective Same Day Emergency","Acutely hot painful joint","ADMIMETH","Criteria","2C","Baby born at home as intended"]
[null,"P1718","BP81","Acutely hot painful joint","Non-Elective Same Day Emergency","Acutely hot painful joint","ADMIMETH","Criteria","2D","Other emergency admission"]
[null,"P1718","BP81","Acutely hot painful joint","Non-Elective Same Day Emergency","Acutely hot painful joint","Age","Criteria","19 and over (19-130 or 999)","Age criteria applied - 19 and over (eligible ages 19-130 or the default age code 999)"]
[null,"P1718","BP81","Acutely hot painful joint","Non-Elective Same Day Emergency","Acutely hot painful joint","Eligible HRG","Criteria","HD26G","Musculoskeletal Signs or Symptoms, with CC Score 0-3"]
[null,"P1718","BP81","Acutely hot painful joint","Non-Elective Same Day Emergency","Acutely hot painful joint","ICD-10","Trigger","M028","Other reactive arthropathies"]
[null,"P1718","BP81","Acutely hot painful joint","Non-Elective Same Day Emergency","Acutely hot painful joint","ICD-10","Trigger","M029","Reactive arthropathy, unspecified"]
[null,"P1718","BP81","Acutely hot painful joint","Non-Elective Same Day Emergency","Acutely hot painful joint","ICD-10","Trigger","M050","Felty syndrome"]
[null,"P1718","BP81","Acutely hot painful joint","Non-Elective Same Day Emergency","Acutely hot painful joint","ICD-10","Trigger","M058","Other seropositive rheumatoid arthritis"]
[null,"P1718","BP81","Acutely hot painful joint","Non-Elective Same Day Emergency","Acutely hot painful joint","ICD-10","Trigger","M059","Seropositive rheumatoid arthritis, unspecified"]
[null,"P1718","BP81","Acutely hot painful joint","Non-Elective Same Day Emergency","Acutely hot painful joint","ICD-10","Trigger","M060","Seronegative rheumatoid arthritis"]
[null,"P1718","BP81","Acutely hot painful joint","Non-Elective Same Day Emergency","Acutely hot painful joint","ICD-10","Trigger","M064","Inflammatory polyarthropathy"]
[null,"P1718","BP81","Acutely hot painful joint","Non-Elective Same Day Emergency","Acutely hot painful joint","ICD-10","Trigger","M068","Other specified rheumatoid arthritis"]
[null,"P1718","BP81","Acutely hot painful joint","Non-Elective Same Day Emergency","Acutely hot painful joint","ICD-10","Trigger","M069","Rheumatoid arthritis, unspecified"]
[null,"P1718","BP81","Acutely hot painful joint","Non-Elective Same Day Emergency","Acutely hot painful joint","ICD-10","Trigger","M100","Idiopathic gout"]
[null,"P1718","BP81","Acutely hot painful joint","Non-Elective Same Day Emergency","Acutely hot painful joint","ICD-10","Trigger","M102","Drug-induced gout"]
[null,"P1718","BP81","Acutely hot painful joint","Non-Elective Same Day Emergency","Acutely hot painful joint","ICD-10","Trigger","M103","Gout due to impairment of renal function"]
[null,"P1718","BP81","Acutely hot painful joint","Non-Elective Same Day Emergency","Acutely hot painful joint","ICD-10","Trigger","M104","Other secondary gout"]
[null,"P1718","BP81","Acutely hot painful joint","Non-Elective Same Day Emergency","Acutely hot painful joint","ICD-10","Trigger","M109","Gout, unspecified"]
[null,"P1718","BP81","Acutely hot painful joint","Non-Elective Same Day Emergency","Acutely hot painful joint","ICD-10","Trigger","M1090","Gout, unspecified: Multiple sites"]
[null,"P1718","BP81","Acutely hot painful joint","Non-Elective Same Day Emergency","Acutely hot painful joint","ICD-10","Trigger","M1091","Gout, unspecified: Shoulder region"]
[null,"P1718","BP81","Acutely hot painful joint","Non-Elective Same Day Emergency","Acutely hot painful joint","ICD-10","Trigger","M1092","Gout, unspecified: Upper arm"]
[null,"P1718","BP81","Acutely hot painful joint","Non-Elective Same Day Emergency","Acutely hot painful joint","ICD-10","Trigger","M1093","Gout, unspecified: Forearm"]
[null,"P1718","BP81","Acutely hot painful joint","Non-Elective Same Day Emergency","Acutely hot painful joint","ICD-10","Trigger","M1094","Gout, unspecified: Hand"]
[null,"P1718","BP81","Acutely hot painful joint","Non-Elective Same Day Emergency","Acutely hot painful joint","ICD-10","Trigger","M1095","Gout, unspecified: Pelvic region and thigh"]
[null,"P1718","BP81","Acutely hot painful joint","Non-Elective Same Day Emergency","Acutely hot painful joint","ICD-10","Trigger","M1096","Gout, unspecified: Lower leg"]
[null,"P1718","BP81","Acutely hot painful joint","Non-Elective Same Day Emergency","Acutely hot painful joint","ICD-10","Trigger","M1097","Gout, unspecified: Ankle and foot"]
[null,"P1718","BP81","Acutely hot painful joint","Non-Elective Same Day Emergency","Acutely hot painful joint","ICD-10","Trigger","M1098","Gout, unspecified: Other"]
[null,"P1718","BP81","Acutely hot painful joint","Non-Elective Same Day Emergency","Acutely hot painful joint","ICD-10","Trigger","M1099","Gout, unspecified: Site unspecified"]
[null,"P1718","BP81","Acutely hot painful joint","Non-Elective Same Day Emergency","Acutely hot painful joint","ICD-10","Trigger","M119","Crystal arthropathy, unspecified"]
[null,"P1718","BP81","Acutely hot painful joint","Non-Elective Same Day Emergency","Acutely hot painful joint","ICD-10","Trigger","M130","Polyarthritis, unspecified"]
[null,"P1718","BP81","Acutely hot painful joint","Non-Elective Same Day Emergency","Acutely hot painful joint","ICD-10","Trigger","M139","Arthritis, unspecified"]
[null,"P1718","BP81","Acutely hot painful joint","Non-Elective Same Day Emergency","Acutely hot painful joint","ICD-10","Trigger","M1390","Arthritis, unspecified: Multiple sites"]
[null,"P1718","BP81","Acutely hot painful joint","Non-Elective Same Day Emergency","Acutely hot painful joint","ICD-10","Trigger","M1391","Arthritis, unspecified: Shoulder region"]
[null,"P1718","BP81","Acutely hot painful joint","Non-Elective Same Day Emergency","Acutely hot painful joint","ICD-10","Trigger","M1392","Arthritis, unspecified: Upper arm"]
[null,"P1718","BP81","Acutely hot painful joint","Non-Elective Same Day Emergency","Acutely hot painful joint","ICD-10","Trigger","M1393","Arthritis, unspecified: Forearm"]
[null,"P1718","BP81","Acutely hot painful joint","Non-Elective Same Day Emergency","Acutely hot painful joint","ICD-10","Trigger","M1394","Arthritis, unspecified: Hand"]
[null,"P1718","BP81","Acutely hot painful joint","Non-Elective Same Day Emergency","Acutely hot painful joint","ICD-10","Trigger","M1395","Arthritis, unspecified: Pelvic region and thigh"]
[null,"P1718","BP81","Acutely hot painful joint","Non-Elective Same Day Emergency","Acutely hot painful joint","ICD-10","Trigger","M1396","Arthritis, unspecified: Lower leg"]
[null,"P1718","BP81","Acutely hot painful joint","Non-Elective Same Day Emergency","Acutely hot painful joint","ICD-10","Trigger","M1397","Arthritis, unspecified: Ankle and foot"]
[null,"P1718","BP81","Acutely hot painful joint","Non-Elective Same Day Emergency","Acutely hot painful joint","ICD-10","Trigger","M1398","Arthritis, unspecified: Other"]
[null,"P1718","BP81","Acutely hot painful joint","Non-Elective Same Day Emergency","Acutely hot painful joint","ICD-10","Trigger","M1399","Arthritis, unspecified: Site unspecified"]
[null,"P1718","BP81","Acutely hot painful joint","Non-Elective Same Day Emergency","Acutely hot painful joint","ICD-10","Trigger","M202","Hallux rigidus"]
[null,"P1718","BP81","Acutely hot painful joint","Non-Elective Same Day Emergency","Acutely hot painful joint","ICD-10","Trigger","M255","Pain in joint"]
[null,"P1718","BP81","Acutely hot painful joint","Non-Elective Same Day Emergency","Acutely hot painful joint","ICD-10","Trigger","M2550","Pain in joint: Multiple sites"]
[null,"P1718","BP81","Acutely hot painful joint","Non-Elective Same Day Emergency","Acutely hot painful joint","ICD-10","Trigger","M2551","Pain in joint: Shoulder region"]
[null,"P1718","BP81","Acutely hot painful joint","Non-Elective Same Day Emergency","Acutely hot painful joint","ICD-10","Trigger","M2552","Pain in joint: Upper arm"]
[null,"P1718","BP81","Acutely hot painful joint","Non-Elective Same Day Emergency","Acutely hot painful joint","ICD-10","Trigger","M2553","Pain in joint: Forearm"]
[null,"P1718","BP81","Acutely hot painful joint","Non-Elective Same Day Emergency","Acutely hot painful joint","ICD-10","Trigger","M2554","Pain in joint: Hand"]
[null,"P1718","BP81","Acutely hot painful joint","Non-Elective Same Day Emergency","Acutely hot painful joint","ICD-10","Trigger","M2556","Pain in joint: Lower leg"]
[null,"P1718","BP81","Acutely hot painful joint","Non-Elective Same Day Emergency","Acutely hot painful joint","ICD-10","Trigger","M2557","Pain in joint: Ankle and foot"]
[null,"P1718","BP81","Acutely hot painful joint","Non-Elective Same Day Emergency","Acutely hot painful joint","ICD-10","Trigger","M2558","Pain in joint: Other"]
[null,"P1718","BP81","Acutely hot painful joint","Non-Elective Same Day Emergency","Acutely hot painful joint","ICD-10","Trigger","M2559","Pain in joint: Site unspecified"]
[null,"P1718","BP81","Acutely hot painful joint","Non-Elective Same Day Emergency","Acutely hot painful joint","ICD-10","Trigger","M256","Stiffness of joint, not elsewhere classified"]
[null,"P1718","BP81","Acutely hot painful joint","Non-Elective Same Day Emergency","Acutely hot painful joint","ICD-10","Trigger","M259","Joint disorder, unspecified"]
[null,"P1718","BP81","Acutely hot painful joint","Non-Elective Same Day Emergency","Acutely hot painful joint","ICD-10","Trigger","M660","Rupture of popliteal cyst"]
[null,"P1718","BP81","Acutely hot painful joint","Non-Elective Same Day Emergency","Acutely hot painful joint","ICD-10","Trigger","M673","Transient synovitis"]
[null,"P1718","BP81","Acutely hot painful joint","Non-Elective Same Day Emergency","Acutely hot painful joint","ICD-10","Trigger","M712","Synovial cyst of popliteal space [Baker]"]
[null,"P1718","BP82","Chronic indwelling catheter related problems","Non-Elective Same Day Emergency","Chronic indwelling catheter related problems","ADMIMETH","Criteria",21,"Accident and emergency or dental casualty department of the Health Care Provider"]
[null,"P1718","BP82","Chronic indwelling catheter related problems","Non-Elective Same Day Emergency","Chronic indwelling catheter related problems","ADMIMETH","Criteria",22,"General practitioner: after a request for immediate admission has been made direct to a Hospital Provider, i.e. not through a Bed bureau, by a GENERAL PRACTITIONER or deputy"]
[null,"P1718","BP82","Chronic indwelling catheter related problems","Non-Elective Same Day Emergency","Chronic indwelling catheter related problems","ADMIMETH","Criteria",23,"Bed bureau"]
[null,"P1718","BP82","Chronic indwelling catheter related problems","Non-Elective Same Day Emergency","Chronic indwelling catheter related problems","ADMIMETH","Criteria",24,"Consultant clinic, of this or another Health Care Provider"]
[null,"P1718","BP82","Chronic indwelling catheter related problems","Non-Elective Same Day Emergency","Chronic indwelling catheter related problems","ADMIMETH","Criteria",25,"Admission via mental health crisis resolution team"]
[null,"P1718","BP82","Chronic indwelling catheter related problems","Non-Elective Same Day Emergency","Chronic indwelling catheter related problems","ADMIMETH","Criteria",28,"Other means"]
[null,"P1718","BP82","Chronic indwelling catheter related problems","Non-Elective Same Day Emergency","Chronic indwelling catheter related problems","ADMIMETH","Criteria","2A","Accident and Emergency Department of another provider where the PATIENT had not been admitted"]
[null,"P1718","BP82","Chronic indwelling catheter related problems","Non-Elective Same Day Emergency","Chronic indwelling catheter related problems","ADMIMETH","Criteria","2B","Transfer of an admitted PATIENT from another Hospital Provider in an emergency"]
[null,"P1718","BP82","Chronic indwelling catheter related problems","Non-Elective Same Day Emergency","Chronic indwelling catheter related problems","ADMIMETH","Criteria","2C","Baby born at home as intended"]
[null,"P1718","BP82","Chronic indwelling catheter related problems","Non-Elective Same Day Emergency","Chronic indwelling catheter related problems","ADMIMETH","Criteria","2D","Other emergency admission"]
[null,"P1718","BP82","Chronic indwelling catheter related problems","Non-Elective Same Day Emergency","Chronic indwelling catheter related problems","Age","Criteria","19 and over (19-130 or 999)","Age criteria applied - 19 and over (eligible ages 19-130 or the default age code 999)"]
[null,"P1718","BP82","Chronic indwelling catheter related problems","Non-Elective Same Day Emergency","Chronic indwelling catheter related problems","Eligible HRG","Criteria","LB15E","Minor Bladder Procedures, 19 years and over"]
[null,"P1718","BP82","Chronic indwelling catheter related problems","Non-Elective Same Day Emergency","Chronic indwelling catheter related problems","Eligible HRG","Criteria","LB20F","Infection or Mechanical Problems Related to Genito-Urinary Prostheses, Implants or Grafts, without Interventions, with CC Score 2-6"]
[null,"P1718","BP82","Chronic indwelling catheter related problems","Non-Elective Same Day Emergency","Chronic indwelling catheter related problems","Eligible HRG","Criteria","LB20G","Infection or Mechanical Problems Related to Genito-Urinary Prostheses, Implants or Grafts, without Interventions, with CC Score 0-1"]
[null,"P1718","BP82","Chronic indwelling catheter related problems","Non-Elective Same Day Emergency","Chronic indwelling catheter related problems","ICD-10","Trigger","T830","Mechanical complication of urinary (indwelling) catheter"]
[null,"P1718","BP82","Chronic indwelling catheter related problems","Non-Elective Same Day Emergency","Chronic indwelling catheter related problems","ICD-10","Trigger","T831","Mechanical complication of other urinary devices and implants"]
[null,"P1718","BP82","Chronic indwelling catheter related problems","Non-Elective Same Day Emergency","Chronic indwelling catheter related problems","ICD-10","Trigger","T835","Infection and inflammatory reaction due to prosthetic device, implant and graft in urinary system"]
[null,"P1718","BP82","Chronic indwelling catheter related problems","Non-Elective Same Day Emergency","Chronic indwelling catheter related problems","ICD-10","Trigger","T836","Infection and inflammatory reaction due to prosthetic device, implant and graft in genital tract"]
[null,"P1718","BP82","Chronic indwelling catheter related problems","Non-Elective Same Day Emergency","Chronic indwelling catheter related problems","ICD-10","Trigger","T838","Other complications of genitourinary prosthetic devices, implants and grafts"]
[null,"P1718","BP82","Chronic indwelling catheter related problems","Non-Elective Same Day Emergency","Chronic indwelling catheter related problems","ICD-10","Trigger","T839","Unspecified complication of genitourinary prosthetic device, implant and graft"]
[null,"P1718","BP83","Gastroenteritis","Non-Elective Same Day Emergency","Gastroenteritis","ADMIMETH","Criteria",21,"Accident and emergency or dental casualty department of the Health Care Provider"]
[null,"P1718","BP83","Gastroenteritis","Non-Elective Same Day Emergency","Gastroenteritis","ADMIMETH","Criteria",22,"General practitioner: after a request for immediate admission has been made direct to a Hospital Provider, i.e. not through a Bed bureau, by a GENERAL PRACTITIONER or deputy"]
[null,"P1718","BP83","Gastroenteritis","Non-Elective Same Day Emergency","Gastroenteritis","ADMIMETH","Criteria",23,"Bed bureau"]
[null,"P1718","BP83","Gastroenteritis","Non-Elective Same Day Emergency","Gastroenteritis","ADMIMETH","Criteria",24,"Consultant clinic, of this or another Health Care Provider"]
[null,"P1718","BP83","Gastroenteritis","Non-Elective Same Day Emergency","Gastroenteritis","ADMIMETH","Criteria",25,"Admission via mental health crisis resolution team"]
[null,"P1718","BP83","Gastroenteritis","Non-Elective Same Day Emergency","Gastroenteritis","ADMIMETH","Criteria",28,"Other means"]
[null,"P1718","BP83","Gastroenteritis","Non-Elective Same Day Emergency","Gastroenteritis","ADMIMETH","Criteria","2A","Accident and Emergency Department of another provider where the PATIENT had not been admitted"]
[null,"P1718","BP83","Gastroenteritis","Non-Elective Same Day Emergency","Gastroenteritis","ADMIMETH","Criteria","2B","Transfer of an admitted PATIENT from another Hospital Provider in an emergency"]
[null,"P1718","BP83","Gastroenteritis","Non-Elective Same Day Emergency","Gastroenteritis","ADMIMETH","Criteria","2C","Baby born at home as intended"]
[null,"P1718","BP83","Gastroenteritis","Non-Elective Same Day Emergency","Gastroenteritis","ADMIMETH","Criteria","2D","Other emergency admission"]
[null,"P1718","BP83","Gastroenteritis","Non-Elective Same Day Emergency","Gastroenteritis","Age","Criteria","19 and over (19-130 or 999)","Age criteria applied - 19 and over (eligible ages 19-130 or the default age code 999)"]
[null,"P1718","BP83","Gastroenteritis","Non-Elective Same Day Emergency","Gastroenteritis","Eligible HRG","Criteria","FZ36P","Gastrointestinal Infections without Interventions, with CC Score 2-4"]
[null,"P1718","BP83","Gastroenteritis","Non-Elective Same Day Emergency","Gastroenteritis","Eligible HRG","Criteria","FZ36Q","Gastrointestinal Infections without Interventions, with CC Score 0-1"]
[null,"P1718","BP84","Upper gastro-intestinal haemorrhage","Non-Elective Same Day Emergency","Upper gastro-intestinal haemorrhage","ADMIMETH","Criteria",21,"Accident and emergency or dental casualty department of the Health Care Provider"]
[null,"P1718","BP84","Upper gastro-intestinal haemorrhage","Non-Elective Same Day Emergency","Upper gastro-intestinal haemorrhage","ADMIMETH","Criteria",22,"General practitioner: after a request for immediate admission has been made direct to a Hospital Provider, i.e. not through a Bed bureau, by a GENERAL PRACTITIONER or deputy"]
[null,"P1718","BP84","Upper gastro-intestinal haemorrhage","Non-Elective Same Day Emergency","Upper gastro-intestinal haemorrhage","ADMIMETH","Criteria",23,"Bed bureau"]
[null,"P1718","BP84","Upper gastro-intestinal haemorrhage","Non-Elective Same Day Emergency","Upper gastro-intestinal haemorrhage","ADMIMETH","Criteria",24,"Consultant clinic, of this or another Health Care Provider"]
[null,"P1718","BP84","Upper gastro-intestinal haemorrhage","Non-Elective Same Day Emergency","Upper gastro-intestinal haemorrhage","ADMIMETH","Criteria",25,"Admission via mental health crisis resolution team"]
[null,"P1718","BP84","Upper gastro-intestinal haemorrhage","Non-Elective Same Day Emergency","Upper gastro-intestinal haemorrhage","ADMIMETH","Criteria",28,"Other means"]
[null,"P1718","BP84","Upper gastro-intestinal haemorrhage","Non-Elective Same Day Emergency","Upper gastro-intestinal haemorrhage","ADMIMETH","Criteria","2A","Accident and Emergency Department of another provider where the PATIENT had not been admitted"]
[null,"P1718","BP84","Upper gastro-intestinal haemorrhage","Non-Elective Same Day Emergency","Upper gastro-intestinal haemorrhage","ADMIMETH","Criteria","2B","Transfer of an admitted PATIENT from another Hospital Provider in an emergency"]
[null,"P1718","BP84","Upper gastro-intestinal haemorrhage","Non-Elective Same Day Emergency","Upper gastro-intestinal haemorrhage","ADMIMETH","Criteria","2C","Baby born at home as intended"]
[null,"P1718","BP84","Upper gastro-intestinal haemorrhage","Non-Elective Same Day Emergency","Upper gastro-intestinal haemorrhage","ADMIMETH","Criteria","2D","Other emergency admission"]
[null,"P1718","BP84","Upper gastro-intestinal haemorrhage","Non-Elective Same Day Emergency","Upper gastro-intestinal haemorrhage","Age","Criteria","19 and over (19-130 or 999)","Age criteria applied - 19 and over (eligible ages 19-130 or the default age code 999)"]
[null,"P1718","BP84","Upper gastro-intestinal haemorrhage","Non-Elective Same Day Emergency","Upper gastro-intestinal haemorrhage","Eligible HRG","Criteria","FZ38P","Gastrointestinal Bleed without Interventions, with CC Score 0-4"]
[null,"P1718","BP84","Upper gastro-intestinal haemorrhage","Non-Elective Same Day Emergency","Upper gastro-intestinal haemorrhage","Eligible HRG","Criteria","FZ91M","Non-Malignant Gastrointestinal Tract Disorders without Interventions, with CC Score 0-2"]
[null,"P1718","BP84","Upper gastro-intestinal haemorrhage","Non-Elective Same Day Emergency","Upper gastro-intestinal haemorrhage","ICD-10","Trigger","K20X","Oesophagitis"]
[null,"P1718","BP84","Upper gastro-intestinal haemorrhage","Non-Elective Same Day Emergency","Upper gastro-intestinal haemorrhage","ICD-10","Trigger","K210","Gastro-oesophageal reflux disease with oesophagitis"]
[null,"P1718","BP84","Upper gastro-intestinal haemorrhage","Non-Elective Same Day Emergency","Upper gastro-intestinal haemorrhage","ICD-10","Trigger","K219","Gastro-oesophageal reflux disease without oesophagitis"]
[null,"P1718","BP84","Upper gastro-intestinal haemorrhage","Non-Elective Same Day Emergency","Upper gastro-intestinal haemorrhage","ICD-10","Trigger","K221","Ulcer of oesophagus"]
[null,"P1718","BP84","Upper gastro-intestinal haemorrhage","Non-Elective Same Day Emergency","Upper gastro-intestinal haemorrhage","ICD-10","Trigger","K226","Gastro-oesophageal laceration-haemorrhage syndrome"]
[null,"P1718","BP84","Upper gastro-intestinal haemorrhage","Non-Elective Same Day Emergency","Upper gastro-intestinal haemorrhage","ICD-10","Trigger","K250","Gastric ulcer: Acute with haemorrhage"]
[null,"P1718","BP84","Upper gastro-intestinal haemorrhage","Non-Elective Same Day Emergency","Upper gastro-intestinal haemorrhage","ICD-10","Trigger","K254","Gastric ulcer: Chronic or unspecified with haemorrhage"]
[null,"P1718","BP84","Upper gastro-intestinal haemorrhage","Non-Elective Same Day Emergency","Upper gastro-intestinal haemorrhage","ICD-10","Trigger","K260","Duodenal ulcer: Acute with haemorrhage"]
[null,"P1718","BP84","Upper gastro-intestinal haemorrhage","Non-Elective Same Day Emergency","Upper gastro-intestinal haemorrhage","ICD-10","Trigger","K264","Duodenal ulcer: Chronic or unspecified with haemorrhage"]
[null,"P1718","BP84","Upper gastro-intestinal haemorrhage","Non-Elective Same Day Emergency","Upper gastro-intestinal haemorrhage","ICD-10","Trigger","K266","Duodenal ulcer: Chronic or unspecified with both haemorrhage and perforation"]
[null,"P1718","BP84","Upper gastro-intestinal haemorrhage","Non-Elective Same Day Emergency","Upper gastro-intestinal haemorrhage","ICD-10","Trigger","K270","Peptic ulcer, site unspecified: Acute with haemorrhage"]
[null,"P1718","BP84","Upper gastro-intestinal haemorrhage","Non-Elective Same Day Emergency","Upper gastro-intestinal haemorrhage","ICD-10","Trigger","K274","Peptic ulcer, site unspecified: Chronic or unspecified with haemorrhage"]
[null,"P1718","BP84","Upper gastro-intestinal haemorrhage","Non-Elective Same Day Emergency","Upper gastro-intestinal haemorrhage","ICD-10","Trigger","K276","Peptic ulcer, site unspecified: Chronic or unspecified with both haemorrhage and perforation"]
[null,"P1718","BP84","Upper gastro-intestinal haemorrhage","Non-Elective Same Day Emergency","Upper gastro-intestinal haemorrhage","ICD-10","Trigger","K284","Gastrojejunal ulcer: Chronic or unspecified with haemorrhage"]
[null,"P1718","BP84","Upper gastro-intestinal haemorrhage","Non-Elective Same Day Emergency","Upper gastro-intestinal haemorrhage","ICD-10","Trigger","K920","Haematemesis"]
[null,"P1718","BP84","Upper gastro-intestinal haemorrhage","Non-Elective Same Day Emergency","Upper gastro-intestinal haemorrhage","ICD-10","Trigger","K921","Melaena"]
[null,"P1718","BP85","Urinary tract infections","Non-Elective Same Day Emergency","Urinary tract infections","ADMIMETH","Criteria",21,"Accident and emergency or dental casualty department of the Health Care Provider"]
[null,"P1718","BP85","Urinary tract infections","Non-Elective Same Day Emergency","Urinary tract infections","ADMIMETH","Criteria",22,"General practitioner: after a request for immediate admission has been made direct to a Hospital Provider, i.e. not through a Bed bureau, by a GENERAL PRACTITIONER or deputy"]
[null,"P1718","BP85","Urinary tract infections","Non-Elective Same Day Emergency","Urinary tract infections","ADMIMETH","Criteria",23,"Bed bureau"]
[null,"P1718","BP85","Urinary tract infections","Non-Elective Same Day Emergency","Urinary tract infections","ADMIMETH","Criteria",24,"Consultant clinic, of this or another Health Care Provider"]
[null,"P1718","BP85","Urinary tract infections","Non-Elective Same Day Emergency","Urinary tract infections","ADMIMETH","Criteria",25,"Admission via mental health crisis resolution team"]
[null,"P1718","BP85","Urinary tract infections","Non-Elective Same Day Emergency","Urinary tract infections","ADMIMETH","Criteria",28,"Other means"]
[null,"P1718","BP85","Urinary tract infections","Non-Elective Same Day Emergency","Urinary tract infections","ADMIMETH","Criteria","2A","Accident and Emergency Department of another provider where the PATIENT had not been admitted"]
[null,"P1718","BP85","Urinary tract infections","Non-Elective Same Day Emergency","Urinary tract infections","ADMIMETH","Criteria","2B","Transfer of an admitted PATIENT from another Hospital Provider in an emergency"]
[null,"P1718","BP85","Urinary tract infections","Non-Elective Same Day Emergency","Urinary tract infections","ADMIMETH","Criteria","2C","Baby born at home as intended"]
[null,"P1718","BP85","Urinary tract infections","Non-Elective Same Day Emergency","Urinary tract infections","ADMIMETH","Criteria","2D","Other emergency admission"]
[null,"P1718","BP85","Urinary tract infections","Non-Elective Same Day Emergency","Urinary tract infections","Age","Criteria","19 and over (19-130 or 999)","Age criteria applied - 19 and over (eligible ages 19-130 or the default age code 999)"]
[null,"P1718","BP85","Urinary tract infections","Non-Elective Same Day Emergency","Urinary tract infections","Eligible HRG","Criteria","LA04Q","Kidney or Urinary Tract Infections, without Interventions, with CC Score 4-7"]
[null,"P1718","BP85","Urinary tract infections","Non-Elective Same Day Emergency","Urinary tract infections","Eligible HRG","Criteria","LA04R","Kidney or Urinary Tract Infections, without Interventions, with CC Score 2-3"]
[null,"P1718","BP85","Urinary tract infections","Non-Elective Same Day Emergency","Urinary tract infections","Eligible HRG","Criteria","LA04S","Kidney or Urinary Tract Infections, without Interventions, with CC Score 0-1"]
[null,"P1718","BP86","Transient ischaemic attack","Non-Elective Same Day Emergency","Transient ischaemic attack","ADMIMETH","Criteria",21,"Accident and emergency or dental casualty department of the Health Care Provider"]
[null,"P1718","BP86","Transient ischaemic attack","Non-Elective Same Day Emergency","Transient ischaemic attack","ADMIMETH","Criteria",22,"General practitioner: after a request for immediate admission has been made direct to a Hospital Provider, i.e. not through a Bed bureau, by a GENERAL PRACTITIONER or deputy"]
[null,"P1718","BP86","Transient ischaemic attack","Non-Elective Same Day Emergency","Transient ischaemic attack","ADMIMETH","Criteria",23,"Bed bureau"]
[null,"P1718","BP86","Transient ischaemic attack","Non-Elective Same Day Emergency","Transient ischaemic attack","ADMIMETH","Criteria",24,"Consultant clinic, of this or another Health Care Provider"]
[null,"P1718","BP86","Transient ischaemic attack","Non-Elective Same Day Emergency","Transient ischaemic attack","ADMIMETH","Criteria",25,"Admission via mental health crisis resolution team"]
[null,"P1718","BP86","Transient ischaemic attack","Non-Elective Same Day Emergency","Transient ischaemic attack","ADMIMETH","Criteria",28,"Other means"]
[null,"P1718","BP86","Transient ischaemic attack","Non-Elective Same Day Emergency","Transient ischaemic attack","ADMIMETH","Criteria","2A","Accident and Emergency Department of another provider where the PATIENT had not been admitted"]
[null,"P1718","BP86","Transient ischaemic attack","Non-Elective Same Day Emergency","Transient ischaemic attack","ADMIMETH","Criteria","2B","Transfer of an admitted PATIENT from another Hospital Provider in an emergency"]
[null,"P1718","BP86","Transient ischaemic attack","Non-Elective Same Day Emergency","Transient ischaemic attack","ADMIMETH","Criteria","2C","Baby born at home as intended"]
[null,"P1718","BP86","Transient ischaemic attack","Non-Elective Same Day Emergency","Transient ischaemic attack","ADMIMETH","Criteria","2D","Other emergency admission"]
[null,"P1718","BP86","Transient ischaemic attack","Non-Elective Same Day Emergency","Transient ischaemic attack","Age","Criteria","19 and over (19-130 or 999)","Age criteria applied - 19 and over (eligible ages 19-130 or the default age code 999)"]
[null,"P1718","BP86","Transient ischaemic attack","Non-Elective Same Day Emergency","Transient ischaemic attack","Eligible HRG","Criteria","AA29F","Transient Ischaemic Attack with CC Score 0-4"]

{"sheet":"BP Eligibility & Type","index":4,"n_rows":229,"n_cols":16,"rows_kept":229,"cut":false,"hidden":false,"merged":[]}
[]
[null,"HRG4+ 2017/18 Payment Grouper: Best Practice Eligibility and Type "]
[]
[null,"Design Base","BP Flag","HRG","HRG Description","Setting","BP Category","BP Name","Day Case\nIncentive Areas","Reduced Short Stay Emergency Tariff\nApplicable (only relevant to NE BPs as per NTIW where a SSEM price is given)","Level","Activity sub-set ","HRG Related to BP Flag","Hierarchy 1 (High)","Hierarchy 2","Hierarchy 3 (Low)"]
[null,"P1718","BP01","HT12A","Very Major Hip Procedures for Trauma with CC Score 12+","Admitted Patient Care","Non-Elective Fragility Hip Fracture","Fragility hip fracture",null,"No","Sub-HRG","OPCS-4 and ICD-10 Triggers","BP01"]
[null,"P1718","BP01","HT12B","Very Major Hip Procedures for Trauma with CC Score 9-11","Admitted Patient Care","Non-Elective Fragility Hip Fracture","Fragility hip fracture",null,"No","Sub-HRG","OPCS-4 and ICD-10 Triggers","BP01"]
[null,"P1718","BP01","HT12C","Very Major Hip Procedures for Trauma with CC Score 6-8","Admitted Patient Care","Non-Elective Fragility Hip Fracture","Fragility hip fracture",null,"No","Sub-HRG","OPCS-4 and ICD-10 Triggers","BP01"]
[null,"P1718","BP01","HT12D","Very Major Hip Procedures for Trauma with CC Score 3-5","Admitted Patient Care","Non-Elective Fragility Hip Fracture","Fragility hip fracture",null,"No","Sub-HRG","OPCS-4 and ICD-10 Triggers","BP01"]
[null,"P1718","BP01","HT12E","Very Major Hip Procedures for Trauma with CC Score 0-2","Admitted Patient Care","Non-Elective Fragility Hip Fracture","Fragility hip fracture",null,"No","Sub-HRG","OPCS-4 and ICD-10 Triggers","BP01"]
[null,"P1718","BP01","HT13A","Major Hip Procedures for Trauma with CC Score 12+","Admitted Patient Care","Non-Elective Fragility Hip Fracture","Fragility hip fracture",null,"No","Sub-HRG","OPCS-4 and ICD-10 Triggers","BP01"]
[null,"P1718","BP01","HT13B","Major Hip Procedures for Trauma with CC Score 9-11","Admitted Patient Care","Non-Elective Fragility Hip Fracture","Fragility hip fracture",null,"No","Sub-HRG","OPCS-4 and ICD-10 Triggers","BP01"]
[null,"P1718","BP01","HT13C","Major Hip Procedures for Trauma with CC Score 6-8","Admitted Patient Care","Non-Elective Fragility Hip Fracture","Fragility hip fracture",null,"No","Sub-HRG","OPCS-4 and ICD-10 Triggers","BP01"]
[null,"P1718","BP01","HT13D","Major Hip Procedures for Trauma with CC Score 3-5","Admitted Patient Care","Non-Elective Fragility Hip Fracture","Fragility hip fracture",null,"No","Sub-HRG","OPCS-4 and ICD-10 Triggers","BP01"]
[null,"P1718","BP01","HT13E","Major Hip Procedures for Trauma with CC Score 0-2","Admitted Patient Care","Non-Elective Fragility Hip Fracture","Fragility hip fracture",null,"No","Sub-HRG","OPCS-4 and ICD-10 Triggers","BP01"]
[null,"P1718","BP01","VA11A","Multiple Trauma with Diagnosis Score <=23, with Intervention Score 1-8","Admitted Patient Care","Non-Elective Fragility Hip Fracture","Fragility hip fracture",null,"No","Sub-HRG","OPCS-4 and ICD-10 Triggers","BP01"]
[null,"P1718","BP01","VA11B","Multiple Trauma with Diagnosis Score 24-32, with Intervention Score 1-8","Admitted Patient Care","Non-Elective Fragility Hip Fracture","Fragility hip fracture",null,"No","Sub-HRG","OPCS-4 and ICD-10 Triggers","BP01"]
[null,"P1718","BP01","VA11C","Multiple Trauma with Diagnosis Score 33-50, with Intervention Score 1-8","Admitted Patient Care","Non-Elective Fragility Hip Fracture","Fragility hip fracture",null,"No","Sub-HRG","OPCS-4 and ICD-10 Triggers","BP01"]
[null,"P1718","BP01","VA11D","Multiple Trauma with Diagnosis Score >=51, with Intervention Score 1-8","Admitted Patient Care","Non-Elective Fragility Hip Fracture","Fragility hip fracture",null,"No","Sub-HRG","OPCS-4 and ICD-10 Triggers","BP01"]
[null,"P1718","BP01","VA12A","Multiple Trauma with Diagnosis Score <=23, with Intervention Score 9-18","Admitted Patient Care","Non-Elective Fragility Hip Fracture","Fragility hip fracture",null,"No","Sub-HRG","OPCS-4 and ICD-10 Triggers","BP01"]
[null,"P1718","BP01","VA12B","Multiple Trauma with Diagnosis Score 24-32, with Intervention Score 9-18","Admitted Patient Care","Non-Elective Fragility Hip Fracture","Fragility hip fracture",null,"No","Sub-HRG","OPCS-4 and ICD-10 Triggers","BP01"]
[null,"P1718","BP01","VA12C","Multiple Trauma with Diagnosis Score 33-50, with Intervention Score 9-18","Admitted Patient Care","Non-Elective Fragility Hip Fracture","Fragility hip fracture",null,"No","Sub-HRG","OPCS-4 and ICD-10 Triggers","BP01"]
[null,"P1718","BP01","VA12D","Multiple Trauma with Diagnosis Score >=51, with Intervention Score 9-18","Admitted Patient Care","Non-Elective Fragility Hip Fracture","Fragility hip fracture",null,"No","Sub-HRG","OPCS-4 and ICD-10 Triggers","BP01"]
[null,"P1718","BP02","EB10A","Actual or Suspected Myocardial Infarction, with CC Score 13+","Admitted Patient Care","Non-Elective MI","Myocardial infarction",null,"Yes","Sub-HRG","ICD-10","BP02"]
[null,"P1718","BP02","EB10B","Actual or Suspected Myocardial Infarction, with CC Score 10-12","Admitted Patient Care","Non-Elective MI","Myocardial infarction",null,"Yes","Sub-HRG","ICD-10","BP02"]
[null,"P1718","BP02","EB10C","Actual or Suspected Myocardial Infarction, with CC Score 7-9","Admitted Patient Care","Non-Elective MI","Myocardial infarction",null,"Yes","Sub-HRG","ICD-10","BP02"]
[null,"P1718","BP02","EB10D","Actual or Suspected Myocardial Infarction, with CC Score 4-6","Admitted Patient Care","Non-Elective MI","Myocardial infarction",null,"Yes","Sub-HRG","ICD-10","BP02"]
[null,"P1718","BP02","EB10E","Actual or Suspected Myocardial Infarction, with CC Score 0-3","Admitted Patient Care","Non-Elective MI","Myocardial infarction",null,"Yes","Sub-HRG","ICD-10","BP02"]
[null,"P1718","BP02","EY40A","Complex Percutaneous Transluminal Coronary Angioplasty with CC Score 12+","Admitted Patient Care","Non-Elective MI","Myocardial infarction",null,"No","Sub-HRG","ICD-10","BP02"]
[null,"P1718","BP02","EY40B","Complex Percutaneous Transluminal Coronary Angioplasty with CC Score 8-11","Admitted Patient Care","Non-Elective MI","Myocardial infarction",null,"No","Sub-HRG","ICD-10","BP02"]
[null,"P1718","BP02","EY40C","Complex Percutaneous Transluminal Coronary Angioplasty with CC Score 4-7","Admitted Patient Care","Non-Elective MI","Myocardial infarction",null,"No","Sub-HRG","ICD-10","BP02"]
[null,"P1718","BP02","EY40D","Complex Percutaneous Transluminal Coronary Angioplasty with CC Score 0-3","Admitted Patient Care","Non-Elective MI","Myocardial infarction",null,"No","Sub-HRG","ICD-10","BP02"]
[null,"P1718","BP02","EY41A","Standard Percutaneous Transluminal Coronary Angioplasty with CC Score 12+","Admitted Patient Care","Non-Elective MI","Myocardial infarction",null,"No","Sub-HRG","ICD-10","BP02"]
[null,"P1718","BP02","EY41B","Standard Percutaneous Transluminal Coronary Angioplasty with CC Score 8-11","Admitted Patient Care","Non-Elective MI","Myocardial infarction",null,"No","Sub-HRG","ICD-10","BP02"]
[null,"P1718","BP02","EY41C","Standard Percutaneous Transluminal Coronary Angioplasty with CC Score 4-7","Admitted Patient Care","Non-Elective MI","Myocardial infarction",null,"No","Sub-HRG","ICD-10","BP02"]
[null,"P1718","BP02","EY41D","Standard Percutaneous Transluminal Coronary Angioplasty with CC Score 0-3","Admitted Patient Care","Non-Elective MI","Myocardial infarction",null,"No","Sub-HRG","ICD-10","BP02"]
[null,"P1718","BP02","EY42A","Complex Cardiac Catheterisation with CC Score 7+","Admitted Patient Care","Non-Elective MI","Myocardial infarction",null,"No","Sub-HRG","ICD-10","BP02"]
[null,"P1718","BP02","EY42B","Complex Cardiac Catheterisation with CC Score 4-6","Admitted Patient Care","Non-Elective MI","Myocardial infarction",null,"No","Sub-HRG","ICD-10","BP02"]
[null,"P1718","BP02","EY42C","Complex Cardiac Catheterisation with CC Score 2-3","Admitted Patient Care","Non-Elective MI","Myocardial infarction",null,"No","Sub-HRG","ICD-10","BP02"]
[null,"P1718","BP02","EY42D","Complex Cardiac Catheterisation with CC Score 0-1","Admitted Patient Care","Non-Elective MI","Myocardial infarction",null,"No","Sub-HRG","ICD-10","BP02"]
[null,"P1718","BP02","EY43A","Standard Cardiac Catheterisation with CC Score 13+","Admitted Patient Care","Non-Elective MI","Myocardial infarction",null,"No","Sub-HRG","ICD-10","BP02"]
[null,"P1718","BP02","EY43B","Standard Cardiac Catheterisation with CC Score 10-12","Admitted Patient Care","Non-Elective MI","Myocardial infarction",null,"No","Sub-HRG","ICD-10","BP02"]
[null,"P1718","BP02","EY43C","Standard Cardiac Catheterisation with CC Score 7-9","Admitted Patient Care","Non-Elective MI","Myocardial infarction",null,"No","Sub-HRG","ICD-10","BP02"]
[null,"P1718","BP02","EY43D","Standard Cardiac Catheterisation with CC Score 4-6","Admitted Patient Care","Non-Elective MI","Myocardial infarction",null,"No","Sub-HRG","ICD-10","BP02"]
[null,"P1718","BP02","EY43E","Standard Cardiac Catheterisation with CC Score 2-3","Admitted Patient Care","Non-Elective MI","Myocardial infarction",null,"No","Sub-HRG","ICD-10","BP02"]
[null,"P1718","BP02","EY43F","Standard Cardiac Catheterisation with CC Score 0-1","Admitted Patient Care","Non-Elective MI","Myocardial infarction",null,"No","Sub-HRG","ICD-10","BP02"]
[null,"P1718","BP15","HN54C","Intermediate Shoulder Procedures for Non-Trauma, 19 years and over, with CC Score 0-1","Admitted Patient Care","Day Case Incentive","Therapeutic arthroscopy of shoulder","Orthopaedic surgery",null,"Sub-HRG","OPCS-4","BP15"]
[null,"P1718","BP16","HN34C","Intermediate Foot Procedures for Non-Trauma, 19 years and over, with CC Score 0-1","Admitted Patient Care","Day Case Incentive","Bunion operations","Orthopaedic surgery",null,"Sub-HRG","OPCS-4","BP16"]
[null,"P1718","BP17","HN44B","Intermediate Hand Procedures for Non-Trauma, 19 years and over, with CC Score 0-1","Admitted Patient Care","Day Case Incentive","Dupuytren's fasciectomy","Orthopaedic surgery",null,"Sub-HRG","OPCS-4","BP17"]
[null,"P1718","BP28","JA20F","Unilateral Major Breast Procedures with CC Score 0-2","Admitted Patient Care","Day Case Incentive","Simple mastectomy","Breast surgery",null,"Sub-HRG","OPCS-4","Multiple","BP28","BP29","BP32"]
[null,"P1718","BP28","JA38C","Unilateral Major Breast Procedures with Lymph Node Clearance, with CC Score 0-1","Admitted Patient Care","Day Case Incentive","Simple mastectomy","Breast surgery",null,"Sub-HRG","OPCS-4","BP28"]
[null,"P1718","BP29","JA20F","Unilateral Major Breast Procedures with CC Score 0-2","Admitted Patient Care","Day Case Incentive","Excision of breast","Breast surgery",null,"Sub-HRG","OPCS-4","Multiple","BP28","BP29","BP32"]
[null,"P1718","BP29","JA43B","Unilateral Intermediate Breast Procedures with CC Score 0-2","Admitted Patient Care","Day Case Incentive","Excision of breast","Breast surgery",null,"Sub-HRG","OPCS-4","BP29"]
[null,"P1718","BP31","YJ04Z","Core Needle Biopsy of Axillary Lymph Nodes","Admitted Patient Care","Day Case Incentive","Sentinel lymph node biopsy/axillary sample","Breast surgery",null,"Sub-HRG","OPCS-4","BP31"]
[null,"P1718","BP32","JA20F","Unilateral Major Breast Procedures with CC Score 0-2","Admitted Patient Care","Day Case Incentive","Axillary clearance","Breast surgery",null,"Sub-HRG","OPCS-4","Multiple","BP28","BP29","BP32"]
[null,"P1718","BP35","AA26F","Muscular, Balance, Cranial or Peripheral Nerve Disorders, Epilepsy or Head Injury, with CC Score 6-8","Admitted Patient Care","Non-Elective Same Day Emergency","Epileptic seizure",null,"No","Sub-HRG","ICD-10","BP35"]
[null,"P1718","BP35","AA26G","Muscular, Balance, Cranial or Peripheral Nerve Disorders, Epilepsy or Head Injury, with CC Score 3-5","Admitted Patient Care","Non-Elective Same Day Emergency","Epileptic seizure",null,"No","Sub-HRG","ICD-10","BP35"]
[null,"P1718","BP35","AA26H","Muscular, Balance, Cranial or Peripheral Nerve Disorders, Epilepsy or Head Injury, with CC Score 0-2","Admitted Patient Care","Non-Elective Same Day Emergency","Epileptic seizure",null,"No","Sub-HRG","ICD-10","BP35"]
[null,"P1718","BP38","WH04E","Poisoning Diagnosis without Interventions, with CC Score 0-1","Admitted Patient Care","Non-Elective Same Day Emergency","Self harm",null,"No","HRG (Subset)","Sub-set of activity (Emergency 21-25, 28, 2A, 2B, 2C, 2D)","BP38"]
[null,"P1718","BP39","JD07H","Skin Disorders without Interventions, with CC Score 6-9","Admitted Patient Care","Non-Elective Same Day Emergency","Cellulitis",null,"No","Sub-HRG","ICD-10","BP39"]
[null,"P1718","BP39","JD07J","Skin Disorders without Interventions, with CC Score 2-5","Admitted Patient Care","Non-Elective Same Day Emergency","Cellulitis",null,"No","Sub-HRG","ICD-10","BP39"]
[null,"P1718","BP39","JD07K","Skin Disorders without Interventions, with CC Score 0-1","Admitted Patient Care","Non-Elective Same Day Emergency","Cellulitis",null,"No","Sub-HRG","ICD-10","BP39"]
[null,"P1718","BP40","EB12B","Unspecified Chest Pain with CC Score 5-10","Admitted Patient Care","Non-Elective Same Day Emergency","Chest pain",null,"No","Sub-HRG","ICD-10","BP40"]
[null,"P1718","BP40","EB12C","Unspecified Chest Pain with CC Score 0-4","Admitted Patient Care","Non-Elective Same Day Emergency","Chest pain",null,"No","Sub-HRG","ICD-10","BP40"]
[null,"P1718","BP40","EB13C","Angina with CC Score 4-7","Admitted Patient Care","Non-Elective Same Day Emergency","Chest pain",null,"No","Sub-HRG","ICD-10","BP40"]
[null,"P1718","BP40","EB13D","Angina with CC Score 0-3","Admitted Patient Care","Non-Elective Same Day Emergency","Chest pain",null,"No","Sub-HRG","ICD-10","BP40"]
[null,"P1718","BP41","EB08E","Syncope or Collapse, with CC Score 0-3","Admitted Patient Care","Non-Elective Same Day Emergency","Falls including syncope or collapse",null,"No","HRG (Subset)","Sub-set of activity (Emergency 21-25, 28, 2A, 2B, 2C, 2D)","BP41"]
[null,"P1718","BP42","HE21F","Knee Fracture without Interventions, with CC Score 2-4","Admitted Patient Care","Non-Elective Same Day Emergency","Appendicular fractures not requiring immediate fixation",null,"No","Sub-HRG","ICD-10","BP42"]
[null,"P1718","BP42","HE21G","Knee Fracture without Interventions, with CC Score 0-1","Admitted Patient Care","Non-Elective Same Day Emergency","Appendicular fractures not requiring immediate fixation",null,"No","Sub-HRG","ICD-10","BP42"]
[null,"P1718","BP42","HE31F","Foot Fracture without Interventions, with CC Score 2-3","Admitted Patient Care","Non-Elective Same Day Emergency","Appendicular fractures not requiring immediate fixation",null,"No","Sub-HRG","ICD-10","BP42"]
[null,"P1718","BP42","HE31G","Foot Fracture without Interventions, with CC Score 0-1","Admitted Patient Care","Non-Elective Same Day Emergency","Appendicular fractures not requiring immediate fixation",null,"No","Sub-HRG","ICD-10","BP42"]
[null,"P1718","BP42","HE41C","Hand Fracture without Interventions, with CC Score 1-2","Admitted Patient Care","Non-Elective Same Day Emergency","Appendicular fractures not requiring immediate fixation",null,"No","Sub-HRG","ICD-10","BP42"]
[null,"P1718","BP42","HE41D","Hand Fracture without Interventions, with CC Score 0","Admitted Patient Care","Non-Elective Same Day Emergency","Appendicular fractures not requiring immediate fixation",null,"No","Sub-HRG","ICD-10","BP42"]
[null,"P1718","BP42","HE51G","Arm Fracture without Interventions, with CC Score 2-3","Admitted Patient Care","Non-Elective Same Day Emergency","Appendicular fractures not requiring immediate fixation",null,"No","Sub-HRG","ICD-10","BP42"]
[null,"P1718","BP42","HE51H","Arm Fracture without Interventions, with CC Score 0-1","Admitted Patient Care","Non-Elective Same Day Emergency","Appendicular fractures not requiring immediate fixation",null,"No","Sub-HRG","ICD-10","BP42"]
[null,"P1718","BP44","DZ15Q","Asthma without Interventions, with CC Score 3-5","Admitted Patient Care","Non-Elective Same Day Emergency","Asthma",null,"No","HRG (Subset)","Sub-set of activity (Emergency 21-25, 28, 2A, 2B, 2C, 2D)","BP44"]
[null,"P1718","BP44","DZ15R","Asthma without Interventions, with CC Score 0-2","Admitted Patient Care","Non-Elective Same Day Emergency","Asthma",null,"No","HRG (Subset)","Sub-set of activity (Emergency 21-25, 28, 2A, 2B, 2C, 2D)","BP44"]
[null,"P1718","BP45","DZ22Q","Unspecified Acute Lower Respiratory Infection without Interventions, with CC Score 0-4","Admitted Patient Care","Non-Elective Same Day Emergency","Lower respiratory tract infections without COPD",null,"No","HRG (Subset)","Sub-set of activity (Emergency 21-25, 28, 2A, 2B, 2C, 2D)","BP45"]
[null,"P1718","BP46","DZ09P","Pulmonary Embolus without Interventions, with CC Score 3-5","Admitted Patient Care","Non-Elective Same Day Emergency","Pulmonary embolism",null,"No","HRG (Subset)","Sub-set of activity (Emergency 21-25, 28, 2A, 2B, 2C, 2D)","BP46"]
[null,"P1718","BP46","DZ09Q","Pulmonary Embolus without Interventions, with CC Score 0-2","Admitted Patient Care","Non-Elective Same Day Emergency","Pulmonary embolism",null,"No","HRG (Subset)","Sub-set of activity (Emergency 21-25, 28, 2A, 2B, 2C, 2D)","BP46"]
[null,"P1718","BP47","LB40G","Urinary Tract Stone Disease without Interventions, with CC Score 0-2","Admitted Patient Care","Non-Elective Same Day Emergency","Renal/ureteric stones",null,"No","HRG (Subset)","Sub-set of activity (Emergency 21-25, 28, 2A, 2B, 2C, 2D)","BP47"]
[null,"P1718","BP48","YQ51C","Deep Vein Thrombosis with CC Score 6-8","Admitted Patient Care","Non-Elective Same Day Emergency","Deep vein thrombosis",null,"No","HRG (Subset)","Sub-set of activity (Emergency 21-25, 28, 2A, 2B, 2C, 2D)","BP48"]
[null,"P1718","BP48","YQ51D","Deep Vein Thrombosis with CC Score 3-5","Admitted Patient Care","Non-Elective Same Day Emergency","Deep vein thrombosis",null,"No","HRG (Subset)","Sub-set of activity (Emergency 21-25, 28, 2A, 2B, 2C, 2D)","BP48"]
[null,"P1718","BP48","YQ51E","Deep Vein Thrombosis with CC Score 0-2","Admitted Patient Care","Non-Elective Same Day Emergency","Deep vein thrombosis",null,"No","HRG (Subset)","Sub-set of activity (Emergency 21-25, 28, 2A, 2B, 2C, 2D)","BP48"]
[null,"P1718","BP49","AA31D","Headache, Migraine or Cerebrospinal Fluid Leak, with CC Score 7-10","Admitted Patient Care","Non-Elective Same Day Emergency","Acute headache",null,"No","HRG (Subset)","Sub-set of activity (Emergency 21-25, 28, 2A, 2B, 2C, 2D)","BP49"]
[null,"P1718","BP49","AA31E","Headache, Migraine or Cerebrospinal Fluid Leak, with CC Score 0-6","Admitted Patient Care","Non-Elective Same Day Emergency","Acute headache",null,"No","HRG (Subset)","Sub-set of activity (Emergency 21-25, 28, 2A, 2B, 2C, 2D)","BP49"]
[null,"P1718","BP50","EY40A","Complex Percutaneous Transluminal Coronary Angioplasty with CC Score 12+","Admitted Patient Care","Non-Elective NSTEMI","Timely access to coronary angiography - NSTEMI",null,"No","Sub-HRG","ICD-10","BP50"]
[null,"P1718","BP50","EY40B","Complex Percutaneous Transluminal Coronary Angioplasty with CC Score 8-11","Admitted Patient Care","Non-Elective NSTEMI","Timely access to coronary angiography - NSTEMI",null,"No","Sub-HRG","ICD-10","BP50"]
[null,"P1718","BP50","EY40C","Complex Percutaneous Transluminal Coronary Angioplasty with CC Score 4-7","Admitted Patient Care","Non-Elective NSTEMI","Timely access to coronary angiography - NSTEMI",null,"No","Sub-HRG","ICD-10","BP50"]
[null,"P1718","BP50","EY40D","Complex Percutaneous Transluminal Coronary Angioplasty with CC Score 0-3","Admitted Patient Care","Non-Elective NSTEMI","Timely access to coronary angiography - NSTEMI",null,"No","Sub-HRG","ICD-10","BP50"]
[null,"P1718","BP50","EY41A","Standard Percutaneous Transluminal Coronary Angioplasty with CC Score 12+","Admitted Patient Care","Non-Elective NSTEMI","Timely access to coronary angiography - NSTEMI",null,"No","Sub-HRG","ICD-10","BP50"]
[null,"P1718","BP50","EY41B","Standard Percutaneous Transluminal Coronary Angioplasty with CC Score 8-11","Admitted Patient Care","Non-Elective NSTEMI","Timely access to coronary angiography - NSTEMI",null,"No","Sub-HRG","ICD-10","BP50"]
[null,"P1718","BP50","EY41C","Standard Percutaneous Transluminal Coronary Angioplasty with CC Score 4-7","Admitted Patient Care","Non-Elective NSTEMI","Timely access to coronary angiography - NSTEMI",null,"No","Sub-HRG","ICD-10","BP50"]
[null,"P1718","BP50","EY41D","Standard Percutaneous Transluminal Coronary Angioplasty with CC Score 0-3","Admitted Patient Care","Non-Elective NSTEMI","Timely access to coronary angiography - NSTEMI",null,"No","Sub-HRG","ICD-10","BP50"]
[null,"P1718","BP50","EY42A","Complex Cardiac Catheterisation with CC Score 7+","Admitted Patient Care","Non-Elective NSTEMI","Timely access to coronary angiography - NSTEMI",null,"No","Sub-HRG","ICD-10","BP50"]
[null,"P1718","BP50","EY42B","Complex Cardiac Catheterisation with CC Score 4-6","Admitted Patient Care","Non-Elective NSTEMI","Timely access to coronary angiography - NSTEMI",null,"No","Sub-HRG","ICD-10","BP50"]
[null,"P1718","BP50","EY42C","Complex Cardiac Catheterisation with CC Score 2-3","Admitted Patient Care","Non-Elective NSTEMI","Timely access to coronary angiography - NSTEMI",null,"No","Sub-HRG","ICD-10","BP50"]
[null,"P1718","BP50","EY42D","Complex Cardiac Catheterisation with CC Score 0-1","Admitted Patient Care","Non-Elective NSTEMI","Timely access to coronary angiography - NSTEMI",null,"No","Sub-HRG","ICD-10","BP50"]
[null,"P1718","BP50","EY43A","Standard Cardiac Catheterisation with CC Score 13+","Admitted Patient Care","Non-Elective NSTEMI","Timely access to coronary angiography - NSTEMI",null,"No","Sub-HRG","ICD-10","BP50"]
[null,"P1718","BP50","EY43B","Standard Cardiac Catheterisation with CC Score 10-12","Admitted Patient Care","Non-Elective NSTEMI","Timely access to coronary angiography - NSTEMI",null,"No","Sub-HRG","ICD-10","BP50"]
[null,"P1718","BP50","EY43C","Standard Cardiac Catheterisation with CC Score 7-9","Admitted Patient Care","Non-Elective NSTEMI","Timely access to coronary angiography - NSTEMI",null,"No","Sub-HRG","ICD-10","BP50"]
[null,"P1718","BP50","EY43D","Standard Cardiac Catheterisation with CC Score 4-6","Admitted Patient Care","Non-Elective NSTEMI","Timely access to coronary angiography - NSTEMI",null,"No","Sub-HRG","ICD-10","BP50"]
[null,"P1718","BP50","EY43E","Standard Cardiac Catheterisation with CC Score 2-3","Admitted Patient Care","Non-Elective NSTEMI","Timely access to coronary angiography - NSTEMI",null,"No","Sub-HRG","ICD-10","BP50"]
[null,"P1718","BP50","EY43F","Standard Cardiac Catheterisation with CC Score 0-1","Admitted Patient Care","Non-Elective NSTEMI","Timely access to coronary angiography - NSTEMI",null,"No","Sub-HRG","ICD-10","BP50"]
[null,"P1718","BP52","KB01C","Diabetes with Hypoglycaemic Disorders, with CC Score 8+","Admitted Patient Care","Non-Elective Diabetes","Diabetic ketoacidosis and hypoglycaemia",null,"Yes","Sub-HRG","ICD-10","BP52"]
[null,"P1718","BP52","KB01D","Diabetes with Hypoglycaemic Disorders, with CC Score 5-7","Admitted Patient Care","Non-Elective Diabetes","Diabetic ketoacidosis and hypoglycaemia",null,"Yes","Sub-HRG","ICD-10","BP52"]
[null,"P1718","BP52","KB01E","Diabetes with Hypoglycaemic Disorders, with CC Score 3-4","Admitted Patient Care","Non-Elective Diabetes","Diabetic ketoacidosis and hypoglycaemia",null,"Yes","Sub-HRG","ICD-10","BP52"]
[null,"P1718","BP52","KB01F","Diabetes with Hypoglycaemic Disorders, with CC Score 0-2","Admitted Patient Care","Non-Elective Diabetes","Diabetic ketoacidosis and hypoglycaemia",null,"No","Sub-HRG","ICD-10","BP52"]
[null,"P1718","BP52","KB02G","Diabetes with Hyperglycaemic Disorders, with CC Score 8+","Admitted Patient Care","Non-Elective Diabetes","Diabetic ketoacidosis and hypoglycaemia",null,"Yes","Sub-HRG","ICD-10","BP52"]
[null,"P1718","BP52","KB02H","Diabetes with Hyperglycaemic Disorders, with CC Score 5-7","Admitted Patient Care","Non-Elective Diabetes","Diabetic ketoacidosis and hypoglycaemia",null,"Yes","Sub-HRG","ICD-10","BP52"]
[null,"P1718","BP52","KB02J","Diabetes with Hyperglycaemic Disorders, with CC Score 2-4","Admitted Patient Care","Non-Elective Diabetes","Diabetic ketoacidosis and hypoglycaemia",null,"Yes","Sub-HRG","ICD-10","BP52"]
[null,"P1718","BP52","KB02K","Diabetes with Hyperglycaemic Disorders, with CC Score 0-1","Admitted Patient Care","Non-Elective Diabetes","Diabetic ketoacidosis and hypoglycaemia",null,"Yes","Sub-HRG","ICD-10","BP52"]
[null,"P1718","BP53","HE11G","Hip Fracture without Interventions, with CC Score 4-7","Admitted Patient Care","Non-Elective Same Day Emergency","Low risk pubic rami",null,"No","Sub-HRG","ICD-10","BP53"]
[null,"P1718","BP53","HE11H","Hip Fracture without Interventions, with CC Score 0-3","Admitted Patient Care","Non-Elective Same Day Emergency","Low risk pubic rami",null,"No","Sub-HRG","ICD-10","BP53"]
[null,"P1718","BP54","SA04K","Iron Deficiency Anaemia with CC Score 2-5","Admitted Patient Care","Non-Elective Same Day Emergency","Anaemia",null,"No","HRG (Subset)","Sub-set of activity (Emergency 21-25, 28, 2A, 2B, 2C, 2D)","BP54"]
[null,"P1718","BP54","SA04L","Iron Deficiency Anaemia with CC Score 0-1","Admitted Patient Care","Non-Elective Same Day Emergency","Anaemia",null,"No","HRG (Subset)","Sub-set of activity (Emergency 21-25, 28, 2A, 2B, 2C, 2D)","BP54"]
[null,"P1718","BP54","SA09K","Other Red Blood Cell Disorders with CC Score 2-5","Admitted Patient Care","Non-Elective Same Day Emergency","Anaemia",null,"No","HRG (Subset)","Sub-set of activity (Emergency 21-25, 28, 2A, 2B, 2C, 2D)","BP54"]
[null,"P1718","BP54","SA09L","Other Red Blood Cell Disorders with CC Score 0-1","Admitted Patient Care","Non-Elective Same Day Emergency","Anaemia",null,"No","HRG (Subset)","Sub-set of activity (Emergency 21-25, 28, 2A, 2B, 2C, 2D)","BP54"]
[null,"P1718","BP55","LB16J","Urinary Incontinence or Other Urinary Problems, without Interventions, with CC Score 2-4","Admitted Patient Care","Non-Elective Same Day Emergency","Bladder outflow obstruction",null,"No","HRG (Subset)","Sub-set of activity (Emergency 21-25, 28, 2A, 2B, 2C, 2D)","BP55"]
[null,"P1718","BP55","LB16K","Urinary Incontinence or Other Urinary Problems, without Interventions, with CC Score 0-1","Admitted Patient Care","Non-Elective Same Day Emergency","Bladder outflow obstruction",null,"No","HRG (Subset)","Sub-set of activity (Emergency 21-25, 28, 2A, 2B, 2C, 2D)","BP55"]
[null,"P1718","BP56","DZ11V","Lobar, Atypical or Viral Pneumonia, without Interventions, with CC Score 0-3","Admitted Patient Care","Non-Elective Same Day Emergency","Community acquired pneumonia",null,"No","HRG (Subset)","Sub-set of activity (Emergency 21-25, 28, 2A, 2B, 2C, 2D)","BP56"]
[null,"P1718","BP58","CB02E","Non-Malignant, Ear, Nose, Mouth, Throat or Neck Disorders, without Interventions, with CC Score 1-4","Admitted Patient Care","Non-Elective Same Day Emergency","Minor head injury",null,"No","Sub-HRG","ICD-10","BP58"]
[null,"P1718","BP58","CB02F","Non-Malignant, Ear, Nose, Mouth, Throat or Neck Disorders, without Interventions, with CC Score 0","Admitted Patient Care","Non-Elective Same Day Emergency","Minor head injury",null,"No","Sub-HRG","ICD-10","BP58"]
[null,"P1718","BP59","EB07C","Arrhythmia or Conduction Disorders, with CC Score 7-9","Admitted Patient Care","Non-Elective Same Day Emergency","Supraventricular tachycardia's including atrial fibrillation",null,"No","HRG (Subset)","Sub-set of activity (Emergency 21-25, 28, 2A, 2B, 2C, 2D)","BP59"]
[null,"P1718","BP59","EB07D","Arrhythmia or Conduction Disorders, with CC Score 4-6","Admitted Patient Care","Non-Elective Same Day Emergency","Supraventricular tachycardia's including atrial fibrillation",null,"No","HRG (Subset)","Sub-set of activity (Emergency 21-25, 28, 2A, 2B, 2C, 2D)","BP59"]
[null,"P1718","BP59","EB07E","Arrhythmia or Conduction Disorders, with CC Score 0-3","Admitted Patient Care","Non-Elective Same Day Emergency","Supraventricular tachycardia's including atrial fibrillation",null,"No","HRG (Subset)","Sub-set of activity (Emergency 21-25, 28, 2A, 2B, 2C, 2D)","BP59"]
[null,"P1718","BP61","FZ90B","Abdominal Pain without Interventions","Admitted Patient Care","Non-Elective Same Day Emergency","Abdominal pain",null,"No","HRG (Subset)","Sub-set of activity (Emergency 21-25, 28, 2A, 2B, 2C, 2D)","BP61"]
[null,"P1718","BP63","HN23C","Major Knee Procedures for Non-Trauma, 19 years and over, with CC Score 0-1","Admitted Patient Care","Day Case Incentive","Autograft anterior cruciate ligament reconstruction","Orthopaedic surgery",null,"Sub-HRG","OPCS-4","BP63"]
[null,"P1718","BP64","CA05A","Minor Neck Procedures, 19 years and over","Admitted Patient Care","Day Case Incentive","Biopsy/sampling of cervical lymph nodes","Head and neck",null,"Sub-HRG","OPCS-4","BP64"]
[null,"P1718","BP65","YQ42Z","Open Arteriovenous Fistula, Graft or Shunt Procedures","Admitted Patient Care","Day Case Incentive","Creation of arteriovenous fistula for dialysis","Vascular surgery",null,"Sub-HRG","OPCS-4","BP65"]
[null,"P1718","BP66","BZ54B","Major, Orbit or Lacrimal Procedures, 19 years and over, with CC Score 0","Admitted Patient Care","Day Case Incentive","Dacryocysto-rhinostomy including insertion of tube","Ophthalmology",null,"Sub-HRG","OPCS-4","BP66"]
[null,"P1718","BP68","LB09D","Intermediate Endoscopic Ureter Procedures, 19 years and over","Admitted Patient Care","Day Case Incentive","Endoscopic insertion of prosthesis into ureter","Urology",null,"Sub-HRG","OPCS-4","BP68"]
[null,"P1718","BP69","FZ12Q","Major General Abdominal Procedures, 19 years and over, with CC Score 0","Admitted Patient Care","Day Case Incentive","Excision biopsy of lymph node for diagnosis (cervical, inguinal, axillary)","General surgery",null,"Sub-HRG","OPCS-4","BP69"]
[null,"P1718","BP73","LB55A","Minor or Intermediate, Urethra Procedures, 19 years and over","Admitted Patient Care","Day Case Incentive","Optical urethrotomy","Urology",null,"Sub-HRG","OPCS-4","BP73"]
[null,"P1718","BP74","CA28Z","Intermediate Sinus Procedures","Admitted Patient Care","Day Case Incentive","Polypectomy of internal nose","Ear, nose and throat (ENT)",null,"Sub-HRG","OPCS-4","BP74"]
[null,"P1718","BP76","FZ17G","Abdominal Hernia Procedures, 19 years and over, with CC Score 0","Admitted Patient Care","Day Case Incentive","Repair of other abdominal hernia","General surgery",null,"Sub-HRG","OPCS-4","BP76"]
[null,"P1718","BP77","YR11D","Percutaneous Transluminal Angioplasty of Single Blood Vessel with CC Score 0-2","Admitted Patient Care","Day Case Incentive","Transluminal operations on iliac and femoral artery","Vascular surgery",null,"Sub-HRG","OPCS-4","BP77"]
[null,"P1718","BP77","YR25Z","Arteriography","Admitted Patient Care","Day Case Incentive","Transluminal operations on iliac and femoral artery","Vascular surgery",null,"Sub-HRG","OPCS-4","BP77"]
[null,"P1718","BP78","LB65E","Major Endoscopic, Kidney or Ureter Procedures, 19 years and over, with CC Score 0-2","Admitted Patient Care","Day Case Incentive","Ureteroscopic extraction of calculus of ureter","Urology",null,"Sub-HRG","OPCS-4","BP78"]
[null,"P1718","BP79","MA08B","Major, Laparoscopic or Endoscopic, Upper Genital Tract Procedures, with CC Score 0-1","Admitted Patient Care","Day Case Incentive","Laparoscopic oophorectomy and salpingectomy (including bilateral)","Gynaecology",null,"Sub-HRG","OPCS-4","BP79"]
[null,"P1718","BP80","GC17K","Non-Malignant, Hepatobiliary or Pancreatic Disorders, without Interventions, with CC Score 0-1","Admitted Patient Care","Non-Elective Same Day Emergency","Abnormal liver function",null,"No","Sub-HRG","ICD-10","BP80"]
[null,"P1718","BP81","HD26G","Musculoskeletal Signs or Symptoms, with CC Score 0-3","Admitted Patient Care","Non-Elective Same Day Emergency","Acutely hot painful joint",null,"No","Sub-HRG","ICD-10","BP81"]
[null,"P1718","BP82","LB15E","Minor Bladder Procedures, 19 years and over","Admitted Patient Care","Non-Elective Same Day Emergency","Chronic indwelling catheter related problems",null,"No","Sub-HRG","ICD-10","BP82"]
[null,"P1718","BP82","LB20F","Infection or Mechanical Problems Related to Genito-Urinary Prostheses, Implants or Grafts, without Interventions, with CC Score 2-6","Admitted Patient Care","Non-Elective Same Day Emergency","Chronic indwelling catheter related problems",null,"No","Sub-HRG","ICD-10","BP82"]
[null,"P1718","BP82","LB20G","Infection or Mechanical Problems Related to Genito-Urinary Prostheses, Implants or Grafts, without Interventions, with CC Score 0-1","Admitted Patient Care","Non-Elective Same Day Emergency","Chronic indwelling catheter related problems",null,"No","Sub-HRG","ICD-10","BP82"]
[null,"P1718","BP83","FZ36P","Gastrointestinal Infections without Interventions, with CC Score 2-4","Admitted Patient Care","Non-Elective Same Day Emergency","Gastroenteritis",null,"No","HRG (Subset)","Sub-set of activity (Emergency 21-25, 28, 2A, 2B, 2C, 2D)","BP83"]
[null,"P1718","BP83","FZ36Q","Gastrointestinal Infections without Interventions, with CC Score 0-1","Admitted Patient Care","Non-Elective Same Day Emergency","Gastroenteritis",null,"No","HRG (Subset)","Sub-set of activity (Emergency 21-25, 28, 2A, 2B, 2C, 2D)","BP83"]
[null,"P1718","BP84","FZ38P","Gastrointestinal Bleed without Interventions, with CC Score 0-4","Admitted Patient Care","Non-Elective Same Day Emergency","Upper gastro-intestinal haemorrhage",null,"No","Sub-HRG","ICD-10","BP84"]
[null,"P1718","BP84","FZ91M","Non-Malignant Gastrointestinal Tract Disorders without Interventions, with CC Score 0-2","Admitted Patient Care","Non-Elective Same Day Emergency","Upper gastro-intestinal haemorrhage",null,"No","Sub-HRG","ICD-10","BP84"]
[null,"P1718","BP85","LA04Q","Kidney or Urinary Tract Infections, without Interventions, with CC Score 4-7","Admitted Patient Care","Non-Elective Same Day Emergency","Urinary tract infections",null,"No","HRG (Subset)","Sub-set of activity (Emergency 21-25, 28, 2A, 2B, 2C, 2D)","BP85"]
[null,"P1718","BP85","LA04R","Kidney or Urinary Tract Infections, without Interventions, with CC Score 2-3","Admitted Patient Care","Non-Elective Same Day Emergency","Urinary tract infections",null,"No","HRG (Subset)","Sub-set of activity (Emergency 21-25, 28, 2A, 2B, 2C, 2D)","BP85"]
[null,"P1718","BP85","LA04S","Kidney or Urinary Tract Infections, without Interventions, with CC Score 0-1","Admitted Patient Care","Non-Elective Same Day Emergency","Urinary tract infections",null,"No","HRG (Subset)","Sub-set of activity (Emergency 21-25, 28, 2A, 2B, 2C, 2D)","BP85"]
[null,"P1718","BP86","AA29F","Transient Ischaemic Attack with CC Score 0-4","Admitted Patient Care","Non-Elective Same Day Emergency","Transient ischaemic attack",null,"No","HRG (Subset)","Sub-set of activity (Emergency 21-25, 28, 2A, 2B, 2C, 2D)","BP86"]
[null,"P1718","Non-Flagged","AA35A","Stroke with CC Score 16+","Admitted Patient Care","Non-Elective Stroke","Stroke",null,"No","HRG","All activity eligible","Non-Flagged"]
[null,"P1718","Non-Flagged","AA35B","Stroke with CC Score 13-15","Admitted Patient Care","Non-Elective Stroke","Stroke",null,"No","HRG","All activity eligible","Non-Flagged"]
[null,"P1718","Non-Flagged","AA35C","Stroke with CC Score 10-12","Admitted Patient Care","Non-Elective Stroke","Stroke",null,"No","HRG","All activity eligible","Non-Flagged"]
[null,"P1718","Non-Flagged","AA35D","Stroke with CC Score 7-9","Admitted Patient Care","Non-Elective Stroke","Stroke",null,"No","HRG","All activity eligible","Non-Flagged"]
[null,"P1718","Non-Flagged","AA35E","Stroke with CC Score 4-6","Admitted Patient Care","Non-Elective Stroke","Stroke",null,"No","HRG","All activity eligible","Non-Flagged"]
[null,"P1718","Non-Flagged","AA35F","Stroke with CC Score 0-3","Admitted Patient Care","Non-Elective Stroke","Stroke",null,"No","HRG","All activity eligible","Non-Flagged"]
[null,"P1718","Non-Flagged","CA11A","Septoplasty, 19 years and over","Admitted Patient Care","Day Case Incentive","Septoplasty","Ear, nose and throat (ENT)",null,"HRG","All activity eligible","Non-Flagged"]
[null,"P1718","Non-Flagged","CA14Z","Nasal Polypectomy","Admitted Patient Care","Day Case Incentive","Polypectomy of internal nose","Ear, nose and throat (ENT)",null,"HRG","All activity eligible","Non-Flagged"]
[null,"P1718","Non-Flagged","CA32A","Tympanoplasty, 19 years and over","Admitted Patient Care","Day Case Incentive","Tympanoplasty","Ear, nose and throat (ENT)",null,"HRG","All activity eligible","Non-Flagged"]
[null,"P1718","Non-Flagged","CA60A","Tonsillectomy, 19 years and over","Admitted Patient Care","Day Case Incentive","Tonsillectomy","Ear, nose and throat (ENT)",null,"HRG","All activity eligible","Non-Flagged"]
[null,"P1718","Non-Flagged","CA60B","Tonsillectomy, 18 years and under","Admitted Patient Care","Day Case Incentive","Tonsillectomy","Ear, nose and throat (ENT)",null,"HRG","All activity eligible","Non-Flagged"]
[null,"P1718","Non-Flagged","CA61Z","Adenotonsillectomy","Admitted Patient Care","Day Case Incentive","Tonsillectomy","Ear, nose and throat (ENT)",null,"HRG","All activity eligible","Non-Flagged"]
[null,"P1718","Non-Flagged","DZ16N","Pleural Effusion with Single Intervention, with CC Score 0-5","Admitted Patient Care","Day Case Pleural Effusion","Pleural effusion",null,null,"HRG","All activity eligible","Non-Flagged"]
[null,"P1718","Non-Flagged","DZ65A","Chronic Obstructive Pulmonary Disease or Bronchitis, with Multiple Interventions, with CC Score 9+","Admitted Patient Care","Non-Elective COPD","COPD exacerbation",null,"Yes","HRG","All activity eligible","Non-Flagged"]
[null,"P1718","Non-Flagged","DZ65B","Chronic Obstructive Pulmonary Disease or Bronchitis, with Multiple Interventions, with CC Score 0-8","Admitted Patient Care","Non-Elective COPD","COPD exacerbation",null,"Yes","HRG","All activity eligible","Non-Flagged"]
[null,"P1718","Non-Flagged","DZ65C","Chronic Obstructive Pulmonary Disease or Bronchitis, with Single Intervention, with CC Score 9+","Admitted Patient Care","Non-Elective COPD","COPD exacerbation",null,"Yes","HRG","All activity eligible","Non-Flagged"]
[null,"P1718","Non-Flagged","DZ65D","Chronic Obstructive Pulmonary Disease or Bronchitis, with Single Intervention, with CC Score 5-8","Admitted Patient Care","Non-Elective COPD","COPD exacerbation",null,"Yes","HRG","All activity eligible","Non-Flagged"]
[null,"P1718","Non-Flagged","DZ65E","Chronic Obstructive Pulmonary Disease or Bronchitis, with Single Intervention, with CC Score 0-4","Admitted Patient Care","Non-Elective COPD","COPD exacerbation",null,"Yes","HRG","All activity eligible","Non-Flagged"]
[null,"P1718","Non-Flagged","DZ65F","Chronic Obstructive Pulmonary Disease or Bronchitis, without Interventions, with CC Score 13+","Admitted Patient Care","Non-Elective COPD","COPD exacerbation",null,"Yes","HRG","All activity eligible","Non-Flagged"]
[null,"P1718","Non-Flagged","DZ65G","Chronic Obstructive Pulmonary Disease or Bronchitis, without Interventions, with CC Score 9-12","Admitted Patient Care","Non-Elective COPD","COPD exacerbation",null,"Yes","HRG","All activity eligible","Non-Flagged"]
[null,"P1718","Non-Flagged","DZ65H","Chronic Obstructive Pulmonary Disease or Bronchitis, without Interventions, with CC Score 5-8","Admitted Patient Care","Non-Elective COPD","COPD exacerbation",null,"Yes","HRG","All activity eligible","Non-Flagged"]
[null,"P1718","Non-Flagged","DZ65J","Chronic Obstructive Pulmonary Disease or Bronchitis, without Interventions, with CC Score 0-4","Admitted Patient Care","Non-Elective COPD","COPD exacerbation",null,"Yes","HRG","All activity eligible","Non-Flagged"]
[null,"P1718","Non-Flagged","DZ65K","Chronic Obstructive Pulmonary Disease or Bronchitis, with length of stay 1 day or less, Discharged Home","Admitted Patient Care","Non-Elective COPD","COPD exacerbation",null,"No","HRG","All activity eligible","Non-Flagged"]
[null,"P1718","Non-Flagged","EB03A","Heart Failure or Shock, with CC Score 14+","Admitted Patient Care","Non-Elective Heart Failure","Heart failure",null,"Yes","HRG","All activity eligible","Non-Flagged"]
[null,"P1718","Non-Flagged","EB03B","Heart Failure or Shock, with CC Score 11-13","Admitted Patient Care","Non-Elective Heart Failure","Heart failure",null,"Yes","HRG","All activity eligible","Non-Flagged"]
[null,"P1718","Non-Flagged","EB03C","Heart Failure or Shock, with CC Score 8-10","Admitted Patient Care","Non-Elective Heart Failure","Heart failure",null,"Yes","HRG","All activity eligible","Non-Flagged"]
[null,"P1718","Non-Flagged","EB03D","Heart Failure or Shock, with CC Score 4-7","Admitted Patient Care","Non-Elective Heart Failure","Heart failure",null,"Yes","HRG","All activity eligible","Non-Flagged"]
[null,"P1718","Non-Flagged","EB03E","Heart Failure or Shock, with CC Score 0-3","Admitted Patient Care","Non-Elective Heart Failure","Heart failure",null,"Yes","HRG","All activity eligible","Non-Flagged"]
[null,"P1718","Non-Flagged","EY06E","Implantation of Dual-Chamber Pacemaker with CC Score 0-2","Admitted Patient Care","Day Case Incentive","Implantation of cardiac pacemaker","Medical",null,"HRG","All activity eligible","Non-Flagged"]
[null,"P1718","Non-Flagged","EY08E","Implantation of Single-Chamber Pacemaker with CC Score 0-2","Admitted Patient Care","Day Case Incentive","Implantation of cardiac pacemaker","Medical",null,"HRG","All activity eligible","Non-Flagged"]
[null,"P1718","Non-Flagged","FZ18J","Inguinal, Umbilical or Femoral Hernia Procedures, 19 years and over, with CC Score 1-2","Admitted Patient Care","Day Case Incentive","Hernia repair","General surgery",null,"HRG","All activity eligible","Non-Flagged"]
[null,"P1718","Non-Flagged","FZ18K","Inguinal, Umbilical or Femoral Hernia Procedures, 19 years and over, with CC Score 0","Admitted Patient Care","Day Case Incentive","Hernia repair","General surgery",null,"HRG","All activity eligible","Non-Flagged"]
[null,"P1718","Non-Flagged","FZ24J","Major Therapeutic Endoscopic, Upper or Lower Gastrointestinal Tract Procedures, 19 years and over, with CC Score 0","Admitted Patient Care","Endoscopy Procedures","Endoscopy procedures",null,null,"HRG","All activity eligible","Non-Flagged"]
[null,"P1718","Non-Flagged","FZ51Z","Diagnostic Colonoscopy, 19 years and over","Admitted Patient Care","Endoscopy Procedures","Endoscopy procedures",null,null,"HRG","All activity eligible","Non-Flagged"]
[null,"P1718","Non-Flagged","FZ52Z","Diagnostic Colonoscopy with Biopsy, 19 years and over","Admitted Patient Care","Endoscopy Procedures","Endoscopy procedures",null,null,"HRG","All activity eligible","Non-Flagged"]
[null,"P1718","Non-Flagged","FZ53Z","Therapeutic Colonoscopy, 19 years and over","Admitted Patient Care","Endoscopy Procedures","Endoscopy procedures",null,null,"HRG","All activity eligible","Non-Flagged"]
[null,"P1718","Non-Flagged","FZ54Z","Diagnostic Flexible Sigmoidoscopy, 19 years and over","Admitted Patient Care","Endoscopy Procedures","Endoscopy procedures",null,null,"HRG","All activity eligible","Non-Flagged"]
[null,"P1718","Non-Flagged","FZ55Z","Diagnostic Flexible Sigmoidoscopy with Biopsy, 19 years and over","Admitted Patient Care","Endoscopy Procedures","Endoscopy procedures",null,null,"HRG","All activity eligible","Non-Flagged"]
[null,"P1718","Non-Flagged","FZ56Z","Therapeutic Flexible Sigmoidoscopy, 19 years and over","Admitted Patient Care","Endoscopy Procedures","Endoscopy procedures",null,null,"HRG","All activity eligible","Non-Flagged"]
[null,"P1718","Non-Flagged","FZ60Z","Diagnostic Endoscopic Upper Gastrointestinal Tract Procedures, 19 years and over","Admitted Patient Care","Endoscopy Procedures","Endoscopy procedures",null,null,"HRG","All activity eligible","Non-Flagged"]
[null,"P1718","Non-Flagged","FZ61Z","Diagnostic Endoscopic Upper Gastrointestinal Tract Procedures with Biopsy, 19 years and over","Admitted Patient Care","Endoscopy Procedures","Endoscopy procedures",null,null,"HRG","All activity eligible","Non-Flagged"]
[null,"P1718","Non-Flagged","FZ63Z","Combined Upper and Lower Gastrointestinal Tract Diagnostic Endoscopic Procedures","Admitted Patient Care","Endoscopy Procedures","Endoscopy procedures",null,null,"HRG","All activity eligible","Non-Flagged"]
[null,"P1718","Non-Flagged","FZ64A","Combined Upper and Lower Gastrointestinal Tract Diagnostic Endoscopic Procedures with Biopsy, 19 years and over","Admitted Patient Care","Endoscopy Procedures","Endoscopy procedures",null,null,"HRG","All activity eligible","Non-Flagged"]
[null,"P1718","Non-Flagged","FZ65Z","Combined Upper and Lower Gastrointestinal Tract Therapeutic Endoscopic Procedures","Admitted Patient Care","Endoscopy Procedures","Endoscopy procedures",null,null,"HRG","All activity eligible","Non-Flagged"]
[null,"P1718","Non-Flagged","FZ70Z","Therapeutic Endoscopic Upper Gastrointestinal Tract Procedures, 19 years and over","Admitted Patient Care","Endoscopy Procedures","Endoscopy procedures",null,null,"HRG","All activity eligible","Non-Flagged"]
[null,"P1718","Non-Flagged","GA10K","Laparoscopic Cholecystectomy, 19 years and over, with CC Score 0","Admitted Patient Care","Day Case Incentive","Cholecystectomy","General surgery",null,"HRG","All activity eligible","Non-Flagged"]
[null,"P1718","Non-Flagged","GB06H","Intermediate Therapeutic Endoscopic Retrograde Cholangiopancreatography with CC Score 0-1","Admitted Patient Care","Day Case Incentive","Bone marrow biopsy","Medical",null,"HRG","All activity eligible","Non-Flagged"]
[null,"P1718","Non-Flagged","HN12E","Very Major Hip Procedures for Non-Trauma with CC Score 2-3","Admitted Patient Care","Primary Total Hip and Knee Replacements","Primary total hip replacement",null,null,"HRG","All activity eligible","Non-Flagged"]
[null,"P1718","Non-Flagged","HN12F","Very Major Hip Procedures for Non-Trauma with CC Score 0-1","Admitted Patient Care","Primary Total Hip and Knee Replacements","Primary total hip replacement",null,null,"HRG","All activity eligible","Non-Flagged"]
[null,"P1718","Non-Flagged","HN22D","Very Major Knee Procedures for Non-Trauma with CC Score 2-3","Admitted Patient Care","Primary Total Hip and Knee Replacements","Primary total knee replacement",null,null,"HRG","All activity eligible","Non-Flagged"]
[null,"P1718","Non-Flagged","HN22E","Very Major Knee Procedures for Non-Trauma with CC Score 0-1","Admitted Patient Care","Primary Total Hip and Knee Replacements","Primary total knee replacement",null,null,"HRG","All activity eligible","Non-Flagged"]
[null,"P1718","Non-Flagged","KA03D","Parathyroid Procedures with CC Score 0-1","Admitted Patient Care","Day Case Incentive","Excision of lesion of parathyroids","Head and neck",null,"HRG","All activity eligible","Non-Flagged"]
[null,"P1718","Non-Flagged","LB13E","Major Endoscopic Bladder Procedures with CC Score 2-4","Admitted Patient Care","Day Case Incentive","Endoscopic resection/destruction of lesion of bladder","Urology",null,"HRG","All activity eligible","Non-Flagged"]
[null,"P1718","Non-Flagged","LB13F","Major Endoscopic Bladder Procedures with CC Score 0-1","Admitted Patient Care","Day Case Incentive","Endoscopic resection/destruction of lesion of bladder","Urology",null,"HRG","All activity eligible","Non-Flagged"]
[null,"P1718","Non-Flagged","LB14Z","Intermediate Endoscopic Bladder Procedures","Outpatients","Outpatient Procedure","Diagnostic cystoscopy",null,null,"HRG","All activity eligible","Non-Flagged"]
[null,"P1718","Non-Flagged","LB25E","Transurethral Prostate Resection Procedures with CC Score 3-5","Admitted Patient Care","Day Case Incentive","Endoscopic resection of prostate (TUR)","Urology",null,"HRG","All activity eligible","Non-Flagged"]
[null,"P1718","Non-Flagged","LB25F","Transurethral Prostate Resection Procedures with CC Score 0-2","Admitted Patient Care","Day Case Incentive","Endoscopic resection of prostate (TUR)","Urology",null,"HRG","All activity eligible","Non-Flagged"]
[null,"P1718","Non-Flagged","LB51B","Vaginal Tape Operations for Urinary Incontinence, with CC Score 0-1","Admitted Patient Care","Day Case Incentive","Operations to manage female incontinence","Gynaecology",null,"HRG","All activity eligible","Non-Flagged"]
[null,"P1718","Non-Flagged","LB72A","Diagnostic Flexible Cystoscopy, 19 years and over","Outpatients","Outpatient Procedure","Diagnostic cystoscopy",null,null,"HRG","All activity eligible","Non-Flagged"]
[null,"P1718","Non-Flagged","LD01A","Hospital Haemodialysis or Filtration, with Access via Haemodialysis Catheter, 19 years and over","National Renal Dataset","Renal","Haemodialysis",null,null,"HRG","Non SUS activity flow","Non-Flagged - NRD"]
[null,"P1718","Non-Flagged","LD02A","Hospital Haemodialysis or Filtration, with Access via Arteriovenous Fistula or Graft, 19 years and over","National Renal Dataset","Renal","Haemodialysis",null,null,"HRG","Non SUS activity flow","Non-Flagged - NRD"]
[null,"P1718","Non-Flagged","LD03A","Hospital Haemodialysis or Filtration, with Access via Haemodialysis Catheter, with Blood-Borne Virus, 19 years and over","National Renal Dataset","Renal","Haemodialysis",null,null,"HRG","Non SUS activity flow","Non-Flagged - NRD"]
[null,"P1718","Non-Flagged","LD04A","Hospital Haemodialysis or Filtration, with Access via Arteriovenous Fistula or Graft, with Blood-Borne Virus, 19 years and over","National Renal Dataset","Renal","Haemodialysis",null,null,"HRG","Non SUS activity flow","Non-Flagged - NRD"]
[null,"P1718","Non-Flagged","LD05A","Satellite Haemodialysis or Filtration, with Access via Haemodialysis Catheter, 19 years and over","National Renal Dataset","Renal","Haemodialysis",null,null,"HRG","Non SUS activity flow","Non-Flagged - NRD"]
[null,"P1718","Non-Flagged","LD06A","Satellite Haemodialysis or Filtration, with Access via Arteriovenous Fistula or Graft, 19 years and over","National Renal Dataset","Renal","Haemodialysis",null,null,"HRG","Non SUS activity flow","Non-Flagged - NRD"]
[null,"P1718","Non-Flagged","LD07A","Satellite Haemodialysis or Filtration, with Access via Haemodialysis Catheter, with Blood-Borne Virus, 19 years and over","National Renal Dataset","Renal","Haemodialysis",null,null,"HRG","Non SUS activity flow","Non-Flagged - NRD"]
[null,"P1718","Non-Flagged","LD08A","Satellite Haemodialysis or Filtration, with Access via Arteriovenous Fistula or Graft, with Blood-Borne Virus, 19 years and over","National Renal Dataset","Renal","Haemodialysis",null,null,"HRG","Non SUS activity flow","Non-Flagged - NRD"]
[null,"P1718","Non-Flagged","LD09A","Home Haemodialysis or Filtration, with Access via Haemodialysis Catheter, 19 years and over","National Renal Dataset","Renal","Haemodialysis",null,null,"HRG","Non SUS activity flow","Non-Flagged - NRD"]
[null,"P1718","Non-Flagged","LD10A","Home Haemodialysis or Filtration, with Access via Arteriovenous Fistula or Graft, 19 years and over","National Renal Dataset","Renal","Haemodialysis",null,null,"HRG","Non SUS activity flow","Non-Flagged - NRD"]
[null,"P1718","Non-Flagged","MA04D","Intermediate Open Lower Genital Tract Procedures with CC Score 0-2","Admitted Patient Care","Day Case Incentive","Anterior or posterior colporrhaphy ","Gynaecology",null,"HRG","All activity eligible","Non-Flagged"]
[null,"P1718","Non-Flagged","MA10Z","Minor, Laparoscopic or Endoscopic, Upper Genital Tract Procedures","Outpatients","Outpatient Procedure","Hysteroscopic sterilisation",null,null,"HRG","All activity eligible","Non-Flagged"]
[null,"P1718","Non-Flagged","MA31Z","Diagnostic Hysteroscopy","Outpatients","Outpatient Procedure","Diagnostic hysteroscopy",null,null,"HRG","All activity eligible","Non-Flagged"]
[null,"P1718","Non-Flagged","MA32Z","Diagnostic Hysteroscopy with Biopsy","Outpatients","Outpatient Procedure","Diagnostic hysteroscopy",null,null,"HRG","All activity eligible","Non-Flagged"]
[null,"P1718","Non-Flagged","YD04Z","Percutaneous Drainage of Pleural Cavity","Admitted Patient Care","Day Case Pleural Effusion","Pleural effusion",null,null,"HRG","All activity eligible","Non-Flagged"]
[null,"P1718","Non-Flagged","YD05Z","Percutaneous Aspiration of Pleural Cavity","Admitted Patient Care","Day Case Pleural Effusion","Pleural effusion",null,null,"HRG","All activity eligible","Non-Flagged"]
[null,"P1718","Non-Flagged","YG11A","Percutaneous Punch Biopsy of Lesion of Liver, 19 years and over","Admitted Patient Care","Day Case Incentive","Liver biopsy","Medical",null,"HRG","All activity eligible","Non-Flagged"]
[null,"P1718","Non-Flagged","YL20A","Percutaneous Needle Biopsy of Lesion of Kidney, 19 years and over","Admitted Patient Care","Day Case Incentive","Renal biopsy","Medical",null,"HRG","All activity eligible","Non-Flagged"]

{"sheet":"BP Tariff Adjustments","index":5,"n_rows":246,"n_cols":27,"rows_kept":246,"cut":false,"hidden":false,"merged":[]}
[]
[null,"HRG4+ 2017/18 Payment: Best Practice Tariff Adjustments "]
[null,null,null,null,null,null,null,null,null,null,null,null,null,null,null,null,null,null,"THIS IS THE BP TARIFF PAID"]
[null,"Design Base","BP Flag","Core HRG code","Core HRG name","BP Category","Sub Categories (DC and SDEM only)","ICD-10 or OPCS-4 Triggers","Admission Type","Admission Sub Type","SUS Admission Type","SUS Admission Sub Type","Spell Age (lowest)","Spell Age (highest)","Unknown Age Code '999' Applicable","Minimum Spell Length of Stay (days)","Maximum Spell Length of Stay (days)","Original Tariff (£)","Adjusted Tariff (£)","BPT Adjustment (£)","Alteplase Adjustment (£)",null,"Best Practice tariff ","Non - Best Practice tariff ","Incentive (Payment above the original tariff)","Additional payment above base tariff to be paid by Commissioners if BP met","Notes"]
[null,"P1718","BP01","HT12A","Very Major Hip Procedures for Trauma with CC Score 12+","Non-Elective Fragility Hip Fracture",null,"Both","Non-Elective","Emergency and Transfers (21-25, 28, 81, 2A, 2B, 2C, 2D)","NON","EMR, OTH",60,130,"No",0,32000,12851,12211,-640,null,null,13546,12211,695,1335]
[null,"P1718","BP01","HT12B","Very Major Hip Procedures for Trauma with CC Score 9-11","Non-Elective Fragility Hip Fracture",null,"Both","Non-Elective","Emergency and Transfers (21-25, 28, 81, 2A, 2B, 2C, 2D)","NON","EMR, OTH",60,130,"No",0,32000,9871,9230,-641,null,null,10565,9230,694,1335]
[null,"P1718","BP01","HT12C","Very Major Hip Procedures for Trauma with CC Score 6-8","Non-Elective Fragility Hip Fracture",null,"Both","Non-Elective","Emergency and Transfers (21-25, 28, 81, 2A, 2B, 2C, 2D)","NON","EMR, OTH",60,130,"No",0,32000,8091,7450,-641,null,null,8785,7450,694,1335]
[null,"P1718","BP01","HT12D","Very Major Hip Procedures for Trauma with CC Score 3-5","Non-Elective Fragility Hip Fracture",null,"Both","Non-Elective","Emergency and Transfers (21-25, 28, 81, 2A, 2B, 2C, 2D)","NON","EMR, OTH",60,130,"No",0,32000,6602,5961,-641,null,null,7296,5961,694,1335]
[null,"P1718","BP01","HT12E","Very Major Hip Procedures for Trauma with CC Score 0-2","Non-Elective Fragility Hip Fracture",null,"Both","Non-Elective","Emergency and Transfers (21-25, 28, 81, 2A, 2B, 2C, 2D)","NON","EMR, OTH",60,130,"No",0,32000,5654,5013,-641,null,null,6348,5013,694,1335]
[null,"P1718","BP01","HT13A","Major Hip Procedures for Trauma with CC Score 12+","Non-Elective Fragility Hip Fracture",null,"Both","Non-Elective","Emergency and Transfers (21-25, 28, 81, 2A, 2B, 2C, 2D)","NON","EMR, OTH",60,130,"No",0,32000,12618,11977,-641,null,null,13312,11977,694,1335]
[null,"P1718","BP01","HT13B","Major Hip Procedures for Trauma with CC Score 9-11","Non-Elective Fragility Hip Fracture",null,"Both","Non-Elective","Emergency and Transfers (21-25, 28, 81, 2A, 2B, 2C, 2D)","NON","EMR, OTH",60,130,"No",0,32000,9321,8680,-641,null,null,10015,8680,694,1335]
[null,"P1718","BP01","HT13C","Major Hip Procedures for Trauma with CC Score 6-8","Non-Elective Fragility Hip Fracture",null,"Both","Non-Elective","Emergency and Transfers (21-25, 28, 81, 2A, 2B, 2C, 2D)","NON","EMR, OTH",60,130,"No",0,32000,7133,6492,-641,null,null,7827,6492,694,1335]
[null,"P1718","BP01","HT13D","Major Hip Procedures for Trauma with CC Score 3-5","Non-Elective Fragility Hip Fracture",null,"Both","Non-Elective","Emergency and Transfers (21-25, 28, 81, 2A, 2B, 2C, 2D)","NON","EMR, OTH",60,130,"No",0,32000,6231,5590,-641,null,null,6925,5590,694,1335]
[null,"P1718","BP01","HT13E","Major Hip Procedures for Trauma with CC Score 0-2","Non-Elective Fragility Hip Fracture",null,"Both","Non-Elective","Emergency and Transfers (21-25, 28, 81, 2A, 2B, 2C, 2D)","NON","EMR, OTH",60,130,"No",0,32000,4590,3949,-641,null,null,5284,3949,694,1335]
[null,"P1718","BP01","VA11A","Multiple Trauma with Diagnosis Score <=23, with Intervention Score 1-8","Non-Elective Fragility Hip Fracture",null,"Both","Non-Elective","Emergency and Transfers (21-25, 28, 81, 2A, 2B, 2C, 2D)","NON","EMR, OTH",60,130,"No",0,32000,1662,1021,-641,null,null,2356,1021,694,1335]
[null,"P1718","BP01","VA11B","Multiple Trauma with Diagnosis Score 24-32, with Intervention Score 1-8","Non-Elective Fragility Hip Fracture",null,"Both","Non-Elective","Emergency and Transfers (21-25, 28, 81, 2A, 2B, 2C, 2D)","NON","EMR, OTH",60,130,"No",0,32000,2395,1755,-640,null,null,3090,1755,695,1335]
[null,"P1718","BP01","VA11C","Multiple Trauma with Diagnosis Score 33-50, with Intervention Score 1-8","Non-Elective Fragility Hip Fracture",null,"Both","Non-Elective","Emergency and Transfers (21-25, 28, 81, 2A, 2B, 2C, 2D)","NON","EMR, OTH",60,130,"No",0,32000,4029,3389,-640,null,null,4724,3389,695,1335]
[null,"P1718","BP01","VA11D","Multiple Trauma with Diagnosis Score >=51, with Intervention Score 1-8","Non-Elective Fragility Hip Fracture",null,"Both","Non-Elective","Emergency and Transfers (21-25, 28, 81, 2A, 2B, 2C, 2D)","NON","EMR, OTH",60,130,"No",0,32000,7466,6826,-640,null,null,8161,6826,695,1335]
[null,"P1718","BP01","VA12A","Multiple Trauma with Diagnosis Score <=23, with Intervention Score 9-18","Non-Elective Fragility Hip Fracture",null,"Both","Non-Elective","Emergency and Transfers (21-25, 28, 81, 2A, 2B, 2C, 2D)","NON","EMR, OTH",60,130,"No",0,32000,3774,3133,-641,null,null,4468,3133,694,1335]
[null,"P1718","BP01","VA12B","Multiple Trauma with Diagnosis Score 24-32, with Intervention Score 9-18","Non-Elective Fragility Hip Fracture",null,"Both","Non-Elective","Emergency and Transfers (21-25, 28, 81, 2A, 2B, 2C, 2D)","NON","EMR, OTH",60,130,"No",0,32000,4953,4313,-640,null,null,5648,4313,695,1335]
[null,"P1718","BP01","VA12C","Multiple Trauma with Diagnosis Score 33-50, with Intervention Score 9-18","Non-Elective Fragility Hip Fracture",null,"Both","Non-Elective","Emergency and Transfers (21-25, 28, 81, 2A, 2B, 2C, 2D)","NON","EMR, OTH",60,130,"No",0,32000,6380,5739,-641,null,null,7074,5739,694,1335]
[null,"P1718","BP01","VA12D","Multiple Trauma with Diagnosis Score >=51, with Intervention Score 9-18","Non-Elective Fragility Hip Fracture",null,"Both","Non-Elective","Emergency and Transfers (21-25, 28, 81, 2A, 2B, 2C, 2D)","NON","EMR, OTH",60,130,"No",0,32000,9542,8901,-641,null,null,10236,8901,694,1335]
[null,"P1718","BP02","EB10A","Actual or Suspected Myocardial Infarction, with CC Score 13+","Non-Elective MI",null,"ICD-10","Non-Elective","Emergency and Transfers (21-25, 28, 81, 2A, 2B, 2C, 2D)","NON","EMR, OTH",19,130,"Yes",0,1,4676,1403,-3273,null,null,null,null,null,null,"These have Short stay tariffs"]
[null,"P1718","BP02","EB10A","Actual or Suspected Myocardial Infarction, with CC Score 13+","Non-Elective MI",null,"ICD-10","Non-Elective","Emergency and Transfers (21-25, 28, 81, 2A, 2B, 2C, 2D)","NON","EMR, OTH",19,130,"Yes",2,32000,4676,4676,0,null,null,null,null,null,null,"These have Short stay tariffs"]
[null,"P1718","BP02","EB10B","Actual or Suspected Myocardial Infarction, with CC Score 10-12","Non-Elective MI",null,"ICD-10","Non-Elective","Emergency and Transfers (21-25, 28, 81, 2A, 2B, 2C, 2D)","NON","EMR, OTH",19,130,"Yes",0,1,2991,897,-2094,null,null,null,null,null,null,"These have Short stay tariffs"]
[null,"P1718","BP02","EB10B","Actual or Suspected Myocardial Infarction, with CC Score 10-12","Non-Elective MI",null,"ICD-10","Non-Elective","Emergency and Transfers (21-25, 28, 81, 2A, 2B, 2C, 2D)","NON","EMR, OTH",19,130,"Yes",2,32000,2991,2991,0,null,null,null,null,null,null,"These have Short stay tariffs"]
[null,"P1718","BP02","EB10C","Actual or Suspected Myocardial Infarction, with CC Score 7-9","Non-Elective MI",null,"ICD-10","Non-Elective","Emergency and Transfers (21-25, 28, 81, 2A, 2B, 2C, 2D)","NON","EMR, OTH",19,130,"Yes",0,1,2202,660,-1542,null,null,null,null,null,null,"These have Short stay tariffs"]
[null,"P1718","BP02","EB10C","Actual or Suspected Myocardial Infarction, with CC Score 7-9","Non-Elective MI",null,"ICD-10","Non-Elective","Emergency and Transfers (21-25, 28, 81, 2A, 2B, 2C, 2D)","NON","EMR, OTH",19,130,"Yes",2,32000,2202,2202,0,null,null,null,null,null,null,"These have Short stay tariffs"]
[null,"P1718","BP02","EB10D","Actual or Suspected Myocardial Infarction, with CC Score 4-6","Non-Elective MI",null,"ICD-10","Non-Elective","Emergency and Transfers (21-25, 28, 81, 2A, 2B, 2C, 2D)","NON","EMR, OTH",19,130,"Yes",0,1,1653,827,-826,null,null,null,null,null,null,"These have Short stay tariffs"]
[null,"P1718","BP02","EB10D","Actual or Suspected Myocardial Infarction, with CC Score 4-6","Non-Elective MI",null,"ICD-10","Non-Elective","Emergency and Transfers (21-25, 28, 81, 2A, 2B, 2C, 2D)","NON","EMR, OTH",19,130,"Yes",2,32000,1653,1653,0,null,null,null,null,null,null,"These have Short stay tariffs"]
[null,"P1718","BP02","EB10E","Actual or Suspected Myocardial Infarction, with CC Score 0-3","Non-Elective MI",null,"ICD-10","Non-Elective","Emergency and Transfers (21-25, 28, 81, 2A, 2B, 2C, 2D)","NON","EMR, OTH",19,130,"Yes",0,1,1313,657,-656,null,null,null,null,null,null,"These have Short stay tariffs"]
[null,"P1718","BP02","EB10E","Actual or Suspected Myocardial Infarction, with CC Score 0-3","Non-Elective MI",null,"ICD-10","Non-Elective","Emergency and Transfers (21-25, 28, 81, 2A, 2B, 2C, 2D)","NON","EMR, OTH",19,130,"Yes",2,32000,1313,1313,0,null,null,null,null,null,null,"These have Short stay tariffs"]
[null,"P1718","BP02","EY40A","Complex Percutaneous Transluminal Coronary Angioplasty with CC Score 12+","Non-Elective MI",null,"ICD-10","Non-Elective","Emergency and Transfers (21-25, 28, 81, 2A, 2B, 2C, 2D)","NON","EMR, OTH",19,130,"Yes",0,32000,7186,7186,0]
[null,"P1718","BP02","EY40B","Complex Percutaneous Transluminal Coronary Angioplasty with CC Score 8-11","Non-Elective MI",null,"ICD-10","Non-Elective","Emergency and Transfers (21-25, 28, 81, 2A, 2B, 2C, 2D)","NON","EMR, OTH",19,130,"Yes",0,32000,5124,5124,0]
[null,"P1718","BP02","EY40C","Complex Percutaneous Transluminal Coronary Angioplasty with CC Score 4-7","Non-Elective MI",null,"ICD-10","Non-Elective","Emergency and Transfers (21-25, 28, 81, 2A, 2B, 2C, 2D)","NON","EMR, OTH",19,130,"Yes",0,32000,3514,3514,0]
[null,"P1718","BP02","EY40D","Complex Percutaneous Transluminal Coronary Angioplasty with CC Score 0-3","Non-Elective MI",null,"ICD-10","Non-Elective","Emergency and Transfers (21-25, 28, 81, 2A, 2B, 2C, 2D)","NON","EMR, OTH",19,130,"Yes",0,32000,2760,2760,0]
[null,"P1718","BP02","EY41A","Standard Percutaneous Transluminal Coronary Angioplasty with CC Score 12+","Non-Elective MI",null,"ICD-10","Non-Elective","Emergency and Transfers (21-25, 28, 81, 2A, 2B, 2C, 2D)","NON","EMR, OTH",19,130,"Yes",0,32000,7101,7101,0]
[null,"P1718","BP02","EY41B","Standard Percutaneous Transluminal Coronary Angioplasty with CC Score 8-11","Non-Elective MI",null,"ICD-10","Non-Elective","Emergency and Transfers (21-25, 28, 81, 2A, 2B, 2C, 2D)","NON","EMR, OTH",19,130,"Yes",0,32000,4277,4277,0]
[null,"P1718","BP02","EY41C","Standard Percutaneous Transluminal Coronary Angioplasty with CC Score 4-7","Non-Elective MI",null,"ICD-10","Non-Elective","Emergency and Transfers (21-25, 28, 81, 2A, 2B, 2C, 2D)","NON","EMR, OTH",19,130,"Yes",0,32000,3055,3055,0]
[null,"P1718","BP02","EY41D","Standard Percutaneous Transluminal Coronary Angioplasty with CC Score 0-3","Non-Elective MI",null,"ICD-10","Non-Elective","Emergency and Transfers (21-25, 28, 81, 2A, 2B, 2C, 2D)","NON","EMR, OTH",19,130,"Yes",0,32000,2403,2403,0]
[null,"P1718","BP02","EY42A","Complex Cardiac Catheterisation with CC Score 7+","Non-Elective MI",null,"ICD-10","Non-Elective","Emergency and Transfers (21-25, 28, 81, 2A, 2B, 2C, 2D)","NON","EMR, OTH",19,130,"Yes",0,32000,4802,4802,0]
[null,"P1718","BP02","EY42B","Complex Cardiac Catheterisation with CC Score 4-6","Non-Elective MI",null,"ICD-10","Non-Elective","Emergency and Transfers (21-25, 28, 81, 2A, 2B, 2C, 2D)","NON","EMR, OTH",19,130,"Yes",0,32000,2982,2982,0]
[null,"P1718","BP02","EY42C","Complex Cardiac Catheterisation with CC Score 2-3","Non-Elective MI",null,"ICD-10","Non-Elective","Emergency and Transfers (21-25, 28, 81, 2A, 2B, 2C, 2D)","NON","EMR, OTH",19,130,"Yes",0,32000,2293,2293,0]
[null,"P1718","BP02","EY42D","Complex Cardiac Catheterisation with CC Score 0-1","Non-Elective MI",null,"ICD-10","Non-Elective","Emergency and Transfers (21-25, 28, 81, 2A, 2B, 2C, 2D)","NON","EMR, OTH",19,130,"Yes",0,32000,1853,1853,0]
[null,"P1718","BP02","EY43A","Standard Cardiac Catheterisation with CC Score 13+","Non-Elective MI",null,"ICD-10","Non-Elective","Emergency and Transfers (21-25, 28, 81, 2A, 2B, 2C, 2D)","NON","EMR, OTH",19,130,"Yes",0,32000,7983,7983,0]
[null,"P1718","BP02","EY43B","Standard Cardiac Catheterisation with CC Score 10-12","Non-Elective MI",null,"ICD-10","Non-Elective","Emergency and Transfers (21-25, 28, 81, 2A, 2B, 2C, 2D)","NON","EMR, OTH",19,130,"Yes",0,32000,5446,5446,0]
[null,"P1718","BP02","EY43C","Standard Cardiac Catheterisation with CC Score 7-9","Non-Elective MI",null,"ICD-10","Non-Elective","Emergency and Transfers (21-25, 28, 81, 2A, 2B, 2C, 2D)","NON","EMR, OTH",19,130,"Yes",0,32000,4105,4105,0]
[null,"P1718","BP02","EY43D","Standard Cardiac Catheterisation with CC Score 4-6","Non-Elective MI",null,"ICD-10","Non-Elective","Emergency and Transfers (21-25, 28, 81, 2A, 2B, 2C, 2D)","NON","EMR, OTH",19,130,"Yes",0,32000,2982,2982,0]
[null,"P1718","BP02","EY43E","Standard Cardiac Catheterisation with CC Score 2-3","Non-Elective MI",null,"ICD-10","Non-Elective","Emergency and Transfers (21-25, 28, 81, 2A, 2B, 2C, 2D)","NON","EMR, OTH",19,130,"Yes",0,32000,2280,2280,0]
[null,"P1718","BP02","EY43F","Standard Cardiac Catheterisation with CC Score 0-1","Non-Elective MI",null,"ICD-10","Non-Elective","Emergency and Transfers (21-25, 28, 81, 2A, 2B, 2C, 2D)","NON","EMR, OTH",19,130,"Yes",0,32000,1763,1763,0]
[null,"P1718","BP15","HN54C","Intermediate Shoulder Procedures for Non-Trauma, 19 years and over, with CC Score 0-1","Day Case Incentive","Orthopaedic surgery","OPCS-4","Day Case","Elective (11, 12, 13)","DAY","ELE",19,130,"Yes",0,0,2231,2275,44]
[null,"P1718","BP15","HN54C","Intermediate Shoulder Procedures for Non-Trauma, 19 years and over, with CC Score 0-1","Day Case Incentive","Orthopaedic surgery","OPCS-4","Ordinary","Elective (11, 12, 13)","ELE","ELE",19,130,"Yes",0,32000,2231,2052,-179]
[null,"P1718","BP16","HN34C","Intermediate Foot Procedures for Non-Trauma, 19 years and over, with CC Score 0-1","Day Case Incentive","Orthopaedic surgery","OPCS-4","Day Case","Elective (11, 12, 13)","DAY","ELE",19,130,"Yes",0,0,1702,1736,34]
[null,"P1718","BP16","HN34C","Intermediate Foot Procedures for Non-Trauma, 19 years and over, with CC Score 0-1","Day Case Incentive","Orthopaedic surgery","OPCS-4","Ordinary","Elective (11, 12, 13)","ELE","ELE",19,130,"Yes",0,32000,1702,1566,-136]
[null,"P1718","BP17","HN44B","Intermediate Hand Procedures for Non-Trauma, 19 years and over, with CC Score 0-1","Day Case Incentive","Orthopaedic surgery","OPCS-4","Day Case","Elective (11, 12, 13)","DAY","ELE",19,130,"Yes",0,0,1681,1715,34]
[null,"P1718","BP17","HN44B","Intermediate Hand Procedures for Non-Trauma, 19 years and over, with CC Score 0-1","Day Case Incentive","Orthopaedic surgery","OPCS-4","Ordinary","Elective (11, 12, 13)","ELE","ELE",19,130,"Yes",0,32000,1681,1547,-134]
[null,"P1718","BP28","JA20F","Unilateral Major Breast Procedures with CC Score 0-2","Day Case Incentive","Breast surgery","OPCS-4","Day Case","Elective (11, 12, 13)","DAY","ELE",19,130,"Yes",0,0,1957,2123,166]
[null,"P1718","BP28","JA20F","Unilateral Major Breast Procedures with CC Score 0-2","Day Case Incentive","Breast surgery","OPCS-4","Ordinary","Elective (11, 12, 13)","ELE","ELE",19,130,"Yes",0,32000,1957,1928,-29]
[null,"P1718","BP28","JA38C","Unilateral Major Breast Procedures with Lymph Node Clearance, with CC Score 0-1","Day Case Incentive","Breast surgery","OPCS-4","Day Case","Elective (11, 12, 13)","DAY","ELE",19,130,"Yes",0,0,2738,2971,233]
[null,"P1718","BP28","JA38C","Unilateral Major Breast Procedures with Lymph Node Clearance, with CC Score 0-1","Day Case Incentive","Breast surgery","OPCS-4","Ordinary","Elective (11, 12, 13)","ELE","ELE",19,130,"Yes",0,32000,2738,2697,-41]
[null,"P1718","BP29","JA20F","Unilateral Major Breast Procedures with CC Score 0-2","Day Case Incentive","Breast surgery","OPCS-4","Day Case","Elective (11, 12, 13)","DAY","ELE",19,130,"Yes",0,0,1957,2006,49]
[null,"P1718","BP29","JA20F","Unilateral Major Breast Procedures with CC Score 0-2","Day Case Incentive","Breast surgery","OPCS-4","Ordinary","Elective (11, 12, 13)","ELE","ELE",19,130,"Yes",0,32000,1957,1810,-147]
[null,"P1718","BP29","JA43B","Unilateral Intermediate Breast Procedures with CC Score 0-2","Day Case Incentive","Breast surgery","OPCS-4","Day Case","Elective (11, 12, 13)","DAY","ELE",19,130,"Yes",0,0,1103,1169,66]
[null,"P1718","BP29","JA43B","Unilateral Intermediate Breast Procedures with CC Score 0-2","Day Case Incentive","Breast surgery","OPCS-4","Ordinary","Elective (11, 12, 13)","ELE","ELE",19,130,"Yes",0,32000,1103,1059,-44]
[null,"P1718","BP31","YJ04Z","Core Needle Biopsy of Axillary Lymph Nodes","Day Case Incentive","Breast surgery","OPCS-4","Day Case","Elective (11, 12, 13)","DAY","ELE",19,130,"Yes",0,0,1236,1261,25]
[null,"P1718","BP31","YJ04Z","Core Needle Biopsy of Axillary Lymph Nodes","Day Case Incentive","Breast surgery","OPCS-4","Ordinary","Elective (11, 12, 13)","ELE","ELE",19,130,"Yes",0,32000,1236,1137,-99]
[null,"P1718","BP32","JA20F","Unilateral Major Breast Procedures with CC Score 0-2","Day Case Incentive","Breast surgery","OPCS-4","Day Case","Elective (11, 12, 13)","DAY","ELE",19,130,"Yes",0,0,1957,2074,117]
[null,"P1718","BP32","JA20F","Unilateral Major Breast Procedures with CC Score 0-2","Day Case Incentive","Breast surgery","OPCS-4","Ordinary","Elective (11, 12, 13)","ELE","ELE",19,130,"Yes",0,32000,1957,1879,-78]
[null,"P1718","BP35","AA26F","Muscular, Balance, Cranial or Peripheral Nerve Disorders, Epilepsy or Head Injury, with CC Score 6-8","Non-Elective Same Day Emergency","Epilepsy","ICD-10","Non-Elective","Emergency (21-25, 28, 2A, 2B, 2C, 2D)","NON","EMR",19,130,"Yes",0,0,1492,1685,193]
[null,"P1718","BP35","AA26F","Muscular, Balance, Cranial or Peripheral Nerve Disorders, Epilepsy or Head Injury, with CC Score 6-8","Non-Elective Same Day Emergency","Epilepsy","ICD-10","Non-Elective","Emergency (21-25, 28, 2A, 2B, 2C, 2D)","NON","EMR",19,130,"Yes",1,32000,1492,1444,-48]
[null,"P1718","BP35","AA26G","Muscular, Balance, Cranial or Peripheral Nerve Disorders, Epilepsy or Head Injury, with CC Score 3-5","Non-Elective Same Day Emergency","Epilepsy","ICD-10","Non-Elective","Emergency (21-25, 28, 2A, 2B, 2C, 2D)","NON","EMR",19,130,"Yes",0,0,920,1078,158]
[null,"P1718","BP35","AA26G","Muscular, Balance, Cranial or Peripheral Nerve Disorders, Epilepsy or Head Injury, with CC Score 3-5","Non-Elective Same Day Emergency","Epilepsy","ICD-10","Non-Elective","Emergency (21-25, 28, 2A, 2B, 2C, 2D)","NON","EMR",19,130,"Yes",1,32000,920,838,-82]
[null,"P1718","BP35","AA26H","Muscular, Balance, Cranial or Peripheral Nerve Disorders, Epilepsy or Head Injury, with CC Score 0-2","Non-Elective Same Day Emergency","Epilepsy","ICD-10","Non-Elective","Emergency (21-25, 28, 2A, 2B, 2C, 2D)","NON","EMR",19,130,"Yes",0,0,552,670,118]
[null,"P1718","BP35","AA26H","Muscular, Balance, Cranial or Peripheral Nerve Disorders, Epilepsy or Head Injury, with CC Score 0-2","Non-Elective Same Day Emergency","Epilepsy","ICD-10","Non-Elective","Emergency (21-25, 28, 2A, 2B, 2C, 2D)","NON","EMR",19,130,"Yes",1,32000,552,430,-122]
[null,"P1718","BP38","WH04E","Poisoning Diagnosis without Interventions, with CC Score 0-1","Non-Elective Same Day Emergency","Self harm","NONE","Non-Elective","Emergency (21-25, 28, 2A, 2B, 2C, 2D)","NON","EMR",19,130,"Yes",0,0,452,563,111]
[null,"P1718","BP38","WH04E","Poisoning Diagnosis without Interventions, with CC Score 0-1","Non-Elective Same Day Emergency","Self harm","NONE","Non-Elective","Emergency (21-25, 28, 2A, 2B, 2C, 2D)","NON","EMR",19,130,"Yes",1,32000,452,345,-107]
[null,"P1718","BP39","JD07H","Skin Disorders without Interventions, with CC Score 6-9","Non-Elective Same Day Emergency","Cellulitis","ICD-10","Non-Elective","Emergency (21-25, 28, 2A, 2B, 2C, 2D)","NON","EMR",19,130,"Yes",0,0,2146,2342,196]
[null,"P1718","BP39","JD07H","Skin Disorders without Interventions, with CC Score 6-9","Non-Elective Same Day Emergency","Cellulitis","ICD-10","Non-Elective","Emergency (21-25, 28, 2A, 2B, 2C, 2D)","NON","EMR",19,130,"Yes",1,32000,2146,2111,-35]
[null,"P1718","BP39","JD07J","Skin Disorders without Interventions, with CC Score 2-5","Non-Elective Same Day Emergency","Cellulitis","ICD-10","Non-Elective","Emergency (21-25, 28, 2A, 2B, 2C, 2D)","NON","EMR",19,130,"Yes",0,0,1165,1315,150]
[null,"P1718","BP39","JD07J","Skin Disorders without Interventions, with CC Score 2-5","Non-Elective Same Day Emergency","Cellulitis","ICD-10","Non-Elective","Emergency (21-25, 28, 2A, 2B, 2C, 2D)","NON","EMR",19,130,"Yes",1,32000,1165,1084,-81]
[null,"P1718","BP39","JD07K","Skin Disorders without Interventions, with CC Score 0-1","Non-Elective Same Day Emergency","Cellulitis","ICD-10","Non-Elective","Emergency (21-25, 28, 2A, 2B, 2C, 2D)","NON","EMR",19,130,"Yes",0,0,580,684,104]
[null,"P1718","BP39","JD07K","Skin Disorders without Interventions, with CC Score 0-1","Non-Elective Same Day Emergency","Cellulitis","ICD-10","Non-Elective","Emergency (21-25, 28, 2A, 2B, 2C, 2D)","NON","EMR",19,130,"Yes",1,32000,580,454,-126]
[null,"P1718","BP40","EB12B","Unspecified Chest Pain with CC Score 5-10","Non-Elective Same Day Emergency","Chest pain","ICD-10","Non-Elective","Emergency (21-25, 28, 2A, 2B, 2C, 2D)","NON","EMR",19,130,"Yes",0,0,508,631,123]
[null,"P1718","BP40","EB12B","Unspecified Chest Pain with CC Score 5-10","Non-Elective Same Day Emergency","Chest pain","ICD-10","Non-Elective","Emergency (21-25, 28, 2A, 2B, 2C, 2D)","NON","EMR",19,130,"Yes",1,32000,508,402,-106]
[null,"P1718","BP40","EB12C","Unspecified Chest Pain with CC Score 0-4","Non-Elective Same Day Emergency","Chest pain","ICD-10","Non-Elective","Emergency (21-25, 28, 2A, 2B, 2C, 2D)","NON","EMR",19,130,"Yes",0,0,346,420,74]
[null,"P1718","BP40","EB12C","Unspecified Chest Pain with CC Score 0-4","Non-Elective Same Day Emergency","Chest pain","ICD-10","Non-Elective","Emergency (21-25, 28, 2A, 2B, 2C, 2D)","NON","EMR",19,130,"Yes",1,32000,346,191,-155]
[null,"P1718","BP40","EB13C","Angina with CC Score 4-7","Non-Elective Same Day Emergency","Chest pain","ICD-10","Non-Elective","Emergency (21-25, 28, 2A, 2B, 2C, 2D)","NON","EMR",19,130,"Yes",0,0,621,763,142]
[null,"P1718","BP40","EB13C","Angina with CC Score 4-7","Non-Elective Same Day Emergency","Chest pain","ICD-10","Non-Elective","Emergency (21-25, 28, 2A, 2B, 2C, 2D)","NON","EMR",19,130,"Yes",1,32000,621,534,-87]
[null,"P1718","BP40","EB13D","Angina with CC Score 0-3","Non-Elective Same Day Emergency","Chest pain","ICD-10","Non-Elective","Emergency (21-25, 28, 2A, 2B, 2C, 2D)","NON","EMR",19,130,"Yes",0,0,471,583,112]
[null,"P1718","BP40","EB13D","Angina with CC Score 0-3","Non-Elective Same Day Emergency","Chest pain","ICD-10","Non-Elective","Emergency (21-25, 28, 2A, 2B, 2C, 2D)","NON","EMR",19,130,"Yes",1,32000,471,354,-117]
[null,"P1718","BP41","EB08E","Syncope or Collapse, with CC Score 0-3","Non-Elective Same Day Emergency","Falls including syncope or collapse","NONE","Non-Elective","Emergency (21-25, 28, 2A, 2B, 2C, 2D)","NON","EMR",19,130,"Yes",0,0,427,530,103]
[null,"P1718","BP41","EB08E","Syncope or Collapse, with CC Score 0-3","Non-Elective Same Day Emergency","Falls including syncope or collapse","NONE","Non-Elective","Emergency (21-25, 28, 2A, 2B, 2C, 2D)","NON","EMR",19,130,"Yes",1,32000,427,301,-126]
[null,"P1718","BP42","HE21F","Knee Fracture without Interventions, with CC Score 2-4","Non-Elective Same Day Emergency","Appendicular fractures not requiring immediate internal fixation","ICD-10","Non-Elective","Emergency (21-25, 28, 2A, 2B, 2C, 2D)","NON","EMR",19,130,"Yes",0,0,2059,2271,212]
[null,"P1718","BP42","HE21F","Knee Fracture without Interventions, with CC Score 2-4","Non-Elective Same Day Emergency","Appendicular fractures not requiring immediate internal fixation","ICD-10","Non-Elective","Emergency (21-25, 28, 2A, 2B, 2C, 2D)","NON","EMR",19,130,"Yes",1,32000,2059,2032,-27]
[null,"P1718","BP42","HE21G","Knee Fracture without Interventions, with CC Score 0-1","Non-Elective Same Day Emergency","Appendicular fractures not requiring immediate internal fixation","ICD-10","Non-Elective","Emergency (21-25, 28, 2A, 2B, 2C, 2D)","NON","EMR",19,130,"Yes",0,0,1029,1199,170]
[null,"P1718","BP42","HE21G","Knee Fracture without Interventions, with CC Score 0-1","Non-Elective Same Day Emergency","Appendicular fractures not requiring immediate internal fixation","ICD-10","Non-Elective","Emergency (21-25, 28, 2A, 2B, 2C, 2D)","NON","EMR",19,130,"Yes",1,32000,1029,960,-69]
[null,"P1718","BP42","HE31F","Foot Fracture without Interventions, with CC Score 2-3","Non-Elective Same Day Emergency","Appendicular fractures not requiring immediate internal fixation","ICD-10","Non-Elective","Emergency (21-25, 28, 2A, 2B, 2C, 2D)","NON","EMR",19,130,"Yes",0,0,720,888,168]
[null,"P1718","BP42","HE31F","Foot Fracture without Interventions, with CC Score 2-3","Non-Elective Same Day Emergency","Appendicular fractures not requiring immediate internal fixation","ICD-10","Non-Elective","Emergency (21-25, 28, 2A, 2B, 2C, 2D)","NON","EMR",19,130,"Yes",1,32000,720,649,-71]
[null,"P1718","BP42","HE31G","Foot Fracture without Interventions, with CC Score 0-1","Non-Elective Same Day Emergency","Appendicular fractures not requiring immediate internal fixation","ICD-10","Non-Elective","Emergency (21-25, 28, 2A, 2B, 2C, 2D)","NON","EMR",19,130,"Yes",0,0,618,759,141]
[null,"P1718","BP42","HE31G","Foot Fracture without Interventions, with CC Score 0-1","Non-Elective Same Day Emergency","Appendicular fractures not requiring immediate internal fixation","ICD-10","Non-Elective","Emergency (21-25, 28, 2A, 2B, 2C, 2D)","NON","EMR",19,130,"Yes",1,32000,618,520,-98]
[null,"P1718","BP42","HE41C","Hand Fracture without Interventions, with CC Score 1-2","Non-Elective Same Day Emergency","Appendicular fractures not requiring immediate internal fixation","ICD-10","Non-Elective","Emergency (21-25, 28, 2A, 2B, 2C, 2D)","NON","EMR",19,130,"Yes",0,0,581,660,79]
[null,"P1718","BP42","HE41C","Hand Fracture without Interventions, with CC Score 1-2","Non-Elective Same Day Emergency","Appendicular fractures not requiring immediate internal fixation","ICD-10","Non-Elective","Emergency (21-25, 28, 2A, 2B, 2C, 2D)","NON","EMR",19,130,"Yes",1,32000,581,421,-160]
[null,"P1718","BP42","HE41D","Hand Fracture without Interventions, with CC Score 0","Non-Elective Same Day Emergency","Appendicular fractures not requiring immediate internal fixation","ICD-10","Non-Elective","Emergency (21-25, 28, 2A, 2B, 2C, 2D)","NON","EMR",19,130,"Yes",0,0,346,384,38]
[null,"P1718","BP42","HE41D","Hand Fracture without Interventions, with CC Score 0","Non-Elective Same Day Emergency","Appendicular fractures not requiring immediate internal fixation","ICD-10","Non-Elective","Emergency (21-25, 28, 2A, 2B, 2C, 2D)","NON","EMR",19,130,"Yes",1,32000,346,145,-201]
[null,"P1718","BP42","HE51G","Arm Fracture without Interventions, with CC Score 2-3","Non-Elective Same Day Emergency","Appendicular fractures not requiring immediate internal fixation","ICD-10","Non-Elective","Emergency (21-25, 28, 2A, 2B, 2C, 2D)","NON","EMR",19,130,"Yes",0,0,515,677,162]
[null,"P1718","BP42","HE51G","Arm Fracture without Interventions, with CC Score 2-3","Non-Elective Same Day Emergency","Appendicular fractures not requiring immediate internal fixation","ICD-10","Non-Elective","Emergency (21-25, 28, 2A, 2B, 2C, 2D)","NON","EMR",19,130,"Yes",1,32000,515,438,-77]
[null,"P1718","BP42","HE51H","Arm Fracture without Interventions, with CC Score 0-1","Non-Elective Same Day Emergency","Appendicular fractures not requiring immediate internal fixation","ICD-10","Non-Elective","Emergency (21-25, 28, 2A, 2B, 2C, 2D)","NON","EMR",19,130,"Yes",0,0,414,529,115]
[null,"P1718","BP42","HE51H","Arm Fracture without Interventions, with CC Score 0-1","Non-Elective Same Day Emergency","Appendicular fractures not requiring immediate internal fixation","ICD-10","Non-Elective","Emergency (21-25, 28, 2A, 2B, 2C, 2D)","NON","EMR",19,130,"Yes",1,32000,414,290,-124]
[null,"P1718","BP44","DZ15Q","Asthma without Interventions, with CC Score 3-5","Non-Elective Same Day Emergency","Asthma","NONE","Non-Elective","Emergency (21-25, 28, 2A, 2B, 2C, 2D)","NON","EMR",19,130,"Yes",0,0,1308,1474,166]
[null,"P1718","BP44","DZ15Q","Asthma without Interventions, with CC Score 3-5","Non-Elective Same Day Emergency","Asthma","NONE","Non-Elective","Emergency (21-25, 28, 2A, 2B, 2C, 2D)","NON","EMR",19,130,"Yes",1,32000,1308,1266,-42]
[null,"P1718","BP44","DZ15R","Asthma without Interventions, with CC Score 0-2","Non-Elective Same Day Emergency","Asthma","NONE","Non-Elective","Emergency (21-25, 28, 2A, 2B, 2C, 2D)","NON","EMR",19,130,"Yes",0,0,1046,1181,135]
[null,"P1718","BP44","DZ15R","Asthma without Interventions, with CC Score 0-2","Non-Elective Same Day Emergency","Asthma","NONE","Non-Elective","Emergency (21-25, 28, 2A, 2B, 2C, 2D)","NON","EMR",19,130,"Yes",1,32000,1046,973,-73]
[null,"P1718","BP45","DZ22Q","Unspecified Acute Lower Respiratory Infection without Interventions, with CC Score 0-4","Non-Elective Same Day Emergency","Lower respiratory tract infections without COPD","NONE","Non-Elective","Emergency (21-25, 28, 2A, 2B, 2C, 2D)","NON","EMR",19,130,"Yes",0,0,959,1090,131]
[null,"P1718","BP45","DZ22Q","Unspecified Acute Lower Respiratory Infection without Interventions, with CC Score 0-4","Non-Elective Same Day Emergency","Lower respiratory tract infections without COPD","NONE","Non-Elective","Emergency (21-25, 28, 2A, 2B, 2C, 2D)","NON","EMR",19,130,"Yes",1,32000,959,882,-77]
[null,"P1718","BP46","DZ09P","Pulmonary Embolus without Interventions, with CC Score 3-5","Non-Elective Same Day Emergency","Pulmonary embolism","NONE","Non-Elective","Emergency (21-25, 28, 2A, 2B, 2C, 2D)","NON","EMR",19,130,"Yes",0,0,1627,1793,166]
[null,"P1718","BP46","DZ09P","Pulmonary Embolus without Interventions, with CC Score 3-5","Non-Elective Same Day Emergency","Pulmonary embolism","NONE","Non-Elective","Emergency (21-25, 28, 2A, 2B, 2C, 2D)","NON","EMR",19,130,"Yes",1,32000,1627,1586,-41]
[null,"P1718","BP46","DZ09Q","Pulmonary Embolus without Interventions, with CC Score 0-2","Non-Elective Same Day Emergency","Pulmonary embolism","NONE","Non-Elective","Emergency (21-25, 28, 2A, 2B, 2C, 2D)","NON","EMR",19,130,"Yes",0,0,1030,1152,122]
[null,"P1718","BP46","DZ09Q","Pulmonary Embolus without Interventions, with CC Score 0-2","Non-Elective Same Day Emergency","Pulmonary embolism","NONE","Non-Elective","Emergency (21-25, 28, 2A, 2B, 2C, 2D)","NON","EMR",19,130,"Yes",1,32000,1030,945,-85]
[null,"P1718","BP47","LB40G","Urinary Tract Stone Disease without Interventions, with CC Score 0-2","Non-Elective Same Day Emergency","Renal/ureteric stones","NONE","Non-Elective","Emergency (21-25, 28, 2A, 2B, 2C, 2D)","NON","EMR",19,130,"Yes",0,0,467,567,100]
[null,"P1718","BP47","LB40G","Urinary Tract Stone Disease without Interventions, with CC Score 0-2","Non-Elective Same Day Emergency","Renal/ureteric stones","NONE","Non-Elective","Emergency (21-25, 28, 2A, 2B, 2C, 2D)","NON","EMR",19,130,"Yes",1,32000,467,351,-116]
[null,"P1718","BP48","YQ51C","Deep Vein Thrombosis with CC Score 6-8","Non-Elective Same Day Emergency","Deep vein thrombosis","NONE","Non-Elective","Emergency (21-25, 28, 2A, 2B, 2C, 2D)","NON","EMR",19,130,"Yes",0,0,1832,1996,164]
[null,"P1718","BP48","YQ51C","Deep Vein Thrombosis with CC Score 6-8","Non-Elective Same Day Emergency","Deep vein thrombosis","NONE","Non-Elective","Emergency (21-25, 28, 2A, 2B, 2C, 2D)","NON","EMR",19,130,"Yes",1,32000,1832,1761,-71]
[null,"P1718","BP48","YQ51D","Deep Vein Thrombosis with CC Score 3-5","Non-Elective Same Day Emergency","Deep vein thrombosis","NONE","Non-Elective","Emergency (21-25, 28, 2A, 2B, 2C, 2D)","NON","EMR",19,130,"Yes",0,0,858,950,92]
[null,"P1718","BP48","YQ51D","Deep Vein Thrombosis with CC Score 3-5","Non-Elective Same Day Emergency","Deep vein thrombosis","NONE","Non-Elective","Emergency (21-25, 28, 2A, 2B, 2C, 2D)","NON","EMR",19,130,"Yes",1,32000,858,715,-143]
[null,"P1718","BP48","YQ51E","Deep Vein Thrombosis with CC Score 0-2","Non-Elective Same Day Emergency","Deep vein thrombosis","NONE","Non-Elective","Emergency (21-25, 28, 2A, 2B, 2C, 2D)","NON","EMR",19,130,"Yes",0,0,361,401,40]
[null,"P1718","BP48","YQ51E","Deep Vein Thrombosis with CC Score 0-2","Non-Elective Same Day Emergency","Deep vein thrombosis","NONE","Non-Elective","Emergency (21-25, 28, 2A, 2B, 2C, 2D)","NON","EMR",19,130,"Yes",1,32000,361,166,-195]
[null,"P1718","BP49","AA31D","Headache, Migraine or Cerebrospinal Fluid Leak, with CC Score 7-10","Non-Elective Same Day Emergency","Acute headache","NONE","Non-Elective","Emergency (21-25, 28, 2A, 2B, 2C, 2D)","NON","EMR",19,130,"Yes",0,0,1034,1195,161]
[null,"P1718","BP49","AA31D","Headache, Migraine or Cerebrospinal Fluid Leak, with CC Score 7-10","Non-Elective Same Day Emergency","Acute headache","NONE","Non-Elective","Emergency (21-25, 28, 2A, 2B, 2C, 2D)","NON","EMR",19,130,"Yes",1,32000,1034,955,-79]
[null,"P1718","BP49","AA31E","Headache, Migraine or Cerebrospinal Fluid Leak, with CC Score 0-6","Non-Elective Same Day Emergency","Acute headache","NONE","Non-Elective","Emergency (21-25, 28, 2A, 2B, 2C, 2D)","NON","EMR",19,130,"Yes",0,0,574,684,110]
[null,"P1718","BP49","AA31E","Headache, Migraine or Cerebrospinal Fluid Leak, with CC Score 0-6","Non-Elective Same Day Emergency","Acute headache","NONE","Non-Elective","Emergency (21-25, 28, 2A, 2B, 2C, 2D)","NON","EMR",19,130,"Yes",1,32000,574,444,-130]
[null,"P1718","BP50","EY40A","Complex Percutaneous Transluminal Coronary Angioplasty with CC Score 12+","Non-Elective NSTEMI",null,"ICD-10","Non-Elective","Emergency and Transfers (21-25, 28, 81, 2A, 2B, 2C, 2D)","NON","EMR, OTH",19,130,"Yes",0,32000,7186,6719,-467,null,null,7437,6719,251,718]
[null,"P1718","BP50","EY40B","Complex Percutaneous Transluminal Coronary Angioplasty with CC Score 8-11","Non-Elective NSTEMI",null,"ICD-10","Non-Elective","Emergency and Transfers (21-25, 28, 81, 2A, 2B, 2C, 2D)","NON","EMR, OTH",19,130,"Yes",0,32000,5124,4790,-334,null,null,5303,4790,179,513]
[null,"P1718","BP50","EY40C","Complex Percutaneous Transluminal Coronary Angioplasty with CC Score 4-7","Non-Elective NSTEMI",null,"ICD-10","Non-Elective","Emergency and Transfers (21-25, 28, 81, 2A, 2B, 2C, 2D)","NON","EMR, OTH",19,130,"Yes",0,32000,3514,3286,-228,null,null,3637,3286,123,351]
[null,"P1718","BP50","EY40D","Complex Percutaneous Transluminal Coronary Angioplasty with CC Score 0-3","Non-Elective NSTEMI",null,"ICD-10","Non-Elective","Emergency and Transfers (21-25, 28, 81, 2A, 2B, 2C, 2D)","NON","EMR, OTH",19,130,"Yes",0,32000,2760,2580,-180,null,null,2856,2580,96,276]
[null,"P1718","BP50","EY41A","Standard Percutaneous Transluminal Coronary Angioplasty with CC Score 12+","Non-Elective NSTEMI",null,"ICD-10","Non-Elective","Emergency and Transfers (21-25, 28, 81, 2A, 2B, 2C, 2D)","NON","EMR, OTH",19,130,"Yes",0,32000,7101,6639,-462,null,null,7349,6639,248,710]
[null,"P1718","BP50","EY41B","Standard Percutaneous Transluminal Coronary Angioplasty with CC Score 8-11","Non-Elective NSTEMI",null,"ICD-10","Non-Elective","Emergency and Transfers (21-25, 28, 81, 2A, 2B, 2C, 2D)","NON","EMR, OTH",19,130,"Yes",0,32000,4277,3999,-278,null,null,4426,3999,149,427]
[null,"P1718","BP50","EY41C","Standard Percutaneous Transluminal Coronary Angioplasty with CC Score 4-7","Non-Elective NSTEMI",null,"ICD-10","Non-Elective","Emergency and Transfers (21-25, 28, 81, 2A, 2B, 2C, 2D)","NON","EMR, OTH",19,130,"Yes",0,32000,3055,2857,-198,null,null,3162,2857,107,305]
[null,"P1718","BP50","EY41D","Standard Percutaneous Transluminal Coronary Angioplasty with CC Score 0-3","Non-Elective NSTEMI",null,"ICD-10","Non-Elective","Emergency and Transfers (21-25, 28, 81, 2A, 2B, 2C, 2D)","NON","EMR, OTH",19,130,"Yes",0,32000,2403,2247,-156,null,null,2487,2247,84,240]
[null,"P1718","BP50","EY42A","Complex Cardiac Catheterisation with CC Score 7+","Non-Elective NSTEMI",null,"ICD-10","Non-Elective","Emergency and Transfers (21-25, 28, 81, 2A, 2B, 2C, 2D)","NON","EMR, OTH",19,130,"Yes",0,32000,4802,4490,-312,null,null,4970,4490,168,480]
[null,"P1718","BP50","EY42B","Complex Cardiac Catheterisation with CC Score 4-6","Non-Elective NSTEMI",null,"ICD-10","Non-Elective","Emergency and Transfers (21-25, 28, 81, 2A, 2B, 2C, 2D)","NON","EMR, OTH",19,130,"Yes",0,32000,2982,2788,-194,null,null,3086,2788,104,298]
[null,"P1718","BP50","EY42C","Complex Cardiac Catheterisation with CC Score 2-3","Non-Elective NSTEMI",null,"ICD-10","Non-Elective","Emergency and Transfers (21-25, 28, 81, 2A, 2B, 2C, 2D)","NON","EMR, OTH",19,130,"Yes",0,32000,2293,2144,-149,null,null,2373,2144,80,229]
[null,"P1718","BP50","EY42D","Complex Cardiac Catheterisation with CC Score 0-1","Non-Elective NSTEMI",null,"ICD-10","Non-Elective","Emergency and Transfers (21-25, 28, 81, 2A, 2B, 2C, 2D)","NON","EMR, OTH",19,130,"Yes",0,32000,1853,1732,-121,null,null,1917,1732,64,185]
[null,"P1718","BP50","EY43A","Standard Cardiac Catheterisation with CC Score 13+","Non-Elective NSTEMI",null,"ICD-10","Non-Elective","Emergency and Transfers (21-25, 28, 81, 2A, 2B, 2C, 2D)","NON","EMR, OTH",19,130,"Yes",0,32000,7983,7464,-519,null,null,8262,7464,279,798]
[null,"P1718","BP50","EY43B","Standard Cardiac Catheterisation with CC Score 10-12","Non-Elective NSTEMI",null,"ICD-10","Non-Elective","Emergency and Transfers (21-25, 28, 81, 2A, 2B, 2C, 2D)","NON","EMR, OTH",19,130,"Yes",0,32000,5446,5092,-354,null,null,5637,5092,191,545]
[null,"P1718","BP50","EY43C","Standard Cardiac Catheterisation with CC Score 7-9","Non-Elective NSTEMI",null,"ICD-10","Non-Elective","Emergency and Transfers (21-25, 28, 81, 2A, 2B, 2C, 2D)","NON","EMR, OTH",19,130,"Yes",0,32000,4105,3838,-267,null,null,4249,3838,144,411]
[null,"P1718","BP50","EY43D","Standard Cardiac Catheterisation with CC Score 4-6","Non-Elective NSTEMI",null,"ICD-10","Non-Elective","Emergency and Transfers (21-25, 28, 81, 2A, 2B, 2C, 2D)","NON","EMR, OTH",19,130,"Yes",0,32000,2982,2788,-194,null,null,3086,2788,104,298]
[null,"P1718","BP50","EY43E","Standard Cardiac Catheterisation with CC Score 2-3","Non-Elective NSTEMI",null,"ICD-10","Non-Elective","Emergency and Transfers (21-25, 28, 81, 2A, 2B, 2C, 2D)","NON","EMR, OTH",19,130,"Yes",0,32000,2280,2131,-149,null,null,2359,2131,79,228]
[null,"P1718","BP50","EY43F","Standard Cardiac Catheterisation with CC Score 0-1","Non-Elective NSTEMI",null,"ICD-10","Non-Elective","Emergency and Transfers (21-25, 28, 81, 2A, 2B, 2C, 2D)","NON","EMR, OTH",19,130,"Yes",0,32000,1763,1648,-115,null,null,1824,1648,61,176]
[null,"P1718","BP52","KB01C","Diabetes with Hypoglycaemic Disorders, with CC Score 8+","Non-Elective Diabetes",null,"ICD-10","Non-Elective","Emergency (21-25, 28, 2A, 2B, 2C, 2D)","NON","EMR",19,130,"Yes",0,1,3043,776,-2267,null,null,913,776,-2130,137]
[null,"P1718","BP52","KB01C","Diabetes with Hypoglycaemic Disorders, with CC Score 8+","Non-Elective Diabetes",null,"ICD-10","Non-Elective","Emergency (21-25, 28, 2A, 2B, 2C, 2D)","NON","EMR",19,130,"Yes",2,32000,3043,2587,-456,null,null,3043,2587,0,456]
[null,"P1718","BP52","KB01D","Diabetes with Hypoglycaemic Disorders, with CC Score 5-7","Non-Elective Diabetes",null,"ICD-10","Non-Elective","Emergency (21-25, 28, 2A, 2B, 2C, 2D)","NON","EMR",19,130,"Yes",0,1,1544,656,-888,null,null,772,656,-772,116]
[null,"P1718","BP52","KB01D","Diabetes with Hypoglycaemic Disorders, with CC Score 5-7","Non-Elective Diabetes",null,"ICD-10","Non-Elective","Emergency (21-25, 28, 2A, 2B, 2C, 2D)","NON","EMR",19,130,"Yes",2,32000,1544,1313,-231,null,null,1544,1313,0,231]
[null,"P1718","BP52","KB01E","Diabetes with Hypoglycaemic Disorders, with CC Score 3-4","Non-Elective Diabetes",null,"ICD-10","Non-Elective","Emergency (21-25, 28, 2A, 2B, 2C, 2D)","NON","EMR",19,130,"Yes",0,1,934,596,-338,null,null,701,596,-233,105]
[null,"P1718","BP52","KB01E","Diabetes with Hypoglycaemic Disorders, with CC Score 3-4","Non-Elective Diabetes",null,"ICD-10","Non-Elective","Emergency (21-25, 28, 2A, 2B, 2C, 2D)","NON","EMR",19,130,"Yes",2,32000,934,794,-140,null,null,934,794,0,140]
[null,"P1718","BP52","KB01F","Diabetes with Hypoglycaemic Disorders, with CC Score 0-2","Non-Elective Diabetes",null,"ICD-10","Non-Elective","Emergency (21-25, 28, 2A, 2B, 2C, 2D)","NON","EMR",19,130,"Yes",0,1,480,408,0,null,null,480,"-",0,0,"No SSEM adjustment given by NHSI (has no tariff so emulated base)"]
[null,"P1718","BP52","KB01F","Diabetes with Hypoglycaemic Disorders, with CC Score 0-2","Non-Elective Diabetes",null,"ICD-10","Non-Elective","Emergency (21-25, 28, 2A, 2B, 2C, 2D)","NON","EMR",19,130,"Yes",2,32000,480,408,-72,null,null,480,408,0,72]
[null,"P1718","BP52","KB02G","Diabetes with Hyperglycaemic Disorders, with CC Score 8+","Non-Elective Diabetes",null,"ICD-10","Non-Elective","Emergency (21-25, 28, 2A, 2B, 2C, 2D)","NON","EMR",19,130,"Yes",0,1,3508,894,-2614,null,null,1052,894,-2456,158]
[null,"P1718","BP52","KB02G","Diabetes with Hyperglycaemic Disorders, with CC Score 8+","Non-Elective Diabetes",null,"ICD-10","Non-Elective","Emergency (21-25, 28, 2A, 2B, 2C, 2D)","NON","EMR",19,130,"Yes",2,32000,3508,2982,-526,null,null,3508,2982,0,526]
[null,"P1718","BP52","KB02H","Diabetes with Hyperglycaemic Disorders, with CC Score 5-7","Non-Elective Diabetes",null,"ICD-10","Non-Elective","Emergency (21-25, 28, 2A, 2B, 2C, 2D)","NON","EMR",19,130,"Yes",0,1,1932,493,-1439,null,null,579,493,-1353,86]
[null,"P1718","BP52","KB02H","Diabetes with Hyperglycaemic Disorders, with CC Score 5-7","Non-Elective Diabetes",null,"ICD-10","Non-Elective","Emergency (21-25, 28, 2A, 2B, 2C, 2D)","NON","EMR",19,130,"Yes",2,32000,1932,1642,-290,null,null,1932,1642,0,290]
[null,"P1718","BP52","KB02J","Diabetes with Hyperglycaemic Disorders, with CC Score 2-4","Non-Elective Diabetes",null,"ICD-10","Non-Elective","Emergency (21-25, 28, 2A, 2B, 2C, 2D)","NON","EMR",19,130,"Yes",0,1,1239,527,-712,null,null,620,527,-619,93]
[null,"P1718","BP52","KB02J","Diabetes with Hyperglycaemic Disorders, with CC Score 2-4","Non-Elective Diabetes",null,"ICD-10","Non-Elective","Emergency (21-25, 28, 2A, 2B, 2C, 2D)","NON","EMR",19,130,"Yes",2,32000,1239,1054,-185,null,null,1239,1054,0,185]
[null,"P1718","BP52","KB02K","Diabetes with Hyperglycaemic Disorders, with CC Score 0-1","Non-Elective Diabetes",null,"ICD-10","Non-Elective","Emergency (21-25, 28, 2A, 2B, 2C, 2D)","NON","EMR",19,130,"Yes",0,1,707,451,-256,null,null,530,451,-177,79]
[null,"P1718","BP52","KB02K","Diabetes with Hyperglycaemic Disorders, with CC Score 0-1","Non-Elective Diabetes",null,"ICD-10","Non-Elective","Emergency (21-25, 28, 2A, 2B, 2C, 2D)","NON","EMR",19,130,"Yes",2,32000,707,601,-106,null,null,707,601,0,106]
[null,"P1718","BP53","HE11G","Hip Fracture without Interventions, with CC Score 4-7","Non-Elective Same Day Emergency","Low risk pubic rami","ICD-10","Non-Elective","Emergency (21-25, 28, 2A, 2B, 2C, 2D)","NON","EMR",19,130,"Yes",0,0,3088,3312,224]
[null,"P1718","BP53","HE11G","Hip Fracture without Interventions, with CC Score 4-7","Non-Elective Same Day Emergency","Low risk pubic rami","ICD-10","Non-Elective","Emergency (21-25, 28, 2A, 2B, 2C, 2D)","NON","EMR",19,130,"Yes",1,32000,3088,3073,-15]
[null,"P1718","BP53","HE11H","Hip Fracture without Interventions, with CC Score 0-3","Non-Elective Same Day Emergency","Low risk pubic rami","ICD-10","Non-Elective","Emergency (21-25, 28, 2A, 2B, 2C, 2D)","NON","EMR",19,130,"Yes",0,0,2059,2266,207]
[null,"P1718","BP53","HE11H","Hip Fracture without Interventions, with CC Score 0-3","Non-Elective Same Day Emergency","Low risk pubic rami","ICD-10","Non-Elective","Emergency (21-25, 28, 2A, 2B, 2C, 2D)","NON","EMR",19,130,"Yes",1,32000,2059,2027,-32]
[null,"P1718","BP54","SA04K","Iron Deficiency Anaemia with CC Score 2-5","Non-Elective Same Day Emergency","Anaemia","NONE","Non-Elective","Emergency (21-25, 28, 2A, 2B, 2C, 2D)","NON","EMR",19,130,"Yes",0,0,961,1141,180]
[null,"P1718","BP54","SA04K","Iron Deficiency Anaemia with CC Score 2-5","Non-Elective Same Day Emergency","Anaemia","NONE","Non-Elective","Emergency (21-25, 28, 2A, 2B, 2C, 2D)","NON","EMR",19,130,"Yes",1,32000,961,872,-89]
[null,"P1718","BP54","SA04L","Iron Deficiency Anaemia with CC Score 0-1","Non-Elective Same Day Emergency","Anaemia","NONE","Non-Elective","Emergency (21-25, 28, 2A, 2B, 2C, 2D)","NON","EMR",19,130,"Yes",0,0,594,717,123]
[null,"P1718","BP54","SA04L","Iron Deficiency Anaemia with CC Score 0-1","Non-Elective Same Day Emergency","Anaemia","NONE","Non-Elective","Emergency (21-25, 28, 2A, 2B, 2C, 2D)","NON","EMR",19,130,"Yes",1,32000,594,448,-146]
[null,"P1718","BP54","SA09K","Other Red Blood Cell Disorders with CC Score 2-5","Non-Elective Same Day Emergency","Anaemia","NONE","Non-Elective","Emergency (21-25, 28, 2A, 2B, 2C, 2D)","NON","EMR",19,130,"Yes",0,0,908,1097,189]
[null,"P1718","BP54","SA09K","Other Red Blood Cell Disorders with CC Score 2-5","Non-Elective Same Day Emergency","Anaemia","NONE","Non-Elective","Emergency (21-25, 28, 2A, 2B, 2C, 2D)","NON","EMR",19,130,"Yes",1,32000,908,828,-80]
[null,"P1718","BP54","SA09L","Other Red Blood Cell Disorders with CC Score 0-1","Non-Elective Same Day Emergency","Anaemia","NONE","Non-Elective","Emergency (21-25, 28, 2A, 2B, 2C, 2D)","NON","EMR",19,130,"Yes",0,0,649,784,135]
[null,"P1718","BP54","SA09L","Other Red Blood Cell Disorders with CC Score 0-1","Non-Elective Same Day Emergency","Anaemia","NONE","Non-Elective","Emergency (21-25, 28, 2A, 2B, 2C, 2D)","NON","EMR",19,130,"Yes",1,32000,649,515,-134]
[null,"P1718","BP55","LB16J","Urinary Incontinence or Other Urinary Problems, without Interventions, with CC Score 2-4","Non-Elective Same Day Emergency","Bladder outflow obstruction","NONE","Non-Elective","Emergency (21-25, 28, 2A, 2B, 2C, 2D)","NON","EMR",19,130,"Yes",0,0,717,831,114]
[null,"P1718","BP55","LB16J","Urinary Incontinence or Other Urinary Problems, without Interventions, with CC Score 2-4","Non-Elective Same Day Emergency","Bladder outflow obstruction","NONE","Non-Elective","Emergency (21-25, 28, 2A, 2B, 2C, 2D)","NON","EMR",19,130,"Yes",1,32000,717,615,-102]
[null,"P1718","BP55","LB16K","Urinary Incontinence or Other Urinary Problems, without Interventions, with CC Score 0-1","Non-Elective Same Day Emergency","Bladder outflow obstruction","NONE","Non-Elective","Emergency (21-25, 28, 2A, 2B, 2C, 2D)","NON","EMR",19,130,"Yes",0,0,421,494,73]
[null,"P1718","BP55","LB16K","Urinary Incontinence or Other Urinary Problems, without Interventions, with CC Score 0-1","Non-Elective Same Day Emergency","Bladder outflow obstruction","NONE","Non-Elective","Emergency (21-25, 28, 2A, 2B, 2C, 2D)","NON","EMR",19,130,"Yes",1,32000,421,278,-143]
[null,"P1718","BP56","DZ11V","Lobar, Atypical or Viral Pneumonia, without Interventions, with CC Score 0-3","Non-Elective Same Day Emergency","Community acquired pneumonia","NONE","Non-Elective","Emergency (21-25, 28, 2A, 2B, 2C, 2D)","NON","EMR",19,130,"Yes",0,0,1482,1652,170]
[null,"P1718","BP56","DZ11V","Lobar, Atypical or Viral Pneumonia, without Interventions, with CC Score 0-3","Non-Elective Same Day Emergency","Community acquired pneumonia","NONE","Non-Elective","Emergency (21-25, 28, 2A, 2B, 2C, 2D)","NON","EMR",19,130,"Yes",1,32000,1482,1445,-37]
[null,"P1718","BP58","CB02E","Non-Malignant, Ear, Nose, Mouth, Throat or Neck Disorders, without Interventions, with CC Score 1-4","Non-Elective Same Day Emergency","Minor head injury","ICD-10","Non-Elective","Emergency (21-25, 28, 2A, 2B, 2C, 2D)","NON","EMR",19,130,"Yes",0,0,478,591,113]
[null,"P1718","BP58","CB02E","Non-Malignant, Ear, Nose, Mouth, Throat or Neck Disorders, without Interventions, with CC Score 1-4","Non-Elective Same Day Emergency","Minor head injury","ICD-10","Non-Elective","Emergency (21-25, 28, 2A, 2B, 2C, 2D)","NON","EMR",19,130,"Yes",1,32000,478,350,-128]
[null,"P1718","BP58","CB02F","Non-Malignant, Ear, Nose, Mouth, Throat or Neck Disorders, without Interventions, with CC Score 0","Non-Elective Same Day Emergency","Minor head injury","ICD-10","Non-Elective","Emergency (21-25, 28, 2A, 2B, 2C, 2D)","NON","EMR",19,130,"Yes",0,0,405,504,99]
[null,"P1718","BP58","CB02F","Non-Malignant, Ear, Nose, Mouth, Throat or Neck Disorders, without Interventions, with CC Score 0","Non-Elective Same Day Emergency","Minor head injury","ICD-10","Non-Elective","Emergency (21-25, 28, 2A, 2B, 2C, 2D)","NON","EMR",19,130,"Yes",1,32000,405,263,-142]
[null,"P1718","BP59","EB07C","Arrhythmia or Conduction Disorders, with CC Score 7-9","Non-Elective Same Day Emergency","Supraventricular tachycardia's including atrial fibrillation","NONE","Non-Elective","Emergency (21-25, 28, 2A, 2B, 2C, 2D)","NON","EMR",19,130,"Yes",0,0,1503,1698,195]
[null,"P1718","BP59","EB07C","Arrhythmia or Conduction Disorders, with CC Score 7-9","Non-Elective Same Day Emergency","Supraventricular tachycardia's including atrial fibrillation","NONE","Non-Elective","Emergency (21-25, 28, 2A, 2B, 2C, 2D)","NON","EMR",19,130,"Yes",1,32000,1503,1469,-34]
[null,"P1718","BP59","EB07D","Arrhythmia or Conduction Disorders, with CC Score 4-6","Non-Elective Same Day Emergency","Supraventricular tachycardia's including atrial fibrillation","NONE","Non-Elective","Emergency (21-25, 28, 2A, 2B, 2C, 2D)","NON","EMR",19,130,"Yes",0,0,936,1103,167]
[null,"P1718","BP59","EB07D","Arrhythmia or Conduction Disorders, with CC Score 4-6","Non-Elective Same Day Emergency","Supraventricular tachycardia's including atrial fibrillation","NONE","Non-Elective","Emergency (21-25, 28, 2A, 2B, 2C, 2D)","NON","EMR",19,130,"Yes",1,32000,936,874,-62]
[null,"P1718","BP59","EB07E","Arrhythmia or Conduction Disorders, with CC Score 0-3","Non-Elective Same Day Emergency","Supraventricular tachycardia's including atrial fibrillation","NONE","Non-Elective","Emergency (21-25, 28, 2A, 2B, 2C, 2D)","NON","EMR",19,130,"Yes",0,0,525,642,117]
[null,"P1718","BP59","EB07E","Arrhythmia or Conduction Disorders, with CC Score 0-3","Non-Elective Same Day Emergency","Supraventricular tachycardia's including atrial fibrillation","NONE","Non-Elective","Emergency (21-25, 28, 2A, 2B, 2C, 2D)","NON","EMR",19,130,"Yes",1,32000,525,413,-112]
[null,"P1718","BP61","FZ90B","Abdominal Pain without Interventions","Non-Elective Same Day Emergency","Abdominal pain","NONE","Non-Elective","Emergency (21-25, 28, 2A, 2B, 2C, 2D)","NON","EMR",19,130,"Yes",0,0,578,698,120]
[null,"P1718","BP61","FZ90B","Abdominal Pain without Interventions","Non-Elective Same Day Emergency","Abdominal pain","NONE","Non-Elective","Emergency (21-25, 28, 2A, 2B, 2C, 2D)","NON","EMR",19,130,"Yes",1,32000,578,471,-107]
[null,"P1718","BP63","HN23C","Major Knee Procedures for Non-Trauma, 19 years and over, with CC Score 0-1","Day Case Incentive","Orthopaedic surgery","OPCS-4","Day Case","Elective (11, 12, 13)","DAY","ELE",19,130,"Yes",0,0,3452,3659,207]
[null,"P1718","BP63","HN23C","Major Knee Procedures for Non-Trauma, 19 years and over, with CC Score 0-1","Day Case Incentive","Orthopaedic surgery","OPCS-4","Ordinary","Elective (11, 12, 13)","ELE","ELE",19,130,"Yes",0,32000,3452,3314,-138]
[null,"P1718","BP64","CA05A","Minor Neck Procedures, 19 years and over","Day Case Incentive","Head and neck","OPCS-4","Day Case","Elective (11, 12, 13)","DAY","ELE",19,130,"Yes",0,0,971,990,19]
[null,"P1718","BP64","CA05A","Minor Neck Procedures, 19 years and over","Day Case Incentive","Head and neck","OPCS-4","Ordinary","Elective (11, 12, 13)","ELE","ELE",19,130,"Yes",0,32000,971,893,-78]
[null,"P1718","BP65","YQ42Z","Open Arteriovenous Fistula, Graft or Shunt Procedures","Day Case Incentive","Vascular surgery","OPCS-4","Day Case","Elective (11, 12, 13)","DAY","ELE",19,130,"Yes",0,0,1753,1788,35]
[null,"P1718","BP65","YQ42Z","Open Arteriovenous Fistula, Graft or Shunt Procedures","Day Case Incentive","Vascular surgery","OPCS-4","Ordinary","Elective (11, 12, 13)","ELE","ELE",19,130,"Yes",0,32000,1753,1613,-140]
[null,"P1718","BP66","BZ54B","Major, Orbit or Lacrimal Procedures, 19 years and over, with CC Score 0","Day Case Incentive","Ophthalmology","OPCS-4","Day Case","Elective (11, 12, 13)","DAY","ELE",19,130,"Yes",0,0,1196,1219,23]
[null,"P1718","BP66","BZ54B","Major, Orbit or Lacrimal Procedures, 19 years and over, with CC Score 0","Day Case Incentive","Ophthalmology","OPCS-4","Ordinary","Elective (11, 12, 13)","ELE","ELE",19,130,"Yes",0,32000,1196,1100,-96]
[null,"P1718","BP68","LB09D","Intermediate Endoscopic Ureter Procedures, 19 years and over","Day Case Incentive","Urology","OPCS-4","Day Case","Elective (11, 12, 13)","DAY","ELE",19,130,"Yes",0,0,862,896,34]
[null,"P1718","BP68","LB09D","Intermediate Endoscopic Ureter Procedures, 19 years and over","Day Case Incentive","Urology","OPCS-4","Ordinary","Elective (11, 12, 13)","ELE","ELE",19,130,"Yes",0,32000,862,810,-52]
[null,"P1718","BP69","FZ12Q","Major General Abdominal Procedures, 19 years and over, with CC Score 0","Day Case Incentive","General surgery","OPCS-4","Day Case","Elective (11, 12, 13)","DAY","ELE",19,130,"Yes",0,0,1671,1705,34]
[null,"P1718","BP69","FZ12Q","Major General Abdominal Procedures, 19 years and over, with CC Score 0","Day Case Incentive","General surgery","OPCS-4","Ordinary","Elective (11, 12, 13)","ELE","ELE",19,130,"Yes",0,32000,1671,1537,-134]
[null,"P1718","BP73","LB55A","Minor or Intermediate, Urethra Procedures, 19 years and over","Day Case Incentive","Urology","OPCS-4","Day Case","Elective (11, 12, 13)","DAY","ELE",19,130,"Yes",0,0,716,748,32]
[null,"P1718","BP73","LB55A","Minor or Intermediate, Urethra Procedures, 19 years and over","Day Case Incentive","Urology","OPCS-4","Ordinary","Elective (11, 12, 13)","ELE","ELE",19,130,"Yes",0,32000,716,676,-40]
[null,"P1718","BP74","CA28Z","Intermediate Sinus Procedures","Day Case Incentive","Ear, nose and throat (ENT)","OPCS-4","Day Case","Elective (11, 12, 13)","DAY","ELE",19,130,"Yes",0,0,1493,1545,52]
[null,"P1718","BP74","CA28Z","Intermediate Sinus Procedures","Day Case Incentive","Ear, nose and throat (ENT)","OPCS-4","Ordinary","Elective (11, 12, 13)","ELE","ELE",19,130,"Yes",0,32000,1493,1396,-97]
[null,"P1718","BP76","FZ17G","Abdominal Hernia Procedures, 19 years and over, with CC Score 0","Day Case Incentive","General surgery","OPCS-4","Day Case","Elective (11, 12, 13)","DAY","ELE",19,130,"Yes",0,0,1775,1802,27]
[null,"P1718","BP76","FZ17G","Abdominal Hernia Procedures, 19 years and over, with CC Score 0","Day Case Incentive","General surgery","OPCS-4","Ordinary","Elective (11, 12, 13)","ELE","ELE",19,130,"Yes",0,32000,1775,1624,-151]
[null,"P1718","BP77","YR11D","Percutaneous Transluminal Angioplasty of Single Blood Vessel with CC Score 0-2","Day Case Incentive","Vascular surgery","OPCS-4","Day Case","Elective (11, 12, 13)","DAY","ELE",19,130,"Yes",0,0,1139,1185,46]
[null,"P1718","BP77","YR11D","Percutaneous Transluminal Angioplasty of Single Blood Vessel with CC Score 0-2","Day Case Incentive","Vascular surgery","OPCS-4","Ordinary","Elective (11, 12, 13)","ELE","ELE",19,130,"Yes",0,32000,1139,1071,-68]
[null,"P1718","BP77","YR25Z","Arteriography","Day Case Incentive","Vascular surgery","OPCS-4","Day Case","Elective (11, 12, 13)","DAY","ELE",19,130,"Yes",0,0,966,1005,39]
[null,"P1718","BP77","YR25Z","Arteriography","Day Case Incentive","Vascular surgery","OPCS-4","Ordinary","Elective (11, 12, 13)","ELE","ELE",19,130,"Yes",0,32000,966,908,-58]
[null,"P1718","BP78","LB65E","Major Endoscopic, Kidney or Ureter Procedures, 19 years and over, with CC Score 0-2","Day Case Incentive","Urology","OPCS-4","Day Case","Elective (11, 12, 13)","DAY","ELE",19,130,"Yes",0,0,1669,1769,100]
[null,"P1718","BP78","LB65E","Major Endoscopic, Kidney or Ureter Procedures, 19 years and over, with CC Score 0-2","Day Case Incentive","Urology","OPCS-4","Ordinary","Elective (11, 12, 13)","ELE","ELE",19,130,"Yes",0,32000,1669,1602,-67]
[null,"P1718","BP79","MA08B","Major, Laparoscopic or Endoscopic, Upper Genital Tract Procedures, with CC Score 0-1","Day Case Incentive","Gynaecology","OPCS-4","Day Case","Elective (11, 12, 13)","DAY","ELE",19,130,"Yes",0,0,2217,2372,155]
[null,"P1718","BP79","MA08B","Major, Laparoscopic or Endoscopic, Upper Genital Tract Procedures, with CC Score 0-1","Day Case Incentive","Gynaecology","OPCS-4","Ordinary","Elective (11, 12, 13)","ELE","ELE",19,130,"Yes",0,32000,2217,2150,-67]
[null,"P1718","BP80","GC17K","Non-Malignant, Hepatobiliary or Pancreatic Disorders, without Interventions, with CC Score 0-1","Non-Elective Same Day Emergency","Abnormal liver function","ICD-10","Non-Elective","Emergency (21-25, 28, 2A, 2B, 2C, 2D)","NON","EMR",19,130,"Yes",0,0,1108,1295,187]
[null,"P1718","BP80","GC17K","Non-Malignant, Hepatobiliary or Pancreatic Disorders, without Interventions, with CC Score 0-1","Non-Elective Same Day Emergency","Abnormal liver function","ICD-10","Non-Elective","Emergency (21-25, 28, 2A, 2B, 2C, 2D)","NON","EMR",19,130,"Yes",1,32000,1108,1064,-44]
[null,"P1718","BP81","HD26G","Musculoskeletal Signs or Symptoms, with CC Score 0-3","Non-Elective Same Day Emergency","Acutely hot painful joint","ICD-10","Non-Elective","Emergency (21-25, 28, 2A, 2B, 2C, 2D)","NON","EMR",19,130,"Yes",0,0,518,609,91]
[null,"P1718","BP81","HD26G","Musculoskeletal Signs or Symptoms, with CC Score 0-3","Non-Elective Same Day Emergency","Acutely hot painful joint","ICD-10","Non-Elective","Emergency (21-25, 28, 2A, 2B, 2C, 2D)","NON","EMR",19,130,"Yes",1,32000,518,369,-149]
[null,"P1718","BP82","LB15E","Minor Bladder Procedures, 19 years and over","Non-Elective Same Day Emergency","Chronic indwelling catheter related problems","ICD-10","Non-Elective","Emergency (21-25, 28, 2A, 2B, 2C, 2D)","NON","EMR",19,130,"Yes",0,0,506,601,95]
[null,"P1718","BP82","LB15E","Minor Bladder Procedures, 19 years and over","Non-Elective Same Day Emergency","Chronic indwelling catheter related problems","ICD-10","Non-Elective","Emergency (21-25, 28, 2A, 2B, 2C, 2D)","NON","EMR",19,130,"Yes",1,32000,506,386,-120]
[null,"P1718","BP82","LB20F","Infection or Mechanical Problems Related to Genito-Urinary Prostheses, Implants or Grafts, without Interventions, with CC Score 2-6","Non-Elective Same Day Emergency","Chronic indwelling catheter related problems","ICD-10","Non-Elective","Emergency (21-25, 28, 2A, 2B, 2C, 2D)","NON","EMR",19,130,"Yes",0,0,729,837,108]
[null,"P1718","BP82","LB20F","Infection or Mechanical Problems Related to Genito-Urinary Prostheses, Implants or Grafts, without Interventions, with CC Score 2-6","Non-Elective Same Day Emergency","Chronic indwelling catheter related problems","ICD-10","Non-Elective","Emergency (21-25, 28, 2A, 2B, 2C, 2D)","NON","EMR",19,130,"Yes",1,32000,729,621,-108]
[null,"P1718","BP82","LB20G","Infection or Mechanical Problems Related to Genito-Urinary Prostheses, Implants or Grafts, without Interventions, with CC Score 0-1","Non-Elective Same Day Emergency","Chronic indwelling catheter related problems","ICD-10","Non-Elective","Emergency (21-25, 28, 2A, 2B, 2C, 2D)","NON","EMR",19,130,"Yes",0,0,406,478,72]
[null,"P1718","BP82","LB20G","Infection or Mechanical Problems Related to Genito-Urinary Prostheses, Implants or Grafts, without Interventions, with CC Score 0-1","Non-Elective Same Day Emergency","Chronic indwelling catheter related problems","ICD-10","Non-Elective","Emergency (21-25, 28, 2A, 2B, 2C, 2D)","NON","EMR",19,130,"Yes",1,32000,406,262,-144]
[null,"P1718","BP83","FZ36P","Gastrointestinal Infections without Interventions, with CC Score 2-4","Non-Elective Same Day Emergency","Gastroenteritis","NONE","Non-Elective","Emergency (21-25, 28, 2A, 2B, 2C, 2D)","NON","EMR",19,130,"Yes",0,0,1315,1508,193]
[null,"P1718","BP83","FZ36P","Gastrointestinal Infections without Interventions, with CC Score 2-4","Non-Elective Same Day Emergency","Gastroenteritis","NONE","Non-Elective","Emergency (21-25, 28, 2A, 2B, 2C, 2D)","NON","EMR",19,130,"Yes",1,32000,1315,1280,-35]
[null,"P1718","BP83","FZ36Q","Gastrointestinal Infections without Interventions, with CC Score 0-1","Non-Elective Same Day Emergency","Gastroenteritis","NONE","Non-Elective","Emergency (21-25, 28, 2A, 2B, 2C, 2D)","NON","EMR",19,130,"Yes",0,0,763,917,154]
[null,"P1718","BP83","FZ36Q","Gastrointestinal Infections without Interventions, with CC Score 0-1","Non-Elective Same Day Emergency","Gastroenteritis","NONE","Non-Elective","Emergency (21-25, 28, 2A, 2B, 2C, 2D)","NON","EMR",19,130,"Yes",1,32000,763,690,-73]
[null,"P1718","BP84","FZ38P","Gastrointestinal Bleed without Interventions, with CC Score 0-4","Non-Elective Same Day Emergency","Upper gastro-intestinal haemorrhage","ICD-10","Non-Elective","Emergency (21-25, 28, 2A, 2B, 2C, 2D)","NON","EMR",19,130,"Yes",0,0,698,837,139]
[null,"P1718","BP84","FZ38P","Gastrointestinal Bleed without Interventions, with CC Score 0-4","Non-Elective Same Day Emergency","Upper gastro-intestinal haemorrhage","ICD-10","Non-Elective","Emergency (21-25, 28, 2A, 2B, 2C, 2D)","NON","EMR",19,130,"Yes",1,32000,698,610,-88]
[null,"P1718","BP84","FZ91M","Non-Malignant Gastrointestinal Tract Disorders without Interventions, with CC Score 0-2","Non-Elective Same Day Emergency","Upper gastro-intestinal haemorrhage","ICD-10","Non-Elective","Emergency (21-25, 28, 2A, 2B, 2C, 2D)","NON","EMR",19,130,"Yes",0,0,768,906,138]
[null,"P1718","BP84","FZ91M","Non-Malignant Gastrointestinal Tract Disorders without Interventions, with CC Score 0-2","Non-Elective Same Day Emergency","Upper gastro-intestinal haemorrhage","ICD-10","Non-Elective","Emergency (21-25, 28, 2A, 2B, 2C, 2D)","NON","EMR",19,130,"Yes",1,32000,768,679,-89]
[null,"P1718","BP85","LA04Q","Kidney or Urinary Tract Infections, without Interventions, with CC Score 4-7","Non-Elective Same Day Emergency","Urinary tract infections","NONE","Non-Elective","Emergency (21-25, 28, 2A, 2B, 2C, 2D)","NON","EMR",19,130,"Yes",0,0,2500,2701,201]
[null,"P1718","BP85","LA04Q","Kidney or Urinary Tract Infections, without Interventions, with CC Score 4-7","Non-Elective Same Day Emergency","Urinary tract infections","NONE","Non-Elective","Emergency (21-25, 28, 2A, 2B, 2C, 2D)","NON","EMR",19,130,"Yes",1,32000,2500,2485,-15]
[null,"P1718","BP85","LA04R","Kidney or Urinary Tract Infections, without Interventions, with CC Score 2-3","Non-Elective Same Day Emergency","Urinary tract infections","NONE","Non-Elective","Emergency (21-25, 28, 2A, 2B, 2C, 2D)","NON","EMR",19,130,"Yes",0,0,1504,1685,181]
[null,"P1718","BP85","LA04R","Kidney or Urinary Tract Infections, without Interventions, with CC Score 2-3","Non-Elective Same Day Emergency","Urinary tract infections","NONE","Non-Elective","Emergency (21-25, 28, 2A, 2B, 2C, 2D)","NON","EMR",19,130,"Yes",1,32000,1504,1469,-35]
[null,"P1718","BP85","LA04S","Kidney or Urinary Tract Infections, without Interventions, with CC Score 0-1","Non-Elective Same Day Emergency","Urinary tract infections","NONE","Non-Elective","Emergency (21-25, 28, 2A, 2B, 2C, 2D)","NON","EMR",19,130,"Yes",0,0,861,1010,149]
[null,"P1718","BP85","LA04S","Kidney or Urinary Tract Infections, without Interventions, with CC Score 0-1","Non-Elective Same Day Emergency","Urinary tract infections","NONE","Non-Elective","Emergency (21-25, 28, 2A, 2B, 2C, 2D)","NON","EMR",19,130,"Yes",1,32000,861,794,-67]
[null,"P1718","BP86","AA29F","Transient Ischaemic Attack with CC Score 0-4","Non-Elective Same Day Emergency","Transient ischaemic attack","NONE","Non-Elective","Emergency (21-25, 28, 2A, 2B, 2C, 2D)","NON","EMR",19,130,"Yes",0,0,598,735,137]
[null,"P1718","BP86","AA29F","Transient Ischaemic Attack with CC Score 0-4","Non-Elective Same Day Emergency","Transient ischaemic attack","NONE","Non-Elective","Emergency (21-25, 28, 2A, 2B, 2C, 2D)","NON","EMR",19,130,"Yes",1,32000,598,495,-103]

{"sheet":"Triggers","index":6,"n_rows":158,"n_cols":7,"rows_kept":158,"cut":false,"hidden":true,"merged":[]}
["BP","HRG_Split_Long_Label","CODE_HRG","Code_Description","Code","Documentation_Flag_ID","Code_Type"]
["BP01","Fragility hip fracture","HT12A","Very Major Hip Procedures for Trauma with CC Score 12+","0C01","BP_FHF","HRG7"]
["BP01","Fragility hip fracture","HT12B","Very Major Hip Procedures for Trauma with CC Score 9-11","0C01","BP_FHF","HRG7"]
["BP01","Fragility hip fracture","HT12C","Very Major Hip Procedures for Trauma with CC Score 6-8","0C01","BP_FHF","HRG7"]
["BP01","Fragility hip fracture","HT12D","Very Major Hip Procedures for Trauma with CC Score 3-5","0C01","BP_FHF","HRG7"]
["BP01","Fragility hip fracture","HT12E","Very Major Hip Procedures for Trauma with CC Score 0-2","0C01","BP_FHF","HRG7"]
["BP01","Fragility hip fracture","HT13A","Major Hip Procedures for Trauma with CC Score 12+","0C01","BP_FHF","HRG7"]
["BP01","Fragility hip fracture","HT13B","Major Hip Procedures for Trauma with CC Score 9-11","0C01","BP_FHF","HRG7"]
["BP01","Fragility hip fracture","HT13C","Major Hip Procedures for Trauma with CC Score 6-8","0C01","BP_FHF","HRG7"]
["BP01","Fragility hip fracture","HT13D","Major Hip Procedures for Trauma with CC Score 3-5","0C01","BP_FHF","HRG7"]
["BP01","Fragility hip fracture","HT13E","Major Hip Procedures for Trauma with CC Score 0-2","0C01","BP_FHF","HRG7"]
["BP01","Fragility hip fracture","VA11A","Multiple Trauma with Diagnosis Score <=23, with Intervention Score 1-8","0C01","BP_FHF","HRG7"]
["BP01","Fragility hip fracture","VA11B","Multiple Trauma with Diagnosis Score 24-32, with Intervention Score 1-8","0C01","BP_FHF","HRG7"]
["BP01","Fragility hip fracture","VA11C","Multiple Trauma with Diagnosis Score 33-50, with Intervention Score 1-8","0C01","BP_FHF","HRG7"]
["BP01","Fragility hip fracture","VA11D","Multiple Trauma with Diagnosis Score >=51, with Intervention Score 1-8","0C01","BP_FHF","HRG7"]
["BP01","Fragility hip fracture","VA12A","Multiple Trauma with Diagnosis Score <=23, with Intervention Score 9-18","0C01","BP_FHF","HRG7"]
["BP01","Fragility hip fracture","VA12B","Multiple Trauma with Diagnosis Score 24-32, with Intervention Score 9-18","0C01","BP_FHF","HRG7"]
["BP01","Fragility hip fracture","VA12C","Multiple Trauma with Diagnosis Score 33-50, with Intervention Score 9-18","0C01","BP_FHF","HRG7"]
["BP01","Fragility hip fracture","VA12D","Multiple Trauma with Diagnosis Score >=51, with Intervention Score 9-18","0C01","BP_FHF","HRG7"]
["BP02","Myocardial infarction","EB10A","Actual or Suspected Myocardial Infarction, with CC Score 13+","0C02","BP_MI","HRG7"]
["BP02","Myocardial infarction","EB10B","Actual or Suspected Myocardial Infarction, with CC Score 10-12","0C02","BP_MI","HRG7"]
["BP02","Myocardial infarction","EB10C","Actual or Suspected Myocardial Infarction, with CC Score 7-9","0C02","BP_MI","HRG7"]
["BP02","Myocardial infarction","EB10D","Actual or Suspected Myocardial Infarction, with CC Score 4-6","0C02","BP_MI","HRG7"]
["BP02","Myocardial infarction","EB10E","Actual or Suspected Myocardial Infarction, with CC Score 0-3","0C02","BP_MI","HRG7"]
["BP02","Myocardial infarction","EY40A","Complex Percutaneous Transluminal Coronary Angioplasty with CC Score 12+","0C02","BP_MI","HRG7"]
["BP02","Myocardial infarction","EY40B","Complex Percutaneous Transluminal Coronary Angioplasty with CC Score 8-11","0C02","BP_MI","HRG7"]
["BP02","Myocardial infarction","EY40C","Complex Percutaneous Transluminal Coronary Angioplasty with CC Score 4-7","0C02","BP_MI","HRG7"]
["BP02","Myocardial infarction","EY40D","Complex Percutaneous Transluminal Coronary Angioplasty with CC Score 0-3","0C02","BP_MI","HRG7"]
["BP02","Myocardial infarction","EY41A","Standard Percutaneous Transluminal Coronary Angioplasty with CC Score 12+","0C02","BP_MI","HRG7"]
["BP02","Myocardial infarction","EY41B","Standard Percutaneous Transluminal Coronary Angioplasty with CC Score 8-11","0C02","BP_MI","HRG7"]
["BP02","Myocardial infarction","EY41C","Standard Percutaneous Transluminal Coronary Angioplasty with CC Score 4-7","0C02","BP_MI","HRG7"]
["BP02","Myocardial infarction","EY41D","Standard Percutaneous Transluminal Coronary Angioplasty with CC Score 0-3","0C02","BP_MI","HRG7"]
["BP02","Myocardial infarction","EY42A","Complex Cardiac Catheterisation with CC Score 7+","0C02","BP_MI","HRG7"]
["BP02","Myocardial infarction","EY42B","Complex Cardiac Catheterisation with CC Score 4-6","0C02","BP_MI","HRG7"]
["BP02","Myocardial infarction","EY42C","Complex Cardiac Catheterisation with CC Score 2-3","0C02","BP_MI","HRG7"]
["BP02","Myocardial infarction","EY42D","Complex Cardiac Catheterisation with CC Score 0-1","0C02","BP_MI","HRG7"]
["BP02","Myocardial infarction","EY43A","Standard Cardiac Catheterisation with CC Score 13+","0C02","BP_MI","HRG7"]
["BP02","Myocardial infarction","EY43B","Standard Cardiac Catheterisation with CC Score 10-12","0C02","BP_MI","HRG7"]
["BP02","Myocardial infarction","EY43C","Standard Cardiac Catheterisation with CC Score 7-9","0C02","BP_MI","HRG7"]
["BP02","Myocardial infarction","EY43D","Standard Cardiac Catheterisation with CC Score 4-6","0C02","BP_MI","HRG7"]
["BP02","Myocardial infarction","EY43E","Standard Cardiac Catheterisation with CC Score 2-3","0C02","BP_MI","HRG7"]
["BP02","Myocardial infarction","EY43F","Standard Cardiac Catheterisation with CC Score 0-1","0C02","BP_MI","HRG7"]
["BP15","Therapeutic arthroscopy of shoulder","HN54C","Intermediate Shoulder Procedures for Non-Trauma, 19 years and over, with CC Score 0-1","0C15","BP_SHOULDER","HRG7"]
["BP16","Bunion operations","HN34C","Intermediate Foot Procedures for Non-Trauma, 19 years and over, with CC Score 0-1","0C16","BP_BUNION","HRG7"]
["BP17","Dupuytren's fasciectomy","HN44B","Intermediate Hand Procedures for Non-Trauma, 19 years and over, with CC Score 0-1","0C17","BP_DUPUYTRENS","HRG7"]
["BP28","Simple mastectomy","JA20F","Unilateral Major Breast Procedures with CC Score 0-2","0C28","BP_MAST","HRG7"]
["BP28","Simple mastectomy","JA38C","Unilateral Major Breast Procedures with Lymph Node Clearance, with CC Score 0-1","0C28","BP_MAST","HRG7"]
["BP29","Excision of breast","JA20F","Unilateral Major Breast Procedures with CC Score 0-2","0C29","BP_EXBREAST","HRG7"]
["BP29","Excision of breast","JA43B","Unilateral Intermediate Breast Procedures with CC Score 0-2","0C29","BP_EXBREAST","HRG7"]
["BP31","Sentinel lymph node biopsy/axillary sample","YJ04Z","Core Needle Biopsy of Axillary Lymph Nodes","0C31","BP_LYMPH_1","HRG7"]
["BP31","Sentinel lymph node biopsy/axillary sample","YJ04Z","Core Needle Biopsy of Axillary Lymph Nodes","0C31","BP_LYMPH_2","HRG7"]
["BP32","Axillary clearance","JA20F","Unilateral Major Breast Procedures with CC Score 0-2","0C32","BP_AXILLARY","HRG7"]
["BP35","Epileptic seizure","AA26F","Muscular, Balance, Cranial or Peripheral Nerve Disorders, Epilepsy or Head Injury, with CC Score 6-8","0C35","BP_EPI","HRG7"]
["BP35","Epileptic seizure","AA26G","Muscular, Balance, Cranial or Peripheral Nerve Disorders, Epilepsy or Head Injury, with CC Score 3-5","0C35","BP_EPI","HRG7"]
["BP35","Epileptic seizure","AA26H","Muscular, Balance, Cranial or Peripheral Nerve Disorders, Epilepsy or Head Injury, with CC Score 0-2","0C35","BP_EPI","HRG7"]
["BP38","Self harm","WH04E","Poisoning Diagnosis without Interventions, with CC Score 0-1","0C38","BP_DSH","HRG7"]
["BP39","Cellulitis","JD07H","Skin Disorders without Interventions, with CC Score 6-9","0C39","BP_CELL","HRG7"]
["BP39","Cellulitis","JD07J","Skin Disorders without Interventions, with CC Score 2-5","0C39","BP_CELL","HRG7"]
["BP39","Cellulitis","JD07K","Skin Disorders without Interventions, with CC Score 0-1","0C39","BP_CELL","HRG7"]
["BP40","Chest pain","EB12B","Unspecified Chest Pain with CC Score 5-10","0C40","BP_CHESTPAIN","HRG7"]
["BP40","Chest pain","EB12C","Unspecified Chest Pain with CC Score 0-4","0C40","BP_CHESTPAIN","HRG7"]
["BP40","Chest pain","EB13C","Angina with CC Score 4-7","0C40","BP_CHESTPAIN","HRG7"]
["BP40","Chest pain","EB13D","Angina with CC Score 0-3","0C40","BP_CHESTPAIN","HRG7"]
["BP41","Falls including syncope or collapse","EB08E","Syncope or Collapse, with CC Score 0-3","0C41","BP_FALL","HRG7"]
["BP42","Appendicular fractures not requiring immediate fixation","HE21F","Knee Fracture without Interventions, with CC Score 2-4","0C42","BP_APPFRAC","HRG7"]
["BP42","Appendicular fractures not requiring immediate fixation","HE21G","Knee Fracture without Interventions, with CC Score 0-1","0C42","BP_APPFRAC","HRG7"]
["BP42","Appendicular fractures not requiring immediate fixation","HE31F","Foot Fracture without Interventions, with CC Score 2-3","0C42","BP_APPFRAC","HRG7"]
["BP42","Appendicular fractures not requiring immediate fixation","HE31G","Foot Fracture without Interventions, with CC Score 0-1","0C42","BP_APPFRAC","HRG7"]
["BP42","Appendicular fractures not requiring immediate fixation","HE41C","Hand Fracture without Interventions, with CC Score 1-2","0C42","BP_APPFRAC","HRG7"]
["BP42","Appendicular fractures not requiring immediate fixation","HE41D","Hand Fracture without Interventions, with CC Score 0","0C42","BP_APPFRAC","HRG7"]
["BP42","Appendicular fractures not requiring immediate fixation","HE51G","Arm Fracture without Interventions, with CC Score 2-3","0C42","BP_APPFRAC","HRG7"]
["BP42","Appendicular fractures not requiring immediate fixation","HE51H","Arm Fracture without Interventions, with CC Score 0-1","0C42","BP_APPFRAC","HRG7"]
["BP44","Asthma","DZ15Q","Asthma without Interventions, with CC Score 3-5","0C44","BP_ASTHMA","HRG7"]
["BP44","Asthma","DZ15R","Asthma without Interventions, with CC Score 0-2","0C44","BP_ASTHMA","HRG7"]
["BP45","Lower respiratory tract infections without COPD","DZ22Q","Unspecified Acute Lower Respiratory Infection without Interventions, with CC Score 0-4","0C45","BP_LRTI","HRG7"]
["BP46","Pulmonary embolism","DZ09P","Pulmonary Embolus without Interventions, with CC Score 3-5","0C46","BP_PULEMB","HRG7"]
["BP46","Pulmonary embolism","DZ09Q","Pulmonary Embolus without Interventions, with CC Score 0-2","0C46","BP_PULEMB","HRG7"]
["BP47","Renal/ureteric stones","LB40G","Urinary Tract Stone Disease without Interventions, with CC Score 0-2","0C47","BP_STONES","HRG7"]
["BP48","Deep vein thrombosis","YQ51C","Deep Vein Thrombosis with CC Score 6-8","0C48","BP_DVT","HRG7"]
["BP48","Deep vein thrombosis","YQ51D","Deep Vein Thrombosis with CC Score 3-5","0C48","BP_DVT","HRG7"]
["BP48","Deep vein thrombosis","YQ51E","Deep Vein Thrombosis with CC Score 0-2","0C48","BP_DVT","HRG7"]
["BP49","Acute headache","AA31D","Headache, Migraine or Cerebrospinal Fluid Leak, with CC Score 7-10","0C49","BP_HEADACHE","HRG7"]
["BP49","Acute headache","AA31E","Headache, Migraine or Cerebrospinal Fluid Leak, with CC Score 0-6","0C49","BP_HEADACHE","HRG7"]
["BP50","Timely access to coronary angiography - NSTEMI","EY40A","Complex Percutaneous Transluminal Coronary Angioplasty with CC Score 12+","0C50","BP_NSTEMI","HRG7"]
["BP50","Timely access to coronary angiography - NSTEMI","EY40B","Complex Percutaneous Transluminal Coronary Angioplasty with CC Score 8-11","0C50","BP_NSTEMI","HRG7"]
["BP50","Timely access to coronary angiography - NSTEMI","EY40C","Complex Percutaneous Transluminal Coronary Angioplasty with CC Score 4-7","0C50","BP_NSTEMI","HRG7"]
["BP50","Timely access to coronary angiography - NSTEMI","EY40D","Complex Percutaneous Transluminal Coronary Angioplasty with CC Score 0-3","0C50","BP_NSTEMI","HRG7"]
["BP50","Timely access to coronary angiography - NSTEMI","EY41A","Standard Percutaneous Transluminal Coronary Angioplasty with CC Score 12+","0C50","BP_NSTEMI","HRG7"]
["BP50","Timely access to coronary angiography - NSTEMI","EY41B","Standard Percutaneous Transluminal Coronary Angioplasty with CC Score 8-11","0C50","BP_NSTEMI","HRG7"]
["BP50","Timely access to coronary angiography - NSTEMI","EY41C","Standard Percutaneous Transluminal Coronary Angioplasty with CC Score 4-7","0C50","BP_NSTEMI","HRG7"]
["BP50","Timely access to coronary angiography - NSTEMI","EY41D","Standard Percutaneous Transluminal Coronary Angioplasty with CC Score 0-3","0C50","BP_NSTEMI","HRG7"]
["BP50","Timely access to coronary angiography - NSTEMI","EY42A","Complex Cardiac Catheterisation with CC Score 7+","0C50","BP_NSTEMI","HRG7"]
["BP50","Timely access to coronary angiography - NSTEMI","EY42B","Complex Cardiac Catheterisation with CC Score 4-6","0C50","BP_NSTEMI","HRG7"]
["BP50","Timely access to coronary angiography - NSTEMI","EY42C","Complex Cardiac Catheterisation with CC Score 2-3","0C50","BP_NSTEMI","HRG7"]
["BP50","Timely access to coronary angiography - NSTEMI","EY42D","Complex Cardiac Catheterisation with CC Score 0-1","0C50","BP_NSTEMI","HRG7"]
["BP50","Timely access to coronary angiography - NSTEMI","EY43A","Standard Cardiac Catheterisation with CC Score 13+","0C50","BP_NSTEMI","HRG7"]
["BP50","Timely access to coronary angiography - NSTEMI","EY43B","Standard Cardiac Catheterisation with CC Score 10-12","0C50","BP_NSTEMI","HRG7"]
["BP50","Timely access to coronary angiography - NSTEMI","EY43C","Standard Cardiac Catheterisation with CC Score 7-9","0C50","BP_NSTEMI","HRG7"]
["BP50","Timely access to coronary angiography - NSTEMI","EY43D","Standard Cardiac Catheterisation with CC Score 4-6","0C50","BP_NSTEMI","HRG7"]
["BP50","Timely access to coronary angiography - NSTEMI","EY43E","Standard Cardiac Catheterisation with CC Score 2-3","0C50","BP_NSTEMI","HRG7"]
["BP50","Timely access to coronary angiography - NSTEMI","EY43F","Standard Cardiac Catheterisation with CC Score 0-1","0C50","BP_NSTEMI","HRG7"]
["BP52","Diabetic ketoacidosis and hypoglycaemia","KB01C","Diabetes with Hypoglycaemic Disorders, with CC Score 8+","0C52","BP_DIAB_KETO_01","HRG7"]
["BP52","Diabetic ketoacidosis and hypoglycaemia","KB01C","Diabetes with Hypoglycaemic Disorders, with CC Score 8+","0C52","BP_DIAB_KETO_02","HRG7"]
["BP52","Diabetic ketoacidosis and hypoglycaemia","KB01D","Diabetes with Hypoglycaemic Disorders, with CC Score 5-7","0C52","BP_DIAB_KETO_02","HRG7"]
["BP52","Diabetic ketoacidosis and hypoglycaemia","KB01D","Diabetes with Hypoglycaemic Disorders, with CC Score 5-7","0C52","BP_DIAB_KETO_01","HRG7"]
["BP52","Diabetic ketoacidosis and hypoglycaemia","KB01E","Diabetes with Hypoglycaemic Disorders, with CC Score 3-4","0C52","BP_DIAB_KETO_01","HRG7"]
["BP52","Diabetic ketoacidosis and hypoglycaemia","KB01E","Diabetes with Hypoglycaemic Disorders, with CC Score 3-4","0C52","BP_DIAB_KETO_02","HRG7"]
["BP52","Diabetic ketoacidosis and hypoglycaemia","KB01F","Diabetes with Hypoglycaemic Disorders, with CC Score 0-2","0C52","BP_DIAB_KETO_02","HRG7"]
["BP52","Diabetic ketoacidosis and hypoglycaemia","KB01F","Diabetes with Hypoglycaemic Disorders, with CC Score 0-2","0C52","BP_DIAB_KETO_01","HRG7"]
["BP52","Diabetic ketoacidosis and hypoglycaemia","KB02G","Diabetes with Hyperglycaemic Disorders, with CC Score 8+","0C52","BP_DIAB_KETO_01","HRG7"]
["BP52","Diabetic ketoacidosis and hypoglycaemia","KB02G","Diabetes with Hyperglycaemic Disorders, with CC Score 8+","0C52","BP_DIAB_KETO_02","HRG7"]
["BP52","Diabetic ketoacidosis and hypoglycaemia","KB02H","Diabetes with Hyperglycaemic Disorders, with CC Score 5-7","0C52","BP_DIAB_KETO_02","HRG7"]
["BP52","Diabetic ketoacidosis and hypoglycaemia","KB02H","Diabetes with Hyperglycaemic Disorders, with CC Score 5-7","0C52","BP_DIAB_KETO_01","HRG7"]
["BP52","Diabetic ketoacidosis and hypoglycaemia","KB02J","Diabetes with Hyperglycaemic Disorders, with CC Score 2-4","0C52","BP_DIAB_KETO_01","HRG7"]
["BP52","Diabetic ketoacidosis and hypoglycaemia","KB02J","Diabetes with Hyperglycaemic Disorders, with CC Score 2-4","0C52","BP_DIAB_KETO_02","HRG7"]
["BP52","Diabetic ketoacidosis and hypoglycaemia","KB02K","Diabetes with Hyperglycaemic Disorders, with CC Score 0-1","0C52","BP_DIAB_KETO_02","HRG7"]
["BP52","Diabetic ketoacidosis and hypoglycaemia","KB02K","Diabetes with Hyperglycaemic Disorders, with CC Score 0-1","0C52","BP_DIAB_KETO_01","HRG7"]
["BP53","Low risk pubic rami","HE11G","Hip Fracture without Interventions, with CC Score 4-7","0C53","BP_RAMI","HRG7"]
["BP53","Low risk pubic rami","HE11H","Hip Fracture without Interventions, with CC Score 0-3","0C53","BP_RAMI","HRG7"]
["BP54","Anaemia","SA04K","Iron Deficiency Anaemia with CC Score 2-5","0C54","BP_ANAEMIA","HRG7"]
["BP54","Anaemia","SA04L","Iron Deficiency Anaemia with CC Score 0-1","0C54","BP_ANAEMIA","HRG7"]
["BP54","Anaemia","SA09K","Other Red Blood Cell Disorders with CC Score 2-5","0C54","BP_ANAEMIA","HRG7"]
["BP54","Anaemia","SA09L","Other Red Blood Cell Disorders with CC Score 0-1","0C54","BP_ANAEMIA","HRG7"]
["BP55","Bladder outflow obstruction","LB16J","Urinary Incontinence or Other Urinary Problems, without Interventions, with CC Score 2-4","0C55","BP_BOO","HRG7"]
["BP55","Bladder outflow obstruction","LB16K","Urinary Incontinence or Other Urinary Problems, without Interventions, with CC Score 0-1","0C55","BP_BOO","HRG7"]
["BP56","Community acquired pneumonia","DZ11V","Lobar, Atypical or Viral Pneumonia, without Interventions, with CC Score 0-3","0C56","BP_PNEUMONIA","HRG7"]
["BP58","Minor head injury","CB02E","Non-Malignant, Ear, Nose, Mouth, Throat or Neck Disorders, without Interventions, with CC Score 1-4","0C58","BP_HEAD","HRG7"]
["BP58","Minor head injury","CB02F","Non-Malignant, Ear, Nose, Mouth, Throat or Neck Disorders, without Interventions, with CC Score 0","0C58","BP_HEAD","HRG7"]
["BP59","Supraventricular tachycardia's including atrial fibrillation","EB07C","Arrhythmia or Conduction Disorders, with CC Score 7-9","0C59","BP_SVT","HRG7"]
["BP59","Supraventricular tachycardia's including atrial fibrillation","EB07D","Arrhythmia or Conduction Disorders, with CC Score 4-6","0C59","BP_SVT","HRG7"]
["BP59","Supraventricular tachycardia's including atrial fibrillation","EB07E","Arrhythmia or Conduction Disorders, with CC Score 0-3","0C59","BP_SVT","HRG7"]
["BP61","Abdominal pain","FZ90B","Abdominal Pain without Interventions","0C61","BP_ABDOPAIN","HRG7"]
["BP63","Autograft anterior cruciate ligament reconstruction","HN23C","Major Knee Procedures for Non-Trauma, 19 years and over, with CC Score 0-1","0C63","BP_AUTO_CRU_LIG","HRG7"]
["BP64","Biopsy/sampling of cervical lymph nodes","CA05A","Minor Neck Procedures, 19 years and over","0C64","BP_BIO_C_LYMPH","HRG7"]
["BP65","Creation of arteriovenous fistula for dialysis","YQ42Z","Open Arteriovenous Fistula, Graft or Shunt Procedures","0C65","BP_ART_FIST_DIA","HRG7"]
["BP66","Dacryocysto-rhinostomy including insertion of tube","BZ54B","Major, Orbit or Lacrimal Procedures, 19 years and over, with CC Score 0","0C66","BP_DACRY_RHINO","HRG7"]
["BP68","Endoscopic insertion of prosthesis into ureter","LB09D","Intermediate Endoscopic Ureter Procedures, 19 years and over","0C68","BP_ENDO_INST_PRS","HRG7"]
["BP69","Excision biopsy of lymph node for diagnosis (cervical, inguinal, axillary)","FZ12Q","Major General Abdominal Procedures, 19 years and over, with CC Score 0","0C69","BP_EXCN_BIO_LYMP","HRG7"]
["BP73","Optical urethrotomy","LB55A","Minor or Intermediate, Urethra Procedures, 19 years and over","0C73","BP_OPT_URETHROMY","HRG7"]
["BP74","Polypectomy of internal nose","CA28Z","Intermediate Sinus Procedures","0C74","BP_POLYPEC_NOSE","HRG7"]
["BP76","Repair of other abdominal hernia","FZ17G","Abdominal Hernia Procedures, 19 years and over, with CC Score 0","0C76","BP_OTH_ABD_HERN","HRG7"]
["BP77","Transluminal operations on iliac and femoral artery","YR11D","Percutaneous Transluminal Angioplasty of Single Blood Vessel with CC Score 0-2","0C77","BP_TRN_P_ILI_FEM","HRG7"]
["BP77","Transluminal operations on iliac and femoral artery","YR25Z","Arteriography","0C77","BP_TRN_P_ILI_FEM","HRG7"]
["BP78","Ureteroscopic extraction of calculus of ureter","LB65E","Major Endoscopic, Kidney or Ureter Procedures, 19 years and over, with CC Score 0-2","0C78","BP_UTR_EX_CAL_UR","HRG7"]
["BP79","Laparoscopic oophorectomy and salpingectomy (including bilateral)","MA08B","Major, Laparoscopic or Endoscopic, Upper Genital Tract Procedures, with CC Score 0-1","0C79","BP_LAR_OOP_SPTMY","HRG7"]
["BP80","Abnormal liver function","GC17K","Non-Malignant, Hepatobiliary or Pancreatic Disorders, without Interventions, with CC Score 0-1","0C80","BP_ABN_LIVER_FN","HRG7"]
["BP81","Acutely hot painful joint","HD26G","Musculoskeletal Signs or Symptoms, with CC Score 0-3","0C81","BP_ACUTE_P_JNT","HRG7"]
["BP82","Chronic indwelling catheter related problems","LB15E","Minor Bladder Procedures, 19 years and over","0C82","BP_CHRONIC_CATH","HRG7"]
["BP82","Chronic indwelling catheter related problems","LB20F","Infection or Mechanical Problems Related to Genito-Urinary Prostheses, Implants or Grafts, without Interventions, with CC Score 2-6","0C82","BP_CHRONIC_CATH","HRG7"]
["BP82","Chronic indwelling catheter related problems","LB20G","Infection or Mechanical Problems Related to Genito-Urinary Prostheses, Implants or Grafts, without Interventions, with CC Score 0-1","0C82","BP_CHRONIC_CATH","HRG7"]
["BP83","Gastroenteritis","FZ36P","Gastrointestinal Infections without Interventions, with CC Score 2-4","0C83","BP_GASTRO","HRG7"]
["BP83","Gastroenteritis","FZ36Q","Gastrointestinal Infections without Interventions, with CC Score 0-1","0C83","BP_GASTRO","HRG7"]
["BP84","Upper gastro-intestinal haemorrhage","FZ38P","Gastrointestinal Bleed without Interventions, with CC Score 0-4","0C84","BP_U_GAST_HAEMO","HRG7"]
["BP84","Upper gastro-intestinal haemorrhage","FZ91M","Non-Malignant Gastrointestinal Tract Disorders without Interventions, with CC Score 0-2","0C84","BP_U_GAST_HAEMO","HRG7"]
["BP85","Urinary tract infections","LA04Q","Kidney or Urinary Tract Infections, without Interventions, with CC Score 4-7","0C85","BP_URI_TRA_INFEC","HRG7"]
["BP85","Urinary tract infections","LA04R","Kidney or Urinary Tract Infections, without Interventions, with CC Score 2-3","0C85","BP_URI_TRA_INFEC","HRG7"]
["BP85","Urinary tract infections","LA04S","Kidney or Urinary Tract Infections, without Interventions, with CC Score 0-1","0C85","BP_URI_TRA_INFEC","HRG7"]
["BP86","Transient ischaemic attack","AA29F","Transient Ischaemic Attack with CC Score 0-4","0C86","BP_TIA","HRG7"]

{"sheet":"Doc Flags to List Members","index":7,"n_rows":140,"n_cols":7,"rows_kept":140,"cut":false,"hidden":true,"merged":[]}
["Documentation_Flag_ID","Code_Type","Position","Flag_Order","List_ID","Code_Value_Needed","Function_ID"]
["BP_ABDOPAIN","ADMIMETH",null,"2","BP_EMERG",null,"DataItemInList"]
["BP_ABDOPAIN","Age",null,"1","Age_19plus",null,"DataItemInList"]
["BP_ABN_LIVER_FN","ADMIMETH",null,"3","BP_EMERG",null,"DataItemInList"]
["BP_ABN_LIVER_FN","Age",null,"2","Age_19plus",null,"DataItemInList"]
["BP_ABN_LIVER_FN","ICD","Primary Diagnoses","1","BP_ABN_LIVER_FN_ICD",null,"DataItemInList"]
["BP_ACUTE_P_JNT","ADMIMETH",null,"3","BP_EMERG",null,"DataItemInList"]
["BP_ACUTE_P_JNT","Age",null,"2","Age_19plus",null,"DataItemInList"]
["BP_ACUTE_P_JNT","ICD","Primary Diagnoses","1","BP_ACUTE_P_JNT_ICD",null,"DataItemInList"]
["BP_ANAEMIA","ADMIMETH",null,"2","BP_EMERG",null,"DataItemInList"]
["BP_ANAEMIA","Age",null,"1","Age_19plus",null,"DataItemInList"]
["BP_APPFRAC","ADMIMETH",null,"2","BP_EMERG",null,"DataItemInList"]
["BP_APPFRAC","Age",null,"3","Age_19plus",null,"DataItemInList"]
["BP_APPFRAC","ICD","Primary Diagnoses","1","BP_APPFRAC_ICD",null,"DataItemInList"]
["BP_ART_FIST_DIA","ADMIMETH",null,"2","BP_ELECTIVE",null,"DataItemInList"]
["BP_ART_FIST_DIA","Age",null,"1","Age_19plus",null,"DataItemInList"]
["BP_ART_FIST_DIA","OPCS","Any Position","3","BP_ART_FIST_DIAL_OPCS",null,"DataItemInList"]
["BP_ASTHMA","ADMIMETH",null,"2","BP_EMERG",null,"DataItemInList"]
["BP_ASTHMA","Age",null,"1","Age_19plus",null,"DataItemInList"]
["BP_AUTO_CRU_LIG","ADMIMETH",null,"2","BP_ELECTIVE",null,"DataItemInList"]
["BP_AUTO_CRU_LIG","Age",null,"1","Age_19plus",null,"DataItemInList"]
["BP_AUTO_CRU_LIG","OPCS","Any Position","3","BP_AUTO_ANT_CRU_LIG_OPCS",null,"DataItemInList"]
["BP_AXILLARY","ADMIMETH",null,"3","BP_ELECTIVE",null,"DataItemInList"]
["BP_AXILLARY","Age",null,"2","Age_19plus",null,"DataItemInList"]
["BP_AXILLARY","OPCS","Any Position","1","BP_AXILLARY_OPCS",null,"DataItemInList"]
["BP_BIO_C_LYMPH","ADMIMETH",null,"2","BP_ELECTIVE",null,"DataItemInList"]
["BP_BIO_C_LYMPH","Age",null,"1","Age_19plus",null,"DataItemInList"]
["BP_BIO_C_LYMPH","OPCS","Any Position","3","BP_BIO_CERV_LYMPH_OPCS",null,"DataItemInList"]
["BP_BOO","ADMIMETH",null,"2","BP_EMERG",null,"DataItemInList"]
["BP_BOO","Age",null,"1","Age_19plus",null,"DataItemInList"]
["BP_BUNION","ADMIMETH",null,"3","BP_ELECTIVE",null,"DataItemInList"]
["BP_BUNION","Age",null,"2","Age_19plus",null,"DataItemInList"]
["BP_BUNION","OPCS","Any Position","1","BP_BUNION_OPCS",null,"DataItemInList"]
["BP_CELL","ADMIMETH",null,"2","BP_EMERG",null,"DataItemInList"]
["BP_CELL","Age",null,"3","Age_19plus",null,"DataItemInList"]
["BP_CELL","ICD","Primary Diagnoses","1","BP_CELL_ICD",null,"DataItemInList"]
["BP_CHESTPAIN","ADMIMETH",null,"2","BP_EMERG",null,"DataItemInList"]
["BP_CHESTPAIN","Age",null,"3","Age_19plus",null,"DataItemInList"]
["BP_CHESTPAIN","ICD","Primary Diagnoses","1","BP_CHESTPAIN_ICD",null,"DataItemInList"]
["BP_CHRONIC_CATH","ADMIMETH",null,"3","BP_EMERG",null,"DataItemInList"]
["BP_CHRONIC_CATH","Age",null,"2","Age_19plus",null,"DataItemInList"]
["BP_CHRONIC_CATH","ICD","Primary Diagnoses","1","BP_CHRONIC_CATH_ICD",null,"DataItemInList"]
["BP_DACRY_RHINO","ADMIMETH",null,"2","BP_ELECTIVE",null,"DataItemInList"]
["BP_DACRY_RHINO","Age",null,"1","Age_19plus",null,"DataItemInList"]
["BP_DACRY_RHINO","OPCS","Any Position","3","BP_DACRY_RHINO_OPCS",null,"DataItemInList"]
["BP_DIAB_KETO_01","ADMIMETH",null,"3","BP_EMERG",null,"DataItemInList"]
["BP_DIAB_KETO_01","Age",null,"2","Age_19plus",null,"DataItemInList"]
["BP_DIAB_KETO_01","ICD","Primary Diagnoses","1","BP_DIAB_ICD_1",null,"DataItemInList"]
["BP_DIAB_KETO_02","ADMIMETH",null,"4","BP_EMERG",null,"DataItemInList"]
["BP_DIAB_KETO_02","Age",null,"3","Age_19plus",null,"DataItemInList"]
["BP_DIAB_KETO_02","ICD","Primary Diagnoses","1","BP_DIAB_ICD_2",null,"DataItemInList"]
["BP_DIAB_KETO_02","ICD","Secondary Diagnoses","2","BP_DIAB_ICD_1",null,"DataItemInList"]
["BP_DSH","ADMIMETH",null,"2","BP_EMERG",null,"DataItemInList"]
["BP_DSH","Age",null,"1","Age_19plus",null,"DataItemInList"]
["BP_DUPUYTRENS","ADMIMETH",null,"3","BP_ELECTIVE",null,"DataItemInList"]
["BP_DUPUYTRENS","Age",null,"2","Age_19plus",null,"DataItemInList"]
["BP_DUPUYTRENS","OPCS","Any Position","1","BP_DUPUY_OPCS",null,"DataItemInList"]
["BP_DVT","ADMIMETH",null,"2","BP_EMERG",null,"DataItemInList"]
["BP_DVT","Age",null,"1","Age_19plus",null,"DataItemInList"]
["BP_ENDO_INST_PRS","ADMIMETH",null,"2","BP_ELECTIVE",null,"DataItemInList"]
["BP_ENDO_INST_PRS","Age",null,"1","Age_19plus",null,"DataItemInList"]
["BP_ENDO_INST_PRS","OPCS","Any Position","3","BP_ENDO_INSERT_PROST_OPCS",null,"DataItemInList"]
["BP_EPI","ADMIMETH",null,"2","BP_EMERG",null,"DataItemInList"]
["BP_EPI","Age",null,"3","Age_19plus",null,"DataItemInList"]
["BP_EPI","ICD","Primary Diagnoses","1","BP_EPI_ICD",null,"DataItemInList"]
["BP_EXBREAST","ADMIMETH",null,"3","BP_ELECTIVE",null,"DataItemInList"]
["BP_EXBREAST","Age",null,"2","Age_19plus",null,"DataItemInList"]
["BP_EXBREAST","OPCS","Any Position","1","BP_EXBREAST_OPCS",null,"DataItemInList"]
["BP_EXCN_BIO_LYMP","ADMIMETH",null,"2","BP_ELECTIVE",null,"DataItemInList"]
["BP_EXCN_BIO_LYMP","Age",null,"1","Age_19plus",null,"DataItemInList"]
["BP_EXCN_BIO_LYMP","OPCS","Any Position","3","BP_EXCN_BIO_LYMP_OPCS",null,"DataItemInList"]
["BP_FALL","ADMIMETH",null,"2","BP_EMERG",null,"DataItemInList"]
["BP_FALL","Age",null,"1","Age_19plus",null,"DataItemInList"]
["BP_FHF","ADMIMETH",null,"4","BP_EMERG_TRN",null,"DataItemInList"]
["BP_FHF","Age",null,"3","BPT_Age_60plus",null,"DataItemInList"]
["BP_FHF","ICD","Any Position","2","BP_FHF_ICD",null,"DataItemInList"]
["BP_FHF","OPCS","Any Position","1","BP_FHF_OPCS",null,"DataItemInList"]
["BP_GASTRO","ADMIMETH",null,"2","BP_EMERG",null,"DataItemInList"]
["BP_GASTRO","Age",null,"1","Age_19plus",null,"DataItemInList"]
["BP_HEAD","ADMIMETH",null,"3","BP_EMERG",null,"DataItemInList"]
["BP_HEAD","Age",null,"1","Age_19plus",null,"DataItemInList"]
["BP_HEAD","ICD","Primary Diagnoses","2","BP_HEAD_ICD",null,"DataItemInList"]
["BP_HEADACHE","ADMIMETH",null,"2","BP_EMERG",null,"DataItemInList"]
["BP_HEADACHE","Age",null,"1","Age_19plus",null,"DataItemInList"]
["BP_LAR_OOP_SPTMY","ADMIMETH",null,"1","BP_ELECTIVE",null,"DataItemInList"]
["BP_LAR_OOP_SPTMY","Age",null,"2","Age_19plus",null,"DataItemInList"]
["BP_LAR_OOP_SPTMY","OPCS","Any Position","3","BP_LAR_OOP_SPTMY_OPCS","Needs combination of 1 and 2","NestedDataItemInList"]
["BP_LRTI","ADMIMETH",null,"2","BP_EMERG",null,"DataItemInList"]
["BP_LRTI","Age",null,"1","Age_19plus",null,"DataItemInList"]
["BP_LYMPH_1","ADMIMETH",null,"3","BP_ELECTIVE",null,"DataItemInList"]
["BP_LYMPH_1","Age",null,"2","Age_19plus",null,"DataItemInList"]
["BP_LYMPH_1","OPCS","Any Position","1","BP_LYMPH_OPCS_1","Needs combination of 1 and 2","NestedDataItemInList"]
["BP_LYMPH_2","ADMIMETH",null,"3","BP_ELECTIVE",null,"DataItemInList"]
["BP_LYMPH_2","Age",null,"2","Age_19plus",null,"DataItemInList"]
["BP_LYMPH_2","OPCS","Any Position","1","BP_LYMPH_OPCS_2",null,"DataItemInList"]
["BP_MAST","ADMIMETH",null,"3","BP_ELECTIVE",null,"DataItemInList"]
["BP_MAST","Age",null,"2","Age_19plus",null,"DataItemInList"]
["BP_MAST","OPCS","Any Position","1","BP_MASTECTOMY_OPCS",null,"DataItemInList"]
["BP_MI","ADMIMETH",null,"3","BP_EMERG_TRN",null,"DataItemInList"]
["BP_MI","Age",null,"2","Age_19plus",null,"DataItemInList"]
["BP_MI","ICD","Primary Diagnoses","1","BP_MI_ICD",null,"DataItemInList"]
["BP_NSTEMI","ADMIMETH",null,"3","BP_EMERG_TRN",null,"DataItemInList"]
["BP_NSTEMI","Age",null,"2","Age_19plus",null,"DataItemInList"]
["BP_NSTEMI","ICD","Primary Diagnoses","1","BP_NSTEMI_ICD",null,"DataItemInList"]
["BP_OPT_URETHROMY","ADMIMETH",null,"2","BP_ELECTIVE",null,"DataItemInList"]
["BP_OPT_URETHROMY","Age",null,"1","Age_19plus",null,"DataItemInList"]
["BP_OPT_URETHROMY","OPCS","Any Position","3","BP_OPT_URETHROMY_OPCS",null,"DataItemInList"]
["BP_OTH_ABD_HERN","ADMIMETH",null,"2","BP_ELECTIVE",null,"DataItemInList"]
["BP_OTH_ABD_HERN","Age",null,"1","Age_19plus",null,"DataItemInList"]
["BP_OTH_ABD_HERN","OPCS","Any Position","3","BP_REP_OTH_ABD_HERN_OPCS",null,"DataItemInList"]
["BP_PNEUMONIA","ADMIMETH",null,"2","BP_EMERG",null,"DataItemInList"]
["BP_PNEUMONIA","Age",null,"1","Age_19plus",null,"DataItemInList"]
["BP_POLYPEC_NOSE","ADMIMETH",null,"2","BP_ELECTIVE",null,"DataItemInList"]
["BP_POLYPEC_NOSE","Age",null,"1","Age_19plus",null,"DataItemInList"]
["BP_POLYPEC_NOSE","OPCS","Any Position","3","BP_POLYPEC_NOSE_OPCS",null,"DataItemInList"]
["BP_PULEMB","ADMIMETH",null,"2","BP_EMERG",null,"DataItemInList"]
["BP_PULEMB","Age",null,"1","Age_19plus",null,"DataItemInList"]
["BP_RAMI","ADMIMETH",null,"3","BP_EMERG",null,"DataItemInList"]
["BP_RAMI","Age",null,"2","Age_19plus",null,"DataItemInList"]
["BP_RAMI","ICD","Primary Diagnoses","1","BP_RAMI_ICD",null,"DataItemInList"]
["BP_SHOULDER","ADMIMETH",null,"2","BP_ELECTIVE",null,"DataItemInList"]
["BP_SHOULDER","Age",null,"3","Age_19plus",null,"DataItemInList"]
["BP_SHOULDER","OPCS","Any Position","1","BP_SHOULDER_OPCS","Needs combination of 1 and 2","NestedDataItemInList"]
["BP_STONES","ADMIMETH",null,"2","BP_EMERG",null,"DataItemInList"]
["BP_STONES","Age",null,"1","Age_19plus",null,"DataItemInList"]
["BP_SVT","ADMIMETH",null,"2","BP_EMERG",null,"DataItemInList"]
["BP_SVT","Age",null,"1","Age_19plus",null,"DataItemInList"]
["BP_TIA","ADMIMETH",null,"2","BP_EMERG",null,"DataItemInList"]
["BP_TIA","Age",null,"1","Age_19plus",null,"DataItemInList"]
["BP_TRN_P_ILI_FEM","ADMIMETH",null,"2","BP_ELECTIVE",null,"DataItemInList"]
["BP_TRN_P_ILI_FEM","Age",null,"1","Age_19plus",null,"DataItemInList"]
["BP_TRN_P_ILI_FEM","OPCS","Any Position","3","BP_TRA_PRC_ILI_FEM_OPCS",null,"DataItemInList"]
["BP_U_GAST_HAEMO","ADMIMETH",null,"3","BP_EMERG",null,"DataItemInList"]
["BP_U_GAST_HAEMO","Age",null,"2","Age_19plus",null,"DataItemInList"]
["BP_U_GAST_HAEMO","ICD","Primary Diagnoses","1","BP_U_GAST_HAEMO_ICD",null,"DataItemInList"]
["BP_URI_TRA_INFEC","ADMIMETH",null,"2","BP_EMERG",null,"DataItemInList"]
["BP_URI_TRA_INFEC","Age",null,"1","Age_19plus",null,"DataItemInList"]
["BP_UTR_EX_CAL_UR","ADMIMETH",null,"2","BP_ELECTIVE",null,"DataItemInList"]
["BP_UTR_EX_CAL_UR","Age",null,"1","Age_19plus",null,"DataItemInList"]
["BP_UTR_EX_CAL_UR","OPCS","Any Position","3","BP_UTR_EXT_CAL_URET_OPCS",null,"DataItemInList"]

{"sheet":"List Members","index":8,"n_rows":565,"n_cols":6,"rows_kept":565,"cut":false,"hidden":true,"merged":[]}
["List_ID","HRG_Sub_Chapter","Code_Type","Code","Code_Description","Code_Value_in_List"]
["Age_19plus","C","Age",100]
["Age_19plus","C","Age",101]
["Age_19plus","C","Age",102]
["Age_19plus","C","Age",103]
["Age_19plus","C","Age",104]
["Age_19plus","C","Age",105]
["Age_19plus","C","Age",106]
["Age_19plus","C","Age",107]
["Age_19plus","C","Age",108]
["Age_19plus","C","Age",109]
["Age_19plus","C","Age",110]
["Age_19plus","C","Age",111]
["Age_19plus","C","Age",112]
["Age_19plus","C","Age",113]
["Age_19plus","C","Age",114]
["Age_19plus","C","Age",115]
["Age_19plus","C","Age",116]
["Age_19plus","C","Age",117]
["Age_19plus","C","Age",118]
["Age_19plus","C","Age",119]
["Age_19plus","C","Age",120]
["Age_19plus","C","Age",121]
["Age_19plus","C","Age",122]
["Age_19plus","C","Age",123]
["Age_19plus","C","Age",124]
["Age_19plus","C","Age",125]
["Age_19plus","C","Age",126]
["Age_19plus","C","Age",127]
["Age_19plus","C","Age",128]
["Age_19plus","C","Age",129]
["Age_19plus","C","Age",130]
["Age_19plus","C","Age",19]
["Age_19plus","C","Age",20]
["Age_19plus","C","Age",21]
["Age_19plus","C","Age",22]
["Age_19plus","C","Age",23]
["Age_19plus","C","Age",24]
["Age_19plus","C","Age",25]
["Age_19plus","C","Age",26]
["Age_19plus","C","Age",27]
["Age_19plus","C","Age",28]
["Age_19plus","C","Age",29]
["Age_19plus","C","Age",30]
["Age_19plus","C","Age",31]
["Age_19plus","C","Age",32]
["Age_19plus","C","Age",33]
["Age_19plus","C","Age",34]
["Age_19plus","C","Age",35]
["Age_19plus","C","Age",36]
["Age_19plus","C","Age",37]
["Age_19plus","C","Age",38]
["Age_19plus","C","Age",39]
["Age_19plus","C","Age",40]
["Age_19plus","C","Age",41]
["Age_19plus","C","Age",42]
["Age_19plus","C","Age",43]
["Age_19plus","C","Age",44]
["Age_19plus","C","Age",45]
["Age_19plus","C","Age",46]
["Age_19plus","C","Age",47]
["Age_19plus","C","Age",48]
["Age_19plus","C","Age",49]
["Age_19plus","C","Age",50]
["Age_19plus","C","Age",51]
["Age_19plus","C","Age",52]
["Age_19plus","C","Age",53]
["Age_19plus","C","Age",54]
["Age_19plus","C","Age",55]
["Age_19plus","C","Age",56]
["Age_19plus","C","Age",57]
["Age_19plus","C","Age",58]
["Age_19plus","C","Age",59]
["Age_19plus","C","Age",60]
["Age_19plus","C","Age",61]
["Age_19plus","C","Age",62]
["Age_19plus","C","Age",63]
["Age_19plus","C","Age",64]
["Age_19plus","C","Age",65]
["Age_19plus","C","Age",66]
["Age_19plus","C","Age",67]
["Age_19plus","C","Age",68]
["Age_19plus","C","Age",69]
["Age_19plus","C","Age",70]
["Age_19plus","C","Age",71]
["Age_19plus","C","Age",72]
["Age_19plus","C","Age",73]
["Age_19plus","C","Age",74]
["Age_19plus","C","Age",75]
["Age_19plus","C","Age",76]
["Age_19plus","C","Age",77]
["Age_19plus","C","Age",78]
["Age_19plus","C","Age",79]
["Age_19plus","C","Age",80]
["Age_19plus","C","Age",81]
["Age_19plus","C","Age",82]
["Age_19plus","C","Age",83]
["Age_19plus","C","Age",84]
["Age_19plus","C","Age",85]
["Age_19plus","C","Age",86]
["Age_19plus","C","Age",87]
["Age_19plus","C","Age",88]
["Age_19plus","C","Age",89]
["Age_19plus","C","Age",90]
["Age_19plus","C","Age",91]
["Age_19plus","C","Age",92]
["Age_19plus","C","Age",93]
["Age_19plus","C","Age",94]
["Age_19plus","C","Age",95]
["Age_19plus","C","Age",96]
["Age_19plus","C","Age",97]
["Age_19plus","C","Age",98]
["Age_19plus","C","Age",99]
["Age_19plus","C","Age",999]
["BP_ABN_LIVER_FN_ICD","C","ICD","D135","Benign neoplasm: Extrahepatic bile ducts"]
["BP_ABN_LIVER_FN_ICD","C","ICD","D376","Neoplasm of uncertain or unknown behaviour: Liver, gallbladder and bile ducts"]
["BP_ABN_LIVER_FN_ICD","C","ICD","K700","Alcoholic fatty liver"]
["BP_ABN_LIVER_FN_ICD","C","ICD","K701","Alcoholic hepatitis"]
["BP_ABN_LIVER_FN_ICD","C","ICD","K702","Alcoholic fibrosis and sclerosis of liver"]
["BP_ABN_LIVER_FN_ICD","C","ICD","K703","Alcoholic cirrhosis of liver"]
["BP_ABN_LIVER_FN_ICD","C","ICD","K709","Alcoholic liver disease, unspecified"]
["BP_ABN_LIVER_FN_ICD","C","ICD","K721","Chronic hepatic failure"]
["BP_ABN_LIVER_FN_ICD","C","ICD","K729","Hepatic failure, unspecified"]
["BP_ABN_LIVER_FN_ICD","C","ICD","K732","Chronic active hepatitis, not elsewhere classified"]
["BP_ABN_LIVER_FN_ICD","C","ICD","K738","Other chronic hepatitis, not elsewhere classified"]
["BP_ABN_LIVER_FN_ICD","C","ICD","K739","Chronic hepatitis, unspecified"]
["BP_ABN_LIVER_FN_ICD","C","ICD","K740","Hepatic fibrosis"]
["BP_ABN_LIVER_FN_ICD","C","ICD","K741","Hepatic sclerosis"]
["BP_ABN_LIVER_FN_ICD","C","ICD","K743","Primary biliary cirrhosis"]
["BP_ABN_LIVER_FN_ICD","C","ICD","K745","Biliary cirrhosis, unspecified"]
["BP_ABN_LIVER_FN_ICD","C","ICD","K746","Other and unspecified cirrhosis of liver"]
["BP_ABN_LIVER_FN_ICD","C","ICD","K752","Nonspecific reactive hepatitis"]
["BP_ABN_LIVER_FN_ICD","C","ICD","K753","Granulomatous hepatitis, not elsewhere classified"]
["BP_ABN_LIVER_FN_ICD","C","ICD","K754","Autoimmune hepatitis"]
["BP_ABN_LIVER_FN_ICD","C","ICD","K758","Other specified inflammatory liver diseases"]
["BP_ABN_LIVER_FN_ICD","C","ICD","K759","Inflammatory liver disease, unspecified"]
["BP_ABN_LIVER_FN_ICD","C","ICD","K760","Fatty (change of) liver, not elsewhere classified"]
["BP_ABN_LIVER_FN_ICD","C","ICD","K761","Chronic passive congestion of liver"]
["BP_ABN_LIVER_FN_ICD","C","ICD","K766","Portal hypertension"]
["BP_ABN_LIVER_FN_ICD","C","ICD","K768","Other specified diseases of liver"]
["BP_ABN_LIVER_FN_ICD","C","ICD","K769","Liver disease, unspecified"]
["BP_ABN_LIVER_FN_ICD","C","ICD","K800","Calculus of gallbladder with acute cholecystitis"]
["BP_ABN_LIVER_FN_ICD","C","ICD","K801","Calculus of gallbladder with other cholecystitis"]
["BP_ABN_LIVER_FN_ICD","C","ICD","K802","Calculus of gallbladder without cholecystitis"]
["BP_ABN_LIVER_FN_ICD","C","ICD","K803","Calculus of bile duct with cholangitis"]
["BP_ABN_LIVER_FN_ICD","C","ICD","K804","Calculus of bile duct with cholecystitis"]
["BP_ABN_LIVER_FN_ICD","C","ICD","K805","Calculus of bile duct without cholangitis or cholecystitis"]
["BP_ABN_LIVER_FN_ICD","C","ICD","K808","Other cholelithiasis"]
["BP_ABN_LIVER_FN_ICD","C","ICD","K810","Acute cholecystitis"]
["BP_ABN_LIVER_FN_ICD","C","ICD","K811","Chronic cholecystitis"]
["BP_ABN_LIVER_FN_ICD","C","ICD","K818","Other cholecystitis"]
["BP_ABN_LIVER_FN_ICD","C","ICD","K819","Cholecystitis, unspecified"]
["BP_ABN_LIVER_FN_ICD","C","ICD","K821","Hydrops of gallbladder"]
["BP_ABN_LIVER_FN_ICD","C","ICD","K822","Perforation of gallbladder"]
["BP_ABN_LIVER_FN_ICD","C","ICD","K823","Fistula of gallbladder"]
["BP_ABN_LIVER_FN_ICD","C","ICD","K824","Cholesterolosis of gallbladder"]
["BP_ABN_LIVER_FN_ICD","C","ICD","K828","Other specified diseases of gallbladder"]
["BP_ABN_LIVER_FN_ICD","C","ICD","K829","Disease of gallbladder, unspecified"]
["BP_ABN_LIVER_FN_ICD","C","ICD","K831","Obstruction of bile duct"]
["BP_ABN_LIVER_FN_ICD","C","ICD","K834","Spasm of sphincter of Oddi"]
["BP_ABN_LIVER_FN_ICD","C","ICD","K838","Other specified diseases of biliary tract"]
["BP_ABN_LIVER_FN_ICD","C","ICD","K839","Disease of biliary tract, unspecified"]
["BP_ABN_LIVER_FN_ICD","C","ICD","K860","Alcohol-induced chronic pancreatitis"]
["BP_ABN_LIVER_FN_ICD","C","ICD","K861","Other chronic pancreatitis"]
["BP_ABN_LIVER_FN_ICD","C","ICD","K862","Cyst of pancreas"]
["BP_ABN_LIVER_FN_ICD","C","ICD","K863","Pseudocyst of pancreas"]
["BP_ABN_LIVER_FN_ICD","C","ICD","K868","Other specified diseases of pancreas"]
["BP_ABN_LIVER_FN_ICD","C","ICD","K869","Disease of pancreas, unspecified"]
["BP_ABN_LIVER_FN_ICD","C","ICD","K915","Postcholecystectomy syndrome"]
["BP_ABN_LIVER_FN_ICD","C","ICD","R160","Hepatomegaly, not elsewhere classified"]
["BP_ABN_LIVER_FN_ICD","C","ICD","R161","Splenomegaly, not elsewhere classified"]
["BP_ABN_LIVER_FN_ICD","C","ICD","R162","Hepatomegaly with splenomegaly, not elsewhere classified"]
["BP_ACUTE_P_JNT_ICD","C","ICD","M028","Other reactive arthropathies"]
["BP_ACUTE_P_JNT_ICD","C","ICD","M029","Reactive arthropathy, unspecified"]
["BP_ACUTE_P_JNT_ICD","C","ICD","M050","Felty syndrome"]
["BP_ACUTE_P_JNT_ICD","C","ICD","M058","Other seropositive rheumatoid arthritis"]
["BP_ACUTE_P_JNT_ICD","C","ICD","M059","Seropositive rheumatoid arthritis, unspecified"]
["BP_ACUTE_P_JNT_ICD","C","ICD","M060","Seronegative rheumatoid arthritis"]
["BP_ACUTE_P_JNT_ICD","C","ICD","M064","Inflammatory polyarthropathy"]
["BP_ACUTE_P_JNT_ICD","C","ICD","M068","Other specified rheumatoid arthritis"]
["BP_ACUTE_P_JNT_ICD","C","ICD","M069","Rheumatoid arthritis, unspecified"]
["BP_ACUTE_P_JNT_ICD","C","ICD","M100","Idiopathic gout"]
["BP_ACUTE_P_JNT_ICD","C","ICD","M102","Drug-induced gout"]
["BP_ACUTE_P_JNT_ICD","C","ICD","M103","Gout due to impairment of renal function"]
["BP_ACUTE_P_JNT_ICD","C","ICD","M104","Other secondary gout"]
["BP_ACUTE_P_JNT_ICD","C","ICD","M109","Gout, unspecified"]
["BP_ACUTE_P_JNT_ICD","C","ICD","M1090","Gout, unspecified: Multiple sites"]
["BP_ACUTE_P_JNT_ICD","C","ICD","M1091","Gout, unspecified: Shoulder region"]
["BP_ACUTE_P_JNT_ICD","C","ICD","M1092","Gout, unspecified: Upper arm"]
["BP_ACUTE_P_JNT_ICD","C","ICD","M1093","Gout, unspecified: Forearm"]
["BP_ACUTE_P_JNT_ICD","C","ICD","M1094","Gout, unspecified: Hand"]
["BP_ACUTE_P_JNT_ICD","C","ICD","M1095","Gout, unspecified: Pelvic region and thigh"]
["BP_ACUTE_P_JNT_ICD","C","ICD","M1096","Gout, unspecified: Lower leg"]
["BP_ACUTE_P_JNT_ICD","C","ICD","M1097","Gout, unspecified: Ankle and foot"]
["BP_ACUTE_P_JNT_ICD","C","ICD","M1098","Gout, unspecified: Other"]
["BP_ACUTE_P_JNT_ICD","C","ICD","M1099","Gout, unspecified: Site unspecified"]
["BP_ACUTE_P_JNT_ICD","C","ICD","M119","Crystal arthropathy, unspecified"]
["BP_ACUTE_P_JNT_ICD","C","ICD","M130","Polyarthritis, unspecified"]
["BP_ACUTE_P_JNT_ICD","C","ICD","M139","Arthritis, unspecified"]
["BP_ACUTE_P_JNT_ICD","C","ICD","M1390","Arthritis, unspecified: Multiple sites"]
["BP_ACUTE_P_JNT_ICD","C","ICD","M1391","Arthritis, unspecified: Shoulder region"]
["BP_ACUTE_P_JNT_ICD","C","ICD","M1392","Arthritis, unspecified: Upper arm"]
["BP_ACUTE_P_JNT_ICD","C","ICD","M1393","Arthritis, unspecified: Forearm"]
["BP_ACUTE_P_JNT_ICD","C","ICD","M1394","Arthritis, unspecified: Hand"]
["BP_ACUTE_P_JNT_ICD","C","ICD","M1395","Arthritis, unspecified: Pelvic region and thigh"]
["BP_ACUTE_P_JNT_ICD","C","ICD","M1396","Arthritis, unspecified: Lower leg"]
["BP_ACUTE_P_JNT_ICD","C","ICD","M1397","Arthritis, unspecified: Ankle and foot"]
["BP_ACUTE_P_JNT_ICD","C","ICD","M1398","Arthritis, unspecified: Other"]
["BP_ACUTE_P_JNT_ICD","C","ICD","M1399","Arthritis, unspecified: Site unspecified"]
["BP_ACUTE_P_JNT_ICD","C","ICD","M202","Hallux rigidus"]
["BP_ACUTE_P_JNT_ICD","C","ICD","M255","Pain in joint"]
["BP_ACUTE_P_JNT_ICD","C","ICD","M2550","Pain in joint: Multiple sites"]
["BP_ACUTE_P_JNT_ICD","C","ICD","M2551","Pain in joint: Shoulder region"]
["BP_ACUTE_P_JNT_ICD","C","ICD","M2552","Pain in joint: Upper arm"]
["BP_ACUTE_P_JNT_ICD","C","ICD","M2553","Pain in joint: Forearm"]
["BP_ACUTE_P_JNT_ICD","C","ICD","M2554","Pain in joint: Hand"]
["BP_ACUTE_P_JNT_ICD","C","ICD","M2556","Pain in joint: Lower leg"]
["BP_ACUTE_P_JNT_ICD","C","ICD","M2557","Pain in joint: Ankle and foot"]
["BP_ACUTE_P_JNT_ICD","C","ICD","M2558","Pain in joint: Other"]
["BP_ACUTE_P_JNT_ICD","C","ICD","M2559","Pain in joint: Site unspecified"]
["BP_ACUTE_P_JNT_ICD","C","ICD","M256","Stiffness of joint, not elsewhere classified"]
["BP_ACUTE_P_JNT_ICD","C","ICD","M259","Joint disorder, unspecified"]
["BP_ACUTE_P_JNT_ICD","C","ICD","M660","Rupture of popliteal cyst"]
["BP_ACUTE_P_JNT_ICD","C","ICD","M673","Transient synovitis"]
["BP_ACUTE_P_JNT_ICD","C","ICD","M712","Synovial cyst of popliteal space [Baker]"]
["BP_APPFRAC_ICD","C","ICD","S420","Fracture of clavicle"]
["BP_APPFRAC_ICD","C","ICD","S4200","Fracture of clavicle: closed"]
["BP_APPFRAC_ICD","C","ICD","S422","Fracture of upper end of humerus"]
["BP_APPFRAC_ICD","C","ICD","S4220","Fracture of upper end of humerus: closed"]
["BP_APPFRAC_ICD","C","ICD","S423","Fracture of shaft of humerus"]
["BP_APPFRAC_ICD","C","ICD","S4230","Fracture of shaft of humerus: closed"]
["BP_APPFRAC_ICD","C","ICD","S424","Fracture of lower end of humerus"]
["BP_APPFRAC_ICD","C","ICD","S4240","Fracture of lower end of humerus: closed"]
["BP_APPFRAC_ICD","C","ICD","S520","Fracture of upper end of ulna"]
["BP_APPFRAC_ICD","C","ICD","S5200","Fracture of upper end of ulna: closed"]
["BP_APPFRAC_ICD","C","ICD","S521","Fracture of upper end of radius"]
["BP_APPFRAC_ICD","C","ICD","S5210","Fracture of upper end of radius: closed"]
["BP_APPFRAC_ICD","C","ICD","S522","Fracture of shaft of ulna"]
["BP_APPFRAC_ICD","C","ICD","S5220","Fracture of shaft of ulna: closed"]
["BP_APPFRAC_ICD","C","ICD","S523","Fracture of shaft of radius"]
["BP_APPFRAC_ICD","C","ICD","S5230","Fracture of shaft of radius: closed"]
["BP_APPFRAC_ICD","C","ICD","S524","Fracture of shafts of both ulna and radius"]
["BP_APPFRAC_ICD","C","ICD","S5240","Fracture of shafts of both ulna and radius: closed"]
["BP_APPFRAC_ICD","C","ICD","S525","Fracture of lower end of radius"]
["BP_APPFRAC_ICD","C","ICD","S5250","Fracture of lower end of radius: closed"]
["BP_APPFRAC_ICD","C","ICD","S526","Fracture of lower end of both ulna and radius"]
["BP_APPFRAC_ICD","C","ICD","S5260","Fracture of lower end of both ulna and radius: closed"]
["BP_APPFRAC_ICD","C","ICD","S528","Fracture of other parts of forearm"]
["BP_APPFRAC_ICD","C","ICD","S5280","Fracture of other parts of forearm: closed"]
["BP_APPFRAC_ICD","C","ICD","S529","Fracture of forearm, part unspecified"]
["BP_APPFRAC_ICD","C","ICD","S5290","Fracture of forearm, part unspecified: closed"]
["BP_APPFRAC_ICD","C","ICD","S620","Fracture of navicular [scaphoid] bone of hand"]
["BP_APPFRAC_ICD","C","ICD","S6200","Fracture of navicular [scaphoid] bone of hand: closed"]
["BP_APPFRAC_ICD","C","ICD","S621","Fracture of other carpal bone(s)"]
["BP_APPFRAC_ICD","C","ICD","S6210","Fracture of other carpal bone(s): closed"]
["BP_APPFRAC_ICD","C","ICD","S820","Fracture of patella"]
["BP_APPFRAC_ICD","C","ICD","S8200","Fracture of patella: closed"]
["BP_APPFRAC_ICD","C","ICD","S823","Fracture of lower end of tibia"]
["BP_APPFRAC_ICD","C","ICD","S8230","Fracture of lower end of tibia: closed"]
["BP_APPFRAC_ICD","C","ICD","S824","Fracture of fibula alone"]
["BP_APPFRAC_ICD","C","ICD","S8240","Fracture of fibula alone: closed"]
["BP_APPFRAC_ICD","C","ICD","S825","Fracture of medial malleolus"]
["BP_APPFRAC_ICD","C","ICD","S8250","Fracture of medial malleolus: closed"]
["BP_APPFRAC_ICD","C","ICD","S826","Fracture of lateral malleolus"]
["BP_APPFRAC_ICD","C","ICD","S8260","Fracture of lateral malleolus: closed"]
["BP_APPFRAC_ICD","C","ICD","S828","Fractures of other parts of lower leg"]
["BP_APPFRAC_ICD","C","ICD","S8280","Fractures of other parts of lower leg: closed"]
["BP_APPFRAC_ICD","C","ICD","S829","Fracture of lower leg, part unspecified"]
["BP_APPFRAC_ICD","C","ICD","S8290","Fracture of lower leg, part unspecified: closed"]
["BP_APPFRAC_ICD","C","ICD","S920","Fracture of calcaneus"]
["BP_APPFRAC_ICD","C","ICD","S9200","Fracture of calcaneus: closed"]
["BP_APPFRAC_ICD","C","ICD","S923","Fracture of metatarsal bone"]
["BP_APPFRAC_ICD","C","ICD","S9230","Fracture of metatarsal bone: closed"]
["BP_APPFRAC_ICD","C","ICD","S929","Fracture of foot, unspecified"]
["BP_APPFRAC_ICD","C","ICD","S9290","Fracture of foot, unspecified: closed"]
["BP_APPFRAC_ICD","C","ICD","T10X","Fracture of upper limb, level unspecified"]
["BP_APPFRAC_ICD","C","ICD","T10X0","Fracture of upper limb, level unspecified: closed"]
["BP_ART_FIST_DIAL_OPCS","C","OPCS","L741","Insertion of arteriovenous prosthesis"]
["BP_ART_FIST_DIAL_OPCS","C","OPCS","L742","Creation of arteriovenous fistula NEC"]
["BP_ART_FIST_DIAL_OPCS","C","OPCS","L746","Creation of graft fistula for dialysis"]
["BP_AUTO_ANT_CRU_LIG_OPCS","C","OPCS","W742","Reconstruction of intra-articular ligament NEC"]
["BP_AXILLARY_OPCS","C","OPCS","T852","Block dissection of axillary lymph nodes"]
["BP_BIO_CERV_LYMPH_OPCS","C","OPCS","T861","Sampling of cervical lymph nodes"]
["BP_BIO_CERV_LYMPH_OPCS","C","OPCS","T871","Excision or biopsy of scalene lymph node"]
["BP_BIO_CERV_LYMPH_OPCS","C","OPCS","T872","Excision or biopsy of cervical lymph node NEC"]
["BP_BUNION_OPCS","C","OPCS","W593","Fusion of first metatarsophalangeal joint NEC"]
["BP_BUNION_OPCS","C","OPCS","W791","Soft tissue correction of hallux valgus"]
["BP_BUNION_OPCS","C","OPCS","W792","Excision of bunion NEC"]
["BP_CELL_ICD","C","ICD","I891","Lymphangitis"]
["BP_CELL_ICD","C","ICD","L030","Cellulitis of finger and toe"]
["BP_CELL_ICD","C","ICD","L031","Cellulitis of other parts of limb"]
["BP_CELL_ICD","C","ICD","L032","Cellulitis of face"]
["BP_CELL_ICD","C","ICD","L033","Cellulitis of trunk"]
["BP_CELL_ICD","C","ICD","L038","Cellulitis of other sites"]
["BP_CELL_ICD","C","ICD","L039","Cellulitis, unspecified"]
["BP_CELL_ICD","C","ICD","L088","Other specified local infections of skin and subcutaneous tissue"]
["BP_CELL_ICD","C","ICD","L089","Local infection of skin and subcutaneous tissue, unspecified"]
["BP_CHESTPAIN_ICD","C","ICD","I201","Angina pectoris with documented spasm"]
["BP_CHESTPAIN_ICD","C","ICD","I208","Other forms of angina pectoris"]
["BP_CHESTPAIN_ICD","C","ICD","I209","Angina pectoris, unspecified"]
["BP_CHESTPAIN_ICD","C","ICD","I248","Other forms of acute ischaemic heart disease"]
["BP_CHESTPAIN_ICD","C","ICD","I249","Acute ischaemic heart disease, unspecified"]
["BP_CHESTPAIN_ICD","C","ICD","I256","Silent myocardial ischaemia"]
["BP_CHESTPAIN_ICD","C","ICD","R072","Precordial pain"]
["BP_CHESTPAIN_ICD","C","ICD","R073","Other chest pain"]
["BP_CHESTPAIN_ICD","C","ICD","R074","Chest pain, unspecified"]
["BP_CHESTPAIN_ICD","C","ICD","Z034","Observation for suspected myocardial infarction"]
["BP_CHESTPAIN_ICD","C","ICD","Z035","Observation for other suspected cardiovascular diseases"]
["BP_CHRONIC_CATH_ICD","C","ICD","T830","Mechanical complication of urinary (indwelling) catheter"]
["BP_CHRONIC_CATH_ICD","C","ICD","T831","Mechanical complication of other urinary devices and implants"]
["BP_CHRONIC_CATH_ICD","C","ICD","T835","Infection and inflammatory reaction due to prosthetic device, implant and graft in urinary system"]
["BP_CHRONIC_CATH_ICD","C","ICD","T836","Infection and inflammatory reaction due to prosthetic device, implant and graft in genital tract"]
["BP_CHRONIC_CATH_ICD","C","ICD","T838","Other complications of genitourinary prosthetic devices, implants and grafts"]
["BP_CHRONIC_CATH_ICD","C","ICD","T839","Unspecified complication of genitourinary prosthetic device, implant and graft"]
["BP_DACRY_RHINO_OPCS","C","OPCS","C253","Dacryocystorhinostomy and insertion of tube HFQ"]
["BP_DACRY_RHINO_OPCS","C","OPCS","C254","Dacryocystorhinostomy NEC"]
["BP_DIAB_ICD_1","C","ICD","E100","Type 1 diabetes mellitus: With coma"]
["BP_DIAB_ICD_1","C","ICD","E101","Type 1 diabetes mellitus: With ketoacidosis"]
["BP_DIAB_ICD_1","C","ICD","E110","Type 2 diabetes mellitus: With coma"]
["BP_DIAB_ICD_1","C","ICD","E111","Type 2 diabetes mellitus: With ketoacidosis"]
["BP_DIAB_ICD_1","C","ICD","E120","Malnutrition-related diabetes mellitus: With coma"]
["BP_DIAB_ICD_1","C","ICD","E121","Malnutrition-related diabetes mellitus: With ketoacidosis"]
["BP_DIAB_ICD_1","C","ICD","E130","Other specified diabetes mellitus: With coma"]
["BP_DIAB_ICD_1","C","ICD","E131","Other specified diabetes mellitus: With ketoacidosis"]
["BP_DIAB_ICD_1","C","ICD","E140","Unspecified diabetes mellitus: With coma"]
["BP_DIAB_ICD_1","C","ICD","E141","Unspecified diabetes mellitus: With ketoacidosis"]
["BP_DIAB_ICD_2","C","ICD","E160","Drug-induced hypoglycaemia without coma"]
["BP_DIAB_ICD_2","C","ICD","E161","Other hypoglycaemia"]
["BP_DIAB_ICD_2","C","ICD","E162","Hypoglycaemia, unspecified"]
["BP_DUPUY_OPCS","C","OPCS","T521","Palmar fasciectomy"]
["BP_ELECTIVE","C","ADMIMETH",11,"Waiting list"]
["BP_ELECTIVE","C","ADMIMETH",12,"Booked"]
["BP_ELECTIVE","C","ADMIMETH",13,"Planned"]
["BP_EMERG","C","ADMIMETH",21,"Accident and emergency or dental casualty department of the Health Care Provider"]
["BP_EMERG","C","ADMIMETH",22,"General practitioner: after a request for immediate admission has been made direct to a Hospital Provider, i.e. not through a Bed bureau, by a GENERAL PRACTITIONER or deputy"]
["BP_EMERG","C","ADMIMETH",23,"Bed bureau"]
["BP_EMERG","C","ADMIMETH",24,"Consultant clinic, of this or another Health Care Provider"]
["BP_EMERG","C","ADMIMETH",25,"Admission via mental health crisis resolution team"]
["BP_EMERG","C","ADMIMETH",28,"Other means"]
["BP_EMERG","C","ADMIMETH","2A","Accident and Emergency Department of another provider where the PATIENT had not been admitted"]
["BP_EMERG","C","ADMIMETH","2B","Transfer of an admitted PATIENT from another Hospital Provider in an emergency"]
["BP_EMERG","C","ADMIMETH","2C","Baby born at home as intended"]
["BP_EMERG","C","ADMIMETH","2D","Other emergency admission"]
["BP_EMERG_TRN","C","ADMIMETH",21,"Accident and emergency or dental casualty department of the Health Care Provider"]
["BP_EMERG_TRN","C","ADMIMETH",22,"General practitioner: after a request for immediate admission has been made direct to a Hospital Provider, i.e. not through a Bed bureau, by a GENERAL PRACTITIONER or deputy"]
["BP_EMERG_TRN","C","ADMIMETH",23,"Bed bureau"]
["BP_EMERG_TRN","C","ADMIMETH",24,"Consultant clinic, of this or another Health Care Provider"]
["BP_EMERG_TRN","C","ADMIMETH",25,"Admission via mental health crisis resolution team"]
["BP_EMERG_TRN","C","ADMIMETH",28,"Other means"]
["BP_EMERG_TRN","C","ADMIMETH","2A","Accident and Emergency Department of another provider where the PATIENT had not been admitted"]
["BP_EMERG_TRN","C","ADMIMETH","2B","Transfer of an admitted PATIENT from another Hospital Provider in an emergency"]
["BP_EMERG_TRN","C","ADMIMETH","2C","Baby born at home as intended"]
["BP_EMERG_TRN","C","ADMIMETH","2D","Other emergency admission"]
["BP_EMERG_TRN","C","ADMIMETH",81,"Transfer of any admitted PATIENT from other Hospital Provider other than in an emergency"]
["BP_ENDO_INSERT_PROST_OPCS","C","OPCS","M274","Ureteroscopic insertion of ureteric stent"]
["BP_ENDO_INSERT_PROST_OPCS","C","OPCS","M292","Endoscopic insertion of tubal prosthesis into ureter NEC"]
["BP_ENDO_INSERT_PROST_OPCS","C","OPCS","M295","Endoscopic renewal of tubal prosthesis into ureter"]
["BP_EPI_ICD","C","ICD","G253","Myoclonus"]
["BP_EPI_ICD","C","ICD","G400","Localization-related (focal)(partial) idiopathic epilepsy and epileptic syndromes with seizures of localized onset"]
["BP_EPI_ICD","C","ICD","G401","Localization-related (focal)(partial) symptomatic epilepsy and epileptic syndromes with simple partial seizures"]
["BP_EPI_ICD","C","ICD","G402","Localization-related (focal)(partial) symptomatic epilepsy and epileptic syndromes with complex partial seizures"]
["BP_EPI_ICD","C","ICD","G403","Generalized idiopathic epilepsy and epileptic syndromes"]
["BP_EPI_ICD","C","ICD","G404","Other generalized epilepsy and epileptic syndromes"]
["BP_EPI_ICD","C","ICD","G405","Special epileptic syndromes"]
["BP_EPI_ICD","C","ICD","G406","Grand mal seizures, unspecified (with or without petit mal)"]
["BP_EPI_ICD","C","ICD","G407","Petit mal, unspecified, without grand mal seizures"]
["BP_EPI_ICD","C","ICD","G408","Other epilepsy"]
["BP_EPI_ICD","C","ICD","G409","Epilepsy, unspecified"]
["BP_EPI_ICD","C","ICD","R568","Other and unspecified convulsions"]
["BP_EXBREAST_OPCS","C","OPCS","B281","Quadrantectomy of breast"]
["BP_EXBREAST_OPCS","C","OPCS","B282","Partial excision of breast NEC"]
["BP_EXBREAST_OPCS","C","OPCS","B283","Excision of lesion of breast NEC"]
["BP_EXBREAST_OPCS","C","OPCS","B284","Re-excision of breast margins"]
["BP_EXBREAST_OPCS","C","OPCS","B287","Wire guided excision of lesion of breast"]
["BP_EXCN_BIO_LYMP_OPCS","C","OPCS","T871","Excision or biopsy of scalene lymph node"]
["BP_EXCN_BIO_LYMP_OPCS","C","OPCS","T873","Excision or biopsy of axillary lymph node"]
["BP_EXCN_BIO_LYMP_OPCS","C","OPCS","T877","Excision or biopsy of inguinal lymph node"]
["BP_EXCN_BIO_LYMP_OPCS","C","OPCS","T878","Other specified excision or biopsy of lymph node"]
["BP_EXCN_BIO_LYMP_OPCS","C","OPCS","T879","Unspecified excision or biopsy of lymph node"]
["BP_FHF_ICD","C","ICD","S720","Fracture of neck of femur"]
["BP_FHF_ICD","C","ICD","S7200","Fracture of neck of femur: closed"]
["BP_FHF_ICD","C","ICD","S7201","Fracture of neck of femur: open"]
["BP_FHF_ICD","C","ICD","S721","Pertrochanteric fracture"]
["BP_FHF_ICD","C","ICD","S7210","Pertrochanteric fracture: closed"]
["BP_FHF_ICD","C","ICD","S7211","Pertrochanteric fracture: open"]
["BP_FHF_ICD","C","ICD","S722","Subtrochanteric fracture"]
["BP_FHF_ICD","C","ICD","S7220","Subtrochanteric fracture: closed"]
["BP_FHF_ICD","C","ICD","S7221","Subtrochanteric fracture: open"]
["BP_FHF_OPCS","C","OPCS","O171","Remanipulation of intracapsular fracture of neck of femur and fixation using nail or screw"]
["BP_FHF_OPCS","C","OPCS","O172","Remanipulation of fracture of long bone and rigid internal fixation NEC"]
["BP_FHF_OPCS","C","OPCS","W191","Primary open reduction of fracture of neck of femur and open fixation using pin and plate"]
["BP_FHF_OPCS","C","OPCS","W192","Primary open reduction of fracture of long bone and fixation using rigid nail NEC"]
["BP_FHF_OPCS","C","OPCS","W241","Closed reduction of intracapsular fracture of neck of femur and fixation using nail or screw"]
["BP_FHF_OPCS","C","OPCS","W242","Closed reduction of fracture of long bone and rigid internal fixation NEC"]
["BP_FHF_OPCS","C","OPCS","W246","Closed reduction of fracture of bone and fixation using nail or screw"]
["BP_FHF_OPCS","C","OPCS","W371","Primary total prosthetic replacement of hip joint using cement"]
["BP_FHF_OPCS","C","OPCS","W381","Primary total prosthetic replacement of hip joint not using cement"]
["BP_FHF_OPCS","C","OPCS","W391","Primary total prosthetic replacement of hip joint NEC"]
["BP_FHF_OPCS","C","OPCS","W461","Primary prosthetic replacement of head of femur using cement"]
["BP_FHF_OPCS","C","OPCS","W471","Primary prosthetic replacement of head of femur not using cement"]
["BP_FHF_OPCS","C","OPCS","W481","Primary prosthetic replacement of head of femur NEC"]
["BP_FHF_OPCS","C","OPCS","W572","Primary excision arthroplasty of joint NEC"]
["BP_FHF_OPCS","C","OPCS","W654","Primary open reduction of fracture dislocation of joint and internal fixation NEC"]
["BP_FHF_OPCS","C","OPCS","W931","Primary hybrid prosthetic replacement of hip joint using cemented acetabular component"]
["BP_FHF_OPCS","C","OPCS","W941","Primary hybrid prosthetic replacement of hip joint using cemented femoral component"]
["BP_FHF_OPCS","C","OPCS","W951","Primary hybrid prosthetic replacement of hip joint using cement NEC"]
["BP_HEAD_ICD","C","ICD","S060","Concussion"]
["BP_HEAD_ICD","C","ICD","S0600","Concussion: without open intracranial wound"]
["BP_HEAD_ICD","C","ICD","S0601","Concussion: with open intracranial wound"]
["BP_HEAD_ICD","C","ICD","S098","Other specified injuries of head"]
["BP_HEAD_ICD","C","ICD","S099","Unspecified injury of head"]
["BP_LAR_OOP_SPTMY_OPCS","C","OPCS","Q221","Bilateral salpingoophorectomy",1]
["BP_LAR_OOP_SPTMY_OPCS","C","OPCS","Q222","Bilateral salpingectomy NEC",1]
["BP_LAR_OOP_SPTMY_OPCS","C","OPCS","Q223","Bilateral oophorectomy NEC",1]
["BP_LAR_OOP_SPTMY_OPCS","C","OPCS","Q228","Other specified bilateral excision of adnexa of uterus",1]
["BP_LAR_OOP_SPTMY_OPCS","C","OPCS","Q229","Unspecified bilateral excision of adnexa of uterus",1]
["BP_LAR_OOP_SPTMY_OPCS","C","OPCS","Q231","Unilateral salpingoophorectomy NEC",1]
["BP_LAR_OOP_SPTMY_OPCS","C","OPCS","Q232","Salpingoophorectomy of remaining solitary fallopian tube and ovary",1]
["BP_LAR_OOP_SPTMY_OPCS","C","OPCS","Q233","Unilateral salpingectomy NEC",1]
["BP_LAR_OOP_SPTMY_OPCS","C","OPCS","Q234","Salpingectomy of remaining solitary fallopian tube NEC",1]
["BP_LAR_OOP_SPTMY_OPCS","C","OPCS","Q235","Unilateral oophorectomy NEC",1]
["BP_LAR_OOP_SPTMY_OPCS","C","OPCS","Q236","Oophorectomy of remaining solitary ovary NEC",1]
["BP_LAR_OOP_SPTMY_OPCS","C","OPCS","Q238","Other specified unilateral excision of adnexa of uterus",1]
["BP_LAR_OOP_SPTMY_OPCS","C","OPCS","Q239","Unspecified unilateral excision of adnexa of uterus",1]
["BP_LAR_OOP_SPTMY_OPCS","C","OPCS","Q241","Salpingoophorectomy NEC",1]
["BP_LAR_OOP_SPTMY_OPCS","C","OPCS","Q242","Salpingectomy NEC",1]
["BP_LAR_OOP_SPTMY_OPCS","C","OPCS","Q243","Oophorectomy NEC",1]
["BP_LAR_OOP_SPTMY_OPCS","C","OPCS","Q248","Other specified other excision of adnexa of uterus",1]
["BP_LAR_OOP_SPTMY_OPCS","C","OPCS","Q249","Unspecified other excision of adnexa of uterus",1]
["BP_LAR_OOP_SPTMY_OPCS","C","OPCS","Q251","Excision of lesion of fallopian tube",1]
["BP_LAR_OOP_SPTMY_OPCS","C","OPCS","Q258","Other specified partial excision of fallopian tube",1]
["BP_LAR_OOP_SPTMY_OPCS","C","OPCS","Q259","Unspecified partial excision of fallopian tube",1]
["BP_LAR_OOP_SPTMY_OPCS","C","OPCS","Y752","Laparoscopic approach to abdominal cavity NEC",2]
["BP_LYMPH_OPCS_1","C","OPCS","O142","Sentinel lymph node",2]
["BP_LYMPH_OPCS_1","C","OPCS","T873","Excision or biopsy of axillary lymph node",1]
["BP_LYMPH_OPCS_2","C","OPCS","T862","Sampling of axillary lymph nodes"]
["BP_MASTECTOMY_OPCS","C","OPCS","B274","Total mastectomy NEC"]
["BP_MASTECTOMY_OPCS","C","OPCS","B275","Subcutaneous mastectomy"]
["BP_MASTECTOMY_OPCS","C","OPCS","B276","Skin sparing mastectomy"]
["BP_MASTECTOMY_OPCS","C","OPCS","B278","Other specified total excision of breast"]
["BP_MASTECTOMY_OPCS","C","OPCS","B279","Unspecified total excision of breast"]
["BP_MI_ICD","C","ICD","I210","Acute transmural myocardial infarction of anterior wall"]
["BP_MI_ICD","C","ICD","I211","Acute transmural myocardial infarction of inferior wall"]
["BP_MI_ICD","C","ICD","I212","Acute transmural myocardial infarction of other sites"]
["BP_MI_ICD","C","ICD","I213","Acute transmural myocardial infarction of unspecified site"]
["BP_MI_ICD","C","ICD","I219","Acute myocardial infarction, unspecified"]
["BP_MI_ICD","C","ICD","I220","Subsequent myocardial infarction of anterior wall"]
["BP_MI_ICD","C","ICD","I221","Subsequent myocardial infarction of inferior wall"]
["BP_MI_ICD","C","ICD","I228","Subsequent myocardial infarction of other sites"]
["BP_MI_ICD","C","ICD","I229","Subsequent myocardial infarction of unspecified site"]
["BP_NSTEMI_ICD","C","ICD","I214","Acute subendocardial myocardial infarction"]
["BP_OPT_URETHROMY_OPCS","C","OPCS","M763","Optical urethrotomy"]
["BP_POLYPEC_NOSE_OPCS","C","OPCS","E081","Polypectomy of internal nose"]
["BP_RAMI_ICD","C","ICD","S325","Fracture of pubis"]
["BP_RAMI_ICD","C","ICD","S3250","Fracture of pubis: closed"]
["BP_REP_OTH_ABD_HERN_OPCS","C","OPCS","T271","Repair of ventral hernia using insert of natural material"]
["BP_REP_OTH_ABD_HERN_OPCS","C","OPCS","T272","Repair of ventral hernia using insert of prosthetic material"]
["BP_REP_OTH_ABD_HERN_OPCS","C","OPCS","T273","Repair of ventral hernia using sutures"]
["BP_REP_OTH_ABD_HERN_OPCS","C","OPCS","T278","Other specified repair of other hernia of abdominal wall"]
["BP_REP_OTH_ABD_HERN_OPCS","C","OPCS","T279","Unspecified repair of other hernia of abdominal wall"]
["BP_SHOULDER_OPCS","C","OPCS","O291","Subacromial decompression",1]
["BP_SHOULDER_OPCS","C","OPCS","Y767","Arthroscopic approach to joint",2]
["BP_TRA_PRC_ILI_FEM_OPCS","C","OPCS","L541","Percutaneous transluminal angioplasty of iliac artery"]
["BP_TRA_PRC_ILI_FEM_OPCS","C","OPCS","L542","Percutaneous transluminal embolectomy of iliac artery"]
["BP_TRA_PRC_ILI_FEM_OPCS","C","OPCS","L543","Arteriography of iliac artery"]
["BP_TRA_PRC_ILI_FEM_OPCS","C","OPCS","L544","Percutaneous transluminal insertion of stent into iliac artery"]
["BP_TRA_PRC_ILI_FEM_OPCS","C","OPCS","L548","Other specified transluminal operations on iliac artery"]
["BP_TRA_PRC_ILI_FEM_OPCS","C","OPCS","L549","Unspecified transluminal operations on iliac artery"]
["BP_TRA_PRC_ILI_FEM_OPCS","C","OPCS","L631","Percutaneous transluminal angioplasty of femoral artery"]
["BP_TRA_PRC_ILI_FEM_OPCS","C","OPCS","L632","Percutaneous transluminal embolectomy of femoral artery"]
["BP_TRA_PRC_ILI_FEM_OPCS","C","OPCS","L633","Percutaneous transluminal embolisation of femoral artery"]
["BP_TRA_PRC_ILI_FEM_OPCS","C","OPCS","L634","Arteriography of femoral artery"]
["BP_TRA_PRC_ILI_FEM_OPCS","C","OPCS","L635","Percutaneous transluminal insertion of stent into femoral artery"]
["BP_TRA_PRC_ILI_FEM_OPCS","C","OPCS","L638","Other specified transluminal operations on femoral artery"]
["BP_TRA_PRC_ILI_FEM_OPCS","C","OPCS","L639","Unspecified transluminal operations on femoral artery"]
["BP_U_GAST_HAEMO_ICD","C","ICD","K20X","Oesophagitis"]
["BP_U_GAST_HAEMO_ICD","C","ICD","K210","Gastro-oesophageal reflux disease with oesophagitis"]
["BP_U_GAST_HAEMO_ICD","C","ICD","K219","Gastro-oesophageal reflux disease without oesophagitis"]
["BP_U_GAST_HAEMO_ICD","C","ICD","K221","Ulcer of oesophagus"]
["BP_U_GAST_HAEMO_ICD","C","ICD","K226","Gastro-oesophageal laceration-haemorrhage syndrome"]
["BP_U_GAST_HAEMO_ICD","C","ICD","K250","Gastric ulcer: Acute with haemorrhage"]
["BP_U_GAST_HAEMO_ICD","C","ICD","K254","Gastric ulcer: Chronic or unspecified with haemorrhage"]
["BP_U_GAST_HAEMO_ICD","C","ICD","K260","Duodenal ulcer: Acute with haemorrhage"]
["BP_U_GAST_HAEMO_ICD","C","ICD","K264","Duodenal ulcer: Chronic or unspecified with haemorrhage"]
["BP_U_GAST_HAEMO_ICD","C","ICD","K266","Duodenal ulcer: Chronic or unspecified with both haemorrhage and perforation"]
["BP_U_GAST_HAEMO_ICD","C","ICD","K270","Peptic ulcer, site unspecified: Acute with haemorrhage"]
["BP_U_GAST_HAEMO_ICD","C","ICD","K274","Peptic ulcer, site unspecified: Chronic or unspecified with haemorrhage"]
["BP_U_GAST_HAEMO_ICD","C","ICD","K276","Peptic ulcer, site unspecified: Chronic or unspecified with both haemorrhage and perforation"]
["BP_U_GAST_HAEMO_ICD","C","ICD","K284","Gastrojejunal ulcer: Chronic or unspecified with haemorrhage"]
["BP_U_GAST_HAEMO_ICD","C","ICD","K920","Haematemesis"]
["BP_U_GAST_HAEMO_ICD","C","ICD","K921","Melaena"]
["BP_UTR_EXT_CAL_URET_OPCS","C","OPCS","M271","Ureteroscopic laser fragmentation of calculus of ureter"]
["BP_UTR_EXT_CAL_URET_OPCS","C","OPCS","M272","Ureteroscopic fragmentation of calculus of ureter NEC"]
["BP_UTR_EXT_CAL_URET_OPCS","C","OPCS","M273","Ureteroscopic extraction of calculus of ureter"]
["BPT_Age_60plus","C","Age",100]
["BPT_Age_60plus","C","Age",101]
["BPT_Age_60plus","C","Age",102]
["BPT_Age_60plus","C","Age",103]
["BPT_Age_60plus","C","Age",104]
["BPT_Age_60plus","C","Age",105]
["BPT_Age_60plus","C","Age",106]
["BPT_Age_60plus","C","Age",107]
["BPT_Age_60plus","C","Age",108]
["BPT_Age_60plus","C","Age",109]
["BPT_Age_60plus","C","Age",110]
["BPT_Age_60plus","C","Age",111]
["BPT_Age_60plus","C","Age",112]
["BPT_Age_60plus","C","Age",113]
["BPT_Age_60plus","C","Age",114]
["BPT_Age_60plus","C","Age",115]
["BPT_Age_60plus","C","Age",116]
["BPT_Age_60plus","C","Age",117]
["BPT_Age_60plus","C","Age",118]
["BPT_Age_60plus","C","Age",119]
["BPT_Age_60plus","C","Age",120]
["BPT_Age_60plus","C","Age",121]
["BPT_Age_60plus","C","Age",122]
["BPT_Age_60plus","C","Age",123]
["BPT_Age_60plus","C","Age",124]
["BPT_Age_60plus","C","Age",125]
["BPT_Age_60plus","C","Age",126]
["BPT_Age_60plus","C","Age",127]
["BPT_Age_60plus","C","Age",128]
["BPT_Age_60plus","C","Age",129]
["BPT_Age_60plus","C","Age",130]
["BPT_Age_60plus","C","Age",60]
["BPT_Age_60plus","C","Age",61]
["BPT_Age_60plus","C","Age",62]
["BPT_Age_60plus","C","Age",63]
["BPT_Age_60plus","C","Age",64]
["BPT_Age_60plus","C","Age",65]
["BPT_Age_60plus","C","Age",66]
["BPT_Age_60plus","C","Age",67]
["BPT_Age_60plus","C","Age",68]
["BPT_Age_60plus","C","Age",69]
["BPT_Age_60plus","C","Age",70]
["BPT_Age_60plus","C","Age",71]
["BPT_Age_60plus","C","Age",72]
["BPT_Age_60plus","C","Age",73]
["BPT_Age_60plus","C","Age",74]
["BPT_Age_60plus","C","Age",75]
["BPT_Age_60plus","C","Age",76]
["BPT_Age_60plus","C","Age",77]
["BPT_Age_60plus","C","Age",78]
["BPT_Age_60plus","C","Age",79]
["BPT_Age_60plus","C","Age",80]
["BPT_Age_60plus","C","Age",81]
["BPT_Age_60plus","C","Age",82]
["BPT_Age_60plus","C","Age",83]
["BPT_Age_60plus","C","Age",84]
["BPT_Age_60plus","C","Age",85]
["BPT_Age_60plus","C","Age",86]
["BPT_Age_60plus","C","Age",87]
["BPT_Age_60plus","C","Age",88]
["BPT_Age_60plus","C","Age",89]
["BPT_Age_60plus","C","Age",90]
["BPT_Age_60plus","C","Age",91]
["BPT_Age_60plus","C","Age",92]
["BPT_Age_60plus","C","Age",93]
["BPT_Age_60plus","C","Age",94]
["BPT_Age_60plus","C","Age",95]
["BPT_Age_60plus","C","Age",96]
["BPT_Age_60plus","C","Age",97]
["BPT_Age_60plus","C","Age",98]
["BPT_Age_60plus","C","Age",99]

{"sheet":"TtoListtoDocFlag(W)","index":9,"n_rows":165,"n_cols":10,"rows_kept":165,"cut":false,"hidden":true,"merged":[]}
[null,"BP","list ID","BP","list ID",0,0,0,null,{"$f":"'BP Flag Rules'!$AJ$3","v":"BP01"}]
[null,{"$f":"Triggers!A2","v":"BP01"},{"$f":"Triggers!F2","v":"BP_FHF"},"BP01","BP_FHF",{"$f":"IF(ISNUMBER(MATCH(D2,$J$1,0)),LOOKUP(30000,F$1:F1)+1,\"\")","v":1},{"$f":"MAX(F:F)","v":1},{"$f":"IF(COUNTA(H$1:H1)>$G$2,\"\",LOOKUP(COUNTA(H$1:H1),F:F,E:E))","v":"BP_FHF"}]
[null,{"$f":"Triggers!A3","v":"BP01"},{"$f":"Triggers!F3","v":"BP_FHF"},"BP02","BP_MI",{"$f":"IF(ISNUMBER(MATCH(D3,$J$1,0)),LOOKUP(30000,F$1:F2)+1,\"\")","v":""},null,{"$f":"IF(COUNTA(H$1:H2)>$G$2,\"\",LOOKUP(COUNTA(H$1:H2),F:F,E:E))","v":""}]
[null,{"$f":"Triggers!A4","v":"BP01"},{"$f":"Triggers!F4","v":"BP_FHF"},"BP15","BP_SHOULDER",{"$f":"IF(ISNUMBER(MATCH(D4,$J$1,0)),LOOKUP(30000,F$1:F3)+1,\"\")","v":""},null,{"$f":"IF(COUNTA(H$1:H3)>$G$2,\"\",LOOKUP(COUNTA(H$1:H3),F:F,E:E))","v":""}]
[null,{"$f":"Triggers!A5","v":"BP01"},{"$f":"Triggers!F5","v":"BP_FHF"},"BP16","BP_BUNION",{"$f":"IF(ISNUMBER(MATCH(D5,$J$1,0)),LOOKUP(30000,F$1:F4)+1,\"\")","v":""},null,{"$f":"IF(COUNTA(H$1:H4)>$G$2,\"\",LOOKUP(COUNTA(H$1:H4),F:F,E:E))","v":""}]
[null,{"$f":"Triggers!A6","v":"BP01"},{"$f":"Triggers!F6","v":"BP_FHF"},"BP17","BP_DUPUYTRENS",{"$f":"IF(ISNUMBER(MATCH(D6,$J$1,0)),LOOKUP(30000,F$1:F5)+1,\"\")","v":""},null,{"$f":"IF(COUNTA(H$1:H5)>$G$2,\"\",LOOKUP(COUNTA(H$1:H5),F:F,E:E))","v":""}]
[null,{"$f":"Triggers!A7","v":"BP01"},{"$f":"Triggers!F7","v":"BP_FHF"},"BP28","BP_MAST",{"$f":"IF(ISNUMBER(MATCH(D7,$J$1,0)),LOOKUP(30000,F$1:F6)+1,\"\")","v":""},null,{"$f":"IF(COUNTA(H$1:H6)>$G$2,\"\",LOOKUP(COUNTA(H$1:H6),F:F,E:E))","v":""}]
[null,{"$f":"Triggers!A8","v":"BP01"},{"$f":"Triggers!F8","v":"BP_FHF"},"BP29","BP_EXBREAST",{"$f":"IF(ISNUMBER(MATCH(D8,$J$1,0)),LOOKUP(30000,F$1:F7)+1,\"\")","v":""}]
[null,{"$f":"Triggers!A9","v":"BP01"},{"$f":"Triggers!F9","v":"BP_FHF"},"BP31","BP_LYMPH_1",{"$f":"IF(ISNUMBER(MATCH(D9,$J$1,0)),LOOKUP(30000,F$1:F8)+1,\"\")","v":""}]
[null,{"$f":"Triggers!A10","v":"BP01"},{"$f":"Triggers!F10","v":"BP_FHF"},"BP31","BP_LYMPH_2",{"$f":"IF(ISNUMBER(MATCH(D10,$J$1,0)),LOOKUP(30000,F$1:F9)+1,\"\")","v":""},null,{"$f":"IF(COUNTA(H$1:H9)>$G$2,\"\",LOOKUP(COUNTA(H$1:H9),F:F,E:E))","v":""}]
[null,{"$f":"Triggers!A11","v":"BP01"},{"$f":"Triggers!F11","v":"BP_FHF"},"BP32","BP_AXILLARY",{"$f":"IF(ISNUMBER(MATCH(D11,$J$1,0)),LOOKUP(30000,F$1:F10)+1,\"\")","v":""},null,{"$f":"IF(COUNTA(H$1:H10)>$G$2,\"\",LOOKUP(COUNTA(H$1:H10),F:F,E:E))","v":""}]
[null,{"$f":"Triggers!A12","v":"BP01"},{"$f":"Triggers!F12","v":"BP_FHF"},"BP35","BP_EPI",{"$f":"IF(ISNUMBER(MATCH(D12,$J$1,0)),LOOKUP(30000,F$1:F11)+1,\"\")","v":""},null,{"$f":"IF(COUNTA(H$1:H11)>$G$2,\"\",LOOKUP(COUNTA(H$1:H11),F:F,E:E))","v":""}]
[null,{"$f":"Triggers!A13","v":"BP01"},{"$f":"Triggers!F13","v":"BP_FHF"},"BP38","BP_DSH",{"$f":"IF(ISNUMBER(MATCH(D13,$J$1,0)),LOOKUP(30000,F$1:F12)+1,\"\")","v":""},null,{"$f":"IF(COUNTA(H$1:H12)>$G$2,\"\",LOOKUP(COUNTA(H$1:H12),F:F,E:E))","v":""}]
[null,{"$f":"Triggers!A14","v":"BP01"},{"$f":"Triggers!F14","v":"BP_FHF"},"BP39","BP_CELL",{"$f":"IF(ISNUMBER(MATCH(D14,$J$1,0)),LOOKUP(30000,F$1:F13)+1,\"\")","v":""},null,{"$f":"IF(COUNTA(H$1:H13)>$G$2,\"\",LOOKUP(COUNTA(H$1:H13),F:F,E:E))","v":""}]
[null,{"$f":"Triggers!A15","v":"BP01"},{"$f":"Triggers!F15","v":"BP_FHF"},"BP40","BP_CHESTPAIN",{"$f":"IF(ISNUMBER(MATCH(D15,$J$1,0)),LOOKUP(30000,F$1:F14)+1,\"\")","v":""},null,{"$f":"IF(COUNTA(H$1:H14)>$G$2,\"\",LOOKUP(COUNTA(H$1:H14),F:F,E:E))","v":""}]
[null,{"$f":"Triggers!A16","v":"BP01"},{"$f":"Triggers!F16","v":"BP_FHF"},"BP41","BP_FALL",{"$f":"IF(ISNUMBER(MATCH(D16,$J$1,0)),LOOKUP(30000,F$1:F15)+1,\"\")","v":""},null,{"$f":"IF(COUNTA(H$1:H15)>$G$2,\"\",LOOKUP(COUNTA(H$1:H15),F:F,E:E))","v":""}]
[null,{"$f":"Triggers!A17","v":"BP01"},{"$f":"Triggers!F17","v":"BP_FHF"},"BP42","BP_APPFRAC",{"$f":"IF(ISNUMBER(MATCH(D17,$J$1,0)),LOOKUP(30000,F$1:F16)+1,\"\")","v":""},null,{"$f":"IF(COUNTA(H$1:H16)>$G$2,\"\",LOOKUP(COUNTA(H$1:H16),F:F,E:E))","v":""}]
[null,{"$f":"Triggers!A18","v":"BP01"},{"$f":"Triggers!F18","v":"BP_FHF"},"BP44","BP_ASTHMA",{"$f":"IF(ISNUMBER(MATCH(D18,$J$1,0)),LOOKUP(30000,F$1:F17)+1,\"\")","v":""},null,{"$f":"IF(COUNTA(H$1:H17)>$G$2,\"\",LOOKUP(COUNTA(H$1:H17),F:F,E:E))","v":""}]
[null,{"$f":"Triggers!A19","v":"BP01"},{"$f":"Triggers!F19","v":"BP_FHF"},"BP45","BP_LRTI",{"$f":"IF(ISNUMBER(MATCH(D19,$J$1,0)),LOOKUP(30000,F$1:F18)+1,\"\")","v":""},null,{"$f":"IF(COUNTA(H$1:H18)>$G$2,\"\",LOOKUP(COUNTA(H$1:H18),F:F,E:E))","v":""}]
[null,{"$f":"Triggers!A20","v":"BP02"},{"$f":"Triggers!F20","v":"BP_MI"},"BP46","BP_PULEMB",{"$f":"IF(ISNUMBER(MATCH(D20,$J$1,0)),LOOKUP(30000,F$1:F19)+1,\"\")","v":""},null,{"$f":"IF(COUNTA(H$1:H19)>$G$2,\"\",LOOKUP(COUNTA(H$1:H19),F:F,E:E))","v":""}]
[null,{"$f":"Triggers!A21","v":"BP02"},{"$f":"Triggers!F21","v":"BP_MI"},"BP47","BP_STONES",{"$f":"IF(ISNUMBER(MATCH(D21,$J$1,0)),LOOKUP(30000,F$1:F20)+1,\"\")","v":""},null,{"$f":"IF(COUNTA(H$1:H20)>$G$2,\"\",LOOKUP(COUNTA(H$1:H20),F:F,E:E))","v":""}]
[null,{"$f":"Triggers!A22","v":"BP02"},{"$f":"Triggers!F22","v":"BP_MI"},"BP48","BP_DVT",{"$f":"IF(ISNUMBER(MATCH(D22,$J$1,0)),LOOKUP(30000,F$1:F21)+1,\"\")","v":""},null,{"$f":"IF(COUNTA(H$1:H21)>$G$2,\"\",LOOKUP(COUNTA(H$1:H21),F:F,E:E))","v":""}]
[null,{"$f":"Triggers!A23","v":"BP02"},{"$f":"Triggers!F23","v":"BP_MI"},"BP49","BP_HEADACHE",{"$f":"IF(ISNUMBER(MATCH(D23,$J$1,0)),LOOKUP(30000,F$1:F22)+1,\"\")","v":""},null,{"$f":"IF(COUNTA(H$1:H22)>$G$2,\"\",LOOKUP(COUNTA(H$1:H22),F:F,E:E))","v":""}]
[null,{"$f":"Triggers!A24","v":"BP02"},{"$f":"Triggers!F24","v":"BP_MI"},"BP50","BP_NSTEMI",{"$f":"IF(ISNUMBER(MATCH(D24,$J$1,0)),LOOKUP(30000,F$1:F23)+1,\"\")","v":""},null,{"$f":"IF(COUNTA(H$1:H23)>$G$2,\"\",LOOKUP(COUNTA(H$1:H23),F:F,E:E))","v":""}]
[null,{"$f":"Triggers!A25","v":"BP02"},{"$f":"Triggers!F25","v":"BP_MI"},"BP52","BP_DIAB_KETO_01",{"$f":"IF(ISNUMBER(MATCH(D25,$J$1,0)),LOOKUP(30000,F$1:F24)+1,\"\")","v":""},null,{"$f":"IF(COUNTA(H$1:H24)>$G$2,\"\",LOOKUP(COUNTA(H$1:H24),F:F,E:E))","v":""}]
[null,{"$f":"Triggers!A26","v":"BP02"},{"$f":"Triggers!F26","v":"BP_MI"},"BP52","BP_DIAB_KETO_02",{"$f":"IF(ISNUMBER(MATCH(D26,$J$1,0)),LOOKUP(30000,F$1:F25)+1,\"\")","v":""},null,{"$f":"IF(COUNTA(H$1:H25)>$G$2,\"\",LOOKUP(COUNTA(H$1:H25),F:F,E:E))","v":""}]
[null,{"$f":"Triggers!A27","v":"BP02"},{"$f":"Triggers!F27","v":"BP_MI"},"BP53","BP_RAMI",{"$f":"IF(ISNUMBER(MATCH(D27,$J$1,0)),LOOKUP(30000,F$1:F26)+1,\"\")","v":""},null,{"$f":"IF(COUNTA(H$1:H26)>$G$2,\"\",LOOKUP(COUNTA(H$1:H26),F:F,E:E))","v":""}]
[null,{"$f":"Triggers!A28","v":"BP02"},{"$f":"Triggers!F28","v":"BP_MI"},"BP54","BP_ANAEMIA",{"$f":"IF(ISNUMBER(MATCH(D28,$J$1,0)),LOOKUP(30000,F$1:F27)+1,\"\")","v":""},null,{"$f":"IF(COUNTA(H$1:H27)>$G$2,\"\",LOOKUP(COUNTA(H$1:H27),F:F,E:E))","v":""}]
[null,{"$f":"Triggers!A29","v":"BP02"},{"$f":"Triggers!F29","v":"BP_MI"},"BP55","BP_BOO",{"$f":"IF(ISNUMBER(MATCH(D29,$J$1,0)),LOOKUP(30000,F$1:F28)+1,\"\")","v":""},null,{"$f":"IF(COUNTA(H$1:H28)>$G$2,\"\",LOOKUP(COUNTA(H$1:H28),F:F,E:E))","v":""}]
[null,{"$f":"Triggers!A30","v":"BP02"},{"$f":"Triggers!F30","v":"BP_MI"},"BP56","BP_PNEUMONIA",{"$f":"IF(ISNUMBER(MATCH(D30,$J$1,0)),LOOKUP(30000,F$1:F29)+1,\"\")","v":""},null,{"$f":"IF(COUNTA(H$1:H29)>$G$2,\"\",LOOKUP(COUNTA(H$1:H29),F:F,E:E))","v":""}]
[null,{"$f":"Triggers!A31","v":"BP02"},{"$f":"Triggers!F31","v":"BP_MI"},"BP58","BP_HEAD",{"$f":"IF(ISNUMBER(MATCH(D31,$J$1,0)),LOOKUP(30000,F$1:F30)+1,\"\")","v":""},null,{"$f":"IF(COUNTA(H$1:H30)>$G$2,\"\",LOOKUP(COUNTA(H$1:H30),F:F,E:E))","v":""}]
[null,{"$f":"Triggers!A32","v":"BP02"},{"$f":"Triggers!F32","v":"BP_MI"},"BP59","BP_SVT",{"$f":"IF(ISNUMBER(MATCH(D32,$J$1,0)),LOOKUP(30000,F$1:F31)+1,\"\")","v":""},null,{"$f":"IF(COUNTA(H$1:H31)>$G$2,\"\",LOOKUP(COUNTA(H$1:H31),F:F,E:E))","v":""}]
[null,{"$f":"Triggers!A33","v":"BP02"},{"$f":"Triggers!F33","v":"BP_MI"},"BP61","BP_ABDOPAIN",{"$f":"IF(ISNUMBER(MATCH(D33,$J$1,0)),LOOKUP(30000,F$1:F32)+1,\"\")","v":""},null,{"$f":"IF(COUNTA(H$1:H32)>$G$2,\"\",LOOKUP(COUNTA(H$1:H32),F:F,E:E))","v":""}]
[null,{"$f":"Triggers!A34","v":"BP02"},{"$f":"Triggers!F34","v":"BP_MI"},"BP63","BP_AUTO_CRU_LIG",{"$f":"IF(ISNUMBER(MATCH(D34,$J$1,0)),LOOKUP(30000,F$1:F33)+1,\"\")","v":""},null,{"$f":"IF(COUNTA(H$1:H33)>$G$2,\"\",LOOKUP(COUNTA(H$1:H33),F:F,E:E))","v":""}]
[null,{"$f":"Triggers!A35","v":"BP02"},{"$f":"Triggers!F35","v":"BP_MI"},"BP64","BP_BIO_C_LYMPH",{"$f":"IF(ISNUMBER(MATCH(D35,$J$1,0)),LOOKUP(30000,F$1:F34)+1,\"\")","v":""},null,{"$f":"IF(COUNTA(H$1:H34)>$G$2,\"\",LOOKUP(COUNTA(H$1:H34),F:F,E:E))","v":""}]
[null,{"$f":"Triggers!A36","v":"BP02"},{"$f":"Triggers!F36","v":"BP_MI"},"BP65","BP_ART_FIST_DIA",{"$f":"IF(ISNUMBER(MATCH(D36,$J$1,0)),LOOKUP(30000,F$1:F35)+1,\"\")","v":""},null,{"$f":"IF(COUNTA(H$1:H35)>$G$2,\"\",LOOKUP(COUNTA(H$1:H35),F:F,E:E))","v":""}]
[null,{"$f":"Triggers!A37","v":"BP02"},{"$f":"Triggers!F37","v":"BP_MI"},"BP66","BP_DACRY_RHINO",{"$f":"IF(ISNUMBER(MATCH(D37,$J$1,0)),LOOKUP(30000,F$1:F36)+1,\"\")","v":""},null,{"$f":"IF(COUNTA(H$1:H36)>$G$2,\"\",LOOKUP(COUNTA(H$1:H36),F:F,E:E))","v":""}]
[null,{"$f":"Triggers!A38","v":"BP02"},{"$f":"Triggers!F38","v":"BP_MI"},"BP68","BP_ENDO_INST_PRS",{"$f":"IF(ISNUMBER(MATCH(D38,$J$1,0)),LOOKUP(30000,F$1:F37)+1,\"\")","v":""},null,{"$f":"IF(COUNTA(H$1:H37)>$G$2,\"\",LOOKUP(COUNTA(H$1:H37),F:F,E:E))","v":""}]
[null,{"$f":"Triggers!A39","v":"BP02"},{"$f":"Triggers!F39","v":"BP_MI"},"BP69","BP_EXCN_BIO_LYMP",{"$f":"IF(ISNUMBER(MATCH(D39,$J$1,0)),LOOKUP(30000,F$1:F38)+1,\"\")","v":""},null,{"$f":"IF(COUNTA(H$1:H38)>$G$2,\"\",LOOKUP(COUNTA(H$1:H38),F:F,E:E))","v":""}]
[null,{"$f":"Triggers!A40","v":"BP02"},{"$f":"Triggers!F40","v":"BP_MI"},"BP73","BP_OPT_URETHROMY",{"$f":"IF(ISNUMBER(MATCH(D40,$J$1,0)),LOOKUP(30000,F$1:F39)+1,\"\")","v":""},null,{"$f":"IF(COUNTA(H$1:H39)>$G$2,\"\",LOOKUP(COUNTA(H$1:H39),F:F,E:E))","v":""}]
[null,{"$f":"Triggers!A41","v":"BP02"},{"$f":"Triggers!F41","v":"BP_MI"},"BP74","BP_POLYPEC_NOSE",{"$f":"IF(ISNUMBER(MATCH(D41,$J$1,0)),LOOKUP(30000,F$1:F40)+1,\"\")","v":""},null,{"$f":"IF(COUNTA(H$1:H40)>$G$2,\"\",LOOKUP(COUNTA(H$1:H40),F:F,E:E))","v":""}]
[null,{"$f":"Triggers!A42","v":"BP02"},{"$f":"Triggers!F42","v":"BP_MI"},"BP76","BP_OTH_ABD_HERN",{"$f":"IF(ISNUMBER(MATCH(D42,$J$1,0)),LOOKUP(30000,F$1:F41)+1,\"\")","v":""},null,{"$f":"IF(COUNTA(H$1:H41)>$G$2,\"\",LOOKUP(COUNTA(H$1:H41),F:F,E:E))","v":""}]
[null,{"$f":"Triggers!A43","v":"BP15"},{"$f":"Triggers!F43","v":"BP_SHOULDER"},"BP77","BP_TRN_P_ILI_FEM",{"$f":"IF(ISNUMBER(MATCH(D43,$J$1,0)),LOOKUP(30000,F$1:F42)+1,\"\")","v":""},null,{"$f":"IF(COUNTA(H$1:H42)>$G$2,\"\",LOOKUP(COUNTA(H$1:H42),F:F,E:E))","v":""}]
[null,{"$f":"Triggers!A44","v":"BP16"},{"$f":"Triggers!F44","v":"BP_BUNION"},"BP78","BP_UTR_EX_CAL_UR",{"$f":"IF(ISNUMBER(MATCH(D44,$J$1,0)),LOOKUP(30000,F$1:F43)+1,\"\")","v":""},null,{"$f":"IF(COUNTA(H$1:H43)>$G$2,\"\",LOOKUP(COUNTA(H$1:H43),F:F,E:E))","v":""}]
[null,{"$f":"Triggers!A45","v":"BP17"},{"$f":"Triggers!F45","v":"BP_DUPUYTRENS"},"BP79","BP_LAR_OOP_SPTMY",{"$f":"IF(ISNUMBER(MATCH(D45,$J$1,0)),LOOKUP(30000,F$1:F44)+1,\"\")","v":""},null,{"$f":"IF(COUNTA(H$1:H44)>$G$2,\"\",LOOKUP(COUNTA(H$1:H44),F:F,E:E))","v":""}]
[null,{"$f":"Triggers!A46","v":"BP28"},{"$f":"Triggers!F46","v":"BP_MAST"},"BP80","BP_ABN_LIVER_FN",{"$f":"IF(ISNUMBER(MATCH(D46,$J$1,0)),LOOKUP(30000,F$1:F45)+1,\"\")","v":""},null,{"$f":"IF(COUNTA(H$1:H45)>$G$2,\"\",LOOKUP(COUNTA(H$1:H45),F:F,E:E))","v":""}]
[null,{"$f":"Triggers!A47","v":"BP28"},{"$f":"Triggers!F47","v":"BP_MAST"},"BP81","BP_ACUTE_P_JNT",{"$f":"IF(ISNUMBER(MATCH(D47,$J$1,0)),LOOKUP(30000,F$1:F46)+1,\"\")","v":""},null,{"$f":"IF(COUNTA(H$1:H46)>$G$2,\"\",LOOKUP(COUNTA(H$1:H46),F:F,E:E))","v":""}]
[null,{"$f":"Triggers!A48","v":"BP29"},{"$f":"Triggers!F48","v":"BP_EXBREAST"},"BP82","BP_CHRONIC_CATH",{"$f":"IF(ISNUMBER(MATCH(D48,$J$1,0)),LOOKUP(30000,F$1:F47)+1,\"\")","v":""},null,{"$f":"IF(COUNTA(H$1:H47)>$G$2,\"\",LOOKUP(COUNTA(H$1:H47),F:F,E:E))","v":""}]
[null,{"$f":"Triggers!A49","v":"BP29"},{"$f":"Triggers!F49","v":"BP_EXBREAST"},"BP83","BP_GASTRO",{"$f":"IF(ISNUMBER(MATCH(D49,$J$1,0)),LOOKUP(30000,F$1:F48)+1,\"\")","v":""},null,{"$f":"IF(COUNTA(H$1:H48)>$G$2,\"\",LOOKUP(COUNTA(H$1:H48),F:F,E:E))","v":""}]
[null,{"$f":"Triggers!A50","v":"BP31"},{"$f":"Triggers!F50","v":"BP_LYMPH_1"},"BP84","BP_U_GAST_HAEMO",{"$f":"IF(ISNUMBER(MATCH(D50,$J$1,0)),LOOKUP(30000,F$1:F49)+1,\"\")","v":""},null,{"$f":"IF(COUNTA(H$1:H49)>$G$2,\"\",LOOKUP(COUNTA(H$1:H49),F:F,E:E))","v":""}]
[null,{"$f":"Triggers!A51","v":"BP31"},{"$f":"Triggers!F51","v":"BP_LYMPH_2"},"BP85","BP_URI_TRA_INFEC",{"$f":"IF(ISNUMBER(MATCH(D51,$J$1,0)),LOOKUP(30000,F$1:F50)+1,\"\")","v":""},null,{"$f":"IF(COUNTA(H$1:H50)>$G$2,\"\",LOOKUP(COUNTA(H$1:H50),F:F,E:E))","v":""}]
[null,{"$f":"Triggers!A52","v":"BP32"},{"$f":"Triggers!F52","v":"BP_AXILLARY"},"BP86","BP_TIA",{"$f":"IF(ISNUMBER(MATCH(D52,$J$1,0)),LOOKUP(30000,F$1:F51)+1,\"\")","v":""},null,{"$f":"IF(COUNTA(H$1:H51)>$G$2,\"\",LOOKUP(COUNTA(H$1:H51),F:F,E:E))","v":""}]
[null,{"$f":"Triggers!A53","v":"BP35"},{"$f":"Triggers!F53","v":"BP_EPI"},0,0,{"$f":"IF(ISNUMBER(MATCH(D53,$J$1,0)),LOOKUP(30000,F$1:F52)+1,\"\")","v":""},null,{"$f":"IF(COUNTA(H$1:H52)>$G$2,\"\",LOOKUP(COUNTA(H$1:H52),F:F,E:E))","v":""}]
[null,{"$f":"Triggers!A54","v":"BP35"},{"$f":"Triggers!F54","v":"BP_EPI"},null,null,{"$f":"IF(ISNUMBER(MATCH(D54,$J$1,0)),LOOKUP(30000,F$1:F53)+1,\"\")","v":""},null,{"$f":"IF(COUNTA(H$1:H53)>$G$2,\"\",LOOKUP(COUNTA(H$1:H53),F:F,E:E))","v":""}]
[null,{"$f":"Triggers!A55","v":"BP35"},{"$f":"Triggers!F55","v":"BP_EPI"},null,null,{"$f":"IF(ISNUMBER(MATCH(D55,$J$1,0)),LOOKUP(30000,F$1:F54)+1,\"\")","v":""},null,{"$f":"IF(COUNTA(H$1:H54)>$G$2,\"\",LOOKUP(COUNTA(H$1:H54),F:F,E:E))","v":""}]
[null,{"$f":"Triggers!A56","v":"BP38"},{"$f":"Triggers!F56","v":"BP_DSH"},null,null,{"$f":"IF(ISNUMBER(MATCH(D56,$J$1,0)),LOOKUP(30000,F$1:F55)+1,\"\")","v":""},null,{"$f":"IF(COUNTA(H$1:H55)>$G$2,\"\",LOOKUP(COUNTA(H$1:H55),F:F,E:E))","v":""}]
[null,{"$f":"Triggers!A57","v":"BP39"},{"$f":"Triggers!F57","v":"BP_CELL"},null,null,{"$f":"IF(ISNUMBER(MATCH(D57,$J$1,0)),LOOKUP(30000,F$1:F56)+1,\"\")","v":""},null,{"$f":"IF(COUNTA(H$1:H56)>$G$2,\"\",LOOKUP(COUNTA(H$1:H56),F:F,E:E))","v":""}]
[null,{"$f":"Triggers!A58","v":"BP39"},{"$f":"Triggers!F58","v":"BP_CELL"},null,null,{"$f":"IF(ISNUMBER(MATCH(D58,$J$1,0)),LOOKUP(30000,F$1:F57)+1,\"\")","v":""},null,{"$f":"IF(COUNTA(H$1:H57)>$G$2,\"\",LOOKUP(COUNTA(H$1:H57),F:F,E:E))","v":""}]
[null,{"$f":"Triggers!A59","v":"BP39"},{"$f":"Triggers!F59","v":"BP_CELL"},null,null,{"$f":"IF(ISNUMBER(MATCH(D59,$J$1,0)),LOOKUP(30000,F$1:F58)+1,\"\")","v":""},null,{"$f":"IF(COUNTA(H$1:H58)>$G$2,\"\",LOOKUP(COUNTA(H$1:H58),F:F,E:E))","v":""}]
[null,{"$f":"Triggers!A60","v":"BP40"},{"$f":"Triggers!F60","v":"BP_CHESTPAIN"},null,null,{"$f":"IF(ISNUMBER(MATCH(D60,$J$1,0)),LOOKUP(30000,F$1:F59)+1,\"\")","v":""},null,{"$f":"IF(COUNTA(H$1:H59)>$G$2,\"\",LOOKUP(COUNTA(H$1:H59),F:F,E:E))","v":""}]
[null,{"$f":"Triggers!A61","v":"BP40"},{"$f":"Triggers!F61","v":"BP_CHESTPAIN"},null,null,{"$f":"IF(ISNUMBER(MATCH(D61,$J$1,0)),LOOKUP(30000,F$1:F60)+1,\"\")","v":""},null,{"$f":"IF(COUNTA(H$1:H60)>$G$2,\"\",LOOKUP(COUNTA(H$1:H60),F:F,E:E))","v":""}]
[null,{"$f":"Triggers!A62","v":"BP40"},{"$f":"Triggers!F62","v":"BP_CHESTPAIN"},null,null,{"$f":"IF(ISNUMBER(MATCH(D62,$J$1,0)),LOOKUP(30000,F$1:F61)+1,\"\")","v":""},null,{"$f":"IF(COUNTA(H$1:H61)>$G$2,\"\",LOOKUP(COUNTA(H$1:H61),F:F,E:E))","v":""}]
[null,{"$f":"Triggers!A63","v":"BP40"},{"$f":"Triggers!F63","v":"BP_CHESTPAIN"},null,null,{"$f":"IF(ISNUMBER(MATCH(D63,$J$1,0)),LOOKUP(30000,F$1:F62)+1,\"\")","v":""},null,{"$f":"IF(COUNTA(H$1:H62)>$G$2,\"\",LOOKUP(COUNTA(H$1:H62),F:F,E:E))","v":""}]
[null,{"$f":"Triggers!A64","v":"BP41"},{"$f":"Triggers!F64","v":"BP_FALL"},null,null,{"$f":"IF(ISNUMBER(MATCH(D64,$J$1,0)),LOOKUP(30000,F$1:F63)+1,\"\")","v":""},null,{"$f":"IF(COUNTA(H$1:H63)>$G$2,\"\",LOOKUP(COUNTA(H$1:H63),F:F,E:E))","v":""}]
[null,{"$f":"Triggers!A65","v":"BP42"},{"$f":"Triggers!F65","v":"BP_APPFRAC"},null,null,{"$f":"IF(ISNUMBER(MATCH(D65,$J$1,0)),LOOKUP(30000,F$1:F64)+1,\"\")","v":""},null,{"$f":"IF(COUNTA(H$1:H64)>$G$2,\"\",LOOKUP(COUNTA(H$1:H64),F:F,E:E))","v":""}]
[null,{"$f":"Triggers!A66","v":"BP42"},{"$f":"Triggers!F66","v":"BP_APPFRAC"},null,null,{"$f":"IF(ISNUMBER(MATCH(D66,$J$1,0)),LOOKUP(30000,F$1:F65)+1,\"\")","v":""},null,{"$f":"IF(COUNTA(H$1:H65)>$G$2,\"\",LOOKUP(COUNTA(H$1:H65),F:F,E:E))","v":""}]
[null,{"$f":"Triggers!A67","v":"BP42"},{"$f":"Triggers!F67","v":"BP_APPFRAC"},null,null,{"$f":"IF(ISNUMBER(MATCH(D67,$J$1,0)),LOOKUP(30000,F$1:F66)+1,\"\")","v":""},null,{"$f":"IF(COUNTA(H$1:H66)>$G$2,\"\",LOOKUP(COUNTA(H$1:H66),F:F,E:E))","v":""}]
[null,{"$f":"Triggers!A68","v":"BP42"},{"$f":"Triggers!F68","v":"BP_APPFRAC"},null,null,{"$f":"IF(ISNUMBER(MATCH(D68,$J$1,0)),LOOKUP(30000,F$1:F67)+1,\"\")","v":""},null,{"$f":"IF(COUNTA(H$1:H67)>$G$2,\"\",LOOKUP(COUNTA(H$1:H67),F:F,E:E))","v":""}]
[null,{"$f":"Triggers!A69","v":"BP42"},{"$f":"Triggers!F69","v":"BP_APPFRAC"},null,null,{"$f":"IF(ISNUMBER(MATCH(D69,$J$1,0)),LOOKUP(30000,F$1:F68)+1,\"\")","v":""},null,{"$f":"IF(COUNTA(H$1:H68)>$G$2,\"\",LOOKUP(COUNTA(H$1:H68),F:F,E:E))","v":""}]
[null,{"$f":"Triggers!A70","v":"BP42"},{"$f":"Triggers!F70","v":"BP_APPFRAC"},null,null,{"$f":"IF(ISNUMBER(MATCH(D70,$J$1,0)),LOOKUP(30000,F$1:F69)+1,\"\")","v":""},null,{"$f":"IF(COUNTA(H$1:H69)>$G$2,\"\",LOOKUP(COUNTA(H$1:H69),F:F,E:E))","v":""}]
[null,{"$f":"Triggers!A71","v":"BP42"},{"$f":"Triggers!F71","v":"BP_APPFRAC"},null,null,{"$f":"IF(ISNUMBER(MATCH(D71,$J$1,0)),LOOKUP(30000,F$1:F70)+1,\"\")","v":""},null,{"$f":"IF(COUNTA(H$1:H70)>$G$2,\"\",LOOKUP(COUNTA(H$1:H70),F:F,E:E))","v":""}]
[null,{"$f":"Triggers!A72","v":"BP42"},{"$f":"Triggers!F72","v":"BP_APPFRAC"},null,null,{"$f":"IF(ISNUMBER(MATCH(D72,$J$1,0)),LOOKUP(30000,F$1:F71)+1,\"\")","v":""},null,{"$f":"IF(COUNTA(H$1:H71)>$G$2,\"\",LOOKUP(COUNTA(H$1:H71),F:F,E:E))","v":""}]
[null,{"$f":"Triggers!A73","v":"BP44"},{"$f":"Triggers!F73","v":"BP_ASTHMA"},null,null,{"$f":"IF(ISNUMBER(MATCH(D73,$J$1,0)),LOOKUP(30000,F$1:F72)+1,\"\")","v":""},null,{"$f":"IF(COUNTA(H$1:H72)>$G$2,\"\",LOOKUP(COUNTA(H$1:H72),F:F,E:E))","v":""}]
[null,{"$f":"Triggers!A74","v":"BP44"},{"$f":"Triggers!F74","v":"BP_ASTHMA"},null,null,{"$f":"IF(ISNUMBER(MATCH(D74,$J$1,0)),LOOKUP(30000,F$1:F73)+1,\"\")","v":""},null,{"$f":"IF(COUNTA(H$1:H73)>$G$2,\"\",LOOKUP(COUNTA(H$1:H73),F:F,E:E))","v":""}]
[null,{"$f":"Triggers!A75","v":"BP45"},{"$f":"Triggers!F75","v":"BP_LRTI"},null,null,{"$f":"IF(ISNUMBER(MATCH(D75,$J$1,0)),LOOKUP(30000,F$1:F74)+1,\"\")","v":""},null,{"$f":"IF(COUNTA(H$1:H74)>$G$2,\"\",LOOKUP(COUNTA(H$1:H74),F:F,E:E))","v":""}]
[null,{"$f":"Triggers!A76","v":"BP46"},{"$f":"Triggers!F76","v":"BP_PULEMB"},null,null,{"$f":"IF(ISNUMBER(MATCH(D76,$J$1,0)),LOOKUP(30000,F$1:F75)+1,\"\")","v":""},null,{"$f":"IF(COUNTA(H$1:H75)>$G$2,\"\",LOOKUP(COUNTA(H$1:H75),F:F,E:E))","v":""}]
[null,{"$f":"Triggers!A77","v":"BP46"},{"$f":"Triggers!F77","v":"BP_PULEMB"},null,null,{"$f":"IF(ISNUMBER(MATCH(D77,$J$1,0)),LOOKUP(30000,F$1:F76)+1,\"\")","v":""},null,{"$f":"IF(COUNTA(H$1:H76)>$G$2,\"\",LOOKUP(COUNTA(H$1:H76),F:F,E:E))","v":""}]
[null,{"$f":"Triggers!A78","v":"BP47"},{"$f":"Triggers!F78","v":"BP_STONES"},null,null,{"$f":"IF(ISNUMBER(MATCH(D78,$J$1,0)),LOOKUP(30000,F$1:F77)+1,\"\")","v":""},null,{"$f":"IF(COUNTA(H$1:H77)>$G$2,\"\",LOOKUP(COUNTA(H$1:H77),F:F,E:E))","v":""}]
[null,{"$f":"Triggers!A79","v":"BP48"},{"$f":"Triggers!F79","v":"BP_DVT"},null,null,{"$f":"IF(ISNUMBER(MATCH(D79,$J$1,0)),LOOKUP(30000,F$1:F78)+1,\"\")","v":""},null,{"$f":"IF(COUNTA(H$1:H78)>$G$2,\"\",LOOKUP(COUNTA(H$1:H78),F:F,E:E))","v":""}]
[null,{"$f":"Triggers!A80","v":"BP48"},{"$f":"Triggers!F80","v":"BP_DVT"},null,null,{"$f":"IF(ISNUMBER(MATCH(D80,$J$1,0)),LOOKUP(30000,F$1:F79)+1,\"\")","v":""},null,{"$f":"IF(COUNTA(H$1:H79)>$G$2,\"\",LOOKUP(COUNTA(H$1:H79),F:F,E:E))","v":""}]
[null,{"$f":"Triggers!A81","v":"BP48"},{"$f":"Triggers!F81","v":"BP_DVT"},null,null,{"$f":"IF(ISNUMBER(MATCH(D81,$J$1,0)),LOOKUP(30000,F$1:F80)+1,\"\")","v":""},null,{"$f":"IF(COUNTA(H$1:H80)>$G$2,\"\",LOOKUP(COUNTA(H$1:H80),F:F,E:E))","v":""}]
[null,{"$f":"Triggers!A82","v":"BP49"},{"$f":"Triggers!F82","v":"BP_HEADACHE"},null,null,{"$f":"IF(ISNUMBER(MATCH(D82,$J$1,0)),LOOKUP(30000,F$1:F81)+1,\"\")","v":""},null,{"$f":"IF(COUNTA(H$1:H81)>$G$2,\"\",LOOKUP(COUNTA(H$1:H81),F:F,E:E))","v":""}]
[null,{"$f":"Triggers!A83","v":"BP49"},{"$f":"Triggers!F83","v":"BP_HEADACHE"},null,null,{"$f":"IF(ISNUMBER(MATCH(D83,$J$1,0)),LOOKUP(30000,F$1:F82)+1,\"\")","v":""},null,{"$f":"IF(COUNTA(H$1:H82)>$G$2,\"\",LOOKUP(COUNTA(H$1:H82),F:F,E:E))","v":""}]
[null,{"$f":"Triggers!A84","v":"BP50"},{"$f":"Triggers!F84","v":"BP_NSTEMI"},null,null,{"$f":"IF(ISNUMBER(MATCH(D84,$J$1,0)),LOOKUP(30000,F$1:F83)+1,\"\")","v":""},null,{"$f":"IF(COUNTA(H$1:H83)>$G$2,\"\",LOOKUP(COUNTA(H$1:H83),F:F,E:E))","v":""}]
[null,{"$f":"Triggers!A85","v":"BP50"},{"$f":"Triggers!F85","v":"BP_NSTEMI"},null,null,{"$f":"IF(ISNUMBER(MATCH(D85,$J$1,0)),LOOKUP(30000,F$1:F84)+1,\"\")","v":""},null,{"$f":"IF(COUNTA(H$1:H84)>$G$2,\"\",LOOKUP(COUNTA(H$1:H84),F:F,E:E))","v":""}]
[null,{"$f":"Triggers!A86","v":"BP50"},{"$f":"Triggers!F86","v":"BP_NSTEMI"},null,null,{"$f":"IF(ISNUMBER(MATCH(D86,$J$1,0)),LOOKUP(30000,F$1:F85)+1,\"\")","v":""},null,{"$f":"IF(COUNTA(H$1:H85)>$G$2,\"\",LOOKUP(COUNTA(H$1:H85),F:F,E:E))","v":""}]
[null,{"$f":"Triggers!A87","v":"BP50"},{"$f":"Triggers!F87","v":"BP_NSTEMI"},null,null,{"$f":"IF(ISNUMBER(MATCH(D87,$J$1,0)),LOOKUP(30000,F$1:F86)+1,\"\")","v":""},null,{"$f":"IF(COUNTA(H$1:H86)>$G$2,\"\",LOOKUP(COUNTA(H$1:H86),F:F,E:E))","v":""}]
[null,{"$f":"Triggers!A88","v":"BP50"},{"$f":"Triggers!F88","v":"BP_NSTEMI"},null,null,{"$f":"IF(ISNUMBER(MATCH(D88,$J$1,0)),LOOKUP(30000,F$1:F87)+1,\"\")","v":""},null,{"$f":"IF(COUNTA(H$1:H87)>$G$2,\"\",LOOKUP(COUNTA(H$1:H87),F:F,E:E))","v":""}]
[null,{"$f":"Triggers!A89","v":"BP50"},{"$f":"Triggers!F89","v":"BP_NSTEMI"},null,null,{"$f":"IF(ISNUMBER(MATCH(D89,$J$1,0)),LOOKUP(30000,F$1:F88)+1,\"\")","v":""},null,{"$f":"IF(COUNTA(H$1:H88)>$G$2,\"\",LOOKUP(COUNTA(H$1:H88),F:F,E:E))","v":""}]
[null,{"$f":"Triggers!A90","v":"BP50"},{"$f":"Triggers!F90","v":"BP_NSTEMI"},null,null,{"$f":"IF(ISNUMBER(MATCH(D90,$J$1,0)),LOOKUP(30000,F$1:F89)+1,\"\")","v":""},null,{"$f":"IF(COUNTA(H$1:H89)>$G$2,\"\",LOOKUP(COUNTA(H$1:H89),F:F,E:E))","v":""}]
[null,{"$f":"Triggers!A91","v":"BP50"},{"$f":"Triggers!F91","v":"BP_NSTEMI"},null,null,{"$f":"IF(ISNUMBER(MATCH(D91,$J$1,0)),LOOKUP(30000,F$1:F90)+1,\"\")","v":""},null,{"$f":"IF(COUNTA(H$1:H90)>$G$2,\"\",LOOKUP(COUNTA(H$1:H90),F:F,E:E))","v":""}]
[null,{"$f":"Triggers!A92","v":"BP50"},{"$f":"Triggers!F92","v":"BP_NSTEMI"},null,null,{"$f":"IF(ISNUMBER(MATCH(D92,$J$1,0)),LOOKUP(30000,F$1:F91)+1,\"\")","v":""},null,{"$f":"IF(COUNTA(H$1:H91)>$G$2,\"\",LOOKUP(COUNTA(H$1:H91),F:F,E:E))","v":""}]
[null,{"$f":"Triggers!A93","v":"BP50"},{"$f":"Triggers!F93","v":"BP_NSTEMI"},null,null,{"$f":"IF(ISNUMBER(MATCH(D93,$J$1,0)),LOOKUP(30000,F$1:F92)+1,\"\")","v":""},null,{"$f":"IF(COUNTA(H$1:H92)>$G$2,\"\",LOOKUP(COUNTA(H$1:H92),F:F,E:E))","v":""}]
[null,{"$f":"Triggers!A94","v":"BP50"},{"$f":"Triggers!F94","v":"BP_NSTEMI"},null,null,{"$f":"IF(ISNUMBER(MATCH(D94,$J$1,0)),LOOKUP(30000,F$1:F93)+1,\"\")","v":""},null,{"$f":"IF(COUNTA(H$1:H93)>$G$2,\"\",LOOKUP(COUNTA(H$1:H93),F:F,E:E))","v":""}]
[null,{"$f":"Triggers!A95","v":"BP50"},{"$f":"Triggers!F95","v":"BP_NSTEMI"},null,null,{"$f":"IF(ISNUMBER(MATCH(D95,$J$1,0)),LOOKUP(30000,F$1:F94)+1,\"\")","v":""},null,{"$f":"IF(COUNTA(H$1:H94)>$G$2,\"\",LOOKUP(COUNTA(H$1:H94),F:F,E:E))","v":""}]
[null,{"$f":"Triggers!A96","v":"BP50"},{"$f":"Triggers!F96","v":"BP_NSTEMI"},null,null,{"$f":"IF(ISNUMBER(MATCH(D96,$J$1,0)),LOOKUP(30000,F$1:F95)+1,\"\")","v":""},null,{"$f":"IF(COUNTA(H$1:H95)>$G$2,\"\",LOOKUP(COUNTA(H$1:H95),F:F,E:E))","v":""}]
[null,{"$f":"Triggers!A97","v":"BP50"},{"$f":"Triggers!F97","v":"BP_NSTEMI"},null,null,{"$f":"IF(ISNUMBER(MATCH(D97,$J$1,0)),LOOKUP(30000,F$1:F96)+1,\"\")","v":""},null,{"$f":"IF(COUNTA(H$1:H96)>$G$2,\"\",LOOKUP(COUNTA(H$1:H96),F:F,E:E))","v":""}]
[null,{"$f":"Triggers!A98","v":"BP50"},{"$f":"Triggers!F98","v":"BP_NSTEMI"},null,null,{"$f":"IF(ISNUMBER(MATCH(D98,$J$1,0)),LOOKUP(30000,F$1:F97)+1,\"\")","v":""},null,{"$f":"IF(COUNTA(H$1:H97)>$G$2,\"\",LOOKUP(COUNTA(H$1:H97),F:F,E:E))","v":""}]
[null,{"$f":"Triggers!A99","v":"BP50"},{"$f":"Triggers!F99","v":"BP_NSTEMI"},null,null,{"$f":"IF(ISNUMBER(MATCH(D99,$J$1,0)),LOOKUP(30000,F$1:F98)+1,\"\")","v":""},null,{"$f":"IF(COUNTA(H$1:H98)>$G$2,\"\",LOOKUP(COUNTA(H$1:H98),F:F,E:E))","v":""}]
[null,{"$f":"Triggers!A100","v":"BP50"},{"$f":"Triggers!F100","v":"BP_NSTEMI"},null,null,{"$f":"IF(ISNUMBER(MATCH(D100,$J$1,0)),LOOKUP(30000,F$1:F99)+1,\"\")","v":""},null,{"$f":"IF(COUNTA(H$1:H99)>$G$2,\"\",LOOKUP(COUNTA(H$1:H99),F:F,E:E))","v":""}]
[null,{"$f":"Triggers!A101","v":"BP50"},{"$f":"Triggers!F101","v":"BP_NSTEMI"},null,null,{"$f":"IF(ISNUMBER(MATCH(D101,$J$1,0)),LOOKUP(30000,F$1:F100)+1,\"\")","v":""},null,{"$f":"IF(COUNTA(H$1:H100)>$G$2,\"\",LOOKUP(COUNTA(H$1:H100),F:F,E:E))","v":""}]
[null,{"$f":"Triggers!A102","v":"BP52"},{"$f":"Triggers!F102","v":"BP_DIAB_KETO_01"},null,null,{"$f":"IF(ISNUMBER(MATCH(D102,$J$1,0)),LOOKUP(30000,F$1:F101)+1,\"\")","v":""},null,{"$f":"IF(COUNTA(H$1:H101)>$G$2,\"\",LOOKUP(COUNTA(H$1:H101),F:F,E:E))","v":""}]
[null,{"$f":"Triggers!A103","v":"BP52"},{"$f":"Triggers!F103","v":"BP_DIAB_KETO_02"},null,null,{"$f":"IF(ISNUMBER(MATCH(D103,$J$1,0)),LOOKUP(30000,F$1:F102)+1,\"\")","v":""},null,{"$f":"IF(COUNTA(H$1:H102)>$G$2,\"\",LOOKUP(COUNTA(H$1:H102),F:F,E:E))","v":""}]
[null,{"$f":"Triggers!A104","v":"BP52"},{"$f":"Triggers!F104","v":"BP_DIAB_KETO_02"},null,null,{"$f":"IF(ISNUMBER(MATCH(D104,$J$1,0)),LOOKUP(30000,F$1:F103)+1,\"\")","v":""},null,{"$f":"IF(COUNTA(H$1:H103)>$G$2,\"\",LOOKUP(COUNTA(H$1:H103),F:F,E:E))","v":""}]
[null,{"$f":"Triggers!A105","v":"BP52"},{"$f":"Triggers!F105","v":"BP_DIAB_KETO_01"},null,null,{"$f":"IF(ISNUMBER(MATCH(D105,$J$1,0)),LOOKUP(30000,F$1:F104)+1,\"\")","v":""},null,{"$f":"IF(COUNTA(H$1:H104)>$G$2,\"\",LOOKUP(COUNTA(H$1:H104),F:F,E:E))","v":""}]
[null,{"$f":"Triggers!A106","v":"BP52"},{"$f":"Triggers!F106","v":"BP_DIAB_KETO_01"},null,null,{"$f":"IF(ISNUMBER(MATCH(D106,$J$1,0)),LOOKUP(30000,F$1:F105)+1,\"\")","v":""},null,{"$f":"IF(COUNTA(H$1:H105)>$G$2,\"\",LOOKUP(COUNTA(H$1:H105),F:F,E:E))","v":""}]
[null,{"$f":"Triggers!A107","v":"BP52"},{"$f":"Triggers!F107","v":"BP_DIAB_KETO_02"},null,null,{"$f":"IF(ISNUMBER(MATCH(D107,$J$1,0)),LOOKUP(30000,F$1:F106)+1,\"\")","v":""},null,{"$f":"IF(COUNTA(H$1:H106)>$G$2,\"\",LOOKUP(COUNTA(H$1:H106),F:F,E:E))","v":""}]
[null,{"$f":"Triggers!A108","v":"BP52"},{"$f":"Triggers!F108","v":"BP_DIAB_KETO_02"},null,null,{"$f":"IF(ISNUMBER(MATCH(D108,$J$1,0)),LOOKUP(30000,F$1:F107)+1,\"\")","v":""},null,{"$f":"IF(COUNTA(H$1:H107)>$G$2,\"\",LOOKUP(COUNTA(H$1:H107),F:F,E:E))","v":""}]
[null,{"$f":"Triggers!A109","v":"BP52"},{"$f":"Triggers!F109","v":"BP_DIAB_KETO_01"},null,null,{"$f":"IF(ISNUMBER(MATCH(D109,$J$1,0)),LOOKUP(30000,F$1:F108)+1,\"\")","v":""},null,{"$f":"IF(COUNTA(H$1:H108)>$G$2,\"\",LOOKUP(COUNTA(H$1:H108),F:F,E:E))","v":""}]
[null,{"$f":"Triggers!A110","v":"BP52"},{"$f":"Triggers!F110","v":"BP_DIAB_KETO_01"},null,null,{"$f":"IF(ISNUMBER(MATCH(D110,$J$1,0)),LOOKUP(30000,F$1:F109)+1,\"\")","v":""},null,{"$f":"IF(COUNTA(H$1:H109)>$G$2,\"\",LOOKUP(COUNTA(H$1:H109),F:F,E:E))","v":""}]
[null,{"$f":"Triggers!A111","v":"BP52"},{"$f":"Triggers!F111","v":"BP_DIAB_KETO_02"},null,null,{"$f":"IF(ISNUMBER(MATCH(D111,$J$1,0)),LOOKUP(30000,F$1:F110)+1,\"\")","v":""},null,{"$f":"IF(COUNTA(H$1:H110)>$G$2,\"\",LOOKUP(COUNTA(H$1:H110),F:F,E:E))","v":""}]
[null,{"$f":"Triggers!A112","v":"BP52"},{"$f":"Triggers!F112","v":"BP_DIAB_KETO_02"},null,null,{"$f":"IF(ISNUMBER(MATCH(D112,$J$1,0)),LOOKUP(30000,F$1:F111)+1,\"\")","v":""},null,{"$f":"IF(COUNTA(H$1:H111)>$G$2,\"\",LOOKUP(COUNTA(H$1:H111),F:F,E:E))","v":""}]
[null,{"$f":"Triggers!A113","v":"BP52"},{"$f":"Triggers!F113","v":"BP_DIAB_KETO_01"},null,null,{"$f":"IF(ISNUMBER(MATCH(D113,$J$1,0)),LOOKUP(30000,F$1:F112)+1,\"\")","v":""},null,{"$f":"IF(COUNTA(H$1:H112)>$G$2,\"\",LOOKUP(COUNTA(H$1:H112),F:F,E:E))","v":""}]
[null,{"$f":"Triggers!A114","v":"BP52"},{"$f":"Triggers!F114","v":"BP_DIAB_KETO_01"},null,null,{"$f":"IF(ISNUMBER(MATCH(D114,$J$1,0)),LOOKUP(30000,F$1:F113)+1,\"\")","v":""},null,{"$f":"IF(COUNTA(H$1:H113)>$G$2,\"\",LOOKUP(COUNTA(H$1:H113),F:F,E:E))","v":""}]
[null,{"$f":"Triggers!A115","v":"BP52"},{"$f":"Triggers!F115","v":"BP_DIAB_KETO_02"},null,null,{"$f":"IF(ISNUMBER(MATCH(D115,$J$1,0)),LOOKUP(30000,F$1:F114)+1,\"\")","v":""},null,{"$f":"IF(COUNTA(H$1:H114)>$G$2,\"\",LOOKUP(COUNTA(H$1:H114),F:F,E:E))","v":""}]
[null,{"$f":"Triggers!A116","v":"BP52"},{"$f":"Triggers!F116","v":"BP_DIAB_KETO_02"},null,null,{"$f":"IF(ISNUMBER(MATCH(D116,$J$1,0)),LOOKUP(30000,F$1:F115)+1,\"\")","v":""},null,{"$f":"IF(COUNTA(H$1:H115)>$G$2,\"\",LOOKUP(COUNTA(H$1:H115),F:F,E:E))","v":""}]
[null,{"$f":"Triggers!A117","v":"BP52"},{"$f":"Triggers!F117","v":"BP_DIAB_KETO_01"},null,null,{"$f":"IF(ISNUMBER(MATCH(D117,$J$1,0)),LOOKUP(30000,F$1:F116)+1,\"\")","v":""},null,{"$f":"IF(COUNTA(H$1:H116)>$G$2,\"\",LOOKUP(COUNTA(H$1:H116),F:F,E:E))","v":""}]
[null,{"$f":"Triggers!A118","v":"BP53"},{"$f":"Triggers!F118","v":"BP_RAMI"},null,null,{"$f":"IF(ISNUMBER(MATCH(D118,$J$1,0)),LOOKUP(30000,F$1:F117)+1,\"\")","v":""},null,{"$f":"IF(COUNTA(H$1:H117)>$G$2,\"\",LOOKUP(COUNTA(H$1:H117),F:F,E:E))","v":""}]
[null,{"$f":"Triggers!A119","v":"BP53"},{"$f":"Triggers!F119","v":"BP_RAMI"},null,null,{"$f":"IF(ISNUMBER(MATCH(D119,$J$1,0)),LOOKUP(30000,F$1:F118)+1,\"\")","v":""},null,{"$f":"IF(COUNTA(H$1:H118)>$G$2,\"\",LOOKUP(COUNTA(H$1:H118),F:F,E:E))","v":""}]
[null,{"$f":"Triggers!A120","v":"BP54"},{"$f":"Triggers!F120","v":"BP_ANAEMIA"},null,null,{"$f":"IF(ISNUMBER(MATCH(D120,$J$1,0)),LOOKUP(30000,F$1:F119)+1,\"\")","v":""},null,{"$f":"IF(COUNTA(H$1:H119)>$G$2,\"\",LOOKUP(COUNTA(H$1:H119),F:F,E:E))","v":""}]
[null,{"$f":"Triggers!A121","v":"BP54"},{"$f":"Triggers!F121","v":"BP_ANAEMIA"},null,null,{"$f":"IF(ISNUMBER(MATCH(D121,$J$1,0)),LOOKUP(30000,F$1:F120)+1,\"\")","v":""},null,{"$f":"IF(COUNTA(H$1:H120)>$G$2,\"\",LOOKUP(COUNTA(H$1:H120),F:F,E:E))","v":""}]
[null,{"$f":"Triggers!A122","v":"BP54"},{"$f":"Triggers!F122","v":"BP_ANAEMIA"},null,null,{"$f":"IF(ISNUMBER(MATCH(D122,$J$1,0)),LOOKUP(30000,F$1:F121)+1,\"\")","v":""},null,{"$f":"IF(COUNTA(H$1:H121)>$G$2,\"\",LOOKUP(COUNTA(H$1:H121),F:F,E:E))","v":""}]
[null,{"$f":"Triggers!A123","v":"BP54"},{"$f":"Triggers!F123","v":"BP_ANAEMIA"},null,null,{"$f":"IF(ISNUMBER(MATCH(D123,$J$1,0)),LOOKUP(30000,F$1:F122)+1,\"\")","v":""},null,{"$f":"IF(COUNTA(H$1:H122)>$G$2,\"\",LOOKUP(COUNTA(H$1:H122),F:F,E:E))","v":""}]
[null,{"$f":"Triggers!A124","v":"BP55"},{"$f":"Triggers!F124","v":"BP_BOO"},null,null,{"$f":"IF(ISNUMBER(MATCH(D124,$J$1,0)),LOOKUP(30000,F$1:F123)+1,\"\")","v":""},null,{"$f":"IF(COUNTA(H$1:H123)>$G$2,\"\",LOOKUP(COUNTA(H$1:H123),F:F,E:E))","v":""}]
[null,{"$f":"Triggers!A125","v":"BP55"},{"$f":"Triggers!F125","v":"BP_BOO"},null,null,{"$f":"IF(ISNUMBER(MATCH(D125,$J$1,0)),LOOKUP(30000,F$1:F124)+1,\"\")","v":""},null,{"$f":"IF(COUNTA(H$1:H124)>$G$2,\"\",LOOKUP(COUNTA(H$1:H124),F:F,E:E))","v":""}]
[null,{"$f":"Triggers!A126","v":"BP56"},{"$f":"Triggers!F126","v":"BP_PNEUMONIA"},null,null,{"$f":"IF(ISNUMBER(MATCH(D126,$J$1,0)),LOOKUP(30000,F$1:F125)+1,\"\")","v":""},null,{"$f":"IF(COUNTA(H$1:H125)>$G$2,\"\",LOOKUP(COUNTA(H$1:H125),F:F,E:E))","v":""}]
[null,{"$f":"Triggers!A127","v":"BP58"},{"$f":"Triggers!F127","v":"BP_HEAD"},null,null,{"$f":"IF(ISNUMBER(MATCH(D127,$J$1,0)),LOOKUP(30000,F$1:F126)+1,\"\")","v":""},null,{"$f":"IF(COUNTA(H$1:H126)>$G$2,\"\",LOOKUP(COUNTA(H$1:H126),F:F,E:E))","v":""}]
[null,{"$f":"Triggers!A128","v":"BP58"},{"$f":"Triggers!F128","v":"BP_HEAD"},null,null,{"$f":"IF(ISNUMBER(MATCH(D128,$J$1,0)),LOOKUP(30000,F$1:F127)+1,\"\")","v":""}]
[null,{"$f":"Triggers!A129","v":"BP59"},{"$f":"Triggers!F129","v":"BP_SVT"},null,null,{"$f":"IF(ISNUMBER(MATCH(D129,$J$1,0)),LOOKUP(30000,F$1:F128)+1,\"\")","v":""}]
[null,{"$f":"Triggers!A130","v":"BP59"},{"$f":"Triggers!F130","v":"BP_SVT"},null,null,{"$f":"IF(ISNUMBER(MATCH(D130,$J$1,0)),LOOKUP(30000,F$1:F129)+1,\"\")","v":""}]
[null,{"$f":"Triggers!A131","v":"BP59"},{"$f":"Triggers!F131","v":"BP_SVT"},null,null,{"$f":"IF(ISNUMBER(MATCH(D131,$J$1,0)),LOOKUP(30000,F$1:F130)+1,\"\")","v":""}]
[null,{"$f":"Triggers!A132","v":"BP61"},{"$f":"Triggers!F132","v":"BP_ABDOPAIN"},null,null,{"$f":"IF(ISNUMBER(MATCH(D132,$J$1,0)),LOOKUP(30000,F$1:F131)+1,\"\")","v":""}]
[null,{"$f":"Triggers!A133","v":"BP63"},{"$f":"Triggers!F133","v":"BP_AUTO_CRU_LIG"},null,null,{"$f":"IF(ISNUMBER(MATCH(D133,$J$1,0)),LOOKUP(30000,F$1:F132)+1,\"\")","v":""}]
[null,{"$f":"Triggers!A134","v":"BP64"},{"$f":"Triggers!F134","v":"BP_BIO_C_LYMPH"},null,null,{"$f":"IF(ISNUMBER(MATCH(D134,$J$1,0)),LOOKUP(30000,F$1:F133)+1,\"\")","v":""}]
[null,{"$f":"Triggers!A135","v":"BP65"},{"$f":"Triggers!F135","v":"BP_ART_FIST_DIA"},null,null,{"$f":"IF(ISNUMBER(MATCH(D135,$J$1,0)),LOOKUP(30000,F$1:F134)+1,\"\")","v":""}]
[null,{"$f":"Triggers!A136","v":"BP66"},{"$f":"Triggers!F136","v":"BP_DACRY_RHINO"},null,null,{"$f":"IF(ISNUMBER(MATCH(D136,$J$1,0)),LOOKUP(30000,F$1:F135)+1,\"\")","v":""}]
[null,{"$f":"Triggers!A137","v":"BP68"},{"$f":"Triggers!F137","v":"BP_ENDO_INST_PRS"},null,null,{"$f":"IF(ISNUMBER(MATCH(D137,$J$1,0)),LOOKUP(30000,F$1:F136)+1,\"\")","v":""}]
[null,{"$f":"Triggers!A138","v":"BP69"},{"$f":"Triggers!F138","v":"BP_EXCN_BIO_LYMP"},null,null,{"$f":"IF(ISNUMBER(MATCH(D138,$J$1,0)),LOOKUP(30000,F$1:F137)+1,\"\")","v":""}]
[null,{"$f":"Triggers!A139","v":"BP73"},{"$f":"Triggers!F139","v":"BP_OPT_URETHROMY"},null,null,{"$f":"IF(ISNUMBER(MATCH(D139,$J$1,0)),LOOKUP(30000,F$1:F138)+1,\"\")","v":""}]
[null,{"$f":"Triggers!A140","v":"BP74"},{"$f":"Triggers!F140","v":"BP_POLYPEC_NOSE"},null,null,{"$f":"IF(ISNUMBER(MATCH(D140,$J$1,0)),LOOKUP(30000,F$1:F139)+1,\"\")","v":""}]
[null,{"$f":"Triggers!A141","v":"BP76"},{"$f":"Triggers!F141","v":"BP_OTH_ABD_HERN"},null,null,{"$f":"IF(ISNUMBER(MATCH(D141,$J$1,0)),LOOKUP(30000,F$1:F140)+1,\"\")","v":""}]
[null,{"$f":"Triggers!A142","v":"BP77"},{"$f":"Triggers!F142","v":"BP_TRN_P_ILI_FEM"},null,null,{"$f":"IF(ISNUMBER(MATCH(D142,$J$1,0)),LOOKUP(30000,F$1:F141)+1,\"\")","v":""}]
[null,{"$f":"Triggers!A143","v":"BP77"},{"$f":"Triggers!F143","v":"BP_TRN_P_ILI_FEM"},null,null,{"$f":"IF(ISNUMBER(MATCH(D143,$J$1,0)),LOOKUP(30000,F$1:F142)+1,\"\")","v":""}]
[null,{"$f":"Triggers!A144","v":"BP78"},{"$f":"Triggers!F144","v":"BP_UTR_EX_CAL_UR"},null,null,{"$f":"IF(ISNUMBER(MATCH(D144,$J$1,0)),LOOKUP(30000,F$1:F143)+1,\"\")","v":""}]
[null,{"$f":"Triggers!A145","v":"BP79"},{"$f":"Triggers!F145","v":"BP_LAR_OOP_SPTMY"},null,null,{"$f":"IF(ISNUMBER(MATCH(D145,$J$1,0)),LOOKUP(30000,F$1:F144)+1,\"\")","v":""}]
[null,{"$f":"Triggers!A146","v":"BP80"},{"$f":"Triggers!F146","v":"BP_ABN_LIVER_FN"},null,null,{"$f":"IF(ISNUMBER(MATCH(D146,$J$1,0)),LOOKUP(30000,F$1:F145)+1,\"\")","v":""}]
[null,{"$f":"Triggers!A147","v":"BP81"},{"$f":"Triggers!F147","v":"BP_ACUTE_P_JNT"},null,null,{"$f":"IF(ISNUMBER(MATCH(D147,$J$1,0)),LOOKUP(30000,F$1:F146)+1,\"\")","v":""}]
[null,{"$f":"Triggers!A148","v":"BP82"},{"$f":"Triggers!F148","v":"BP_CHRONIC_CATH"},null,null,{"$f":"IF(ISNUMBER(MATCH(D148,$J$1,0)),LOOKUP(30000,F$1:F147)+1,\"\")","v":""}]
[null,{"$f":"Triggers!A149","v":"BP82"},{"$f":"Triggers!F149","v":"BP_CHRONIC_CATH"},null,null,{"$f":"IF(ISNUMBER(MATCH(D149,$J$1,0)),LOOKUP(30000,F$1:F148)+1,\"\")","v":""}]
[null,{"$f":"Triggers!A150","v":"BP82"},{"$f":"Triggers!F150","v":"BP_CHRONIC_CATH"},null,null,{"$f":"IF(ISNUMBER(MATCH(D150,$J$1,0)),LOOKUP(30000,F$1:F149)+1,\"\")","v":""}]
[null,{"$f":"Triggers!A151","v":"BP83"},{"$f":"Triggers!F151","v":"BP_GASTRO"},null,null,{"$f":"IF(ISNUMBER(MATCH(D151,$J$1,0)),LOOKUP(30000,F$1:F150)+1,\"\")","v":""}]
[null,{"$f":"Triggers!A152","v":"BP83"},{"$f":"Triggers!F152","v":"BP_GASTRO"},null,null,{"$f":"IF(ISNUMBER(MATCH(D152,$J$1,0)),LOOKUP(30000,F$1:F151)+1,\"\")","v":""}]
[null,{"$f":"Triggers!A153","v":"BP84"},{"$f":"Triggers!F153","v":"BP_U_GAST_HAEMO"},null,null,{"$f":"IF(ISNUMBER(MATCH(D153,$J$1,0)),LOOKUP(30000,F$1:F152)+1,\"\")","v":""}]
[null,{"$f":"Triggers!A154","v":"BP84"},{"$f":"Triggers!F154","v":"BP_U_GAST_HAEMO"},null,null,{"$f":"IF(ISNUMBER(MATCH(D154,$J$1,0)),LOOKUP(30000,F$1:F153)+1,\"\")","v":""}]
[null,{"$f":"Triggers!A155","v":"BP85"},{"$f":"Triggers!F155","v":"BP_URI_TRA_INFEC"},null,null,{"$f":"IF(ISNUMBER(MATCH(D155,$J$1,0)),LOOKUP(30000,F$1:F154)+1,\"\")","v":""}]
[null,{"$f":"Triggers!A156","v":"BP85"},{"$f":"Triggers!F156","v":"BP_URI_TRA_INFEC"},null,null,{"$f":"IF(ISNUMBER(MATCH(D156,$J$1,0)),LOOKUP(30000,F$1:F155)+1,\"\")","v":""}]
[null,{"$f":"Triggers!A157","v":"BP85"},{"$f":"Triggers!F157","v":"BP_URI_TRA_INFEC"},null,null,{"$f":"IF(ISNUMBER(MATCH(D157,$J$1,0)),LOOKUP(30000,F$1:F156)+1,\"\")","v":""}]
[null,{"$f":"Triggers!A158","v":"BP86"},{"$f":"Triggers!F158","v":"BP_TIA"},null,null,{"$f":"IF(ISNUMBER(MATCH(D158,$J$1,0)),LOOKUP(30000,F$1:F157)+1,\"\")","v":""}]
[null,{"$f":"Triggers!A159","v":0},{"$f":"Triggers!F159","v":0},null,null,{"$f":"IF(ISNUMBER(MATCH(D159,$J$1,0)),LOOKUP(30000,F$1:F158)+1,\"\")","v":""}]
[null,{"$f":"Triggers!A160","v":0},{"$f":"Triggers!F160","v":0},null,null,{"$f":"IF(ISNUMBER(MATCH(D160,$J$1,0)),LOOKUP(30000,F$1:F159)+1,\"\")","v":""}]
[null,{"$f":"Triggers!A161","v":0},{"$f":"Triggers!F161","v":0},null,null,{"$f":"IF(ISNUMBER(MATCH(D161,$J$1,0)),LOOKUP(30000,F$1:F160)+1,\"\")","v":""}]
[null,{"$f":"Triggers!A162","v":0},{"$f":"Triggers!F162","v":0},null,null,{"$f":"IF(ISNUMBER(MATCH(D162,$J$1,0)),LOOKUP(30000,F$1:F161)+1,\"\")","v":""}]
[null,{"$f":"Triggers!A163","v":0},{"$f":"Triggers!F163","v":0},null,null,{"$f":"IF(ISNUMBER(MATCH(D163,$J$1,0)),LOOKUP(30000,F$1:F162)+1,\"\")","v":""}]
[null,{"$f":"Triggers!A164","v":0},{"$f":"Triggers!F164","v":0},null,null,{"$f":"IF(ISNUMBER(MATCH(D164,$J$1,0)),LOOKUP(30000,F$1:F163)+1,\"\")","v":""}]
[null,null,null,null,null,{"$f":"IF(ISNUMBER(MATCH(D165,$J$1,0)),LOOKUP(30000,F$1:F164)+1,\"\")","v":""}]

{"sheet":"Codes(W)","index":10,"n_rows":565,"n_cols":8,"rows_kept":565,"cut":false,"hidden":true,"merged":[]}
[null,0,"List_ID","HRG_Sub_Chapter","Code_Type","Code","Code_Description","Code_Value_in_List"]
[null,{"$f":"OR(C2='BP Flag Rules'!Y$18,C2='BP Flag Rules'!Y$19,C2='BP Flag Rules'!Y$20,C2='BP Flag Rules'!Y$21,C2='BP Flag Rules'!Y$22,C2='BP Flag Rules'!Y$23,C2='BP Flag Rules'!Y$24,C2='BP Flag Rules'!Y$25,C2='BP Flag Rules'!Y$26,C2='BP Flag Rules'!Y$27)+B1","v":0},"Age_19plus","C","Age",100]
[null,{"$f":"OR(C3='BP Flag Rules'!Y$18,C3='BP Flag Rules'!Y$19,C3='BP Flag Rules'!Y$20,C3='BP Flag Rules'!Y$21,C3='BP Flag Rules'!Y$22,C3='BP Flag Rules'!Y$23,C3='BP Flag Rules'!Y$24,C3='BP Flag Rules'!Y$25,C3='BP Flag Rules'!Y$26,C3='BP Flag Rules'!Y$27)+B2","v":0},"Age_19plus","C","Age",101]
[null,{"$f":"OR(C4='BP Flag Rules'!Y$18,C4='BP Flag Rules'!Y$19,C4='BP Flag Rules'!Y$20,C4='BP Flag Rules'!Y$21,C4='BP Flag Rules'!Y$22,C4='BP Flag Rules'!Y$23,C4='BP Flag Rules'!Y$24,C4='BP Flag Rules'!Y$25,C4='BP Flag Rules'!Y$26,C4='BP Flag Rules'!Y$27)+B3","v":0},"Age_19plus","C","Age",102]
[null,{"$f":"OR(C5='BP Flag Rules'!Y$18,C5='BP Flag Rules'!Y$19,C5='BP Flag Rules'!Y$20,C5='BP Flag Rules'!Y$21,C5='BP Flag Rules'!Y$22,C5='BP Flag Rules'!Y$23,C5='BP Flag Rules'!Y$24,C5='BP Flag Rules'!Y$25,C5='BP Flag Rules'!Y$26,C5='BP Flag Rules'!Y$27)+B4","v":0},"Age_19plus","C","Age",103]
[null,{"$f":"OR(C6='BP Flag Rules'!Y$18,C6='BP Flag Rules'!Y$19,C6='BP Flag Rules'!Y$20,C6='BP Flag Rules'!Y$21,C6='BP Flag Rules'!Y$22,C6='BP Flag Rules'!Y$23,C6='BP Flag Rules'!Y$24,C6='BP Flag Rules'!Y$25,C6='BP Flag Rules'!Y$26,C6='BP Flag Rules'!Y$27)+B5","v":0},"Age_19plus","C","Age",104]
[null,{"$f":"OR(C7='BP Flag Rules'!Y$18,C7='BP Flag Rules'!Y$19,C7='BP Flag Rules'!Y$20,C7='BP Flag Rules'!Y$21,C7='BP Flag Rules'!Y$22,C7='BP Flag Rules'!Y$23,C7='BP Flag Rules'!Y$24,C7='BP Flag Rules'!Y$25,C7='BP Flag Rules'!Y$26,C7='BP Flag Rules'!Y$27)+B6","v":0},"Age_19plus","C","Age",105]
[null,{"$f":"OR(C8='BP Flag Rules'!Y$18,C8='BP Flag Rules'!Y$19,C8='BP Flag Rules'!Y$20,C8='BP Flag Rules'!Y$21,C8='BP Flag Rules'!Y$22,C8='BP Flag Rules'!Y$23,C8='BP Flag Rules'!Y$24,C8='BP Flag Rules'!Y$25,C8='BP Flag Rules'!Y$26,C8='BP Flag Rules'!Y$27)+B7","v":0},"Age_19plus","C","Age",106]
[null,{"$f":"OR(C9='BP Flag Rules'!Y$18,C9='BP Flag Rules'!Y$19,C9='BP Flag Rules'!Y$20,C9='BP Flag Rules'!Y$21,C9='BP Flag Rules'!Y$22,C9='BP Flag Rules'!Y$23,C9='BP Flag Rules'!Y$24,C9='BP Flag Rules'!Y$25,C9='BP Flag Rules'!Y$26,C9='BP Flag Rules'!Y$27)+B8","v":0},"Age_19plus","C","Age",107]
[null,{"$f":"OR(C10='BP Flag Rules'!Y$18,C10='BP Flag Rules'!Y$19,C10='BP Flag Rules'!Y$20,C10='BP Flag Rules'!Y$21,C10='BP Flag Rules'!Y$22,C10='BP Flag Rules'!Y$23,C10='BP Flag Rules'!Y$24,C10='BP Flag Rules'!Y$25,C10='BP Flag Rules'!Y$26,C10='BP Flag Rules'!Y$27)+B9","v":0},"Age_19plus","C","Age",108]
[null,{"$f":"OR(C11='BP Flag Rules'!Y$18,C11='BP Flag Rules'!Y$19,C11='BP Flag Rules'!Y$20,C11='BP Flag Rules'!Y$21,C11='BP Flag Rules'!Y$22,C11='BP Flag Rules'!Y$23,C11='BP Flag Rules'!Y$24,C11='BP Flag Rules'!Y$25,C11='BP Flag Rules'!Y$26,C11='BP Flag Rules'!Y$27)+B10","v":0},"Age_19plus","C","Age",109]
[null,{"$f":"OR(C12='BP Flag Rules'!Y$18,C12='BP Flag Rules'!Y$19,C12='BP Flag Rules'!Y$20,C12='BP Flag Rules'!Y$21,C12='BP Flag Rules'!Y$22,C12='BP Flag Rules'!Y$23,C12='BP Flag Rules'!Y$24,C12='BP Flag Rules'!Y$25,C12='BP Flag Rules'!Y$26,C12='BP Flag Rules'!Y$27)+B11","v":0},"Age_19plus","C","Age",110]
[null,{"$f":"OR(C13='BP Flag Rules'!Y$18,C13='BP Flag Rules'!Y$19,C13='BP Flag Rules'!Y$20,C13='BP Flag Rules'!Y$21,C13='BP Flag Rules'!Y$22,C13='BP Flag Rules'!Y$23,C13='BP Flag Rules'!Y$24,C13='BP Flag Rules'!Y$25,C13='BP Flag Rules'!Y$26,C13='BP Flag Rules'!Y$27)+B12","v":0},"Age_19plus","C","Age",111]
[null,{"$f":"OR(C14='BP Flag Rules'!Y$18,C14='BP Flag Rules'!Y$19,C14='BP Flag Rules'!Y$20,C14='BP Flag Rules'!Y$21,C14='BP Flag Rules'!Y$22,C14='BP Flag Rules'!Y$23,C14='BP Flag Rules'!Y$24,C14='BP Flag Rules'!Y$25,C14='BP Flag Rules'!Y$26,C14='BP Flag Rules'!Y$27)+B13","v":0},"Age_19plus","C","Age",112]
[null,{"$f":"OR(C15='BP Flag Rules'!Y$18,C15='BP Flag Rules'!Y$19,C15='BP Flag Rules'!Y$20,C15='BP Flag Rules'!Y$21,C15='BP Flag Rules'!Y$22,C15='BP Flag Rules'!Y$23,C15='BP Flag Rules'!Y$24,C15='BP Flag Rules'!Y$25,C15='BP Flag Rules'!Y$26,C15='BP Flag Rules'!Y$27)+B14","v":0},"Age_19plus","C","Age",113]
[null,{"$f":"OR(C16='BP Flag Rules'!Y$18,C16='BP Flag Rules'!Y$19,C16='BP Flag Rules'!Y$20,C16='BP Flag Rules'!Y$21,C16='BP Flag Rules'!Y$22,C16='BP Flag Rules'!Y$23,C16='BP Flag Rules'!Y$24,C16='BP Flag Rules'!Y$25,C16='BP Flag Rules'!Y$26,C16='BP Flag Rules'!Y$27)+B15","v":0},"Age_19plus","C","Age",114]
[null,{"$f":"OR(C17='BP Flag Rules'!Y$18,C17='BP Flag Rules'!Y$19,C17='BP Flag Rules'!Y$20,C17='BP Flag Rules'!Y$21,C17='BP Flag Rules'!Y$22,C17='BP Flag Rules'!Y$23,C17='BP Flag Rules'!Y$24,C17='BP Flag Rules'!Y$25,C17='BP Flag Rules'!Y$26,C17='BP Flag Rules'!Y$27)+B16","v":0},"Age_19plus","C","Age",115]
[null,{"$f":"OR(C18='BP Flag Rules'!Y$18,C18='BP Flag Rules'!Y$19,C18='BP Flag Rules'!Y$20,C18='BP Flag Rules'!Y$21,C18='BP Flag Rules'!Y$22,C18='BP Flag Rules'!Y$23,C18='BP Flag Rules'!Y$24,C18='BP Flag Rules'!Y$25,C18='BP Flag Rules'!Y$26,C18='BP Flag Rules'!Y$27)+B17","v":0},"Age_19plus","C","Age",116]
[null,{"$f":"OR(C19='BP Flag Rules'!Y$18,C19='BP Flag Rules'!Y$19,C19='BP Flag Rules'!Y$20,C19='BP Flag Rules'!Y$21,C19='BP Flag Rules'!Y$22,C19='BP Flag Rules'!Y$23,C19='BP Flag Rules'!Y$24,C19='BP Flag Rules'!Y$25,C19='BP Flag Rules'!Y$26,C19='BP Flag Rules'!Y$27)+B18","v":0},"Age_19plus","C","Age",117]
[null,{"$f":"OR(C20='BP Flag Rules'!Y$18,C20='BP Flag Rules'!Y$19,C20='BP Flag Rules'!Y$20,C20='BP Flag Rules'!Y$21,C20='BP Flag Rules'!Y$22,C20='BP Flag Rules'!Y$23,C20='BP Flag Rules'!Y$24,C20='BP Flag Rules'!Y$25,C20='BP Flag Rules'!Y$26,C20='BP Flag Rules'!Y$27)+B19","v":0},"Age_19plus","C","Age",118]
[null,{"$f":"OR(C21='BP Flag Rules'!Y$18,C21='BP Flag Rules'!Y$19,C21='BP Flag Rules'!Y$20,C21='BP Flag Rules'!Y$21,C21='BP Flag Rules'!Y$22,C21='BP Flag Rules'!Y$23,C21='BP Flag Rules'!Y$24,C21='BP Flag Rules'!Y$25,C21='BP Flag Rules'!Y$26,C21='BP Flag Rules'!Y$27)+B20","v":0},"Age_19plus","C","Age",119]
[null,{"$f":"OR(C22='BP Flag Rules'!Y$18,C22='BP Flag Rules'!Y$19,C22='BP Flag Rules'!Y$20,C22='BP Flag Rules'!Y$21,C22='BP Flag Rules'!Y$22,C22='BP Flag Rules'!Y$23,C22='BP Flag Rules'!Y$24,C22='BP Flag Rules'!Y$25,C22='BP Flag Rules'!Y$26,C22='BP Flag Rules'!Y$27)+B21","v":0},"Age_19plus","C","Age",120]
[null,{"$f":"OR(C23='BP Flag Rules'!Y$18,C23='BP Flag Rules'!Y$19,C23='BP Flag Rules'!Y$20,C23='BP Flag Rules'!Y$21,C23='BP Flag Rules'!Y$22,C23='BP Flag Rules'!Y$23,C23='BP Flag Rules'!Y$24,C23='BP Flag Rules'!Y$25,C23='BP Flag Rules'!Y$26,C23='BP Flag Rules'!Y$27)+B22","v":0},"Age_19plus","C","Age",121]
[null,{"$f":"OR(C24='BP Flag Rules'!Y$18,C24='BP Flag Rules'!Y$19,C24='BP Flag Rules'!Y$20,C24='BP Flag Rules'!Y$21,C24='BP Flag Rules'!Y$22,C24='BP Flag Rules'!Y$23,C24='BP Flag Rules'!Y$24,C24='BP Flag Rules'!Y$25,C24='BP Flag Rules'!Y$26,C24='BP Flag Rules'!Y$27)+B23","v":0},"Age_19plus","C","Age",122]
[null,{"$f":"OR(C25='BP Flag Rules'!Y$18,C25='BP Flag Rules'!Y$19,C25='BP Flag Rules'!Y$20,C25='BP Flag Rules'!Y$21,C25='BP Flag Rules'!Y$22,C25='BP Flag Rules'!Y$23,C25='BP Flag Rules'!Y$24,C25='BP Flag Rules'!Y$25,C25='BP Flag Rules'!Y$26,C25='BP Flag Rules'!Y$27)+B24","v":0},"Age_19plus","C","Age",123]
[null,{"$f":"OR(C26='BP Flag Rules'!Y$18,C26='BP Flag Rules'!Y$19,C26='BP Flag Rules'!Y$20,C26='BP Flag Rules'!Y$21,C26='BP Flag Rules'!Y$22,C26='BP Flag Rules'!Y$23,C26='BP Flag Rules'!Y$24,C26='BP Flag Rules'!Y$25,C26='BP Flag Rules'!Y$26,C26='BP Flag Rules'!Y$27)+B25","v":0},"Age_19plus","C","Age",124]
[null,{"$f":"OR(C27='BP Flag Rules'!Y$18,C27='BP Flag Rules'!Y$19,C27='BP Flag Rules'!Y$20,C27='BP Flag Rules'!Y$21,C27='BP Flag Rules'!Y$22,C27='BP Flag Rules'!Y$23,C27='BP Flag Rules'!Y$24,C27='BP Flag Rules'!Y$25,C27='BP Flag Rules'!Y$26,C27='BP Flag Rules'!Y$27)+B26","v":0},"Age_19plus","C","Age",125]
[null,{"$f":"OR(C28='BP Flag Rules'!Y$18,C28='BP Flag Rules'!Y$19,C28='BP Flag Rules'!Y$20,C28='BP Flag Rules'!Y$21,C28='BP Flag Rules'!Y$22,C28='BP Flag Rules'!Y$23,C28='BP Flag Rules'!Y$24,C28='BP Flag Rules'!Y$25,C28='BP Flag Rules'!Y$26,C28='BP Flag Rules'!Y$27)+B27","v":0},"Age_19plus","C","Age",126]
[null,{"$f":"OR(C29='BP Flag Rules'!Y$18,C29='BP Flag Rules'!Y$19,C29='BP Flag Rules'!Y$20,C29='BP Flag Rules'!Y$21,C29='BP Flag Rules'!Y$22,C29='BP Flag Rules'!Y$23,C29='BP Flag Rules'!Y$24,C29='BP Flag Rules'!Y$25,C29='BP Flag Rules'!Y$26,C29='BP Flag Rules'!Y$27)+B28","v":0},"Age_19plus","C","Age",127]
[null,{"$f":"OR(C30='BP Flag Rules'!Y$18,C30='BP Flag Rules'!Y$19,C30='BP Flag Rules'!Y$20,C30='BP Flag Rules'!Y$21,C30='BP Flag Rules'!Y$22,C30='BP Flag Rules'!Y$23,C30='BP Flag Rules'!Y$24,C30='BP Flag Rules'!Y$25,C30='BP Flag Rules'!Y$26,C30='BP Flag Rules'!Y$27)+B29","v":0},"Age_19plus","C","Age",128]
[null,{"$f":"OR(C31='BP Flag Rules'!Y$18,C31='BP Flag Rules'!Y$19,C31='BP Flag Rules'!Y$20,C31='BP Flag Rules'!Y$21,C31='BP Flag Rules'!Y$22,C31='BP Flag Rules'!Y$23,C31='BP Flag Rules'!Y$24,C31='BP Flag Rules'!Y$25,C31='BP Flag Rules'!Y$26,C31='BP Flag Rules'!Y$27)+B30","v":0},"Age_19plus","C","Age",129]
[null,{"$f":"OR(C32='BP Flag Rules'!Y$18,C32='BP Flag Rules'!Y$19,C32='BP Flag Rules'!Y$20,C32='BP Flag Rules'!Y$21,C32='BP Flag Rules'!Y$22,C32='BP Flag Rules'!Y$23,C32='BP Flag Rules'!Y$24,C32='BP Flag Rules'!Y$25,C32='BP Flag Rules'!Y$26,C32='BP Flag Rules'!Y$27)+B31","v":0},"Age_19plus","C","Age",130]
[null,{"$f":"OR(C33='BP Flag Rules'!Y$18,C33='BP Flag Rules'!Y$19,C33='BP Flag Rules'!Y$20,C33='BP Flag Rules'!Y$21,C33='BP Flag Rules'!Y$22,C33='BP Flag Rules'!Y$23,C33='BP Flag Rules'!Y$24,C33='BP Flag Rules'!Y$25,C33='BP Flag Rules'!Y$26,C33='BP Flag Rules'!Y$27)+B32","v":0},"Age_19plus","C","Age",19]
[null,{"$f":"OR(C34='BP Flag Rules'!Y$18,C34='BP Flag Rules'!Y$19,C34='BP Flag Rules'!Y$20,C34='BP Flag Rules'!Y$21,C34='BP Flag Rules'!Y$22,C34='BP Flag Rules'!Y$23,C34='BP Flag Rules'!Y$24,C34='BP Flag Rules'!Y$25,C34='BP Flag Rules'!Y$26,C34='BP Flag Rules'!Y$27)+B33","v":0},"Age_19plus","C","Age",20]
[null,{"$f":"OR(C35='BP Flag Rules'!Y$18,C35='BP Flag Rules'!Y$19,C35='BP Flag Rules'!Y$20,C35='BP Flag Rules'!Y$21,C35='BP Flag Rules'!Y$22,C35='BP Flag Rules'!Y$23,C35='BP Flag Rules'!Y$24,C35='BP Flag Rules'!Y$25,C35='BP Flag Rules'!Y$26,C35='BP Flag Rules'!Y$27)+B34","v":0},"Age_19plus","C","Age",21]
[null,{"$f":"OR(C36='BP Flag Rules'!Y$18,C36='BP Flag Rules'!Y$19,C36='BP Flag Rules'!Y$20,C36='BP Flag Rules'!Y$21,C36='BP Flag Rules'!Y$22,C36='BP Flag Rules'!Y$23,C36='BP Flag Rules'!Y$24,C36='BP Flag Rules'!Y$25,C36='BP Flag Rules'!Y$26,C36='BP Flag Rules'!Y$27)+B35","v":0},"Age_19plus","C","Age",22]
[null,{"$f":"OR(C37='BP Flag Rules'!Y$18,C37='BP Flag Rules'!Y$19,C37='BP Flag Rules'!Y$20,C37='BP Flag Rules'!Y$21,C37='BP Flag Rules'!Y$22,C37='BP Flag Rules'!Y$23,C37='BP Flag Rules'!Y$24,C37='BP Flag Rules'!Y$25,C37='BP Flag Rules'!Y$26,C37='BP Flag Rules'!Y$27)+B36","v":0},"Age_19plus","C","Age",23]
[null,{"$f":"OR(C38='BP Flag Rules'!Y$18,C38='BP Flag Rules'!Y$19,C38='BP Flag Rules'!Y$20,C38='BP Flag Rules'!Y$21,C38='BP Flag Rules'!Y$22,C38='BP Flag Rules'!Y$23,C38='BP Flag Rules'!Y$24,C38='BP Flag Rules'!Y$25,C38='BP Flag Rules'!Y$26,C38='BP Flag Rules'!Y$27)+B37","v":0},"Age_19plus","C","Age",24]
[null,{"$f":"OR(C39='BP Flag Rules'!Y$18,C39='BP Flag Rules'!Y$19,C39='BP Flag Rules'!Y$20,C39='BP Flag Rules'!Y$21,C39='BP Flag Rules'!Y$22,C39='BP Flag Rules'!Y$23,C39='BP Flag Rules'!Y$24,C39='BP Flag Rules'!Y$25,C39='BP Flag Rules'!Y$26,C39='BP Flag Rules'!Y$27)+B38","v":0},"Age_19plus","C","Age",25]
[null,{"$f":"OR(C40='BP Flag Rules'!Y$18,C40='BP Flag Rules'!Y$19,C40='BP Flag Rules'!Y$20,C40='BP Flag Rules'!Y$21,C40='BP Flag Rules'!Y$22,C40='BP Flag Rules'!Y$23,C40='BP Flag Rules'!Y$24,C40='BP Flag Rules'!Y$25,C40='BP Flag Rules'!Y$26,C40='BP Flag Rules'!Y$27)+B39","v":0},"Age_19plus","C","Age",26]
[null,{"$f":"OR(C41='BP Flag Rules'!Y$18,C41='BP Flag Rules'!Y$19,C41='BP Flag Rules'!Y$20,C41='BP Flag Rules'!Y$21,C41='BP Flag Rules'!Y$22,C41='BP Flag Rules'!Y$23,C41='BP Flag Rules'!Y$24,C41='BP Flag Rules'!Y$25,C41='BP Flag Rules'!Y$26,C41='BP Flag Rules'!Y$27)+B40","v":0},"Age_19plus","C","Age",27]
[null,{"$f":"OR(C42='BP Flag Rules'!Y$18,C42='BP Flag Rules'!Y$19,C42='BP Flag Rules'!Y$20,C42='BP Flag Rules'!Y$21,C42='BP Flag Rules'!Y$22,C42='BP Flag Rules'!Y$23,C42='BP Flag Rules'!Y$24,C42='BP Flag Rules'!Y$25,C42='BP Flag Rules'!Y$26,C42='BP Flag Rules'!Y$27)+B41","v":0},"Age_19plus","C","Age",28]
[null,{"$f":"OR(C43='BP Flag Rules'!Y$18,C43='BP Flag Rules'!Y$19,C43='BP Flag Rules'!Y$20,C43='BP Flag Rules'!Y$21,C43='BP Flag Rules'!Y$22,C43='BP Flag Rules'!Y$23,C43='BP Flag Rules'!Y$24,C43='BP Flag Rules'!Y$25,C43='BP Flag Rules'!Y$26,C43='BP Flag Rules'!Y$27)+B42","v":0},"Age_19plus","C","Age",29]
[null,{"$f":"OR(C44='BP Flag Rules'!Y$18,C44='BP Flag Rules'!Y$19,C44='BP Flag Rules'!Y$20,C44='BP Flag Rules'!Y$21,C44='BP Flag Rules'!Y$22,C44='BP Flag Rules'!Y$23,C44='BP Flag Rules'!Y$24,C44='BP Flag Rules'!Y$25,C44='BP Flag Rules'!Y$26,C44='BP Flag Rules'!Y$27)+B43","v":0},"Age_19plus","C","Age",30]
[null,{"$f":"OR(C45='BP Flag Rules'!Y$18,C45='BP Flag Rules'!Y$19,C45='BP Flag Rules'!Y$20,C45='BP Flag Rules'!Y$21,C45='BP Flag Rules'!Y$22,C45='BP Flag Rules'!Y$23,C45='BP Flag Rules'!Y$24,C45='BP Flag Rules'!Y$25,C45='BP Flag Rules'!Y$26,C45='BP Flag Rules'!Y$27)+B44","v":0},"Age_19plus","C","Age",31]
[null,{"$f":"OR(C46='BP Flag Rules'!Y$18,C46='BP Flag Rules'!Y$19,C46='BP Flag Rules'!Y$20,C46='BP Flag Rules'!Y$21,C46='BP Flag Rules'!Y$22,C46='BP Flag Rules'!Y$23,C46='BP Flag Rules'!Y$24,C46='BP Flag Rules'!Y$25,C46='BP Flag Rules'!Y$26,C46='BP Flag Rules'!Y$27)+B45","v":0},"Age_19plus","C","Age",32]
[null,{"$f":"OR(C47='BP Flag Rules'!Y$18,C47='BP Flag Rules'!Y$19,C47='BP Flag Rules'!Y$20,C47='BP Flag Rules'!Y$21,C47='BP Flag Rules'!Y$22,C47='BP Flag Rules'!Y$23,C47='BP Flag Rules'!Y$24,C47='BP Flag Rules'!Y$25,C47='BP Flag Rules'!Y$26,C47='BP Flag Rules'!Y$27)+B46","v":0},"Age_19plus","C","Age",33]
[null,{"$f":"OR(C48='BP Flag Rules'!Y$18,C48='BP Flag Rules'!Y$19,C48='BP Flag Rules'!Y$20,C48='BP Flag Rules'!Y$21,C48='BP Flag Rules'!Y$22,C48='BP Flag Rules'!Y$23,C48='BP Flag Rules'!Y$24,C48='BP Flag Rules'!Y$25,C48='BP Flag Rules'!Y$26,C48='BP Flag Rules'!Y$27)+B47","v":0},"Age_19plus","C","Age",34]
[null,{"$f":"OR(C49='BP Flag Rules'!Y$18,C49='BP Flag Rules'!Y$19,C49='BP Flag Rules'!Y$20,C49='BP Flag Rules'!Y$21,C49='BP Flag Rules'!Y$22,C49='BP Flag Rules'!Y$23,C49='BP Flag Rules'!Y$24,C49='BP Flag Rules'!Y$25,C49='BP Flag Rules'!Y$26,C49='BP Flag Rules'!Y$27)+B48","v":0},"Age_19plus","C","Age",35]
[null,{"$f":"OR(C50='BP Flag Rules'!Y$18,C50='BP Flag Rules'!Y$19,C50='BP Flag Rules'!Y$20,C50='BP Flag Rules'!Y$21,C50='BP Flag Rules'!Y$22,C50='BP Flag Rules'!Y$23,C50='BP Flag Rules'!Y$24,C50='BP Flag Rules'!Y$25,C50='BP Flag Rules'!Y$26,C50='BP Flag Rules'!Y$27)+B49","v":0},"Age_19plus","C","Age",36]
[null,{"$f":"OR(C51='BP Flag Rules'!Y$18,C51='BP Flag Rules'!Y$19,C51='BP Flag Rules'!Y$20,C51='BP Flag Rules'!Y$21,C51='BP Flag Rules'!Y$22,C51='BP Flag Rules'!Y$23,C51='BP Flag Rules'!Y$24,C51='BP Flag Rules'!Y$25,C51='BP Flag Rules'!Y$26,C51='BP Flag Rules'!Y$27)+B50","v":0},"Age_19plus","C","Age",37]
[null,{"$f":"OR(C52='BP Flag Rules'!Y$18,C52='BP Flag Rules'!Y$19,C52='BP Flag Rules'!Y$20,C52='BP Flag Rules'!Y$21,C52='BP Flag Rules'!Y$22,C52='BP Flag Rules'!Y$23,C52='BP Flag Rules'!Y$24,C52='BP Flag Rules'!Y$25,C52='BP Flag Rules'!Y$26,C52='BP Flag Rules'!Y$27)+B51","v":0},"Age_19plus","C","Age",38]
[null,{"$f":"OR(C53='BP Flag Rules'!Y$18,C53='BP Flag Rules'!Y$19,C53='BP Flag Rules'!Y$20,C53='BP Flag Rules'!Y$21,C53='BP Flag Rules'!Y$22,C53='BP Flag Rules'!Y$23,C53='BP Flag Rules'!Y$24,C53='BP Flag Rules'!Y$25,C53='BP Flag Rules'!Y$26,C53='BP Flag Rules'!Y$27)+B52","v":0},"Age_19plus","C","Age",39]
[null,{"$f":"OR(C54='BP Flag Rules'!Y$18,C54='BP Flag Rules'!Y$19,C54='BP Flag Rules'!Y$20,C54='BP Flag Rules'!Y$21,C54='BP Flag Rules'!Y$22,C54='BP Flag Rules'!Y$23,C54='BP Flag Rules'!Y$24,C54='BP Flag Rules'!Y$25,C54='BP Flag Rules'!Y$26,C54='BP Flag Rules'!Y$27)+B53","v":0},"Age_19plus","C","Age",40]
[null,{"$f":"OR(C55='BP Flag Rules'!Y$18,C55='BP Flag Rules'!Y$19,C55='BP Flag Rules'!Y$20,C55='BP Flag Rules'!Y$21,C55='BP Flag Rules'!Y$22,C55='BP Flag Rules'!Y$23,C55='BP Flag Rules'!Y$24,C55='BP Flag Rules'!Y$25,C55='BP Flag Rules'!Y$26,C55='BP Flag Rules'!Y$27)+B54","v":0},"Age_19plus","C","Age",41]
[null,{"$f":"OR(C56='BP Flag Rules'!Y$18,C56='BP Flag Rules'!Y$19,C56='BP Flag Rules'!Y$20,C56='BP Flag Rules'!Y$21,C56='BP Flag Rules'!Y$22,C56='BP Flag Rules'!Y$23,C56='BP Flag Rules'!Y$24,C56='BP Flag Rules'!Y$25,C56='BP Flag Rules'!Y$26,C56='BP Flag Rules'!Y$27)+B55","v":0},"Age_19plus","C","Age",42]
[null,{"$f":"OR(C57='BP Flag Rules'!Y$18,C57='BP Flag Rules'!Y$19,C57='BP Flag Rules'!Y$20,C57='BP Flag Rules'!Y$21,C57='BP Flag Rules'!Y$22,C57='BP Flag Rules'!Y$23,C57='BP Flag Rules'!Y$24,C57='BP Flag Rules'!Y$25,C57='BP Flag Rules'!Y$26,C57='BP Flag Rules'!Y$27)+B56","v":0},"Age_19plus","C","Age",43]
[null,{"$f":"OR(C58='BP Flag Rules'!Y$18,C58='BP Flag Rules'!Y$19,C58='BP Flag Rules'!Y$20,C58='BP Flag Rules'!Y$21,C58='BP Flag Rules'!Y$22,C58='BP Flag Rules'!Y$23,C58='BP Flag Rules'!Y$24,C58='BP Flag Rules'!Y$25,C58='BP Flag Rules'!Y$26,C58='BP Flag Rules'!Y$27)+B57","v":0},"Age_19plus","C","Age",44]
[null,{"$f":"OR(C59='BP Flag Rules'!Y$18,C59='BP Flag Rules'!Y$19,C59='BP Flag Rules'!Y$20,C59='BP Flag Rules'!Y$21,C59='BP Flag Rules'!Y$22,C59='BP Flag Rules'!Y$23,C59='BP Flag Rules'!Y$24,C59='BP Flag Rules'!Y$25,C59='BP Flag Rules'!Y$26,C59='BP Flag Rules'!Y$27)+B58","v":0},"Age_19plus","C","Age",45]
[null,{"$f":"OR(C60='BP Flag Rules'!Y$18,C60='BP Flag Rules'!Y$19,C60='BP Flag Rules'!Y$20,C60='BP Flag Rules'!Y$21,C60='BP Flag Rules'!Y$22,C60='BP Flag Rules'!Y$23,C60='BP Flag Rules'!Y$24,C60='BP Flag Rules'!Y$25,C60='BP Flag Rules'!Y$26,C60='BP Flag Rules'!Y$27)+B59","v":0},"Age_19plus","C","Age",46]
[null,{"$f":"OR(C61='BP Flag Rules'!Y$18,C61='BP Flag Rules'!Y$19,C61='BP Flag Rules'!Y$20,C61='BP Flag Rules'!Y$21,C61='BP Flag Rules'!Y$22,C61='BP Flag Rules'!Y$23,C61='BP Flag Rules'!Y$24,C61='BP Flag Rules'!Y$25,C61='BP Flag Rules'!Y$26,C61='BP Flag Rules'!Y$27)+B60","v":0},"Age_19plus","C","Age",47]
[null,{"$f":"OR(C62='BP Flag Rules'!Y$18,C62='BP Flag Rules'!Y$19,C62='BP Flag Rules'!Y$20,C62='BP Flag Rules'!Y$21,C62='BP Flag Rules'!Y$22,C62='BP Flag Rules'!Y$23,C62='BP Flag Rules'!Y$24,C62='BP Flag Rules'!Y$25,C62='BP Flag Rules'!Y$26,C62='BP Flag Rules'!Y$27)+B61","v":0},"Age_19plus","C","Age",48]
[null,{"$f":"OR(C63='BP Flag Rules'!Y$18,C63='BP Flag Rules'!Y$19,C63='BP Flag Rules'!Y$20,C63='BP Flag Rules'!Y$21,C63='BP Flag Rules'!Y$22,C63='BP Flag Rules'!Y$23,C63='BP Flag Rules'!Y$24,C63='BP Flag Rules'!Y$25,C63='BP Flag Rules'!Y$26,C63='BP Flag Rules'!Y$27)+B62","v":0},"Age_19plus","C","Age",49]
[null,{"$f":"OR(C64='BP Flag Rules'!Y$18,C64='BP Flag Rules'!Y$19,C64='BP Flag Rules'!Y$20,C64='BP Flag Rules'!Y$21,C64='BP Flag Rules'!Y$22,C64='BP Flag Rules'!Y$23,C64='BP Flag Rules'!Y$24,C64='BP Flag Rules'!Y$25,C64='BP Flag Rules'!Y$26,C64='BP Flag Rules'!Y$27)+B63","v":0},"Age_19plus","C","Age",50]
[null,{"$f":"OR(C65='BP Flag Rules'!Y$18,C65='BP Flag Rules'!Y$19,C65='BP Flag Rules'!Y$20,C65='BP Flag Rules'!Y$21,C65='BP Flag Rules'!Y$22,C65='BP Flag Rules'!Y$23,C65='BP Flag Rules'!Y$24,C65='BP Flag Rules'!Y$25,C65='BP Flag Rules'!Y$26,C65='BP Flag Rules'!Y$27)+B64","v":0},"Age_19plus","C","Age",51]
[null,{"$f":"OR(C66='BP Flag Rules'!Y$18,C66='BP Flag Rules'!Y$19,C66='BP Flag Rules'!Y$20,C66='BP Flag Rules'!Y$21,C66='BP Flag Rules'!Y$22,C66='BP Flag Rules'!Y$23,C66='BP Flag Rules'!Y$24,C66='BP Flag Rules'!Y$25,C66='BP Flag Rules'!Y$26,C66='BP Flag Rules'!Y$27)+B65","v":0},"Age_19plus","C","Age",52]
[null,{"$f":"OR(C67='BP Flag Rules'!Y$18,C67='BP Flag Rules'!Y$19,C67='BP Flag Rules'!Y$20,C67='BP Flag Rules'!Y$21,C67='BP Flag Rules'!Y$22,C67='BP Flag Rules'!Y$23,C67='BP Flag Rules'!Y$24,C67='BP Flag Rules'!Y$25,C67='BP Flag Rules'!Y$26,C67='BP Flag Rules'!Y$27)+B66","v":0},"Age_19plus","C","Age",53]
[null,{"$f":"OR(C68='BP Flag Rules'!Y$18,C68='BP Flag Rules'!Y$19,C68='BP Flag Rules'!Y$20,C68='BP Flag Rules'!Y$21,C68='BP Flag Rules'!Y$22,C68='BP Flag Rules'!Y$23,C68='BP Flag Rules'!Y$24,C68='BP Flag Rules'!Y$25,C68='BP Flag Rules'!Y$26,C68='BP Flag Rules'!Y$27)+B67","v":0},"Age_19plus","C","Age",54]
[null,{"$f":"OR(C69='BP Flag Rules'!Y$18,C69='BP Flag Rules'!Y$19,C69='BP Flag Rules'!Y$20,C69='BP Flag Rules'!Y$21,C69='BP Flag Rules'!Y$22,C69='BP Flag Rules'!Y$23,C69='BP Flag Rules'!Y$24,C69='BP Flag Rules'!Y$25,C69='BP Flag Rules'!Y$26,C69='BP Flag Rules'!Y$27)+B68","v":0},"Age_19plus","C","Age",55]
[null,{"$f":"OR(C70='BP Flag Rules'!Y$18,C70='BP Flag Rules'!Y$19,C70='BP Flag Rules'!Y$20,C70='BP Flag Rules'!Y$21,C70='BP Flag Rules'!Y$22,C70='BP Flag Rules'!Y$23,C70='BP Flag Rules'!Y$24,C70='BP Flag Rules'!Y$25,C70='BP Flag Rules'!Y$26,C70='BP Flag Rules'!Y$27)+B69","v":0},"Age_19plus","C","Age",56]
[null,{"$f":"OR(C71='BP Flag Rules'!Y$18,C71='BP Flag Rules'!Y$19,C71='BP Flag Rules'!Y$20,C71='BP Flag Rules'!Y$21,C71='BP Flag Rules'!Y$22,C71='BP Flag Rules'!Y$23,C71='BP Flag Rules'!Y$24,C71='BP Flag Rules'!Y$25,C71='BP Flag Rules'!Y$26,C71='BP Flag Rules'!Y$27)+B70","v":0},"Age_19plus","C","Age",57]
[null,{"$f":"OR(C72='BP Flag Rules'!Y$18,C72='BP Flag Rules'!Y$19,C72='BP Flag Rules'!Y$20,C72='BP Flag Rules'!Y$21,C72='BP Flag Rules'!Y$22,C72='BP Flag Rules'!Y$23,C72='BP Flag Rules'!Y$24,C72='BP Flag Rules'!Y$25,C72='BP Flag Rules'!Y$26,C72='BP Flag Rules'!Y$27)+B71","v":0},"Age_19plus","C","Age",58]
[null,{"$f":"OR(C73='BP Flag Rules'!Y$18,C73='BP Flag Rules'!Y$19,C73='BP Flag Rules'!Y$20,C73='BP Flag Rules'!Y$21,C73='BP Flag Rules'!Y$22,C73='BP Flag Rules'!Y$23,C73='BP Flag Rules'!Y$24,C73='BP Flag Rules'!Y$25,C73='BP Flag Rules'!Y$26,C73='BP Flag Rules'!Y$27)+B72","v":0},"Age_19plus","C","Age",59]
[null,{"$f":"OR(C74='BP Flag Rules'!Y$18,C74='BP Flag Rules'!Y$19,C74='BP Flag Rules'!Y$20,C74='BP Flag Rules'!Y$21,C74='BP Flag Rules'!Y$22,C74='BP Flag Rules'!Y$23,C74='BP Flag Rules'!Y$24,C74='BP Flag Rules'!Y$25,C74='BP Flag Rules'!Y$26,C74='BP Flag Rules'!Y$27)+B73","v":0},"Age_19plus","C","Age",60]
[null,{"$f":"OR(C75='BP Flag Rules'!Y$18,C75='BP Flag Rules'!Y$19,C75='BP Flag Rules'!Y$20,C75='BP Flag Rules'!Y$21,C75='BP Flag Rules'!Y$22,C75='BP Flag Rules'!Y$23,C75='BP Flag Rules'!Y$24,C75='BP Flag Rules'!Y$25,C75='BP Flag Rules'!Y$26,C75='BP Flag Rules'!Y$27)+B74","v":0},"Age_19plus","C","Age",61]
[null,{"$f":"OR(C76='BP Flag Rules'!Y$18,C76='BP Flag Rules'!Y$19,C76='BP Flag Rules'!Y$20,C76='BP Flag Rules'!Y$21,C76='BP Flag Rules'!Y$22,C76='BP Flag Rules'!Y$23,C76='BP Flag Rules'!Y$24,C76='BP Flag Rules'!Y$25,C76='BP Flag Rules'!Y$26,C76='BP Flag Rules'!Y$27)+B75","v":0},"Age_19plus","C","Age",62]
[null,{"$f":"OR(C77='BP Flag Rules'!Y$18,C77='BP Flag Rules'!Y$19,C77='BP Flag Rules'!Y$20,C77='BP Flag Rules'!Y$21,C77='BP Flag Rules'!Y$22,C77='BP Flag Rules'!Y$23,C77='BP Flag Rules'!Y$24,C77='BP Flag Rules'!Y$25,C77='BP Flag Rules'!Y$26,C77='BP Flag Rules'!Y$27)+B76","v":0},"Age_19plus","C","Age",63]
[null,{"$f":"OR(C78='BP Flag Rules'!Y$18,C78='BP Flag Rules'!Y$19,C78='BP Flag Rules'!Y$20,C78='BP Flag Rules'!Y$21,C78='BP Flag Rules'!Y$22,C78='BP Flag Rules'!Y$23,C78='BP Flag Rules'!Y$24,C78='BP Flag Rules'!Y$25,C78='BP Flag Rules'!Y$26,C78='BP Flag Rules'!Y$27)+B77","v":0},"Age_19plus","C","Age",64]
[null,{"$f":"OR(C79='BP Flag Rules'!Y$18,C79='BP Flag Rules'!Y$19,C79='BP Flag Rules'!Y$20,C79='BP Flag Rules'!Y$21,C79='BP Flag Rules'!Y$22,C79='BP Flag Rules'!Y$23,C79='BP Flag Rules'!Y$24,C79='BP Flag Rules'!Y$25,C79='BP Flag Rules'!Y$26,C79='BP Flag Rules'!Y$27)+B78","v":0},"Age_19plus","C","Age",65]
[null,{"$f":"OR(C80='BP Flag Rules'!Y$18,C80='BP Flag Rules'!Y$19,C80='BP Flag Rules'!Y$20,C80='BP Flag Rules'!Y$21,C80='BP Flag Rules'!Y$22,C80='BP Flag Rules'!Y$23,C80='BP Flag Rules'!Y$24,C80='BP Flag Rules'!Y$25,C80='BP Flag Rules'!Y$26,C80='BP Flag Rules'!Y$27)+B79","v":0},"Age_19plus","C","Age",66]
[null,{"$f":"OR(C81='BP Flag Rules'!Y$18,C81='BP Flag Rules'!Y$19,C81='BP Flag Rules'!Y$20,C81='BP Flag Rules'!Y$21,C81='BP Flag Rules'!Y$22,C81='BP Flag Rules'!Y$23,C81='BP Flag Rules'!Y$24,C81='BP Flag Rules'!Y$25,C81='BP Flag Rules'!Y$26,C81='BP Flag Rules'!Y$27)+B80","v":0},"Age_19plus","C","Age",67]
[null,{"$f":"OR(C82='BP Flag Rules'!Y$18,C82='BP Flag Rules'!Y$19,C82='BP Flag Rules'!Y$20,C82='BP Flag Rules'!Y$21,C82='BP Flag Rules'!Y$22,C82='BP Flag Rules'!Y$23,C82='BP Flag Rules'!Y$24,C82='BP Flag Rules'!Y$25,C82='BP Flag Rules'!Y$26,C82='BP Flag Rules'!Y$27)+B81","v":0},"Age_19plus","C","Age",68]
[null,{"$f":"OR(C83='BP Flag Rules'!Y$18,C83='BP Flag Rules'!Y$19,C83='BP Flag Rules'!Y$20,C83='BP Flag Rules'!Y$21,C83='BP Flag Rules'!Y$22,C83='BP Flag Rules'!Y$23,C83='BP Flag Rules'!Y$24,C83='BP Flag Rules'!Y$25,C83='BP Flag Rules'!Y$26,C83='BP Flag Rules'!Y$27)+B82","v":0},"Age_19plus","C","Age",69]
[null,{"$f":"OR(C84='BP Flag Rules'!Y$18,C84='BP Flag Rules'!Y$19,C84='BP Flag Rules'!Y$20,C84='BP Flag Rules'!Y$21,C84='BP Flag Rules'!Y$22,C84='BP Flag Rules'!Y$23,C84='BP Flag Rules'!Y$24,C84='BP Flag Rules'!Y$25,C84='BP Flag Rules'!Y$26,C84='BP Flag Rules'!Y$27)+B83","v":0},"Age_19plus","C","Age",70]
[null,{"$f":"OR(C85='BP Flag Rules'!Y$18,C85='BP Flag Rules'!Y$19,C85='BP Flag Rules'!Y$20,C85='BP Flag Rules'!Y$21,C85='BP Flag Rules'!Y$22,C85='BP Flag Rules'!Y$23,C85='BP Flag Rules'!Y$24,C85='BP Flag Rules'!Y$25,C85='BP Flag Rules'!Y$26,C85='BP Flag Rules'!Y$27)+B84","v":0},"Age_19plus","C","Age",71]
[null,{"$f":"OR(C86='BP Flag Rules'!Y$18,C86='BP Flag Rules'!Y$19,C86='BP Flag Rules'!Y$20,C86='BP Flag Rules'!Y$21,C86='BP Flag Rules'!Y$22,C86='BP Flag Rules'!Y$23,C86='BP Flag Rules'!Y$24,C86='BP Flag Rules'!Y$25,C86='BP Flag Rules'!Y$26,C86='BP Flag Rules'!Y$27)+B85","v":0},"Age_19plus","C","Age",72]
[null,{"$f":"OR(C87='BP Flag Rules'!Y$18,C87='BP Flag Rules'!Y$19,C87='BP Flag Rules'!Y$20,C87='BP Flag Rules'!Y$21,C87='BP Flag Rules'!Y$22,C87='BP Flag Rules'!Y$23,C87='BP Flag Rules'!Y$24,C87='BP Flag Rules'!Y$25,C87='BP Flag Rules'!Y$26,C87='BP Flag Rules'!Y$27)+B86","v":0},"Age_19plus","C","Age",73]
[null,{"$f":"OR(C88='BP Flag Rules'!Y$18,C88='BP Flag Rules'!Y$19,C88='BP Flag Rules'!Y$20,C88='BP Flag Rules'!Y$21,C88='BP Flag Rules'!Y$22,C88='BP Flag Rules'!Y$23,C88='BP Flag Rules'!Y$24,C88='BP Flag Rules'!Y$25,C88='BP Flag Rules'!Y$26,C88='BP Flag Rules'!Y$27)+B87","v":0},"Age_19plus","C","Age",74]
[null,{"$f":"OR(C89='BP Flag Rules'!Y$18,C89='BP Flag Rules'!Y$19,C89='BP Flag Rules'!Y$20,C89='BP Flag Rules'!Y$21,C89='BP Flag Rules'!Y$22,C89='BP Flag Rules'!Y$23,C89='BP Flag Rules'!Y$24,C89='BP Flag Rules'!Y$25,C89='BP Flag Rules'!Y$26,C89='BP Flag Rules'!Y$27)+B88","v":0},"Age_19plus","C","Age",75]
[null,{"$f":"OR(C90='BP Flag Rules'!Y$18,C90='BP Flag Rules'!Y$19,C90='BP Flag Rules'!Y$20,C90='BP Flag Rules'!Y$21,C90='BP Flag Rules'!Y$22,C90='BP Flag Rules'!Y$23,C90='BP Flag Rules'!Y$24,C90='BP Flag Rules'!Y$25,C90='BP Flag Rules'!Y$26,C90='BP Flag Rules'!Y$27)+B89","v":0},"Age_19plus","C","Age",76]
[null,{"$f":"OR(C91='BP Flag Rules'!Y$18,C91='BP Flag Rules'!Y$19,C91='BP Flag Rules'!Y$20,C91='BP Flag Rules'!Y$21,C91='BP Flag Rules'!Y$22,C91='BP Flag Rules'!Y$23,C91='BP Flag Rules'!Y$24,C91='BP Flag Rules'!Y$25,C91='BP Flag Rules'!Y$26,C91='BP Flag Rules'!Y$27)+B90","v":0},"Age_19plus","C","Age",77]
[null,{"$f":"OR(C92='BP Flag Rules'!Y$18,C92='BP Flag Rules'!Y$19,C92='BP Flag Rules'!Y$20,C92='BP Flag Rules'!Y$21,C92='BP Flag Rules'!Y$22,C92='BP Flag Rules'!Y$23,C92='BP Flag Rules'!Y$24,C92='BP Flag Rules'!Y$25,C92='BP Flag Rules'!Y$26,C92='BP Flag Rules'!Y$27)+B91","v":0},"Age_19plus","C","Age",78]
[null,{"$f":"OR(C93='BP Flag Rules'!Y$18,C93='BP Flag Rules'!Y$19,C93='BP Flag Rules'!Y$20,C93='BP Flag Rules'!Y$21,C93='BP Flag Rules'!Y$22,C93='BP Flag Rules'!Y$23,C93='BP Flag Rules'!Y$24,C93='BP Flag Rules'!Y$25,C93='BP Flag Rules'!Y$26,C93='BP Flag Rules'!Y$27)+B92","v":0},"Age_19plus","C","Age",79]
[null,{"$f":"OR(C94='BP Flag Rules'!Y$18,C94='BP Flag Rules'!Y$19,C94='BP Flag Rules'!Y$20,C94='BP Flag Rules'!Y$21,C94='BP Flag Rules'!Y$22,C94='BP Flag Rules'!Y$23,C94='BP Flag Rules'!Y$24,C94='BP Flag Rules'!Y$25,C94='BP Flag Rules'!Y$26,C94='BP Flag Rules'!Y$27)+B93","v":0},"Age_19plus","C","Age",80]
[null,{"$f":"OR(C95='BP Flag Rules'!Y$18,C95='BP Flag Rules'!Y$19,C95='BP Flag Rules'!Y$20,C95='BP Flag Rules'!Y$21,C95='BP Flag Rules'!Y$22,C95='BP Flag Rules'!Y$23,C95='BP Flag Rules'!Y$24,C95='BP Flag Rules'!Y$25,C95='BP Flag Rules'!Y$26,C95='BP Flag Rules'!Y$27)+B94","v":0},"Age_19plus","C","Age",81]
[null,{"$f":"OR(C96='BP Flag Rules'!Y$18,C96='BP Flag Rules'!Y$19,C96='BP Flag Rules'!Y$20,C96='BP Flag Rules'!Y$21,C96='BP Flag Rules'!Y$22,C96='BP Flag Rules'!Y$23,C96='BP Flag Rules'!Y$24,C96='BP Flag Rules'!Y$25,C96='BP Flag Rules'!Y$26,C96='BP Flag Rules'!Y$27)+B95","v":0},"Age_19plus","C","Age",82]
[null,{"$f":"OR(C97='BP Flag Rules'!Y$18,C97='BP Flag Rules'!Y$19,C97='BP Flag Rules'!Y$20,C97='BP Flag Rules'!Y$21,C97='BP Flag Rules'!Y$22,C97='BP Flag Rules'!Y$23,C97='BP Flag Rules'!Y$24,C97='BP Flag Rules'!Y$25,C97='BP Flag Rules'!Y$26,C97='BP Flag Rules'!Y$27)+B96","v":0},"Age_19plus","C","Age",83]
[null,{"$f":"OR(C98='BP Flag Rules'!Y$18,C98='BP Flag Rules'!Y$19,C98='BP Flag Rules'!Y$20,C98='BP Flag Rules'!Y$21,C98='BP Flag Rules'!Y$22,C98='BP Flag Rules'!Y$23,C98='BP Flag Rules'!Y$24,C98='BP Flag Rules'!Y$25,C98='BP Flag Rules'!Y$26,C98='BP Flag Rules'!Y$27)+B97","v":0},"Age_19plus","C","Age",84]
[null,{"$f":"OR(C99='BP Flag Rules'!Y$18,C99='BP Flag Rules'!Y$19,C99='BP Flag Rules'!Y$20,C99='BP Flag Rules'!Y$21,C99='BP Flag Rules'!Y$22,C99='BP Flag Rules'!Y$23,C99='BP Flag Rules'!Y$24,C99='BP Flag Rules'!Y$25,C99='BP Flag Rules'!Y$26,C99='BP Flag Rules'!Y$27)+B98","v":0},"Age_19plus","C","Age",85]
[null,{"$f":"OR(C100='BP Flag Rules'!Y$18,C100='BP Flag Rules'!Y$19,C100='BP Flag Rules'!Y$20,C100='BP Flag Rules'!Y$21,C100='BP Flag Rules'!Y$22,C100='BP Flag Rules'!Y$23,C100='BP Flag Rules'!Y$24,C100='BP Flag Rules'!Y$25,C100='BP Flag Rules'!Y$26,C100='BP Flag Rules'!Y$27)+B99","v":0},"Age_19plus","C","Age",86]
[null,{"$f":"OR(C101='BP Flag Rules'!Y$18,C101='BP Flag Rules'!Y$19,C101='BP Flag Rules'!Y$20,C101='BP Flag Rules'!Y$21,C101='BP Flag Rules'!Y$22,C101='BP Flag Rules'!Y$23,C101='BP Flag Rules'!Y$24,C101='BP Flag Rules'!Y$25,C101='BP Flag Rules'!Y$26,C101='BP Flag Rules'!Y$27)+B100","v":0},"Age_19plus","C","Age",87]
[null,{"$f":"OR(C102='BP Flag Rules'!Y$18,C102='BP Flag Rules'!Y$19,C102='BP Flag Rules'!Y$20,C102='BP Flag Rules'!Y$21,C102='BP Flag Rules'!Y$22,C102='BP Flag Rules'!Y$23,C102='BP Flag Rules'!Y$24,C102='BP Flag Rules'!Y$25,C102='BP Flag Rules'!Y$26,C102='BP Flag Rules'!Y$27)+B101","v":0},"Age_19plus","C","Age",88]
[null,{"$f":"OR(C103='BP Flag Rules'!Y$18,C103='BP Flag Rules'!Y$19,C103='BP Flag Rules'!Y$20,C103='BP Flag Rules'!Y$21,C103='BP Flag Rules'!Y$22,C103='BP Flag Rules'!Y$23,C103='BP Flag Rules'!Y$24,C103='BP Flag Rules'!Y$25,C103='BP Flag Rules'!Y$26,C103='BP Flag Rules'!Y$27)+B102","v":0},"Age_19plus","C","Age",89]
[null,{"$f":"OR(C104='BP Flag Rules'!Y$18,C104='BP Flag Rules'!Y$19,C104='BP Flag Rules'!Y$20,C104='BP Flag Rules'!Y$21,C104='BP Flag Rules'!Y$22,C104='BP Flag Rules'!Y$23,C104='BP Flag Rules'!Y$24,C104='BP Flag Rules'!Y$25,C104='BP Flag Rules'!Y$26,C104='BP Flag Rules'!Y$27)+B103","v":0},"Age_19plus","C","Age",90]
[null,{"$f":"OR(C105='BP Flag Rules'!Y$18,C105='BP Flag Rules'!Y$19,C105='BP Flag Rules'!Y$20,C105='BP Flag Rules'!Y$21,C105='BP Flag Rules'!Y$22,C105='BP Flag Rules'!Y$23,C105='BP Flag Rules'!Y$24,C105='BP Flag Rules'!Y$25,C105='BP Flag Rules'!Y$26,C105='BP Flag Rules'!Y$27)+B104","v":0},"Age_19plus","C","Age",91]
[null,{"$f":"OR(C106='BP Flag Rules'!Y$18,C106='BP Flag Rules'!Y$19,C106='BP Flag Rules'!Y$20,C106='BP Flag Rules'!Y$21,C106='BP Flag Rules'!Y$22,C106='BP Flag Rules'!Y$23,C106='BP Flag Rules'!Y$24,C106='BP Flag Rules'!Y$25,C106='BP Flag Rules'!Y$26,C106='BP Flag Rules'!Y$27)+B105","v":0},"Age_19plus","C","Age",92]
[null,{"$f":"OR(C107='BP Flag Rules'!Y$18,C107='BP Flag Rules'!Y$19,C107='BP Flag Rules'!Y$20,C107='BP Flag Rules'!Y$21,C107='BP Flag Rules'!Y$22,C107='BP Flag Rules'!Y$23,C107='BP Flag Rules'!Y$24,C107='BP Flag Rules'!Y$25,C107='BP Flag Rules'!Y$26,C107='BP Flag Rules'!Y$27)+B106","v":0},"Age_19plus","C","Age",93]
[null,{"$f":"OR(C108='BP Flag Rules'!Y$18,C108='BP Flag Rules'!Y$19,C108='BP Flag Rules'!Y$20,C108='BP Flag Rules'!Y$21,C108='BP Flag Rules'!Y$22,C108='BP Flag Rules'!Y$23,C108='BP Flag Rules'!Y$24,C108='BP Flag Rules'!Y$25,C108='BP Flag Rules'!Y$26,C108='BP Flag Rules'!Y$27)+B107","v":0},"Age_19plus","C","Age",94]
[null,{"$f":"OR(C109='BP Flag Rules'!Y$18,C109='BP Flag Rules'!Y$19,C109='BP Flag Rules'!Y$20,C109='BP Flag Rules'!Y$21,C109='BP Flag Rules'!Y$22,C109='BP Flag Rules'!Y$23,C109='BP Flag Rules'!Y$24,C109='BP Flag Rules'!Y$25,C109='BP Flag Rules'!Y$26,C109='BP Flag Rules'!Y$27)+B108","v":0},"Age_19plus","C","Age",95]
[null,{"$f":"OR(C110='BP Flag Rules'!Y$18,C110='BP Flag Rules'!Y$19,C110='BP Flag Rules'!Y$20,C110='BP Flag Rules'!Y$21,C110='BP Flag Rules'!Y$22,C110='BP Flag Rules'!Y$23,C110='BP Flag Rules'!Y$24,C110='BP Flag Rules'!Y$25,C110='BP Flag Rules'!Y$26,C110='BP Flag Rules'!Y$27)+B109","v":0},"Age_19plus","C","Age",96]
[null,{"$f":"OR(C111='BP Flag Rules'!Y$18,C111='BP Flag Rules'!Y$19,C111='BP Flag Rules'!Y$20,C111='BP Flag Rules'!Y$21,C111='BP Flag Rules'!Y$22,C111='BP Flag Rules'!Y$23,C111='BP Flag Rules'!Y$24,C111='BP Flag Rules'!Y$25,C111='BP Flag Rules'!Y$26,C111='BP Flag Rules'!Y$27)+B110","v":0},"Age_19plus","C","Age",97]
[null,{"$f":"OR(C112='BP Flag Rules'!Y$18,C112='BP Flag Rules'!Y$19,C112='BP Flag Rules'!Y$20,C112='BP Flag Rules'!Y$21,C112='BP Flag Rules'!Y$22,C112='BP Flag Rules'!Y$23,C112='BP Flag Rules'!Y$24,C112='BP Flag Rules'!Y$25,C112='BP Flag Rules'!Y$26,C112='BP Flag Rules'!Y$27)+B111","v":0},"Age_19plus","C","Age",98]
[null,{"$f":"OR(C113='BP Flag Rules'!Y$18,C113='BP Flag Rules'!Y$19,C113='BP Flag Rules'!Y$20,C113='BP Flag Rules'!Y$21,C113='BP Flag Rules'!Y$22,C113='BP Flag Rules'!Y$23,C113='BP Flag Rules'!Y$24,C113='BP Flag Rules'!Y$25,C113='BP Flag Rules'!Y$26,C113='BP Flag Rules'!Y$27)+B112","v":0},"Age_19plus","C","Age",99]
[null,{"$f":"OR(C114='BP Flag Rules'!Y$18,C114='BP Flag Rules'!Y$19,C114='BP Flag Rules'!Y$20,C114='BP Flag Rules'!Y$21,C114='BP Flag Rules'!Y$22,C114='BP Flag Rules'!Y$23,C114='BP Flag Rules'!Y$24,C114='BP Flag Rules'!Y$25,C114='BP Flag Rules'!Y$26,C114='BP Flag Rules'!Y$27)+B113","v":0},"Age_19plus","C","Age",999]
[null,{"$f":"OR(C115='BP Flag Rules'!Y$18,C115='BP Flag Rules'!Y$19,C115='BP Flag Rules'!Y$20,C115='BP Flag Rules'!Y$21,C115='BP Flag Rules'!Y$22,C115='BP Flag Rules'!Y$23,C115='BP Flag Rules'!Y$24,C115='BP Flag Rules'!Y$25,C115='BP Flag Rules'!Y$26,C115='BP Flag Rules'!Y$27)+B114","v":0},"BP_ABN_LIVER_FN_ICD","C","ICD","D135","Benign neoplasm: Extrahepatic bile ducts"]
[null,{"$f":"OR(C116='BP Flag Rules'!Y$18,C116='BP Flag Rules'!Y$19,C116='BP Flag Rules'!Y$20,C116='BP Flag Rules'!Y$21,C116='BP Flag Rules'!Y$22,C116='BP Flag Rules'!Y$23,C116='BP Flag Rules'!Y$24,C116='BP Flag Rules'!Y$25,C116='BP Flag Rules'!Y$26,C116='BP Flag Rules'!Y$27)+B115","v":0},"BP_ABN_LIVER_FN_ICD","C","ICD","D376","Neoplasm of uncertain or unknown behaviour: Liver, gallbladder and bile ducts"]
[null,{"$f":"OR(C117='BP Flag Rules'!Y$18,C117='BP Flag Rules'!Y$19,C117='BP Flag Rules'!Y$20,C117='BP Flag Rules'!Y$21,C117='BP Flag Rules'!Y$22,C117='BP Flag Rules'!Y$23,C117='BP Flag Rules'!Y$24,C117='BP Flag Rules'!Y$25,C117='BP Flag Rules'!Y$26,C117='BP Flag Rules'!Y$27)+B116","v":0},"BP_ABN_LIVER_FN_ICD","C","ICD","K700","Alcoholic fatty liver"]
[null,{"$f":"OR(C118='BP Flag Rules'!Y$18,C118='BP Flag Rules'!Y$19,C118='BP Flag Rules'!Y$20,C118='BP Flag Rules'!Y$21,C118='BP Flag Rules'!Y$22,C118='BP Flag Rules'!Y$23,C118='BP Flag Rules'!Y$24,C118='BP Flag Rules'!Y$25,C118='BP Flag Rules'!Y$26,C118='BP Flag Rules'!Y$27)+B117","v":0},"BP_ABN_LIVER_FN_ICD","C","ICD","K701","Alcoholic hepatitis"]
[null,{"$f":"OR(C119='BP Flag Rules'!Y$18,C119='BP Flag Rules'!Y$19,C119='BP Flag Rules'!Y$20,C119='BP Flag Rules'!Y$21,C119='BP Flag Rules'!Y$22,C119='BP Flag Rules'!Y$23,C119='BP Flag Rules'!Y$24,C119='BP Flag Rules'!Y$25,C119='BP Flag Rules'!Y$26,C119='BP Flag Rules'!Y$27)+B118","v":0},"BP_ABN_LIVER_FN_ICD","C","ICD","K702","Alcoholic fibrosis and sclerosis of liver"]
[null,{"$f":"OR(C120='BP Flag Rules'!Y$18,C120='BP Flag Rules'!Y$19,C120='BP Flag Rules'!Y$20,C120='BP Flag Rules'!Y$21,C120='BP Flag Rules'!Y$22,C120='BP Flag Rules'!Y$23,C120='BP Flag Rules'!Y$24,C120='BP Flag Rules'!Y$25,C120='BP Flag Rules'!Y$26,C120='BP Flag Rules'!Y$27)+B119","v":0},"BP_ABN_LIVER_FN_ICD","C","ICD","K703","Alcoholic cirrhosis of liver"]
[null,{"$f":"OR(C121='BP Flag Rules'!Y$18,C121='BP Flag Rules'!Y$19,C121='BP Flag Rules'!Y$20,C121='BP Flag Rules'!Y$21,C121='BP Flag Rules'!Y$22,C121='BP Flag Rules'!Y$23,C121='BP Flag Rules'!Y$24,C121='BP Flag Rules'!Y$25,C121='BP Flag Rules'!Y$26,C121='BP Flag Rules'!Y$27)+B120","v":0},"BP_ABN_LIVER_FN_ICD","C","ICD","K709","Alcoholic liver disease, unspecified"]
[null,{"$f":"OR(C122='BP Flag Rules'!Y$18,C122='BP Flag Rules'!Y$19,C122='BP Flag Rules'!Y$20,C122='BP Flag Rules'!Y$21,C122='BP Flag Rules'!Y$22,C122='BP Flag Rules'!Y$23,C122='BP Flag Rules'!Y$24,C122='BP Flag Rules'!Y$25,C122='BP Flag Rules'!Y$26,C122='BP Flag Rules'!Y$27)+B121","v":0},"BP_ABN_LIVER_FN_ICD","C","ICD","K721","Chronic hepatic failure"]
[null,{"$f":"OR(C123='BP Flag Rules'!Y$18,C123='BP Flag Rules'!Y$19,C123='BP Flag Rules'!Y$20,C123='BP Flag Rules'!Y$21,C123='BP Flag Rules'!Y$22,C123='BP Flag Rules'!Y$23,C123='BP Flag Rules'!Y$24,C123='BP Flag Rules'!Y$25,C123='BP Flag Rules'!Y$26,C123='BP Flag Rules'!Y$27)+B122","v":0},"BP_ABN_LIVER_FN_ICD","C","ICD","K729","Hepatic failure, unspecified"]
[null,{"$f":"OR(C124='BP Flag Rules'!Y$18,C124='BP Flag Rules'!Y$19,C124='BP Flag Rules'!Y$20,C124='BP Flag Rules'!Y$21,C124='BP Flag Rules'!Y$22,C124='BP Flag Rules'!Y$23,C124='BP Flag Rules'!Y$24,C124='BP Flag Rules'!Y$25,C124='BP Flag Rules'!Y$26,C124='BP Flag Rules'!Y$27)+B123","v":0},"BP_ABN_LIVER_FN_ICD","C","ICD","K732","Chronic active hepatitis, not elsewhere classified"]
[null,{"$f":"OR(C125='BP Flag Rules'!Y$18,C125='BP Flag Rules'!Y$19,C125='BP Flag Rules'!Y$20,C125='BP Flag Rules'!Y$21,C125='BP Flag Rules'!Y$22,C125='BP Flag Rules'!Y$23,C125='BP Flag Rules'!Y$24,C125='BP Flag Rules'!Y$25,C125='BP Flag Rules'!Y$26,C125='BP Flag Rules'!Y$27)+B124","v":0},"BP_ABN_LIVER_FN_ICD","C","ICD","K738","Other chronic hepatitis, not elsewhere classified"]
[null,{"$f":"OR(C126='BP Flag Rules'!Y$18,C126='BP Flag Rules'!Y$19,C126='BP Flag Rules'!Y$20,C126='BP Flag Rules'!Y$21,C126='BP Flag Rules'!Y$22,C126='BP Flag Rules'!Y$23,C126='BP Flag Rules'!Y$24,C126='BP Flag Rules'!Y$25,C126='BP Flag Rules'!Y$26,C126='BP Flag Rules'!Y$27)+B125","v":0},"BP_ABN_LIVER_FN_ICD","C","ICD","K739","Chronic hepatitis, unspecified"]
[null,{"$f":"OR(C127='BP Flag Rules'!Y$18,C127='BP Flag Rules'!Y$19,C127='BP Flag Rules'!Y$20,C127='BP Flag Rules'!Y$21,C127='BP Flag Rules'!Y$22,C127='BP Flag Rules'!Y$23,C127='BP Flag Rules'!Y$24,C127='BP Flag Rules'!Y$25,C127='BP Flag Rules'!Y$26,C127='BP Flag Rules'!Y$27)+B126","v":0},"BP_ABN_LIVER_FN_ICD","C","ICD","K740","Hepatic fibrosis"]
[null,{"$f":"OR(C128='BP Flag Rules'!Y$18,C128='BP Flag Rules'!Y$19,C128='BP Flag Rules'!Y$20,C128='BP Flag Rules'!Y$21,C128='BP Flag Rules'!Y$22,C128='BP Flag Rules'!Y$23,C128='BP Flag Rules'!Y$24,C128='BP Flag Rules'!Y$25,C128='BP Flag Rules'!Y$26,C128='BP Flag Rules'!Y$27)+B127","v":0},"BP_ABN_LIVER_FN_ICD","C","ICD","K741","Hepatic sclerosis"]
[null,{"$f":"OR(C129='BP Flag Rules'!Y$18,C129='BP Flag Rules'!Y$19,C129='BP Flag Rules'!Y$20,C129='BP Flag Rules'!Y$21,C129='BP Flag Rules'!Y$22,C129='BP Flag Rules'!Y$23,C129='BP Flag Rules'!Y$24,C129='BP Flag Rules'!Y$25,C129='BP Flag Rules'!Y$26,C129='BP Flag Rules'!Y$27)+B128","v":0},"BP_ABN_LIVER_FN_ICD","C","ICD","K743","Primary biliary cirrhosis"]
[null,{"$f":"OR(C130='BP Flag Rules'!Y$18,C130='BP Flag Rules'!Y$19,C130='BP Flag Rules'!Y$20,C130='BP Flag Rules'!Y$21,C130='BP Flag Rules'!Y$22,C130='BP Flag Rules'!Y$23,C130='BP Flag Rules'!Y$24,C130='BP Flag Rules'!Y$25,C130='BP Flag Rules'!Y$26,C130='BP Flag Rules'!Y$27)+B129","v":0},"BP_ABN_LIVER_FN_ICD","C","ICD","K745","Biliary cirrhosis, unspecified"]
[null,{"$f":"OR(C131='BP Flag Rules'!Y$18,C131='BP Flag Rules'!Y$19,C131='BP Flag Rules'!Y$20,C131='BP Flag Rules'!Y$21,C131='BP Flag Rules'!Y$22,C131='BP Flag Rules'!Y$23,C131='BP Flag Rules'!Y$24,C131='BP Flag Rules'!Y$25,C131='BP Flag Rules'!Y$26,C131='BP Flag Rules'!Y$27)+B130","v":0},"BP_ABN_LIVER_FN_ICD","C","ICD","K746","Other and unspecified cirrhosis of liver"]
[null,{"$f":"OR(C132='BP Flag Rules'!Y$18,C132='BP Flag Rules'!Y$19,C132='BP Flag Rules'!Y$20,C132='BP Flag Rules'!Y$21,C132='BP Flag Rules'!Y$22,C132='BP Flag Rules'!Y$23,C132='BP Flag Rules'!Y$24,C132='BP Flag Rules'!Y$25,C132='BP Flag Rules'!Y$26,C132='BP Flag Rules'!Y$27)+B131","v":0},"BP_ABN_LIVER_FN_ICD","C","ICD","K752","Nonspecific reactive hepatitis"]
[null,{"$f":"OR(C133='BP Flag Rules'!Y$18,C133='BP Flag Rules'!Y$19,C133='BP Flag Rules'!Y$20,C133='BP Flag Rules'!Y$21,C133='BP Flag Rules'!Y$22,C133='BP Flag Rules'!Y$23,C133='BP Flag Rules'!Y$24,C133='BP Flag Rules'!Y$25,C133='BP Flag Rules'!Y$26,C133='BP Flag Rules'!Y$27)+B132","v":0},"BP_ABN_LIVER_FN_ICD","C","ICD","K753","Granulomatous hepatitis, not elsewhere classified"]
[null,{"$f":"OR(C134='BP Flag Rules'!Y$18,C134='BP Flag Rules'!Y$19,C134='BP Flag Rules'!Y$20,C134='BP Flag Rules'!Y$21,C134='BP Flag Rules'!Y$22,C134='BP Flag Rules'!Y$23,C134='BP Flag Rules'!Y$24,C134='BP Flag Rules'!Y$25,C134='BP Flag Rules'!Y$26,C134='BP Flag Rules'!Y$27)+B133","v":0},"BP_ABN_LIVER_FN_ICD","C","ICD","K754","Autoimmune hepatitis"]
[null,{"$f":"OR(C135='BP Flag Rules'!Y$18,C135='BP Flag Rules'!Y$19,C135='BP Flag Rules'!Y$20,C135='BP Flag Rules'!Y$21,C135='BP Flag Rules'!Y$22,C135='BP Flag Rules'!Y$23,C135='BP Flag Rules'!Y$24,C135='BP Flag Rules'!Y$25,C135='BP Flag Rules'!Y$26,C135='BP Flag Rules'!Y$27)+B134","v":0},"BP_ABN_LIVER_FN_ICD","C","ICD","K758","Other specified inflammatory liver diseases"]
[null,{"$f":"OR(C136='BP Flag Rules'!Y$18,C136='BP Flag Rules'!Y$19,C136='BP Flag Rules'!Y$20,C136='BP Flag Rules'!Y$21,C136='BP Flag Rules'!Y$22,C136='BP Flag Rules'!Y$23,C136='BP Flag Rules'!Y$24,C136='BP Flag Rules'!Y$25,C136='BP Flag Rules'!Y$26,C136='BP Flag Rules'!Y$27)+B135","v":0},"BP_ABN_LIVER_FN_ICD","C","ICD","K759","Inflammatory liver disease, unspecified"]
[null,{"$f":"OR(C137='BP Flag Rules'!Y$18,C137='BP Flag Rules'!Y$19,C137='BP Flag Rules'!Y$20,C137='BP Flag Rules'!Y$21,C137='BP Flag Rules'!Y$22,C137='BP Flag Rules'!Y$23,C137='BP Flag Rules'!Y$24,C137='BP Flag Rules'!Y$25,C137='BP Flag Rules'!Y$26,C137='BP Flag Rules'!Y$27)+B136","v":0},"BP_ABN_LIVER_FN_ICD","C","ICD","K760","Fatty (change of) liver, not elsewhere classified"]
[null,{"$f":"OR(C138='BP Flag Rules'!Y$18,C138='BP Flag Rules'!Y$19,C138='BP Flag Rules'!Y$20,C138='BP Flag Rules'!Y$21,C138='BP Flag Rules'!Y$22,C138='BP Flag Rules'!Y$23,C138='BP Flag Rules'!Y$24,C138='BP Flag Rules'!Y$25,C138='BP Flag Rules'!Y$26,C138='BP Flag Rules'!Y$27)+B137","v":0},"BP_ABN_LIVER_FN_ICD","C","ICD","K761","Chronic passive congestion of liver"]
[null,{"$f":"OR(C139='BP Flag Rules'!Y$18,C139='BP Flag Rules'!Y$19,C139='BP Flag Rules'!Y$20,C139='BP Flag Rules'!Y$21,C139='BP Flag Rules'!Y$22,C139='BP Flag Rules'!Y$23,C139='BP Flag Rules'!Y$24,C139='BP Flag Rules'!Y$25,C139='BP Flag Rules'!Y$26,C139='BP Flag Rules'!Y$27)+B138","v":0},"BP_ABN_LIVER_FN_ICD","C","ICD","K766","Portal hypertension"]
[null,{"$f":"OR(C140='BP Flag Rules'!Y$18,C140='BP Flag Rules'!Y$19,C140='BP Flag Rules'!Y$20,C140='BP Flag Rules'!Y$21,C140='BP Flag Rules'!Y$22,C140='BP Flag Rules'!Y$23,C140='BP Flag Rules'!Y$24,C140='BP Flag Rules'!Y$25,C140='BP Flag Rules'!Y$26,C140='BP Flag Rules'!Y$27)+B139","v":0},"BP_ABN_LIVER_FN_ICD","C","ICD","K768","Other specified diseases of liver"]
[null,{"$f":"OR(C141='BP Flag Rules'!Y$18,C141='BP Flag Rules'!Y$19,C141='BP Flag Rules'!Y$20,C141='BP Flag Rules'!Y$21,C141='BP Flag Rules'!Y$22,C141='BP Flag Rules'!Y$23,C141='BP Flag Rules'!Y$24,C141='BP Flag Rules'!Y$25,C141='BP Flag Rules'!Y$26,C141='BP Flag Rules'!Y$27)+B140","v":0},"BP_ABN_LIVER_FN_ICD","C","ICD","K769","Liver disease, unspecified"]
[null,{"$f":"OR(C142='BP Flag Rules'!Y$18,C142='BP Flag Rules'!Y$19,C142='BP Flag Rules'!Y$20,C142='BP Flag Rules'!Y$21,C142='BP Flag Rules'!Y$22,C142='BP Flag Rules'!Y$23,C142='BP Flag Rules'!Y$24,C142='BP Flag Rules'!Y$25,C142='BP Flag Rules'!Y$26,C142='BP Flag Rules'!Y$27)+B141","v":0},"BP_ABN_LIVER_FN_ICD","C","ICD","K800","Calculus of gallbladder with acute cholecystitis"]
[null,{"$f":"OR(C143='BP Flag Rules'!Y$18,C143='BP Flag Rules'!Y$19,C143='BP Flag Rules'!Y$20,C143='BP Flag Rules'!Y$21,C143='BP Flag Rules'!Y$22,C143='BP Flag Rules'!Y$23,C143='BP Flag Rules'!Y$24,C143='BP Flag Rules'!Y$25,C143='BP Flag Rules'!Y$26,C143='BP Flag Rules'!Y$27)+B142","v":0},"BP_ABN_LIVER_FN_ICD","C","ICD","K801","Calculus of gallbladder with other cholecystitis"]
[null,{"$f":"OR(C144='BP Flag Rules'!Y$18,C144='BP Flag Rules'!Y$19,C144='BP Flag Rules'!Y$20,C144='BP Flag Rules'!Y$21,C144='BP Flag Rules'!Y$22,C144='BP Flag Rules'!Y$23,C144='BP Flag Rules'!Y$24,C144='BP Flag Rules'!Y$25,C144='BP Flag Rules'!Y$26,C144='BP Flag Rules'!Y$27)+B143","v":0},"BP_ABN_LIVER_FN_ICD","C","ICD","K802","Calculus of gallbladder without cholecystitis"]
[null,{"$f":"OR(C145='BP Flag Rules'!Y$18,C145='BP Flag Rules'!Y$19,C145='BP Flag Rules'!Y$20,C145='BP Flag Rules'!Y$21,C145='BP Flag Rules'!Y$22,C145='BP Flag Rules'!Y$23,C145='BP Flag Rules'!Y$24,C145='BP Flag Rules'!Y$25,C145='BP Flag Rules'!Y$26,C145='BP Flag Rules'!Y$27)+B144","v":0},"BP_ABN_LIVER_FN_ICD","C","ICD","K803","Calculus of bile duct with cholangitis"]
[null,{"$f":"OR(C146='BP Flag Rules'!Y$18,C146='BP Flag Rules'!Y$19,C146='BP Flag Rules'!Y$20,C146='BP Flag Rules'!Y$21,C146='BP Flag Rules'!Y$22,C146='BP Flag Rules'!Y$23,C146='BP Flag Rules'!Y$24,C146='BP Flag Rules'!Y$25,C146='BP Flag Rules'!Y$26,C146='BP Flag Rules'!Y$27)+B145","v":0},"BP_ABN_LIVER_FN_ICD","C","ICD","K804","Calculus of bile duct with cholecystitis"]
[null,{"$f":"OR(C147='BP Flag Rules'!Y$18,C147='BP Flag Rules'!Y$19,C147='BP Flag Rules'!Y$20,C147='BP Flag Rules'!Y$21,C147='BP Flag Rules'!Y$22,C147='BP Flag Rules'!Y$23,C147='BP Flag Rules'!Y$24,C147='BP Flag Rules'!Y$25,C147='BP Flag Rules'!Y$26,C147='BP Flag Rules'!Y$27)+B146","v":0},"BP_ABN_LIVER_FN_ICD","C","ICD","K805","Calculus of bile duct without cholangitis or cholecystitis"]
[null,{"$f":"OR(C148='BP Flag Rules'!Y$18,C148='BP Flag Rules'!Y$19,C148='BP Flag Rules'!Y$20,C148='BP Flag Rules'!Y$21,C148='BP Flag Rules'!Y$22,C148='BP Flag Rules'!Y$23,C148='BP Flag Rules'!Y$24,C148='BP Flag Rules'!Y$25,C148='BP Flag Rules'!Y$26,C148='BP Flag Rules'!Y$27)+B147","v":0},"BP_ABN_LIVER_FN_ICD","C","ICD","K808","Other cholelithiasis"]
[null,{"$f":"OR(C149='BP Flag Rules'!Y$18,C149='BP Flag Rules'!Y$19,C149='BP Flag Rules'!Y$20,C149='BP Flag Rules'!Y$21,C149='BP Flag Rules'!Y$22,C149='BP Flag Rules'!Y$23,C149='BP Flag Rules'!Y$24,C149='BP Flag Rules'!Y$25,C149='BP Flag Rules'!Y$26,C149='BP Flag Rules'!Y$27)+B148","v":0},"BP_ABN_LIVER_FN_ICD","C","ICD","K810","Acute cholecystitis"]
[null,{"$f":"OR(C150='BP Flag Rules'!Y$18,C150='BP Flag Rules'!Y$19,C150='BP Flag Rules'!Y$20,C150='BP Flag Rules'!Y$21,C150='BP Flag Rules'!Y$22,C150='BP Flag Rules'!Y$23,C150='BP Flag Rules'!Y$24,C150='BP Flag Rules'!Y$25,C150='BP Flag Rules'!Y$26,C150='BP Flag Rules'!Y$27)+B149","v":0},"BP_ABN_LIVER_FN_ICD","C","ICD","K811","Chronic cholecystitis"]
[null,{"$f":"OR(C151='BP Flag Rules'!Y$18,C151='BP Flag Rules'!Y$19,C151='BP Flag Rules'!Y$20,C151='BP Flag Rules'!Y$21,C151='BP Flag Rules'!Y$22,C151='BP Flag Rules'!Y$23,C151='BP Flag Rules'!Y$24,C151='BP Flag Rules'!Y$25,C151='BP Flag Rules'!Y$26,C151='BP Flag Rules'!Y$27)+B150","v":0},"BP_ABN_LIVER_FN_ICD","C","ICD","K818","Other cholecystitis"]
[null,{"$f":"OR(C152='BP Flag Rules'!Y$18,C152='BP Flag Rules'!Y$19,C152='BP Flag Rules'!Y$20,C152='BP Flag Rules'!Y$21,C152='BP Flag Rules'!Y$22,C152='BP Flag Rules'!Y$23,C152='BP Flag Rules'!Y$24,C152='BP Flag Rules'!Y$25,C152='BP Flag Rules'!Y$26,C152='BP Flag Rules'!Y$27)+B151","v":0},"BP_ABN_LIVER_FN_ICD","C","ICD","K819","Cholecystitis, unspecified"]
[null,{"$f":"OR(C153='BP Flag Rules'!Y$18,C153='BP Flag Rules'!Y$19,C153='BP Flag Rules'!Y$20,C153='BP Flag Rules'!Y$21,C153='BP Flag Rules'!Y$22,C153='BP Flag Rules'!Y$23,C153='BP Flag Rules'!Y$24,C153='BP Flag Rules'!Y$25,C153='BP Flag Rules'!Y$26,C153='BP Flag Rules'!Y$27)+B152","v":0},"BP_ABN_LIVER_FN_ICD","C","ICD","K821","Hydrops of gallbladder"]
[null,{"$f":"OR(C154='BP Flag Rules'!Y$18,C154='BP Flag Rules'!Y$19,C154='BP Flag Rules'!Y$20,C154='BP Flag Rules'!Y$21,C154='BP Flag Rules'!Y$22,C154='BP Flag Rules'!Y$23,C154='BP Flag Rules'!Y$24,C154='BP Flag Rules'!Y$25,C154='BP Flag Rules'!Y$26,C154='BP Flag Rules'!Y$27)+B153","v":0},"BP_ABN_LIVER_FN_ICD","C","ICD","K822","Perforation of gallbladder"]
[null,{"$f":"OR(C155='BP Flag Rules'!Y$18,C155='BP Flag Rules'!Y$19,C155='BP Flag Rules'!Y$20,C155='BP Flag Rules'!Y$21,C155='BP Flag Rules'!Y$22,C155='BP Flag Rules'!Y$23,C155='BP Flag Rules'!Y$24,C155='BP Flag Rules'!Y$25,C155='BP Flag Rules'!Y$26,C155='BP Flag Rules'!Y$27)+B154","v":0},"BP_ABN_LIVER_FN_ICD","C","ICD","K823","Fistula of gallbladder"]
[null,{"$f":"OR(C156='BP Flag Rules'!Y$18,C156='BP Flag Rules'!Y$19,C156='BP Flag Rules'!Y$20,C156='BP Flag Rules'!Y$21,C156='BP Flag Rules'!Y$22,C156='BP Flag Rules'!Y$23,C156='BP Flag Rules'!Y$24,C156='BP Flag Rules'!Y$25,C156='BP Flag Rules'!Y$26,C156='BP Flag Rules'!Y$27)+B155","v":0},"BP_ABN_LIVER_FN_ICD","C","ICD","K824","Cholesterolosis of gallbladder"]
[null,{"$f":"OR(C157='BP Flag Rules'!Y$18,C157='BP Flag Rules'!Y$19,C157='BP Flag Rules'!Y$20,C157='BP Flag Rules'!Y$21,C157='BP Flag Rules'!Y$22,C157='BP Flag Rules'!Y$23,C157='BP Flag Rules'!Y$24,C157='BP Flag Rules'!Y$25,C157='BP Flag Rules'!Y$26,C157='BP Flag Rules'!Y$27)+B156","v":0},"BP_ABN_LIVER_FN_ICD","C","ICD","K828","Other specified diseases of gallbladder"]
[null,{"$f":"OR(C158='BP Flag Rules'!Y$18,C158='BP Flag Rules'!Y$19,C158='BP Flag Rules'!Y$20,C158='BP Flag Rules'!Y$21,C158='BP Flag Rules'!Y$22,C158='BP Flag Rules'!Y$23,C158='BP Flag Rules'!Y$24,C158='BP Flag Rules'!Y$25,C158='BP Flag Rules'!Y$26,C158='BP Flag Rules'!Y$27)+B157","v":0},"BP_ABN_LIVER_FN_ICD","C","ICD","K829","Disease of gallbladder, unspecified"]
[null,{"$f":"OR(C159='BP Flag Rules'!Y$18,C159='BP Flag Rules'!Y$19,C159='BP Flag Rules'!Y$20,C159='BP Flag Rules'!Y$21,C159='BP Flag Rules'!Y$22,C159='BP Flag Rules'!Y$23,C159='BP Flag Rules'!Y$24,C159='BP Flag Rules'!Y$25,C159='BP Flag Rules'!Y$26,C159='BP Flag Rules'!Y$27)+B158","v":0},"BP_ABN_LIVER_FN_ICD","C","ICD","K831","Obstruction of bile duct"]
[null,{"$f":"OR(C160='BP Flag Rules'!Y$18,C160='BP Flag Rules'!Y$19,C160='BP Flag Rules'!Y$20,C160='BP Flag Rules'!Y$21,C160='BP Flag Rules'!Y$22,C160='BP Flag Rules'!Y$23,C160='BP Flag Rules'!Y$24,C160='BP Flag Rules'!Y$25,C160='BP Flag Rules'!Y$26,C160='BP Flag Rules'!Y$27)+B159","v":0},"BP_ABN_LIVER_FN_ICD","C","ICD","K834","Spasm of sphincter of Oddi"]
[null,{"$f":"OR(C161='BP Flag Rules'!Y$18,C161='BP Flag Rules'!Y$19,C161='BP Flag Rules'!Y$20,C161='BP Flag Rules'!Y$21,C161='BP Flag Rules'!Y$22,C161='BP Flag Rules'!Y$23,C161='BP Flag Rules'!Y$24,C161='BP Flag Rules'!Y$25,C161='BP Flag Rules'!Y$26,C161='BP Flag Rules'!Y$27)+B160","v":0},"BP_ABN_LIVER_FN_ICD","C","ICD","K838","Other specified diseases of biliary tract"]
[null,{"$f":"OR(C162='BP Flag Rules'!Y$18,C162='BP Flag Rules'!Y$19,C162='BP Flag Rules'!Y$20,C162='BP Flag Rules'!Y$21,C162='BP Flag Rules'!Y$22,C162='BP Flag Rules'!Y$23,C162='BP Flag Rules'!Y$24,C162='BP Flag Rules'!Y$25,C162='BP Flag Rules'!Y$26,C162='BP Flag Rules'!Y$27)+B161","v":0},"BP_ABN_LIVER_FN_ICD","C","ICD","K839","Disease of biliary tract, unspecified"]
[null,{"$f":"OR(C163='BP Flag Rules'!Y$18,C163='BP Flag Rules'!Y$19,C163='BP Flag Rules'!Y$20,C163='BP Flag Rules'!Y$21,C163='BP Flag Rules'!Y$22,C163='BP Flag Rules'!Y$23,C163='BP Flag Rules'!Y$24,C163='BP Flag Rules'!Y$25,C163='BP Flag Rules'!Y$26,C163='BP Flag Rules'!Y$27)+B162","v":0},"BP_ABN_LIVER_FN_ICD","C","ICD","K860","Alcohol-induced chronic pancreatitis"]
[null,{"$f":"OR(C164='BP Flag Rules'!Y$18,C164='BP Flag Rules'!Y$19,C164='BP Flag Rules'!Y$20,C164='BP Flag Rules'!Y$21,C164='BP Flag Rules'!Y$22,C164='BP Flag Rules'!Y$23,C164='BP Flag Rules'!Y$24,C164='BP Flag Rules'!Y$25,C164='BP Flag Rules'!Y$26,C164='BP Flag Rules'!Y$27)+B163","v":0},"BP_ABN_LIVER_FN_ICD","C","ICD","K861","Other chronic pancreatitis"]
[null,{"$f":"OR(C165='BP Flag Rules'!Y$18,C165='BP Flag Rules'!Y$19,C165='BP Flag Rules'!Y$20,C165='BP Flag Rules'!Y$21,C165='BP Flag Rules'!Y$22,C165='BP Flag Rules'!Y$23,C165='BP Flag Rules'!Y$24,C165='BP Flag Rules'!Y$25,C165='BP Flag Rules'!Y$26,C165='BP Flag Rules'!Y$27)+B164","v":0},"BP_ABN_LIVER_FN_ICD","C","ICD","K862","Cyst of pancreas"]
[null,{"$f":"OR(C166='BP Flag Rules'!Y$18,C166='BP Flag Rules'!Y$19,C166='BP Flag Rules'!Y$20,C166='BP Flag Rules'!Y$21,C166='BP Flag Rules'!Y$22,C166='BP Flag Rules'!Y$23,C166='BP Flag Rules'!Y$24,C166='BP Flag Rules'!Y$25,C166='BP Flag Rules'!Y$26,C166='BP Flag Rules'!Y$27)+B165","v":0},"BP_ABN_LIVER_FN_ICD","C","ICD","K863","Pseudocyst of pancreas"]
[null,{"$f":"OR(C167='BP Flag Rules'!Y$18,C167='BP Flag Rules'!Y$19,C167='BP Flag Rules'!Y$20,C167='BP Flag Rules'!Y$21,C167='BP Flag Rules'!Y$22,C167='BP Flag Rules'!Y$23,C167='BP Flag Rules'!Y$24,C167='BP Flag Rules'!Y$25,C167='BP Flag Rules'!Y$26,C167='BP Flag Rules'!Y$27)+B166","v":0},"BP_ABN_LIVER_FN_ICD","C","ICD","K868","Other specified diseases of pancreas"]
[null,{"$f":"OR(C168='BP Flag Rules'!Y$18,C168='BP Flag Rules'!Y$19,C168='BP Flag Rules'!Y$20,C168='BP Flag Rules'!Y$21,C168='BP Flag Rules'!Y$22,C168='BP Flag Rules'!Y$23,C168='BP Flag Rules'!Y$24,C168='BP Flag Rules'!Y$25,C168='BP Flag Rules'!Y$26,C168='BP Flag Rules'!Y$27)+B167","v":0},"BP_ABN_LIVER_FN_ICD","C","ICD","K869","Disease of pancreas, unspecified"]
[null,{"$f":"OR(C169='BP Flag Rules'!Y$18,C169='BP Flag Rules'!Y$19,C169='BP Flag Rules'!Y$20,C169='BP Flag Rules'!Y$21,C169='BP Flag Rules'!Y$22,C169='BP Flag Rules'!Y$23,C169='BP Flag Rules'!Y$24,C169='BP Flag Rules'!Y$25,C169='BP Flag Rules'!Y$26,C169='BP Flag Rules'!Y$27)+B168","v":0},"BP_ABN_LIVER_FN_ICD","C","ICD","K915","Postcholecystectomy syndrome"]
[null,{"$f":"OR(C170='BP Flag Rules'!Y$18,C170='BP Flag Rules'!Y$19,C170='BP Flag Rules'!Y$20,C170='BP Flag Rules'!Y$21,C170='BP Flag Rules'!Y$22,C170='BP Flag Rules'!Y$23,C170='BP Flag Rules'!Y$24,C170='BP Flag Rules'!Y$25,C170='BP Flag Rules'!Y$26,C170='BP Flag Rules'!Y$27)+B169","v":0},"BP_ABN_LIVER_FN_ICD","C","ICD","R160","Hepatomegaly, not elsewhere classified"]
[null,{"$f":"OR(C171='BP Flag Rules'!Y$18,C171='BP Flag Rules'!Y$19,C171='BP Flag Rules'!Y$20,C171='BP Flag Rules'!Y$21,C171='BP Flag Rules'!Y$22,C171='BP Flag Rules'!Y$23,C171='BP Flag Rules'!Y$24,C171='BP Flag Rules'!Y$25,C171='BP Flag Rules'!Y$26,C171='BP Flag Rules'!Y$27)+B170","v":0},"BP_ABN_LIVER_FN_ICD","C","ICD","R161","Splenomegaly, not elsewhere classified"]
[null,{"$f":"OR(C172='BP Flag Rules'!Y$18,C172='BP Flag Rules'!Y$19,C172='BP Flag Rules'!Y$20,C172='BP Flag Rules'!Y$21,C172='BP Flag Rules'!Y$22,C172='BP Flag Rules'!Y$23,C172='BP Flag Rules'!Y$24,C172='BP Flag Rules'!Y$25,C172='BP Flag Rules'!Y$26,C172='BP Flag Rules'!Y$27)+B171","v":0},"BP_ABN_LIVER_FN_ICD","C","ICD","R162","Hepatomegaly with splenomegaly, not elsewhere classified"]
[null,{"$f":"OR(C173='BP Flag Rules'!Y$18,C173='BP Flag Rules'!Y$19,C173='BP Flag Rules'!Y$20,C173='BP Flag Rules'!Y$21,C173='BP Flag Rules'!Y$22,C173='BP Flag Rules'!Y$23,C173='BP Flag Rules'!Y$24,C173='BP Flag Rules'!Y$25,C173='BP Flag Rules'!Y$26,C173='BP Flag Rules'!Y$27)+B172","v":0},"BP_ACUTE_P_JNT_ICD","C","ICD","M028","Other reactive arthropathies"]
[null,{"$f":"OR(C174='BP Flag Rules'!Y$18,C174='BP Flag Rules'!Y$19,C174='BP Flag Rules'!Y$20,C174='BP Flag Rules'!Y$21,C174='BP Flag Rules'!Y$22,C174='BP Flag Rules'!Y$23,C174='BP Flag Rules'!Y$24,C174='BP Flag Rules'!Y$25,C174='BP Flag Rules'!Y$26,C174='BP Flag Rules'!Y$27)+B173","v":0},"BP_ACUTE_P_JNT_ICD","C","ICD","M029","Reactive arthropathy, unspecified"]
[null,{"$f":"OR(C175='BP Flag Rules'!Y$18,C175='BP Flag Rules'!Y$19,C175='BP Flag Rules'!Y$20,C175='BP Flag Rules'!Y$21,C175='BP Flag Rules'!Y$22,C175='BP Flag Rules'!Y$23,C175='BP Flag Rules'!Y$24,C175='BP Flag Rules'!Y$25,C175='BP Flag Rules'!Y$26,C175='BP Flag Rules'!Y$27)+B174","v":0},"BP_ACUTE_P_JNT_ICD","C","ICD","M050","Felty syndrome"]
[null,{"$f":"OR(C176='BP Flag Rules'!Y$18,C176='BP Flag Rules'!Y$19,C176='BP Flag Rules'!Y$20,C176='BP Flag Rules'!Y$21,C176='BP Flag Rules'!Y$22,C176='BP Flag Rules'!Y$23,C176='BP Flag Rules'!Y$24,C176='BP Flag Rules'!Y$25,C176='BP Flag Rules'!Y$26,C176='BP Flag Rules'!Y$27)+B175","v":0},"BP_ACUTE_P_JNT_ICD","C","ICD","M058","Other seropositive rheumatoid arthritis"]
[null,{"$f":"OR(C177='BP Flag Rules'!Y$18,C177='BP Flag Rules'!Y$19,C177='BP Flag Rules'!Y$20,C177='BP Flag Rules'!Y$21,C177='BP Flag Rules'!Y$22,C177='BP Flag Rules'!Y$23,C177='BP Flag Rules'!Y$24,C177='BP Flag Rules'!Y$25,C177='BP Flag Rules'!Y$26,C177='BP Flag Rules'!Y$27)+B176","v":0},"BP_ACUTE_P_JNT_ICD","C","ICD","M059","Seropositive rheumatoid arthritis, unspecified"]
[null,{"$f":"OR(C178='BP Flag Rules'!Y$18,C178='BP Flag Rules'!Y$19,C178='BP Flag Rules'!Y$20,C178='BP Flag Rules'!Y$21,C178='BP Flag Rules'!Y$22,C178='BP Flag Rules'!Y$23,C178='BP Flag Rules'!Y$24,C178='BP Flag Rules'!Y$25,C178='BP Flag Rules'!Y$26,C178='BP Flag Rules'!Y$27)+B177","v":0},"BP_ACUTE_P_JNT_ICD","C","ICD","M060","Seronegative rheumatoid arthritis"]
[null,{"$f":"OR(C179='BP Flag Rules'!Y$18,C179='BP Flag Rules'!Y$19,C179='BP Flag Rules'!Y$20,C179='BP Flag Rules'!Y$21,C179='BP Flag Rules'!Y$22,C179='BP Flag Rules'!Y$23,C179='BP Flag Rules'!Y$24,C179='BP Flag Rules'!Y$25,C179='BP Flag Rules'!Y$26,C179='BP Flag Rules'!Y$27)+B178","v":0},"BP_ACUTE_P_JNT_ICD","C","ICD","M064","Inflammatory polyarthropathy"]
[null,{"$f":"OR(C180='BP Flag Rules'!Y$18,C180='BP Flag Rules'!Y$19,C180='BP Flag Rules'!Y$20,C180='BP Flag Rules'!Y$21,C180='BP Flag Rules'!Y$22,C180='BP Flag Rules'!Y$23,C180='BP Flag Rules'!Y$24,C180='BP Flag Rules'!Y$25,C180='BP Flag Rules'!Y$26,C180='BP Flag Rules'!Y$27)+B179","v":0},"BP_ACUTE_P_JNT_ICD","C","ICD","M068","Other specified rheumatoid arthritis"]
[null,{"$f":"OR(C181='BP Flag Rules'!Y$18,C181='BP Flag Rules'!Y$19,C181='BP Flag Rules'!Y$20,C181='BP Flag Rules'!Y$21,C181='BP Flag Rules'!Y$22,C181='BP Flag Rules'!Y$23,C181='BP Flag Rules'!Y$24,C181='BP Flag Rules'!Y$25,C181='BP Flag Rules'!Y$26,C181='BP Flag Rules'!Y$27)+B180","v":0},"BP_ACUTE_P_JNT_ICD","C","ICD","M069","Rheumatoid arthritis, unspecified"]
[null,{"$f":"OR(C182='BP Flag Rules'!Y$18,C182='BP Flag Rules'!Y$19,C182='BP Flag Rules'!Y$20,C182='BP Flag Rules'!Y$21,C182='BP Flag Rules'!Y$22,C182='BP Flag Rules'!Y$23,C182='BP Flag Rules'!Y$24,C182='BP Flag Rules'!Y$25,C182='BP Flag Rules'!Y$26,C182='BP Flag Rules'!Y$27)+B181","v":0},"BP_ACUTE_P_JNT_ICD","C","ICD","M100","Idiopathic gout"]
[null,{"$f":"OR(C183='BP Flag Rules'!Y$18,C183='BP Flag Rules'!Y$19,C183='BP Flag Rules'!Y$20,C183='BP Flag Rules'!Y$21,C183='BP Flag Rules'!Y$22,C183='BP Flag Rules'!Y$23,C183='BP Flag Rules'!Y$24,C183='BP Flag Rules'!Y$25,C183='BP Flag Rules'!Y$26,C183='BP Flag Rules'!Y$27)+B182","v":0},"BP_ACUTE_P_JNT_ICD","C","ICD","M102","Drug-induced gout"]
[null,{"$f":"OR(C184='BP Flag Rules'!Y$18,C184='BP Flag Rules'!Y$19,C184='BP Flag Rules'!Y$20,C184='BP Flag Rules'!Y$21,C184='BP Flag Rules'!Y$22,C184='BP Flag Rules'!Y$23,C184='BP Flag Rules'!Y$24,C184='BP Flag Rules'!Y$25,C184='BP Flag Rules'!Y$26,C184='BP Flag Rules'!Y$27)+B183","v":0},"BP_ACUTE_P_JNT_ICD","C","ICD","M103","Gout due to impairment of renal function"]
[null,{"$f":"OR(C185='BP Flag Rules'!Y$18,C185='BP Flag Rules'!Y$19,C185='BP Flag Rules'!Y$20,C185='BP Flag Rules'!Y$21,C185='BP Flag Rules'!Y$22,C185='BP Flag Rules'!Y$23,C185='BP Flag Rules'!Y$24,C185='BP Flag Rules'!Y$25,C185='BP Flag Rules'!Y$26,C185='BP Flag Rules'!Y$27)+B184","v":0},"BP_ACUTE_P_JNT_ICD","C","ICD","M104","Other secondary gout"]
[null,{"$f":"OR(C186='BP Flag Rules'!Y$18,C186='BP Flag Rules'!Y$19,C186='BP Flag Rules'!Y$20,C186='BP Flag Rules'!Y$21,C186='BP Flag Rules'!Y$22,C186='BP Flag Rules'!Y$23,C186='BP Flag Rules'!Y$24,C186='BP Flag Rules'!Y$25,C186='BP Flag Rules'!Y$26,C186='BP Flag Rules'!Y$27)+B185","v":0},"BP_ACUTE_P_JNT_ICD","C","ICD","M109","Gout, unspecified"]
[null,{"$f":"OR(C187='BP Flag Rules'!Y$18,C187='BP Flag Rules'!Y$19,C187='BP Flag Rules'!Y$20,C187='BP Flag Rules'!Y$21,C187='BP Flag Rules'!Y$22,C187='BP Flag Rules'!Y$23,C187='BP Flag Rules'!Y$24,C187='BP Flag Rules'!Y$25,C187='BP Flag Rules'!Y$26,C187='BP Flag Rules'!Y$27)+B186","v":0},"BP_ACUTE_P_JNT_ICD","C","ICD","M1090","Gout, unspecified: Multiple sites"]
[null,{"$f":"OR(C188='BP Flag Rules'!Y$18,C188='BP Flag Rules'!Y$19,C188='BP Flag Rules'!Y$20,C188='BP Flag Rules'!Y$21,C188='BP Flag Rules'!Y$22,C188='BP Flag Rules'!Y$23,C188='BP Flag Rules'!Y$24,C188='BP Flag Rules'!Y$25,C188='BP Flag Rules'!Y$26,C188='BP Flag Rules'!Y$27)+B187","v":0},"BP_ACUTE_P_JNT_ICD","C","ICD","M1091","Gout, unspecified: Shoulder region"]
[null,{"$f":"OR(C189='BP Flag Rules'!Y$18,C189='BP Flag Rules'!Y$19,C189='BP Flag Rules'!Y$20,C189='BP Flag Rules'!Y$21,C189='BP Flag Rules'!Y$22,C189='BP Flag Rules'!Y$23,C189='BP Flag Rules'!Y$24,C189='BP Flag Rules'!Y$25,C189='BP Flag Rules'!Y$26,C189='BP Flag Rules'!Y$27)+B188","v":0},"BP_ACUTE_P_JNT_ICD","C","ICD","M1092","Gout, unspecified: Upper arm"]
[null,{"$f":"OR(C190='BP Flag Rules'!Y$18,C190='BP Flag Rules'!Y$19,C190='BP Flag Rules'!Y$20,C190='BP Flag Rules'!Y$21,C190='BP Flag Rules'!Y$22,C190='BP Flag Rules'!Y$23,C190='BP Flag Rules'!Y$24,C190='BP Flag Rules'!Y$25,C190='BP Flag Rules'!Y$26,C190='BP Flag Rules'!Y$27)+B189","v":0},"BP_ACUTE_P_JNT_ICD","C","ICD","M1093","Gout, unspecified: Forearm"]
[null,{"$f":"OR(C191='BP Flag Rules'!Y$18,C191='BP Flag Rules'!Y$19,C191='BP Flag Rules'!Y$20,C191='BP Flag Rules'!Y$21,C191='BP Flag Rules'!Y$22,C191='BP Flag Rules'!Y$23,C191='BP Flag Rules'!Y$24,C191='BP Flag Rules'!Y$25,C191='BP Flag Rules'!Y$26,C191='BP Flag Rules'!Y$27)+B190","v":0},"BP_ACUTE_P_JNT_ICD","C","ICD","M1094","Gout, unspecified: Hand"]
[null,{"$f":"OR(C192='BP Flag Rules'!Y$18,C192='BP Flag Rules'!Y$19,C192='BP Flag Rules'!Y$20,C192='BP Flag Rules'!Y$21,C192='BP Flag Rules'!Y$22,C192='BP Flag Rules'!Y$23,C192='BP Flag Rules'!Y$24,C192='BP Flag Rules'!Y$25,C192='BP Flag Rules'!Y$26,C192='BP Flag Rules'!Y$27)+B191","v":0},"BP_ACUTE_P_JNT_ICD","C","ICD","M1095","Gout, unspecified: Pelvic region and thigh"]
[null,{"$f":"OR(C193='BP Flag Rules'!Y$18,C193='BP Flag Rules'!Y$19,C193='BP Flag Rules'!Y$20,C193='BP Flag Rules'!Y$21,C193='BP Flag Rules'!Y$22,C193='BP Flag Rules'!Y$23,C193='BP Flag Rules'!Y$24,C193='BP Flag Rules'!Y$25,C193='BP Flag Rules'!Y$26,C193='BP Flag Rules'!Y$27)+B192","v":0},"BP_ACUTE_P_JNT_ICD","C","ICD","M1096","Gout, unspecified: Lower leg"]
[null,{"$f":"OR(C194='BP Flag Rules'!Y$18,C194='BP Flag Rules'!Y$19,C194='BP Flag Rules'!Y$20,C194='BP Flag Rules'!Y$21,C194='BP Flag Rules'!Y$22,C194='BP Flag Rules'!Y$23,C194='BP Flag Rules'!Y$24,C194='BP Flag Rules'!Y$25,C194='BP Flag Rules'!Y$26,C194='BP Flag Rules'!Y$27)+B193","v":0},"BP_ACUTE_P_JNT_ICD","C","ICD","M1097","Gout, unspecified: Ankle and foot"]
[null,{"$f":"OR(C195='BP Flag Rules'!Y$18,C195='BP Flag Rules'!Y$19,C195='BP Flag Rules'!Y$20,C195='BP Flag Rules'!Y$21,C195='BP Flag Rules'!Y$22,C195='BP Flag Rules'!Y$23,C195='BP Flag Rules'!Y$24,C195='BP Flag Rules'!Y$25,C195='BP Flag Rules'!Y$26,C195='BP Flag Rules'!Y$27)+B194","v":0},"BP_ACUTE_P_JNT_ICD","C","ICD","M1098","Gout, unspecified: Other"]
[null,{"$f":"OR(C196='BP Flag Rules'!Y$18,C196='BP Flag Rules'!Y$19,C196='BP Flag Rules'!Y$20,C196='BP Flag Rules'!Y$21,C196='BP Flag Rules'!Y$22,C196='BP Flag Rules'!Y$23,C196='BP Flag Rules'!Y$24,C196='BP Flag Rules'!Y$25,C196='BP Flag Rules'!Y$26,C196='BP Flag Rules'!Y$27)+B195","v":0},"BP_ACUTE_P_JNT_ICD","C","ICD","M1099","Gout, unspecified: Site unspecified"]
[null,{"$f":"OR(C197='BP Flag Rules'!Y$18,C197='BP Flag Rules'!Y$19,C197='BP Flag Rules'!Y$20,C197='BP Flag Rules'!Y$21,C197='BP Flag Rules'!Y$22,C197='BP Flag Rules'!Y$23,C197='BP Flag Rules'!Y$24,C197='BP Flag Rules'!Y$25,C197='BP Flag Rules'!Y$26,C197='BP Flag Rules'!Y$27)+B196","v":0},"BP_ACUTE_P_JNT_ICD","C","ICD","M119","Crystal arthropathy, unspecified"]
[null,{"$f":"OR(C198='BP Flag Rules'!Y$18,C198='BP Flag Rules'!Y$19,C198='BP Flag Rules'!Y$20,C198='BP Flag Rules'!Y$21,C198='BP Flag Rules'!Y$22,C198='BP Flag Rules'!Y$23,C198='BP Flag Rules'!Y$24,C198='BP Flag Rules'!Y$25,C198='BP Flag Rules'!Y$26,C198='BP Flag Rules'!Y$27)+B197","v":0},"BP_ACUTE_P_JNT_ICD","C","ICD","M130","Polyarthritis, unspecified"]
[null,{"$f":"OR(C199='BP Flag Rules'!Y$18,C199='BP Flag Rules'!Y$19,C199='BP Flag Rules'!Y$20,C199='BP Flag Rules'!Y$21,C199='BP Flag Rules'!Y$22,C199='BP Flag Rules'!Y$23,C199='BP Flag Rules'!Y$24,C199='BP Flag Rules'!Y$25,C199='BP Flag Rules'!Y$26,C199='BP Flag Rules'!Y$27)+B198","v":0},"BP_ACUTE_P_JNT_ICD","C","ICD","M139","Arthritis, unspecified"]
[null,{"$f":"OR(C200='BP Flag Rules'!Y$18,C200='BP Flag Rules'!Y$19,C200='BP Flag Rules'!Y$20,C200='BP Flag Rules'!Y$21,C200='BP Flag Rules'!Y$22,C200='BP Flag Rules'!Y$23,C200='BP Flag Rules'!Y$24,C200='BP Flag Rules'!Y$25,C200='BP Flag Rules'!Y$26,C200='BP Flag Rules'!Y$27)+B199","v":0},"BP_ACUTE_P_JNT_ICD","C","ICD","M1390","Arthritis, unspecified: Multiple sites"]
[null,{"$f":"OR(C201='BP Flag Rules'!Y$18,C201='BP Flag Rules'!Y$19,C201='BP Flag Rules'!Y$20,C201='BP Flag Rules'!Y$21,C201='BP Flag Rules'!Y$22,C201='BP Flag Rules'!Y$23,C201='BP Flag Rules'!Y$24,C201='BP Flag Rules'!Y$25,C201='BP Flag Rules'!Y$26,C201='BP Flag Rules'!Y$27)+B200","v":0},"BP_ACUTE_P_JNT_ICD","C","ICD","M1391","Arthritis, unspecified: Shoulder region"]
[null,{"$f":"OR(C202='BP Flag Rules'!Y$18,C202='BP Flag Rules'!Y$19,C202='BP Flag Rules'!Y$20,C202='BP Flag Rules'!Y$21,C202='BP Flag Rules'!Y$22,C202='BP Flag Rules'!Y$23,C202='BP Flag Rules'!Y$24,C202='BP Flag Rules'!Y$25,C202='BP Flag Rules'!Y$26,C202='BP Flag Rules'!Y$27)+B201","v":0},"BP_ACUTE_P_JNT_ICD","C","ICD","M1392","Arthritis, unspecified: Upper arm"]
[null,{"$f":"OR(C203='BP Flag Rules'!Y$18,C203='BP Flag Rules'!Y$19,C203='BP Flag Rules'!Y$20,C203='BP Flag Rules'!Y$21,C203='BP Flag Rules'!Y$22,C203='BP Flag Rules'!Y$23,C203='BP Flag Rules'!Y$24,C203='BP Flag Rules'!Y$25,C203='BP Flag Rules'!Y$26,C203='BP Flag Rules'!Y$27)+B202","v":0},"BP_ACUTE_P_JNT_ICD","C","ICD","M1393","Arthritis, unspecified: Forearm"]
[null,{"$f":"OR(C204='BP Flag Rules'!Y$18,C204='BP Flag Rules'!Y$19,C204='BP Flag Rules'!Y$20,C204='BP Flag Rules'!Y$21,C204='BP Flag Rules'!Y$22,C204='BP Flag Rules'!Y$23,C204='BP Flag Rules'!Y$24,C204='BP Flag Rules'!Y$25,C204='BP Flag Rules'!Y$26,C204='BP Flag Rules'!Y$27)+B203","v":0},"BP_ACUTE_P_JNT_ICD","C","ICD","M1394","Arthritis, unspecified: Hand"]
[null,{"$f":"OR(C205='BP Flag Rules'!Y$18,C205='BP Flag Rules'!Y$19,C205='BP Flag Rules'!Y$20,C205='BP Flag Rules'!Y$21,C205='BP Flag Rules'!Y$22,C205='BP Flag Rules'!Y$23,C205='BP Flag Rules'!Y$24,C205='BP Flag Rules'!Y$25,C205='BP Flag Rules'!Y$26,C205='BP Flag Rules'!Y$27)+B204","v":0},"BP_ACUTE_P_JNT_ICD","C","ICD","M1395","Arthritis, unspecified: Pelvic region and thigh"]
[null,{"$f":"OR(C206='BP Flag Rules'!Y$18,C206='BP Flag Rules'!Y$19,C206='BP Flag Rules'!Y$20,C206='BP Flag Rules'!Y$21,C206='BP Flag Rules'!Y$22,C206='BP Flag Rules'!Y$23,C206='BP Flag Rules'!Y$24,C206='BP Flag Rules'!Y$25,C206='BP Flag Rules'!Y$26,C206='BP Flag Rules'!Y$27)+B205","v":0},"BP_ACUTE_P_JNT_ICD","C","ICD","M1396","Arthritis, unspecified: Lower leg"]
[null,{"$f":"OR(C207='BP Flag Rules'!Y$18,C207='BP Flag Rules'!Y$19,C207='BP Flag Rules'!Y$20,C207='BP Flag Rules'!Y$21,C207='BP Flag Rules'!Y$22,C207='BP Flag Rules'!Y$23,C207='BP Flag Rules'!Y$24,C207='BP Flag Rules'!Y$25,C207='BP Flag Rules'!Y$26,C207='BP Flag Rules'!Y$27)+B206","v":0},"BP_ACUTE_P_JNT_ICD","C","ICD","M1397","Arthritis, unspecified: Ankle and foot"]
[null,{"$f":"OR(C208='BP Flag Rules'!Y$18,C208='BP Flag Rules'!Y$19,C208='BP Flag Rules'!Y$20,C208='BP Flag Rules'!Y$21,C208='BP Flag Rules'!Y$22,C208='BP Flag Rules'!Y$23,C208='BP Flag Rules'!Y$24,C208='BP Flag Rules'!Y$25,C208='BP Flag Rules'!Y$26,C208='BP Flag Rules'!Y$27)+B207","v":0},"BP_ACUTE_P_JNT_ICD","C","ICD","M1398","Arthritis, unspecified: Other"]
[null,{"$f":"OR(C209='BP Flag Rules'!Y$18,C209='BP Flag Rules'!Y$19,C209='BP Flag Rules'!Y$20,C209='BP Flag Rules'!Y$21,C209='BP Flag Rules'!Y$22,C209='BP Flag Rules'!Y$23,C209='BP Flag Rules'!Y$24,C209='BP Flag Rules'!Y$25,C209='BP Flag Rules'!Y$26,C209='BP Flag Rules'!Y$27)+B208","v":0},"BP_ACUTE_P_JNT_ICD","C","ICD","M1399","Arthritis, unspecified: Site unspecified"]
[null,{"$f":"OR(C210='BP Flag Rules'!Y$18,C210='BP Flag Rules'!Y$19,C210='BP Flag Rules'!Y$20,C210='BP Flag Rules'!Y$21,C210='BP Flag Rules'!Y$22,C210='BP Flag Rules'!Y$23,C210='BP Flag Rules'!Y$24,C210='BP Flag Rules'!Y$25,C210='BP Flag Rules'!Y$26,C210='BP Flag Rules'!Y$27)+B209","v":0},"BP_ACUTE_P_JNT_ICD","C","ICD","M202","Hallux rigidus"]
[null,{"$f":"OR(C211='BP Flag Rules'!Y$18,C211='BP Flag Rules'!Y$19,C211='BP Flag Rules'!Y$20,C211='BP Flag Rules'!Y$21,C211='BP Flag Rules'!Y$22,C211='BP Flag Rules'!Y$23,C211='BP Flag Rules'!Y$24,C211='BP Flag Rules'!Y$25,C211='BP Flag Rules'!Y$26,C211='BP Flag Rules'!Y$27)+B210","v":0},"BP_ACUTE_P_JNT_ICD","C","ICD","M255","Pain in joint"]
[null,{"$f":"OR(C212='BP Flag Rules'!Y$18,C212='BP Flag Rules'!Y$19,C212='BP Flag Rules'!Y$20,C212='BP Flag Rules'!Y$21,C212='BP Flag Rules'!Y$22,C212='BP Flag Rules'!Y$23,C212='BP Flag Rules'!Y$24,C212='BP Flag Rules'!Y$25,C212='BP Flag Rules'!Y$26,C212='BP Flag Rules'!Y$27)+B211","v":0},"BP_ACUTE_P_JNT_ICD","C","ICD","M2550","Pain in joint: Multiple sites"]
[null,{"$f":"OR(C213='BP Flag Rules'!Y$18,C213='BP Flag Rules'!Y$19,C213='BP Flag Rules'!Y$20,C213='BP Flag Rules'!Y$21,C213='BP Flag Rules'!Y$22,C213='BP Flag Rules'!Y$23,C213='BP Flag Rules'!Y$24,C213='BP Flag Rules'!Y$25,C213='BP Flag Rules'!Y$26,C213='BP Flag Rules'!Y$27)+B212","v":0},"BP_ACUTE_P_JNT_ICD","C","ICD","M2551","Pain in joint: Shoulder region"]
[null,{"$f":"OR(C214='BP Flag Rules'!Y$18,C214='BP Flag Rules'!Y$19,C214='BP Flag Rules'!Y$20,C214='BP Flag Rules'!Y$21,C214='BP Flag Rules'!Y$22,C214='BP Flag Rules'!Y$23,C214='BP Flag Rules'!Y$24,C214='BP Flag Rules'!Y$25,C214='BP Flag Rules'!Y$26,C214='BP Flag Rules'!Y$27)+B213","v":0},"BP_ACUTE_P_JNT_ICD","C","ICD","M2552","Pain in joint: Upper arm"]
[null,{"$f":"OR(C215='BP Flag Rules'!Y$18,C215='BP Flag Rules'!Y$19,C215='BP Flag Rules'!Y$20,C215='BP Flag Rules'!Y$21,C215='BP Flag Rules'!Y$22,C215='BP Flag Rules'!Y$23,C215='BP Flag Rules'!Y$24,C215='BP Flag Rules'!Y$25,C215='BP Flag Rules'!Y$26,C215='BP Flag Rules'!Y$27)+B214","v":0},"BP_ACUTE_P_JNT_ICD","C","ICD","M2553","Pain in joint: Forearm"]
[null,{"$f":"OR(C216='BP Flag Rules'!Y$18,C216='BP Flag Rules'!Y$19,C216='BP Flag Rules'!Y$20,C216='BP Flag Rules'!Y$21,C216='BP Flag Rules'!Y$22,C216='BP Flag Rules'!Y$23,C216='BP Flag Rules'!Y$24,C216='BP Flag Rules'!Y$25,C216='BP Flag Rules'!Y$26,C216='BP Flag Rules'!Y$27)+B215","v":0},"BP_ACUTE_P_JNT_ICD","C","ICD","M2554","Pain in joint: Hand"]
[null,{"$f":"OR(C217='BP Flag Rules'!Y$18,C217='BP Flag Rules'!Y$19,C217='BP Flag Rules'!Y$20,C217='BP Flag Rules'!Y$21,C217='BP Flag Rules'!Y$22,C217='BP Flag Rules'!Y$23,C217='BP Flag Rules'!Y$24,C217='BP Flag Rules'!Y$25,C217='BP Flag Rules'!Y$26,C217='BP Flag Rules'!Y$27)+B216","v":0},"BP_ACUTE_P_JNT_ICD","C","ICD","M2556","Pain in joint: Lower leg"]
[null,{"$f":"OR(C218='BP Flag Rules'!Y$18,C218='BP Flag Rules'!Y$19,C218='BP Flag Rules'!Y$20,C218='BP Flag Rules'!Y$21,C218='BP Flag Rules'!Y$22,C218='BP Flag Rules'!Y$23,C218='BP Flag Rules'!Y$24,C218='BP Flag Rules'!Y$25,C218='BP Flag Rules'!Y$26,C218='BP Flag Rules'!Y$27)+B217","v":0},"BP_ACUTE_P_JNT_ICD","C","ICD","M2557","Pain in joint: Ankle and foot"]
[null,{"$f":"OR(C219='BP Flag Rules'!Y$18,C219='BP Flag Rules'!Y$19,C219='BP Flag Rules'!Y$20,C219='BP Flag Rules'!Y$21,C219='BP Flag Rules'!Y$22,C219='BP Flag Rules'!Y$23,C219='BP Flag Rules'!Y$24,C219='BP Flag Rules'!Y$25,C219='BP Flag Rules'!Y$26,C219='BP Flag Rules'!Y$27)+B218","v":0},"BP_ACUTE_P_JNT_ICD","C","ICD","M2558","Pain in joint: Other"]
[null,{"$f":"OR(C220='BP Flag Rules'!Y$18,C220='BP Flag Rules'!Y$19,C220='BP Flag Rules'!Y$20,C220='BP Flag Rules'!Y$21,C220='BP Flag Rules'!Y$22,C220='BP Flag Rules'!Y$23,C220='BP Flag Rules'!Y$24,C220='BP Flag Rules'!Y$25,C220='BP Flag Rules'!Y$26,C220='BP Flag Rules'!Y$27)+B219","v":0},"BP_ACUTE_P_JNT_ICD","C","ICD","M2559","Pain in joint: Site unspecified"]
[null,{"$f":"OR(C221='BP Flag Rules'!Y$18,C221='BP Flag Rules'!Y$19,C221='BP Flag Rules'!Y$20,C221='BP Flag Rules'!Y$21,C221='BP Flag Rules'!Y$22,C221='BP Flag Rules'!Y$23,C221='BP Flag Rules'!Y$24,C221='BP Flag Rules'!Y$25,C221='BP Flag Rules'!Y$26,C221='BP Flag Rules'!Y$27)+B220","v":0},"BP_ACUTE_P_JNT_ICD","C","ICD","M256","Stiffness of joint, not elsewhere classified"]
[null,{"$f":"OR(C222='BP Flag Rules'!Y$18,C222='BP Flag Rules'!Y$19,C222='BP Flag Rules'!Y$20,C222='BP Flag Rules'!Y$21,C222='BP Flag Rules'!Y$22,C222='BP Flag Rules'!Y$23,C222='BP Flag Rules'!Y$24,C222='BP Flag Rules'!Y$25,C222='BP Flag Rules'!Y$26,C222='BP Flag Rules'!Y$27)+B221","v":0},"BP_ACUTE_P_JNT_ICD","C","ICD","M259","Joint disorder, unspecified"]
[null,{"$f":"OR(C223='BP Flag Rules'!Y$18,C223='BP Flag Rules'!Y$19,C223='BP Flag Rules'!Y$20,C223='BP Flag Rules'!Y$21,C223='BP Flag Rules'!Y$22,C223='BP Flag Rules'!Y$23,C223='BP Flag Rules'!Y$24,C223='BP Flag Rules'!Y$25,C223='BP Flag Rules'!Y$26,C223='BP Flag Rules'!Y$27)+B222","v":0},"BP_ACUTE_P_JNT_ICD","C","ICD","M660","Rupture of popliteal cyst"]
[null,{"$f":"OR(C224='BP Flag Rules'!Y$18,C224='BP Flag Rules'!Y$19,C224='BP Flag Rules'!Y$20,C224='BP Flag Rules'!Y$21,C224='BP Flag Rules'!Y$22,C224='BP Flag Rules'!Y$23,C224='BP Flag Rules'!Y$24,C224='BP Flag Rules'!Y$25,C224='BP Flag Rules'!Y$26,C224='BP Flag Rules'!Y$27)+B223","v":0},"BP_ACUTE_P_JNT_ICD","C","ICD","M673","Transient synovitis"]
[null,{"$f":"OR(C225='BP Flag Rules'!Y$18,C225='BP Flag Rules'!Y$19,C225='BP Flag Rules'!Y$20,C225='BP Flag Rules'!Y$21,C225='BP Flag Rules'!Y$22,C225='BP Flag Rules'!Y$23,C225='BP Flag Rules'!Y$24,C225='BP Flag Rules'!Y$25,C225='BP Flag Rules'!Y$26,C225='BP Flag Rules'!Y$27)+B224","v":0},"BP_ACUTE_P_JNT_ICD","C","ICD","M712","Synovial cyst of popliteal space [Baker]"]
[null,{"$f":"OR(C226='BP Flag Rules'!Y$18,C226='BP Flag Rules'!Y$19,C226='BP Flag Rules'!Y$20,C226='BP Flag Rules'!Y$21,C226='BP Flag Rules'!Y$22,C226='BP Flag Rules'!Y$23,C226='BP Flag Rules'!Y$24,C226='BP Flag Rules'!Y$25,C226='BP Flag Rules'!Y$26,C226='BP Flag Rules'!Y$27)+B225","v":0},"BP_APPFRAC_ICD","C","ICD","S420","Fracture of clavicle"]
[null,{"$f":"OR(C227='BP Flag Rules'!Y$18,C227='BP Flag Rules'!Y$19,C227='BP Flag Rules'!Y$20,C227='BP Flag Rules'!Y$21,C227='BP Flag Rules'!Y$22,C227='BP Flag Rules'!Y$23,C227='BP Flag Rules'!Y$24,C227='BP Flag Rules'!Y$25,C227='BP Flag Rules'!Y$26,C227='BP Flag Rules'!Y$27)+B226","v":0},"BP_APPFRAC_ICD","C","ICD","S4200","Fracture of clavicle: closed"]
[null,{"$f":"OR(C228='BP Flag Rules'!Y$18,C228='BP Flag Rules'!Y$19,C228='BP Flag Rules'!Y$20,C228='BP Flag Rules'!Y$21,C228='BP Flag Rules'!Y$22,C228='BP Flag Rules'!Y$23,C228='BP Flag Rules'!Y$24,C228='BP Flag Rules'!Y$25,C228='BP Flag Rules'!Y$26,C228='BP Flag Rules'!Y$27)+B227","v":0},"BP_APPFRAC_ICD","C","ICD","S422","Fracture of upper end of humerus"]
[null,{"$f":"OR(C229='BP Flag Rules'!Y$18,C229='BP Flag Rules'!Y$19,C229='BP Flag Rules'!Y$20,C229='BP Flag Rules'!Y$21,C229='BP Flag Rules'!Y$22,C229='BP Flag Rules'!Y$23,C229='BP Flag Rules'!Y$24,C229='BP Flag Rules'!Y$25,C229='BP Flag Rules'!Y$26,C229='BP Flag Rules'!Y$27)+B228","v":0},"BP_APPFRAC_ICD","C","ICD","S4220","Fracture of upper end of humerus: closed"]
[null,{"$f":"OR(C230='BP Flag Rules'!Y$18,C230='BP Flag Rules'!Y$19,C230='BP Flag Rules'!Y$20,C230='BP Flag Rules'!Y$21,C230='BP Flag Rules'!Y$22,C230='BP Flag Rules'!Y$23,C230='BP Flag Rules'!Y$24,C230='BP Flag Rules'!Y$25,C230='BP Flag Rules'!Y$26,C230='BP Flag Rules'!Y$27)+B229","v":0},"BP_APPFRAC_ICD","C","ICD","S423","Fracture of shaft of humerus"]
[null,{"$f":"OR(C231='BP Flag Rules'!Y$18,C231='BP Flag Rules'!Y$19,C231='BP Flag Rules'!Y$20,C231='BP Flag Rules'!Y$21,C231='BP Flag Rules'!Y$22,C231='BP Flag Rules'!Y$23,C231='BP Flag Rules'!Y$24,C231='BP Flag Rules'!Y$25,C231='BP Flag Rules'!Y$26,C231='BP Flag Rules'!Y$27)+B230","v":0},"BP_APPFRAC_ICD","C","ICD","S4230","Fracture of shaft of humerus: closed"]
[null,{"$f":"OR(C232='BP Flag Rules'!Y$18,C232='BP Flag Rules'!Y$19,C232='BP Flag Rules'!Y$20,C232='BP Flag Rules'!Y$21,C232='BP Flag Rules'!Y$22,C232='BP Flag Rules'!Y$23,C232='BP Flag Rules'!Y$24,C232='BP Flag Rules'!Y$25,C232='BP Flag Rules'!Y$26,C232='BP Flag Rules'!Y$27)+B231","v":0},"BP_APPFRAC_ICD","C","ICD","S424","Fracture of lower end of humerus"]
[null,{"$f":"OR(C233='BP Flag Rules'!Y$18,C233='BP Flag Rules'!Y$19,C233='BP Flag Rules'!Y$20,C233='BP Flag Rules'!Y$21,C233='BP Flag Rules'!Y$22,C233='BP Flag Rules'!Y$23,C233='BP Flag Rules'!Y$24,C233='BP Flag Rules'!Y$25,C233='BP Flag Rules'!Y$26,C233='BP Flag Rules'!Y$27)+B232","v":0},"BP_APPFRAC_ICD","C","ICD","S4240","Fracture of lower end of humerus: closed"]
[null,{"$f":"OR(C234='BP Flag Rules'!Y$18,C234='BP Flag Rules'!Y$19,C234='BP Flag Rules'!Y$20,C234='BP Flag Rules'!Y$21,C234='BP Flag Rules'!Y$22,C234='BP Flag Rules'!Y$23,C234='BP Flag Rules'!Y$24,C234='BP Flag Rules'!Y$25,C234='BP Flag Rules'!Y$26,C234='BP Flag Rules'!Y$27)+B233","v":0},"BP_APPFRAC_ICD","C","ICD","S520","Fracture of upper end of ulna"]
[null,{"$f":"OR(C235='BP Flag Rules'!Y$18,C235='BP Flag Rules'!Y$19,C235='BP Flag Rules'!Y$20,C235='BP Flag Rules'!Y$21,C235='BP Flag Rules'!Y$22,C235='BP Flag Rules'!Y$23,C235='BP Flag Rules'!Y$24,C235='BP Flag Rules'!Y$25,C235='BP Flag Rules'!Y$26,C235='BP Flag Rules'!Y$27)+B234","v":0},"BP_APPFRAC_ICD","C","ICD","S5200","Fracture of upper end of ulna: closed"]
[null,{"$f":"OR(C236='BP Flag Rules'!Y$18,C236='BP Flag Rules'!Y$19,C236='BP Flag Rules'!Y$20,C236='BP Flag Rules'!Y$21,C236='BP Flag Rules'!Y$22,C236='BP Flag Rules'!Y$23,C236='BP Flag Rules'!Y$24,C236='BP Flag Rules'!Y$25,C236='BP Flag Rules'!Y$26,C236='BP Flag Rules'!Y$27)+B235","v":0},"BP_APPFRAC_ICD","C","ICD","S521","Fracture of upper end of radius"]
[null,{"$f":"OR(C237='BP Flag Rules'!Y$18,C237='BP Flag Rules'!Y$19,C237='BP Flag Rules'!Y$20,C237='BP Flag Rules'!Y$21,C237='BP Flag Rules'!Y$22,C237='BP Flag Rules'!Y$23,C237='BP Flag Rules'!Y$24,C237='BP Flag Rules'!Y$25,C237='BP Flag Rules'!Y$26,C237='BP Flag Rules'!Y$27)+B236","v":0},"BP_APPFRAC_ICD","C","ICD","S5210","Fracture of upper end of radius: closed"]
[null,{"$f":"OR(C238='BP Flag Rules'!Y$18,C238='BP Flag Rules'!Y$19,C238='BP Flag Rules'!Y$20,C238='BP Flag Rules'!Y$21,C238='BP Flag Rules'!Y$22,C238='BP Flag Rules'!Y$23,C238='BP Flag Rules'!Y$24,C238='BP Flag Rules'!Y$25,C238='BP Flag Rules'!Y$26,C238='BP Flag Rules'!Y$27)+B237","v":0},"BP_APPFRAC_ICD","C","ICD","S522","Fracture of shaft of ulna"]
[null,{"$f":"OR(C239='BP Flag Rules'!Y$18,C239='BP Flag Rules'!Y$19,C239='BP Flag Rules'!Y$20,C239='BP Flag Rules'!Y$21,C239='BP Flag Rules'!Y$22,C239='BP Flag Rules'!Y$23,C239='BP Flag Rules'!Y$24,C239='BP Flag Rules'!Y$25,C239='BP Flag Rules'!Y$26,C239='BP Flag Rules'!Y$27)+B238","v":0},"BP_APPFRAC_ICD","C","ICD","S5220","Fracture of shaft of ulna: closed"]
[null,{"$f":"OR(C240='BP Flag Rules'!Y$18,C240='BP Flag Rules'!Y$19,C240='BP Flag Rules'!Y$20,C240='BP Flag Rules'!Y$21,C240='BP Flag Rules'!Y$22,C240='BP Flag Rules'!Y$23,C240='BP Flag Rules'!Y$24,C240='BP Flag Rules'!Y$25,C240='BP Flag Rules'!Y$26,C240='BP Flag Rules'!Y$27)+B239","v":0},"BP_APPFRAC_ICD","C","ICD","S523","Fracture of shaft of radius"]
[null,{"$f":"OR(C241='BP Flag Rules'!Y$18,C241='BP Flag Rules'!Y$19,C241='BP Flag Rules'!Y$20,C241='BP Flag Rules'!Y$21,C241='BP Flag Rules'!Y$22,C241='BP Flag Rules'!Y$23,C241='BP Flag Rules'!Y$24,C241='BP Flag Rules'!Y$25,C241='BP Flag Rules'!Y$26,C241='BP Flag Rules'!Y$27)+B240","v":0},"BP_APPFRAC_ICD","C","ICD","S5230","Fracture of shaft of radius: closed"]
[null,{"$f":"OR(C242='BP Flag Rules'!Y$18,C242='BP Flag Rules'!Y$19,C242='BP Flag Rules'!Y$20,C242='BP Flag Rules'!Y$21,C242='BP Flag Rules'!Y$22,C242='BP Flag Rules'!Y$23,C242='BP Flag Rules'!Y$24,C242='BP Flag Rules'!Y$25,C242='BP Flag Rules'!Y$26,C242='BP Flag Rules'!Y$27)+B241","v":0},"BP_APPFRAC_ICD","C","ICD","S524","Fracture of shafts of both ulna and radius"]
[null,{"$f":"OR(C243='BP Flag Rules'!Y$18,C243='BP Flag Rules'!Y$19,C243='BP Flag Rules'!Y$20,C243='BP Flag Rules'!Y$21,C243='BP Flag Rules'!Y$22,C243='BP Flag Rules'!Y$23,C243='BP Flag Rules'!Y$24,C243='BP Flag Rules'!Y$25,C243='BP Flag Rules'!Y$26,C243='BP Flag Rules'!Y$27)+B242","v":0},"BP_APPFRAC_ICD","C","ICD","S5240","Fracture of shafts of both ulna and radius: closed"]
[null,{"$f":"OR(C244='BP Flag Rules'!Y$18,C244='BP Flag Rules'!Y$19,C244='BP Flag Rules'!Y$20,C244='BP Flag Rules'!Y$21,C244='BP Flag Rules'!Y$22,C244='BP Flag Rules'!Y$23,C244='BP Flag Rules'!Y$24,C244='BP Flag Rules'!Y$25,C244='BP Flag Rules'!Y$26,C244='BP Flag Rules'!Y$27)+B243","v":0},"BP_APPFRAC_ICD","C","ICD","S525","Fracture of lower end of radius"]
[null,{"$f":"OR(C245='BP Flag Rules'!Y$18,C245='BP Flag Rules'!Y$19,C245='BP Flag Rules'!Y$20,C245='BP Flag Rules'!Y$21,C245='BP Flag Rules'!Y$22,C245='BP Flag Rules'!Y$23,C245='BP Flag Rules'!Y$24,C245='BP Flag Rules'!Y$25,C245='BP Flag Rules'!Y$26,C245='BP Flag Rules'!Y$27)+B244","v":0},"BP_APPFRAC_ICD","C","ICD","S5250","Fracture of lower end of radius: closed"]
[null,{"$f":"OR(C246='BP Flag Rules'!Y$18,C246='BP Flag Rules'!Y$19,C246='BP Flag Rules'!Y$20,C246='BP Flag Rules'!Y$21,C246='BP Flag Rules'!Y$22,C246='BP Flag Rules'!Y$23,C246='BP Flag Rules'!Y$24,C246='BP Flag Rules'!Y$25,C246='BP Flag Rules'!Y$26,C246='BP Flag Rules'!Y$27)+B245","v":0},"BP_APPFRAC_ICD","C","ICD","S526","Fracture of lower end of both ulna and radius"]
[null,{"$f":"OR(C247='BP Flag Rules'!Y$18,C247='BP Flag Rules'!Y$19,C247='BP Flag Rules'!Y$20,C247='BP Flag Rules'!Y$21,C247='BP Flag Rules'!Y$22,C247='BP Flag Rules'!Y$23,C247='BP Flag Rules'!Y$24,C247='BP Flag Rules'!Y$25,C247='BP Flag Rules'!Y$26,C247='BP Flag Rules'!Y$27)+B246","v":0},"BP_APPFRAC_ICD","C","ICD","S5260","Fracture of lower end of both ulna and radius: closed"]
[null,{"$f":"OR(C248='BP Flag Rules'!Y$18,C248='BP Flag Rules'!Y$19,C248='BP Flag Rules'!Y$20,C248='BP Flag Rules'!Y$21,C248='BP Flag Rules'!Y$22,C248='BP Flag Rules'!Y$23,C248='BP Flag Rules'!Y$24,C248='BP Flag Rules'!Y$25,C248='BP Flag Rules'!Y$26,C248='BP Flag Rules'!Y$27)+B247","v":0},"BP_APPFRAC_ICD","C","ICD","S528","Fracture of other parts of forearm"]
[null,{"$f":"OR(C249='BP Flag Rules'!Y$18,C249='BP Flag Rules'!Y$19,C249='BP Flag Rules'!Y$20,C249='BP Flag Rules'!Y$21,C249='BP Flag Rules'!Y$22,C249='BP Flag Rules'!Y$23,C249='BP Flag Rules'!Y$24,C249='BP Flag Rules'!Y$25,C249='BP Flag Rules'!Y$26,C249='BP Flag Rules'!Y$27)+B248","v":0},"BP_APPFRAC_ICD","C","ICD","S5280","Fracture of other parts of forearm: closed"]
[null,{"$f":"OR(C250='BP Flag Rules'!Y$18,C250='BP Flag Rules'!Y$19,C250='BP Flag Rules'!Y$20,C250='BP Flag Rules'!Y$21,C250='BP Flag Rules'!Y$22,C250='BP Flag Rules'!Y$23,C250='BP Flag Rules'!Y$24,C250='BP Flag Rules'!Y$25,C250='BP Flag Rules'!Y$26,C250='BP Flag Rules'!Y$27)+B249","v":0},"BP_APPFRAC_ICD","C","ICD","S529","Fracture of forearm, part unspecified"]
[null,{"$f":"OR(C251='BP Flag Rules'!Y$18,C251='BP Flag Rules'!Y$19,C251='BP Flag Rules'!Y$20,C251='BP Flag Rules'!Y$21,C251='BP Flag Rules'!Y$22,C251='BP Flag Rules'!Y$23,C251='BP Flag Rules'!Y$24,C251='BP Flag Rules'!Y$25,C251='BP Flag Rules'!Y$26,C251='BP Flag Rules'!Y$27)+B250","v":0},"BP_APPFRAC_ICD","C","ICD","S5290","Fracture of forearm, part unspecified: closed"]
[null,{"$f":"OR(C252='BP Flag Rules'!Y$18,C252='BP Flag Rules'!Y$19,C252='BP Flag Rules'!Y$20,C252='BP Flag Rules'!Y$21,C252='BP Flag Rules'!Y$22,C252='BP Flag Rules'!Y$23,C252='BP Flag Rules'!Y$24,C252='BP Flag Rules'!Y$25,C252='BP Flag Rules'!Y$26,C252='BP Flag Rules'!Y$27)+B251","v":0},"BP_APPFRAC_ICD","C","ICD","S620","Fracture of navicular [scaphoid] bone of hand"]
[null,{"$f":"OR(C253='BP Flag Rules'!Y$18,C253='BP Flag Rules'!Y$19,C253='BP Flag Rules'!Y$20,C253='BP Flag Rules'!Y$21,C253='BP Flag Rules'!Y$22,C253='BP Flag Rules'!Y$23,C253='BP Flag Rules'!Y$24,C253='BP Flag Rules'!Y$25,C253='BP Flag Rules'!Y$26,C253='BP Flag Rules'!Y$27)+B252","v":0},"BP_APPFRAC_ICD","C","ICD","S6200","Fracture of navicular [scaphoid] bone of hand: closed"]
[null,{"$f":"OR(C254='BP Flag Rules'!Y$18,C254='BP Flag Rules'!Y$19,C254='BP Flag Rules'!Y$20,C254='BP Flag Rules'!Y$21,C254='BP Flag Rules'!Y$22,C254='BP Flag Rules'!Y$23,C254='BP Flag Rules'!Y$24,C254='BP Flag Rules'!Y$25,C254='BP Flag Rules'!Y$26,C254='BP Flag Rules'!Y$27)+B253","v":0},"BP_APPFRAC_ICD","C","ICD","S621","Fracture of other carpal bone(s)"]
[null,{"$f":"OR(C255='BP Flag Rules'!Y$18,C255='BP Flag Rules'!Y$19,C255='BP Flag Rules'!Y$20,C255='BP Flag Rules'!Y$21,C255='BP Flag Rules'!Y$22,C255='BP Flag Rules'!Y$23,C255='BP Flag Rules'!Y$24,C255='BP Flag Rules'!Y$25,C255='BP Flag Rules'!Y$26,C255='BP Flag Rules'!Y$27)+B254","v":0},"BP_APPFRAC_ICD","C","ICD","S6210","Fracture of other carpal bone(s): closed"]
[null,{"$f":"OR(C256='BP Flag Rules'!Y$18,C256='BP Flag Rules'!Y$19,C256='BP Flag Rules'!Y$20,C256='BP Flag Rules'!Y$21,C256='BP Flag Rules'!Y$22,C256='BP Flag Rules'!Y$23,C256='BP Flag Rules'!Y$24,C256='BP Flag Rules'!Y$25,C256='BP Flag Rules'!Y$26,C256='BP Flag Rules'!Y$27)+B255","v":0},"BP_APPFRAC_ICD","C","ICD","S820","Fracture of patella"]
[null,{"$f":"OR(C257='BP Flag Rules'!Y$18,C257='BP Flag Rules'!Y$19,C257='BP Flag Rules'!Y$20,C257='BP Flag Rules'!Y$21,C257='BP Flag Rules'!Y$22,C257='BP Flag Rules'!Y$23,C257='BP Flag Rules'!Y$24,C257='BP Flag Rules'!Y$25,C257='BP Flag Rules'!Y$26,C257='BP Flag Rules'!Y$27)+B256","v":0},"BP_APPFRAC_ICD","C","ICD","S8200","Fracture of patella: closed"]
[null,{"$f":"OR(C258='BP Flag Rules'!Y$18,C258='BP Flag Rules'!Y$19,C258='BP Flag Rules'!Y$20,C258='BP Flag Rules'!Y$21,C258='BP Flag Rules'!Y$22,C258='BP Flag Rules'!Y$23,C258='BP Flag Rules'!Y$24,C258='BP Flag Rules'!Y$25,C258='BP Flag Rules'!Y$26,C258='BP Flag Rules'!Y$27)+B257","v":0},"BP_APPFRAC_ICD","C","ICD","S823","Fracture of lower end of tibia"]
[null,{"$f":"OR(C259='BP Flag Rules'!Y$18,C259='BP Flag Rules'!Y$19,C259='BP Flag Rules'!Y$20,C259='BP Flag Rules'!Y$21,C259='BP Flag Rules'!Y$22,C259='BP Flag Rules'!Y$23,C259='BP Flag Rules'!Y$24,C259='BP Flag Rules'!Y$25,C259='BP Flag Rules'!Y$26,C259='BP Flag Rules'!Y$27)+B258","v":0},"BP_APPFRAC_ICD","C","ICD","S8230","Fracture of lower end of tibia: closed"]
[null,{"$f":"OR(C260='BP Flag Rules'!Y$18,C260='BP Flag Rules'!Y$19,C260='BP Flag Rules'!Y$20,C260='BP Flag Rules'!Y$21,C260='BP Flag Rules'!Y$22,C260='BP Flag Rules'!Y$23,C260='BP Flag Rules'!Y$24,C260='BP Flag Rules'!Y$25,C260='BP Flag Rules'!Y$26,C260='BP Flag Rules'!Y$27)+B259","v":0},"BP_APPFRAC_ICD","C","ICD","S824","Fracture of fibula alone"]
[null,{"$f":"OR(C261='BP Flag Rules'!Y$18,C261='BP Flag Rules'!Y$19,C261='BP Flag Rules'!Y$20,C261='BP Flag Rules'!Y$21,C261='BP Flag Rules'!Y$22,C261='BP Flag Rules'!Y$23,C261='BP Flag Rules'!Y$24,C261='BP Flag Rules'!Y$25,C261='BP Flag Rules'!Y$26,C261='BP Flag Rules'!Y$27)+B260","v":0},"BP_APPFRAC_ICD","C","ICD","S8240","Fracture of fibula alone: closed"]
[null,{"$f":"OR(C262='BP Flag Rules'!Y$18,C262='BP Flag Rules'!Y$19,C262='BP Flag Rules'!Y$20,C262='BP Flag Rules'!Y$21,C262='BP Flag Rules'!Y$22,C262='BP Flag Rules'!Y$23,C262='BP Flag Rules'!Y$24,C262='BP Flag Rules'!Y$25,C262='BP Flag Rules'!Y$26,C262='BP Flag Rules'!Y$27)+B261","v":0},"BP_APPFRAC_ICD","C","ICD","S825","Fracture of medial malleolus"]
[null,{"$f":"OR(C263='BP Flag Rules'!Y$18,C263='BP Flag Rules'!Y$19,C263='BP Flag Rules'!Y$20,C263='BP Flag Rules'!Y$21,C263='BP Flag Rules'!Y$22,C263='BP Flag Rules'!Y$23,C263='BP Flag Rules'!Y$24,C263='BP Flag Rules'!Y$25,C263='BP Flag Rules'!Y$26,C263='BP Flag Rules'!Y$27)+B262","v":0},"BP_APPFRAC_ICD","C","ICD","S8250","Fracture of medial malleolus: closed"]
[null,{"$f":"OR(C264='BP Flag Rules'!Y$18,C264='BP Flag Rules'!Y$19,C264='BP Flag Rules'!Y$20,C264='BP Flag Rules'!Y$21,C264='BP Flag Rules'!Y$22,C264='BP Flag Rules'!Y$23,C264='BP Flag Rules'!Y$24,C264='BP Flag Rules'!Y$25,C264='BP Flag Rules'!Y$26,C264='BP Flag Rules'!Y$27)+B263","v":0},"BP_APPFRAC_ICD","C","ICD","S826","Fracture of lateral malleolus"]
[null,{"$f":"OR(C265='BP Flag Rules'!Y$18,C265='BP Flag Rules'!Y$19,C265='BP Flag Rules'!Y$20,C265='BP Flag Rules'!Y$21,C265='BP Flag Rules'!Y$22,C265='BP Flag Rules'!Y$23,C265='BP Flag Rules'!Y$24,C265='BP Flag Rules'!Y$25,C265='BP Flag Rules'!Y$26,C265='BP Flag Rules'!Y$27)+B264","v":0},"BP_APPFRAC_ICD","C","ICD","S8260","Fracture of lateral malleolus: closed"]
[null,{"$f":"OR(C266='BP Flag Rules'!Y$18,C266='BP Flag Rules'!Y$19,C266='BP Flag Rules'!Y$20,C266='BP Flag Rules'!Y$21,C266='BP Flag Rules'!Y$22,C266='BP Flag Rules'!Y$23,C266='BP Flag Rules'!Y$24,C266='BP Flag Rules'!Y$25,C266='BP Flag Rules'!Y$26,C266='BP Flag Rules'!Y$27)+B265","v":0},"BP_APPFRAC_ICD","C","ICD","S828","Fractures of other parts of lower leg"]
[null,{"$f":"OR(C267='BP Flag Rules'!Y$18,C267='BP Flag Rules'!Y$19,C267='BP Flag Rules'!Y$20,C267='BP Flag Rules'!Y$21,C267='BP Flag Rules'!Y$22,C267='BP Flag Rules'!Y$23,C267='BP Flag Rules'!Y$24,C267='BP Flag Rules'!Y$25,C267='BP Flag Rules'!Y$26,C267='BP Flag Rules'!Y$27)+B266","v":0},"BP_APPFRAC_ICD","C","ICD","S8280","Fractures of other parts of lower leg: closed"]
[null,{"$f":"OR(C268='BP Flag Rules'!Y$18,C268='BP Flag Rules'!Y$19,C268='BP Flag Rules'!Y$20,C268='BP Flag Rules'!Y$21,C268='BP Flag Rules'!Y$22,C268='BP Flag Rules'!Y$23,C268='BP Flag Rules'!Y$24,C268='BP Flag Rules'!Y$25,C268='BP Flag Rules'!Y$26,C268='BP Flag Rules'!Y$27)+B267","v":0},"BP_APPFRAC_ICD","C","ICD","S829","Fracture of lower leg, part unspecified"]
[null,{"$f":"OR(C269='BP Flag Rules'!Y$18,C269='BP Flag Rules'!Y$19,C269='BP Flag Rules'!Y$20,C269='BP Flag Rules'!Y$21,C269='BP Flag Rules'!Y$22,C269='BP Flag Rules'!Y$23,C269='BP Flag Rules'!Y$24,C269='BP Flag Rules'!Y$25,C269='BP Flag Rules'!Y$26,C269='BP Flag Rules'!Y$27)+B268","v":0},"BP_APPFRAC_ICD","C","ICD","S8290","Fracture of lower leg, part unspecified: closed"]
[null,{"$f":"OR(C270='BP Flag Rules'!Y$18,C270='BP Flag Rules'!Y$19,C270='BP Flag Rules'!Y$20,C270='BP Flag Rules'!Y$21,C270='BP Flag Rules'!Y$22,C270='BP Flag Rules'!Y$23,C270='BP Flag Rules'!Y$24,C270='BP Flag Rules'!Y$25,C270='BP Flag Rules'!Y$26,C270='BP Flag Rules'!Y$27)+B269","v":0},"BP_APPFRAC_ICD","C","ICD","S920","Fracture of calcaneus"]
[null,{"$f":"OR(C271='BP Flag Rules'!Y$18,C271='BP Flag Rules'!Y$19,C271='BP Flag Rules'!Y$20,C271='BP Flag Rules'!Y$21,C271='BP Flag Rules'!Y$22,C271='BP Flag Rules'!Y$23,C271='BP Flag Rules'!Y$24,C271='BP Flag Rules'!Y$25,C271='BP Flag Rules'!Y$26,C271='BP Flag Rules'!Y$27)+B270","v":0},"BP_APPFRAC_ICD","C","ICD","S9200","Fracture of calcaneus: closed"]
[null,{"$f":"OR(C272='BP Flag Rules'!Y$18,C272='BP Flag Rules'!Y$19,C272='BP Flag Rules'!Y$20,C272='BP Flag Rules'!Y$21,C272='BP Flag Rules'!Y$22,C272='BP Flag Rules'!Y$23,C272='BP Flag Rules'!Y$24,C272='BP Flag Rules'!Y$25,C272='BP Flag Rules'!Y$26,C272='BP Flag Rules'!Y$27)+B271","v":0},"BP_APPFRAC_ICD","C","ICD","S923","Fracture of metatarsal bone"]
[null,{"$f":"OR(C273='BP Flag Rules'!Y$18,C273='BP Flag Rules'!Y$19,C273='BP Flag Rules'!Y$20,C273='BP Flag Rules'!Y$21,C273='BP Flag Rules'!Y$22,C273='BP Flag Rules'!Y$23,C273='BP Flag Rules'!Y$24,C273='BP Flag Rules'!Y$25,C273='BP Flag Rules'!Y$26,C273='BP Flag Rules'!Y$27)+B272","v":0},"BP_APPFRAC_ICD","C","ICD","S9230","Fracture of metatarsal bone: closed"]
[null,{"$f":"OR(C274='BP Flag Rules'!Y$18,C274='BP Flag Rules'!Y$19,C274='BP Flag Rules'!Y$20,C274='BP Flag Rules'!Y$21,C274='BP Flag Rules'!Y$22,C274='BP Flag Rules'!Y$23,C274='BP Flag Rules'!Y$24,C274='BP Flag Rules'!Y$25,C274='BP Flag Rules'!Y$26,C274='BP Flag Rules'!Y$27)+B273","v":0},"BP_APPFRAC_ICD","C","ICD","S929","Fracture of foot, unspecified"]
[null,{"$f":"OR(C275='BP Flag Rules'!Y$18,C275='BP Flag Rules'!Y$19,C275='BP Flag Rules'!Y$20,C275='BP Flag Rules'!Y$21,C275='BP Flag Rules'!Y$22,C275='BP Flag Rules'!Y$23,C275='BP Flag Rules'!Y$24,C275='BP Flag Rules'!Y$25,C275='BP Flag Rules'!Y$26,C275='BP Flag Rules'!Y$27)+B274","v":0},"BP_APPFRAC_ICD","C","ICD","S9290","Fracture of foot, unspecified: closed"]
[null,{"$f":"OR(C276='BP Flag Rules'!Y$18,C276='BP Flag Rules'!Y$19,C276='BP Flag Rules'!Y$20,C276='BP Flag Rules'!Y$21,C276='BP Flag Rules'!Y$22,C276='BP Flag Rules'!Y$23,C276='BP Flag Rules'!Y$24,C276='BP Flag Rules'!Y$25,C276='BP Flag Rules'!Y$26,C276='BP Flag Rules'!Y$27)+B275","v":0},"BP_APPFRAC_ICD","C","ICD","T10X","Fracture of upper limb, level unspecified"]
[null,{"$f":"OR(C277='BP Flag Rules'!Y$18,C277='BP Flag Rules'!Y$19,C277='BP Flag Rules'!Y$20,C277='BP Flag Rules'!Y$21,C277='BP Flag Rules'!Y$22,C277='BP Flag Rules'!Y$23,C277='BP Flag Rules'!Y$24,C277='BP Flag Rules'!Y$25,C277='BP Flag Rules'!Y$26,C277='BP Flag Rules'!Y$27)+B276","v":0},"BP_APPFRAC_ICD","C","ICD","T10X0","Fracture of upper limb, level unspecified: closed"]
[null,{"$f":"OR(C278='BP Flag Rules'!Y$18,C278='BP Flag Rules'!Y$19,C278='BP Flag Rules'!Y$20,C278='BP Flag Rules'!Y$21,C278='BP Flag Rules'!Y$22,C278='BP Flag Rules'!Y$23,C278='BP Flag Rules'!Y$24,C278='BP Flag Rules'!Y$25,C278='BP Flag Rules'!Y$26,C278='BP Flag Rules'!Y$27)+B277","v":0},"BP_ART_FIST_DIAL_OPCS","C","OPCS","L741","Insertion of arteriovenous prosthesis"]
[null,{"$f":"OR(C279='BP Flag Rules'!Y$18,C279='BP Flag Rules'!Y$19,C279='BP Flag Rules'!Y$20,C279='BP Flag Rules'!Y$21,C279='BP Flag Rules'!Y$22,C279='BP Flag Rules'!Y$23,C279='BP Flag Rules'!Y$24,C279='BP Flag Rules'!Y$25,C279='BP Flag Rules'!Y$26,C279='BP Flag Rules'!Y$27)+B278","v":0},"BP_ART_FIST_DIAL_OPCS","C","OPCS","L742","Creation of arteriovenous fistula NEC"]
[null,{"$f":"OR(C280='BP Flag Rules'!Y$18,C280='BP Flag Rules'!Y$19,C280='BP Flag Rules'!Y$20,C280='BP Flag Rules'!Y$21,C280='BP Flag Rules'!Y$22,C280='BP Flag Rules'!Y$23,C280='BP Flag Rules'!Y$24,C280='BP Flag Rules'!Y$25,C280='BP Flag Rules'!Y$26,C280='BP Flag Rules'!Y$27)+B279","v":0},"BP_ART_FIST_DIAL_OPCS","C","OPCS","L746","Creation of graft fistula for dialysis"]
[null,{"$f":"OR(C281='BP Flag Rules'!Y$18,C281='BP Flag Rules'!Y$19,C281='BP Flag Rules'!Y$20,C281='BP Flag Rules'!Y$21,C281='BP Flag Rules'!Y$22,C281='BP Flag Rules'!Y$23,C281='BP Flag Rules'!Y$24,C281='BP Flag Rules'!Y$25,C281='BP Flag Rules'!Y$26,C281='BP Flag Rules'!Y$27)+B280","v":0},"BP_AUTO_ANT_CRU_LIG_OPCS","C","OPCS","W742","Reconstruction of intra-articular ligament NEC"]
[null,{"$f":"OR(C282='BP Flag Rules'!Y$18,C282='BP Flag Rules'!Y$19,C282='BP Flag Rules'!Y$20,C282='BP Flag Rules'!Y$21,C282='BP Flag Rules'!Y$22,C282='BP Flag Rules'!Y$23,C282='BP Flag Rules'!Y$24,C282='BP Flag Rules'!Y$25,C282='BP Flag Rules'!Y$26,C282='BP Flag Rules'!Y$27)+B281","v":0},"BP_AXILLARY_OPCS","C","OPCS","T852","Block dissection of axillary lymph nodes"]
[null,{"$f":"OR(C283='BP Flag Rules'!Y$18,C283='BP Flag Rules'!Y$19,C283='BP Flag Rules'!Y$20,C283='BP Flag Rules'!Y$21,C283='BP Flag Rules'!Y$22,C283='BP Flag Rules'!Y$23,C283='BP Flag Rules'!Y$24,C283='BP Flag Rules'!Y$25,C283='BP Flag Rules'!Y$26,C283='BP Flag Rules'!Y$27)+B282","v":0},"BP_BIO_CERV_LYMPH_OPCS","C","OPCS","T861","Sampling of cervical lymph nodes"]
[null,{"$f":"OR(C284='BP Flag Rules'!Y$18,C284='BP Flag Rules'!Y$19,C284='BP Flag Rules'!Y$20,C284='BP Flag Rules'!Y$21,C284='BP Flag Rules'!Y$22,C284='BP Flag Rules'!Y$23,C284='BP Flag Rules'!Y$24,C284='BP Flag Rules'!Y$25,C284='BP Flag Rules'!Y$26,C284='BP Flag Rules'!Y$27)+B283","v":0},"BP_BIO_CERV_LYMPH_OPCS","C","OPCS","T871","Excision or biopsy of scalene lymph node"]
[null,{"$f":"OR(C285='BP Flag Rules'!Y$18,C285='BP Flag Rules'!Y$19,C285='BP Flag Rules'!Y$20,C285='BP Flag Rules'!Y$21,C285='BP Flag Rules'!Y$22,C285='BP Flag Rules'!Y$23,C285='BP Flag Rules'!Y$24,C285='BP Flag Rules'!Y$25,C285='BP Flag Rules'!Y$26,C285='BP Flag Rules'!Y$27)+B284","v":0},"BP_BIO_CERV_LYMPH_OPCS","C","OPCS","T872","Excision or biopsy of cervical lymph node NEC"]
[null,{"$f":"OR(C286='BP Flag Rules'!Y$18,C286='BP Flag Rules'!Y$19,C286='BP Flag Rules'!Y$20,C286='BP Flag Rules'!Y$21,C286='BP Flag Rules'!Y$22,C286='BP Flag Rules'!Y$23,C286='BP Flag Rules'!Y$24,C286='BP Flag Rules'!Y$25,C286='BP Flag Rules'!Y$26,C286='BP Flag Rules'!Y$27)+B285","v":0},"BP_BUNION_OPCS","C","OPCS","W593","Fusion of first metatarsophalangeal joint NEC"]
[null,{"$f":"OR(C287='BP Flag Rules'!Y$18,C287='BP Flag Rules'!Y$19,C287='BP Flag Rules'!Y$20,C287='BP Flag Rules'!Y$21,C287='BP Flag Rules'!Y$22,C287='BP Flag Rules'!Y$23,C287='BP Flag Rules'!Y$24,C287='BP Flag Rules'!Y$25,C287='BP Flag Rules'!Y$26,C287='BP Flag Rules'!Y$27)+B286","v":0},"BP_BUNION_OPCS","C","OPCS","W791","Soft tissue correction of hallux valgus"]
[null,{"$f":"OR(C288='BP Flag Rules'!Y$18,C288='BP Flag Rules'!Y$19,C288='BP Flag Rules'!Y$20,C288='BP Flag Rules'!Y$21,C288='BP Flag Rules'!Y$22,C288='BP Flag Rules'!Y$23,C288='BP Flag Rules'!Y$24,C288='BP Flag Rules'!Y$25,C288='BP Flag Rules'!Y$26,C288='BP Flag Rules'!Y$27)+B287","v":0},"BP_BUNION_OPCS","C","OPCS","W792","Excision of bunion NEC"]
[null,{"$f":"OR(C289='BP Flag Rules'!Y$18,C289='BP Flag Rules'!Y$19,C289='BP Flag Rules'!Y$20,C289='BP Flag Rules'!Y$21,C289='BP Flag Rules'!Y$22,C289='BP Flag Rules'!Y$23,C289='BP Flag Rules'!Y$24,C289='BP Flag Rules'!Y$25,C289='BP Flag Rules'!Y$26,C289='BP Flag Rules'!Y$27)+B288","v":0},"BP_CELL_ICD","C","ICD","I891","Lymphangitis"]
[null,{"$f":"OR(C290='BP Flag Rules'!Y$18,C290='BP Flag Rules'!Y$19,C290='BP Flag Rules'!Y$20,C290='BP Flag Rules'!Y$21,C290='BP Flag Rules'!Y$22,C290='BP Flag Rules'!Y$23,C290='BP Flag Rules'!Y$24,C290='BP Flag Rules'!Y$25,C290='BP Flag Rules'!Y$26,C290='BP Flag Rules'!Y$27)+B289","v":0},"BP_CELL_ICD","C","ICD","L030","Cellulitis of finger and toe"]
[null,{"$f":"OR(C291='BP Flag Rules'!Y$18,C291='BP Flag Rules'!Y$19,C291='BP Flag Rules'!Y$20,C291='BP Flag Rules'!Y$21,C291='BP Flag Rules'!Y$22,C291='BP Flag Rules'!Y$23,C291='BP Flag Rules'!Y$24,C291='BP Flag Rules'!Y$25,C291='BP Flag Rules'!Y$26,C291='BP Flag Rules'!Y$27)+B290","v":0},"BP_CELL_ICD","C","ICD","L031","Cellulitis of other parts of limb"]
[null,{"$f":"OR(C292='BP Flag Rules'!Y$18,C292='BP Flag Rules'!Y$19,C292='BP Flag Rules'!Y$20,C292='BP Flag Rules'!Y$21,C292='BP Flag Rules'!Y$22,C292='BP Flag Rules'!Y$23,C292='BP Flag Rules'!Y$24,C292='BP Flag Rules'!Y$25,C292='BP Flag Rules'!Y$26,C292='BP Flag Rules'!Y$27)+B291","v":0},"BP_CELL_ICD","C","ICD","L032","Cellulitis of face"]
[null,{"$f":"OR(C293='BP Flag Rules'!Y$18,C293='BP Flag Rules'!Y$19,C293='BP Flag Rules'!Y$20,C293='BP Flag Rules'!Y$21,C293='BP Flag Rules'!Y$22,C293='BP Flag Rules'!Y$23,C293='BP Flag Rules'!Y$24,C293='BP Flag Rules'!Y$25,C293='BP Flag Rules'!Y$26,C293='BP Flag Rules'!Y$27)+B292","v":0},"BP_CELL_ICD","C","ICD","L033","Cellulitis of trunk"]
[null,{"$f":"OR(C294='BP Flag Rules'!Y$18,C294='BP Flag Rules'!Y$19,C294='BP Flag Rules'!Y$20,C294='BP Flag Rules'!Y$21,C294='BP Flag Rules'!Y$22,C294='BP Flag Rules'!Y$23,C294='BP Flag Rules'!Y$24,C294='BP Flag Rules'!Y$25,C294='BP Flag Rules'!Y$26,C294='BP Flag Rules'!Y$27)+B293","v":0},"BP_CELL_ICD","C","ICD","L038","Cellulitis of other sites"]
[null,{"$f":"OR(C295='BP Flag Rules'!Y$18,C295='BP Flag Rules'!Y$19,C295='BP Flag Rules'!Y$20,C295='BP Flag Rules'!Y$21,C295='BP Flag Rules'!Y$22,C295='BP Flag Rules'!Y$23,C295='BP Flag Rules'!Y$24,C295='BP Flag Rules'!Y$25,C295='BP Flag Rules'!Y$26,C295='BP Flag Rules'!Y$27)+B294","v":0},"BP_CELL_ICD","C","ICD","L039","Cellulitis, unspecified"]
[null,{"$f":"OR(C296='BP Flag Rules'!Y$18,C296='BP Flag Rules'!Y$19,C296='BP Flag Rules'!Y$20,C296='BP Flag Rules'!Y$21,C296='BP Flag Rules'!Y$22,C296='BP Flag Rules'!Y$23,C296='BP Flag Rules'!Y$24,C296='BP Flag Rules'!Y$25,C296='BP Flag Rules'!Y$26,C296='BP Flag Rules'!Y$27)+B295","v":0},"BP_CELL_ICD","C","ICD","L088","Other specified local infections of skin and subcutaneous tissue"]
[null,{"$f":"OR(C297='BP Flag Rules'!Y$18,C297='BP Flag Rules'!Y$19,C297='BP Flag Rules'!Y$20,C297='BP Flag Rules'!Y$21,C297='BP Flag Rules'!Y$22,C297='BP Flag Rules'!Y$23,C297='BP Flag Rules'!Y$24,C297='BP Flag Rules'!Y$25,C297='BP Flag Rules'!Y$26,C297='BP Flag Rules'!Y$27)+B296","v":0},"BP_CELL_ICD","C","ICD","L089","Local infection of skin and subcutaneous tissue, unspecified"]
[null,{"$f":"OR(C298='BP Flag Rules'!Y$18,C298='BP Flag Rules'!Y$19,C298='BP Flag Rules'!Y$20,C298='BP Flag Rules'!Y$21,C298='BP Flag Rules'!Y$22,C298='BP Flag Rules'!Y$23,C298='BP Flag Rules'!Y$24,C298='BP Flag Rules'!Y$25,C298='BP Flag Rules'!Y$26,C298='BP Flag Rules'!Y$27)+B297","v":0},"BP_CHESTPAIN_ICD","C","ICD","I201","Angina pectoris with documented spasm"]
[null,{"$f":"OR(C299='BP Flag Rules'!Y$18,C299='BP Flag Rules'!Y$19,C299='BP Flag Rules'!Y$20,C299='BP Flag Rules'!Y$21,C299='BP Flag Rules'!Y$22,C299='BP Flag Rules'!Y$23,C299='BP Flag Rules'!Y$24,C299='BP Flag Rules'!Y$25,C299='BP Flag Rules'!Y$26,C299='BP Flag Rules'!Y$27)+B298","v":0},"BP_CHESTPAIN_ICD","C","ICD","I208","Other forms of angina pectoris"]
[null,{"$f":"OR(C300='BP Flag Rules'!Y$18,C300='BP Flag Rules'!Y$19,C300='BP Flag Rules'!Y$20,C300='BP Flag Rules'!Y$21,C300='BP Flag Rules'!Y$22,C300='BP Flag Rules'!Y$23,C300='BP Flag Rules'!Y$24,C300='BP Flag Rules'!Y$25,C300='BP Flag Rules'!Y$26,C300='BP Flag Rules'!Y$27)+B299","v":0},"BP_CHESTPAIN_ICD","C","ICD","I209","Angina pectoris, unspecified"]
[null,{"$f":"OR(C301='BP Flag Rules'!Y$18,C301='BP Flag Rules'!Y$19,C301='BP Flag Rules'!Y$20,C301='BP Flag Rules'!Y$21,C301='BP Flag Rules'!Y$22,C301='BP Flag Rules'!Y$23,C301='BP Flag Rules'!Y$24,C301='BP Flag Rules'!Y$25,C301='BP Flag Rules'!Y$26,C301='BP Flag Rules'!Y$27)+B300","v":0},"BP_CHESTPAIN_ICD","C","ICD","I248","Other forms of acute ischaemic heart disease"]
[null,{"$f":"OR(C302='BP Flag Rules'!Y$18,C302='BP Flag Rules'!Y$19,C302='BP Flag Rules'!Y$20,C302='BP Flag Rules'!Y$21,C302='BP Flag Rules'!Y$22,C302='BP Flag Rules'!Y$23,C302='BP Flag Rules'!Y$24,C302='BP Flag Rules'!Y$25,C302='BP Flag Rules'!Y$26,C302='BP Flag Rules'!Y$27)+B301","v":0},"BP_CHESTPAIN_ICD","C","ICD","I249","Acute ischaemic heart disease, unspecified"]
[null,{"$f":"OR(C303='BP Flag Rules'!Y$18,C303='BP Flag Rules'!Y$19,C303='BP Flag Rules'!Y$20,C303='BP Flag Rules'!Y$21,C303='BP Flag Rules'!Y$22,C303='BP Flag Rules'!Y$23,C303='BP Flag Rules'!Y$24,C303='BP Flag Rules'!Y$25,C303='BP Flag Rules'!Y$26,C303='BP Flag Rules'!Y$27)+B302","v":0},"BP_CHESTPAIN_ICD","C","ICD","I256","Silent myocardial ischaemia"]
[null,{"$f":"OR(C304='BP Flag Rules'!Y$18,C304='BP Flag Rules'!Y$19,C304='BP Flag Rules'!Y$20,C304='BP Flag Rules'!Y$21,C304='BP Flag Rules'!Y$22,C304='BP Flag Rules'!Y$23,C304='BP Flag Rules'!Y$24,C304='BP Flag Rules'!Y$25,C304='BP Flag Rules'!Y$26,C304='BP Flag Rules'!Y$27)+B303","v":0},"BP_CHESTPAIN_ICD","C","ICD","R072","Precordial pain"]
[null,{"$f":"OR(C305='BP Flag Rules'!Y$18,C305='BP Flag Rules'!Y$19,C305='BP Flag Rules'!Y$20,C305='BP Flag Rules'!Y$21,C305='BP Flag Rules'!Y$22,C305='BP Flag Rules'!Y$23,C305='BP Flag Rules'!Y$24,C305='BP Flag Rules'!Y$25,C305='BP Flag Rules'!Y$26,C305='BP Flag Rules'!Y$27)+B304","v":0},"BP_CHESTPAIN_ICD","C","ICD","R073","Other chest pain"]
[null,{"$f":"OR(C306='BP Flag Rules'!Y$18,C306='BP Flag Rules'!Y$19,C306='BP Flag Rules'!Y$20,C306='BP Flag Rules'!Y$21,C306='BP Flag Rules'!Y$22,C306='BP Flag Rules'!Y$23,C306='BP Flag Rules'!Y$24,C306='BP Flag Rules'!Y$25,C306='BP Flag Rules'!Y$26,C306='BP Flag Rules'!Y$27)+B305","v":0},"BP_CHESTPAIN_ICD","C","ICD","R074","Chest pain, unspecified"]
[null,{"$f":"OR(C307='BP Flag Rules'!Y$18,C307='BP Flag Rules'!Y$19,C307='BP Flag Rules'!Y$20,C307='BP Flag Rules'!Y$21,C307='BP Flag Rules'!Y$22,C307='BP Flag Rules'!Y$23,C307='BP Flag Rules'!Y$24,C307='BP Flag Rules'!Y$25,C307='BP Flag Rules'!Y$26,C307='BP Flag Rules'!Y$27)+B306","v":0},"BP_CHESTPAIN_ICD","C","ICD","Z034","Observation for suspected myocardial infarction"]
[null,{"$f":"OR(C308='BP Flag Rules'!Y$18,C308='BP Flag Rules'!Y$19,C308='BP Flag Rules'!Y$20,C308='BP Flag Rules'!Y$21,C308='BP Flag Rules'!Y$22,C308='BP Flag Rules'!Y$23,C308='BP Flag Rules'!Y$24,C308='BP Flag Rules'!Y$25,C308='BP Flag Rules'!Y$26,C308='BP Flag Rules'!Y$27)+B307","v":0},"BP_CHESTPAIN_ICD","C","ICD","Z035","Observation for other suspected cardiovascular diseases"]
[null,{"$f":"OR(C309='BP Flag Rules'!Y$18,C309='BP Flag Rules'!Y$19,C309='BP Flag Rules'!Y$20,C309='BP Flag Rules'!Y$21,C309='BP Flag Rules'!Y$22,C309='BP Flag Rules'!Y$23,C309='BP Flag Rules'!Y$24,C309='BP Flag Rules'!Y$25,C309='BP Flag Rules'!Y$26,C309='BP Flag Rules'!Y$27)+B308","v":0},"BP_CHRONIC_CATH_ICD","C","ICD","T830","Mechanical complication of urinary (indwelling) catheter"]
[null,{"$f":"OR(C310='BP Flag Rules'!Y$18,C310='BP Flag Rules'!Y$19,C310='BP Flag Rules'!Y$20,C310='BP Flag Rules'!Y$21,C310='BP Flag Rules'!Y$22,C310='BP Flag Rules'!Y$23,C310='BP Flag Rules'!Y$24,C310='BP Flag Rules'!Y$25,C310='BP Flag Rules'!Y$26,C310='BP Flag Rules'!Y$27)+B309","v":0},"BP_CHRONIC_CATH_ICD","C","ICD","T831","Mechanical complication of other urinary devices and implants"]
[null,{"$f":"OR(C311='BP Flag Rules'!Y$18,C311='BP Flag Rules'!Y$19,C311='BP Flag Rules'!Y$20,C311='BP Flag Rules'!Y$21,C311='BP Flag Rules'!Y$22,C311='BP Flag Rules'!Y$23,C311='BP Flag Rules'!Y$24,C311='BP Flag Rules'!Y$25,C311='BP Flag Rules'!Y$26,C311='BP Flag Rules'!Y$27)+B310","v":0},"BP_CHRONIC_CATH_ICD","C","ICD","T835","Infection and inflammatory reaction due to prosthetic device, implant and graft in urinary system"]
[null,{"$f":"OR(C312='BP Flag Rules'!Y$18,C312='BP Flag Rules'!Y$19,C312='BP Flag Rules'!Y$20,C312='BP Flag Rules'!Y$21,C312='BP Flag Rules'!Y$22,C312='BP Flag Rules'!Y$23,C312='BP Flag Rules'!Y$24,C312='BP Flag Rules'!Y$25,C312='BP Flag Rules'!Y$26,C312='BP Flag Rules'!Y$27)+B311","v":0},"BP_CHRONIC_CATH_ICD","C","ICD","T836","Infection and inflammatory reaction due to prosthetic device, implant and graft in genital tract"]
[null,{"$f":"OR(C313='BP Flag Rules'!Y$18,C313='BP Flag Rules'!Y$19,C313='BP Flag Rules'!Y$20,C313='BP Flag Rules'!Y$21,C313='BP Flag Rules'!Y$22,C313='BP Flag Rules'!Y$23,C313='BP Flag Rules'!Y$24,C313='BP Flag Rules'!Y$25,C313='BP Flag Rules'!Y$26,C313='BP Flag Rules'!Y$27)+B312","v":0},"BP_CHRONIC_CATH_ICD","C","ICD","T838","Other complications of genitourinary prosthetic devices, implants and grafts"]
[null,{"$f":"OR(C314='BP Flag Rules'!Y$18,C314='BP Flag Rules'!Y$19,C314='BP Flag Rules'!Y$20,C314='BP Flag Rules'!Y$21,C314='BP Flag Rules'!Y$22,C314='BP Flag Rules'!Y$23,C314='BP Flag Rules'!Y$24,C314='BP Flag Rules'!Y$25,C314='BP Flag Rules'!Y$26,C314='BP Flag Rules'!Y$27)+B313","v":0},"BP_CHRONIC_CATH_ICD","C","ICD","T839","Unspecified complication of genitourinary prosthetic device, implant and graft"]
[null,{"$f":"OR(C315='BP Flag Rules'!Y$18,C315='BP Flag Rules'!Y$19,C315='BP Flag Rules'!Y$20,C315='BP Flag Rules'!Y$21,C315='BP Flag Rules'!Y$22,C315='BP Flag Rules'!Y$23,C315='BP Flag Rules'!Y$24,C315='BP Flag Rules'!Y$25,C315='BP Flag Rules'!Y$26,C315='BP Flag Rules'!Y$27)+B314","v":0},"BP_DACRY_RHINO_OPCS","C","OPCS","C253","Dacryocystorhinostomy and insertion of tube HFQ"]
[null,{"$f":"OR(C316='BP Flag Rules'!Y$18,C316='BP Flag Rules'!Y$19,C316='BP Flag Rules'!Y$20,C316='BP Flag Rules'!Y$21,C316='BP Flag Rules'!Y$22,C316='BP Flag Rules'!Y$23,C316='BP Flag Rules'!Y$24,C316='BP Flag Rules'!Y$25,C316='BP Flag Rules'!Y$26,C316='BP Flag Rules'!Y$27)+B315","v":0},"BP_DACRY_RHINO_OPCS","C","OPCS","C254","Dacryocystorhinostomy NEC"]
[null,{"$f":"OR(C317='BP Flag Rules'!Y$18,C317='BP Flag Rules'!Y$19,C317='BP Flag Rules'!Y$20,C317='BP Flag Rules'!Y$21,C317='BP Flag Rules'!Y$22,C317='BP Flag Rules'!Y$23,C317='BP Flag Rules'!Y$24,C317='BP Flag Rules'!Y$25,C317='BP Flag Rules'!Y$26,C317='BP Flag Rules'!Y$27)+B316","v":0},"BP_DIAB_ICD_1","C","ICD","E100","Type 1 diabetes mellitus: With coma"]
[null,{"$f":"OR(C318='BP Flag Rules'!Y$18,C318='BP Flag Rules'!Y$19,C318='BP Flag Rules'!Y$20,C318='BP Flag Rules'!Y$21,C318='BP Flag Rules'!Y$22,C318='BP Flag Rules'!Y$23,C318='BP Flag Rules'!Y$24,C318='BP Flag Rules'!Y$25,C318='BP Flag Rules'!Y$26,C318='BP Flag Rules'!Y$27)+B317","v":0},"BP_DIAB_ICD_1","C","ICD","E101","Type 1 diabetes mellitus: With ketoacidosis"]
[null,{"$f":"OR(C319='BP Flag Rules'!Y$18,C319='BP Flag Rules'!Y$19,C319='BP Flag Rules'!Y$20,C319='BP Flag Rules'!Y$21,C319='BP Flag Rules'!Y$22,C319='BP Flag Rules'!Y$23,C319='BP Flag Rules'!Y$24,C319='BP Flag Rules'!Y$25,C319='BP Flag Rules'!Y$26,C319='BP Flag Rules'!Y$27)+B318","v":0},"BP_DIAB_ICD_1","C","ICD","E110","Type 2 diabetes mellitus: With coma"]
[null,{"$f":"OR(C320='BP Flag Rules'!Y$18,C320='BP Flag Rules'!Y$19,C320='BP Flag Rules'!Y$20,C320='BP Flag Rules'!Y$21,C320='BP Flag Rules'!Y$22,C320='BP Flag Rules'!Y$23,C320='BP Flag Rules'!Y$24,C320='BP Flag Rules'!Y$25,C320='BP Flag Rules'!Y$26,C320='BP Flag Rules'!Y$27)+B319","v":0},"BP_DIAB_ICD_1","C","ICD","E111","Type 2 diabetes mellitus: With ketoacidosis"]
[null,{"$f":"OR(C321='BP Flag Rules'!Y$18,C321='BP Flag Rules'!Y$19,C321='BP Flag Rules'!Y$20,C321='BP Flag Rules'!Y$21,C321='BP Flag Rules'!Y$22,C321='BP Flag Rules'!Y$23,C321='BP Flag Rules'!Y$24,C321='BP Flag Rules'!Y$25,C321='BP Flag Rules'!Y$26,C321='BP Flag Rules'!Y$27)+B320","v":0},"BP_DIAB_ICD_1","C","ICD","E120","Malnutrition-related diabetes mellitus: With coma"]
[null,{"$f":"OR(C322='BP Flag Rules'!Y$18,C322='BP Flag Rules'!Y$19,C322='BP Flag Rules'!Y$20,C322='BP Flag Rules'!Y$21,C322='BP Flag Rules'!Y$22,C322='BP Flag Rules'!Y$23,C322='BP Flag Rules'!Y$24,C322='BP Flag Rules'!Y$25,C322='BP Flag Rules'!Y$26,C322='BP Flag Rules'!Y$27)+B321","v":0},"BP_DIAB_ICD_1","C","ICD","E121","Malnutrition-related diabetes mellitus: With ketoacidosis"]
[null,{"$f":"OR(C323='BP Flag Rules'!Y$18,C323='BP Flag Rules'!Y$19,C323='BP Flag Rules'!Y$20,C323='BP Flag Rules'!Y$21,C323='BP Flag Rules'!Y$22,C323='BP Flag Rules'!Y$23,C323='BP Flag Rules'!Y$24,C323='BP Flag Rules'!Y$25,C323='BP Flag Rules'!Y$26,C323='BP Flag Rules'!Y$27)+B322","v":0},"BP_DIAB_ICD_1","C","ICD","E130","Other specified diabetes mellitus: With coma"]
[null,{"$f":"OR(C324='BP Flag Rules'!Y$18,C324='BP Flag Rules'!Y$19,C324='BP Flag Rules'!Y$20,C324='BP Flag Rules'!Y$21,C324='BP Flag Rules'!Y$22,C324='BP Flag Rules'!Y$23,C324='BP Flag Rules'!Y$24,C324='BP Flag Rules'!Y$25,C324='BP Flag Rules'!Y$26,C324='BP Flag Rules'!Y$27)+B323","v":0},"BP_DIAB_ICD_1","C","ICD","E131","Other specified diabetes mellitus: With ketoacidosis"]
[null,{"$f":"OR(C325='BP Flag Rules'!Y$18,C325='BP Flag Rules'!Y$19,C325='BP Flag Rules'!Y$20,C325='BP Flag Rules'!Y$21,C325='BP Flag Rules'!Y$22,C325='BP Flag Rules'!Y$23,C325='BP Flag Rules'!Y$24,C325='BP Flag Rules'!Y$25,C325='BP Flag Rules'!Y$26,C325='BP Flag Rules'!Y$27)+B324","v":0},"BP_DIAB_ICD_1","C","ICD","E140","Unspecified diabetes mellitus: With coma"]
[null,{"$f":"OR(C326='BP Flag Rules'!Y$18,C326='BP Flag Rules'!Y$19,C326='BP Flag Rules'!Y$20,C326='BP Flag Rules'!Y$21,C326='BP Flag Rules'!Y$22,C326='BP Flag Rules'!Y$23,C326='BP Flag Rules'!Y$24,C326='BP Flag Rules'!Y$25,C326='BP Flag Rules'!Y$26,C326='BP Flag Rules'!Y$27)+B325","v":0},"BP_DIAB_ICD_1","C","ICD","E141","Unspecified diabetes mellitus: With ketoacidosis"]
[null,{"$f":"OR(C327='BP Flag Rules'!Y$18,C327='BP Flag Rules'!Y$19,C327='BP Flag Rules'!Y$20,C327='BP Flag Rules'!Y$21,C327='BP Flag Rules'!Y$22,C327='BP Flag Rules'!Y$23,C327='BP Flag Rules'!Y$24,C327='BP Flag Rules'!Y$25,C327='BP Flag Rules'!Y$26,C327='BP Flag Rules'!Y$27)+B326","v":0},"BP_DIAB_ICD_2","C","ICD","E160","Drug-induced hypoglycaemia without coma"]
[null,{"$f":"OR(C328='BP Flag Rules'!Y$18,C328='BP Flag Rules'!Y$19,C328='BP Flag Rules'!Y$20,C328='BP Flag Rules'!Y$21,C328='BP Flag Rules'!Y$22,C328='BP Flag Rules'!Y$23,C328='BP Flag Rules'!Y$24,C328='BP Flag Rules'!Y$25,C328='BP Flag Rules'!Y$26,C328='BP Flag Rules'!Y$27)+B327","v":0},"BP_DIAB_ICD_2","C","ICD","E161","Other hypoglycaemia"]
[null,{"$f":"OR(C329='BP Flag Rules'!Y$18,C329='BP Flag Rules'!Y$19,C329='BP Flag Rules'!Y$20,C329='BP Flag Rules'!Y$21,C329='BP Flag Rules'!Y$22,C329='BP Flag Rules'!Y$23,C329='BP Flag Rules'!Y$24,C329='BP Flag Rules'!Y$25,C329='BP Flag Rules'!Y$26,C329='BP Flag Rules'!Y$27)+B328","v":0},"BP_DIAB_ICD_2","C","ICD","E162","Hypoglycaemia, unspecified"]
[null,{"$f":"OR(C330='BP Flag Rules'!Y$18,C330='BP Flag Rules'!Y$19,C330='BP Flag Rules'!Y$20,C330='BP Flag Rules'!Y$21,C330='BP Flag Rules'!Y$22,C330='BP Flag Rules'!Y$23,C330='BP Flag Rules'!Y$24,C330='BP Flag Rules'!Y$25,C330='BP Flag Rules'!Y$26,C330='BP Flag Rules'!Y$27)+B329","v":0},"BP_DUPUY_OPCS","C","OPCS","T521","Palmar fasciectomy"]
[null,{"$f":"OR(C331='BP Flag Rules'!Y$18,C331='BP Flag Rules'!Y$19,C331='BP Flag Rules'!Y$20,C331='BP Flag Rules'!Y$21,C331='BP Flag Rules'!Y$22,C331='BP Flag Rules'!Y$23,C331='BP Flag Rules'!Y$24,C331='BP Flag Rules'!Y$25,C331='BP Flag Rules'!Y$26,C331='BP Flag Rules'!Y$27)+B330","v":0},"BP_ELECTIVE","C","ADMIMETH",11,"Waiting list"]
[null,{"$f":"OR(C332='BP Flag Rules'!Y$18,C332='BP Flag Rules'!Y$19,C332='BP Flag Rules'!Y$20,C332='BP Flag Rules'!Y$21,C332='BP Flag Rules'!Y$22,C332='BP Flag Rules'!Y$23,C332='BP Flag Rules'!Y$24,C332='BP Flag Rules'!Y$25,C332='BP Flag Rules'!Y$26,C332='BP Flag Rules'!Y$27)+B331","v":0},"BP_ELECTIVE","C","ADMIMETH",12,"Booked"]
[null,{"$f":"OR(C333='BP Flag Rules'!Y$18,C333='BP Flag Rules'!Y$19,C333='BP Flag Rules'!Y$20,C333='BP Flag Rules'!Y$21,C333='BP Flag Rules'!Y$22,C333='BP Flag Rules'!Y$23,C333='BP Flag Rules'!Y$24,C333='BP Flag Rules'!Y$25,C333='BP Flag Rules'!Y$26,C333='BP Flag Rules'!Y$27)+B332","v":0},"BP_ELECTIVE","C","ADMIMETH",13,"Planned"]
[null,{"$f":"OR(C334='BP Flag Rules'!Y$18,C334='BP Flag Rules'!Y$19,C334='BP Flag Rules'!Y$20,C334='BP Flag Rules'!Y$21,C334='BP Flag Rules'!Y$22,C334='BP Flag Rules'!Y$23,C334='BP Flag Rules'!Y$24,C334='BP Flag Rules'!Y$25,C334='BP Flag Rules'!Y$26,C334='BP Flag Rules'!Y$27)+B333","v":0},"BP_EMERG","C","ADMIMETH",21,"Accident and emergency or dental casualty department of the Health Care Provider"]
[null,{"$f":"OR(C335='BP Flag Rules'!Y$18,C335='BP Flag Rules'!Y$19,C335='BP Flag Rules'!Y$20,C335='BP Flag Rules'!Y$21,C335='BP Flag Rules'!Y$22,C335='BP Flag Rules'!Y$23,C335='BP Flag Rules'!Y$24,C335='BP Flag Rules'!Y$25,C335='BP Flag Rules'!Y$26,C335='BP Flag Rules'!Y$27)+B334","v":0},"BP_EMERG","C","ADMIMETH",22,"General practitioner: after a request for immediate admission has been made direct to a Hospital Provider, i.e. not through a Bed bureau, by a GENERAL PRACTITIONER or deputy"]
[null,{"$f":"OR(C336='BP Flag Rules'!Y$18,C336='BP Flag Rules'!Y$19,C336='BP Flag Rules'!Y$20,C336='BP Flag Rules'!Y$21,C336='BP Flag Rules'!Y$22,C336='BP Flag Rules'!Y$23,C336='BP Flag Rules'!Y$24,C336='BP Flag Rules'!Y$25,C336='BP Flag Rules'!Y$26,C336='BP Flag Rules'!Y$27)+B335","v":0},"BP_EMERG","C","ADMIMETH",23,"Bed bureau"]
[null,{"$f":"OR(C337='BP Flag Rules'!Y$18,C337='BP Flag Rules'!Y$19,C337='BP Flag Rules'!Y$20,C337='BP Flag Rules'!Y$21,C337='BP Flag Rules'!Y$22,C337='BP Flag Rules'!Y$23,C337='BP Flag Rules'!Y$24,C337='BP Flag Rules'!Y$25,C337='BP Flag Rules'!Y$26,C337='BP Flag Rules'!Y$27)+B336","v":0},"BP_EMERG","C","ADMIMETH",24,"Consultant clinic, of this or another Health Care Provider"]
[null,{"$f":"OR(C338='BP Flag Rules'!Y$18,C338='BP Flag Rules'!Y$19,C338='BP Flag Rules'!Y$20,C338='BP Flag Rules'!Y$21,C338='BP Flag Rules'!Y$22,C338='BP Flag Rules'!Y$23,C338='BP Flag Rules'!Y$24,C338='BP Flag Rules'!Y$25,C338='BP Flag Rules'!Y$26,C338='BP Flag Rules'!Y$27)+B337","v":0},"BP_EMERG","C","ADMIMETH",25,"Admission via mental health crisis resolution team"]
[null,{"$f":"OR(C339='BP Flag Rules'!Y$18,C339='BP Flag Rules'!Y$19,C339='BP Flag Rules'!Y$20,C339='BP Flag Rules'!Y$21,C339='BP Flag Rules'!Y$22,C339='BP Flag Rules'!Y$23,C339='BP Flag Rules'!Y$24,C339='BP Flag Rules'!Y$25,C339='BP Flag Rules'!Y$26,C339='BP Flag Rules'!Y$27)+B338","v":0},"BP_EMERG","C","ADMIMETH",28,"Other means"]
[null,{"$f":"OR(C340='BP Flag Rules'!Y$18,C340='BP Flag Rules'!Y$19,C340='BP Flag Rules'!Y$20,C340='BP Flag Rules'!Y$21,C340='BP Flag Rules'!Y$22,C340='BP Flag Rules'!Y$23,C340='BP Flag Rules'!Y$24,C340='BP Flag Rules'!Y$25,C340='BP Flag Rules'!Y$26,C340='BP Flag Rules'!Y$27)+B339","v":0},"BP_EMERG","C","ADMIMETH","2A","Accident and Emergency Department of another provider where the PATIENT had not been admitted"]
[null,{"$f":"OR(C341='BP Flag Rules'!Y$18,C341='BP Flag Rules'!Y$19,C341='BP Flag Rules'!Y$20,C341='BP Flag Rules'!Y$21,C341='BP Flag Rules'!Y$22,C341='BP Flag Rules'!Y$23,C341='BP Flag Rules'!Y$24,C341='BP Flag Rules'!Y$25,C341='BP Flag Rules'!Y$26,C341='BP Flag Rules'!Y$27)+B340","v":0},"BP_EMERG","C","ADMIMETH","2B","Transfer of an admitted PATIENT from another Hospital Provider in an emergency"]
[null,{"$f":"OR(C342='BP Flag Rules'!Y$18,C342='BP Flag Rules'!Y$19,C342='BP Flag Rules'!Y$20,C342='BP Flag Rules'!Y$21,C342='BP Flag Rules'!Y$22,C342='BP Flag Rules'!Y$23,C342='BP Flag Rules'!Y$24,C342='BP Flag Rules'!Y$25,C342='BP Flag Rules'!Y$26,C342='BP Flag Rules'!Y$27)+B341","v":0},"BP_EMERG","C","ADMIMETH","2C","Baby born at home as intended"]
[null,{"$f":"OR(C343='BP Flag Rules'!Y$18,C343='BP Flag Rules'!Y$19,C343='BP Flag Rules'!Y$20,C343='BP Flag Rules'!Y$21,C343='BP Flag Rules'!Y$22,C343='BP Flag Rules'!Y$23,C343='BP Flag Rules'!Y$24,C343='BP Flag Rules'!Y$25,C343='BP Flag Rules'!Y$26,C343='BP Flag Rules'!Y$27)+B342","v":0},"BP_EMERG","C","ADMIMETH","2D","Other emergency admission"]
[null,{"$f":"OR(C344='BP Flag Rules'!Y$18,C344='BP Flag Rules'!Y$19,C344='BP Flag Rules'!Y$20,C344='BP Flag Rules'!Y$21,C344='BP Flag Rules'!Y$22,C344='BP Flag Rules'!Y$23,C344='BP Flag Rules'!Y$24,C344='BP Flag Rules'!Y$25,C344='BP Flag Rules'!Y$26,C344='BP Flag Rules'!Y$27)+B343","v":0},"BP_EMERG_TRN","C","ADMIMETH",21,"Accident and emergency or dental casualty department of the Health Care Provider"]
[null,{"$f":"OR(C345='BP Flag Rules'!Y$18,C345='BP Flag Rules'!Y$19,C345='BP Flag Rules'!Y$20,C345='BP Flag Rules'!Y$21,C345='BP Flag Rules'!Y$22,C345='BP Flag Rules'!Y$23,C345='BP Flag Rules'!Y$24,C345='BP Flag Rules'!Y$25,C345='BP Flag Rules'!Y$26,C345='BP Flag Rules'!Y$27)+B344","v":0},"BP_EMERG_TRN","C","ADMIMETH",22,"General practitioner: after a request for immediate admission has been made direct to a Hospital Provider, i.e. not through a Bed bureau, by a GENERAL PRACTITIONER or deputy"]
[null,{"$f":"OR(C346='BP Flag Rules'!Y$18,C346='BP Flag Rules'!Y$19,C346='BP Flag Rules'!Y$20,C346='BP Flag Rules'!Y$21,C346='BP Flag Rules'!Y$22,C346='BP Flag Rules'!Y$23,C346='BP Flag Rules'!Y$24,C346='BP Flag Rules'!Y$25,C346='BP Flag Rules'!Y$26,C346='BP Flag Rules'!Y$27)+B345","v":0},"BP_EMERG_TRN","C","ADMIMETH",23,"Bed bureau"]
[null,{"$f":"OR(C347='BP Flag Rules'!Y$18,C347='BP Flag Rules'!Y$19,C347='BP Flag Rules'!Y$20,C347='BP Flag Rules'!Y$21,C347='BP Flag Rules'!Y$22,C347='BP Flag Rules'!Y$23,C347='BP Flag Rules'!Y$24,C347='BP Flag Rules'!Y$25,C347='BP Flag Rules'!Y$26,C347='BP Flag Rules'!Y$27)+B346","v":0},"BP_EMERG_TRN","C","ADMIMETH",24,"Consultant clinic, of this or another Health Care Provider"]
[null,{"$f":"OR(C348='BP Flag Rules'!Y$18,C348='BP Flag Rules'!Y$19,C348='BP Flag Rules'!Y$20,C348='BP Flag Rules'!Y$21,C348='BP Flag Rules'!Y$22,C348='BP Flag Rules'!Y$23,C348='BP Flag Rules'!Y$24,C348='BP Flag Rules'!Y$25,C348='BP Flag Rules'!Y$26,C348='BP Flag Rules'!Y$27)+B347","v":0},"BP_EMERG_TRN","C","ADMIMETH",25,"Admission via mental health crisis resolution team"]
[null,{"$f":"OR(C349='BP Flag Rules'!Y$18,C349='BP Flag Rules'!Y$19,C349='BP Flag Rules'!Y$20,C349='BP Flag Rules'!Y$21,C349='BP Flag Rules'!Y$22,C349='BP Flag Rules'!Y$23,C349='BP Flag Rules'!Y$24,C349='BP Flag Rules'!Y$25,C349='BP Flag Rules'!Y$26,C349='BP Flag Rules'!Y$27)+B348","v":0},"BP_EMERG_TRN","C","ADMIMETH",28,"Other means"]
[null,{"$f":"OR(C350='BP Flag Rules'!Y$18,C350='BP Flag Rules'!Y$19,C350='BP Flag Rules'!Y$20,C350='BP Flag Rules'!Y$21,C350='BP Flag Rules'!Y$22,C350='BP Flag Rules'!Y$23,C350='BP Flag Rules'!Y$24,C350='BP Flag Rules'!Y$25,C350='BP Flag Rules'!Y$26,C350='BP Flag Rules'!Y$27)+B349","v":0},"BP_EMERG_TRN","C","ADMIMETH","2A","Accident and Emergency Department of another provider where the PATIENT had not been admitted"]
[null,{"$f":"OR(C351='BP Flag Rules'!Y$18,C351='BP Flag Rules'!Y$19,C351='BP Flag Rules'!Y$20,C351='BP Flag Rules'!Y$21,C351='BP Flag Rules'!Y$22,C351='BP Flag Rules'!Y$23,C351='BP Flag Rules'!Y$24,C351='BP Flag Rules'!Y$25,C351='BP Flag Rules'!Y$26,C351='BP Flag Rules'!Y$27)+B350","v":0},"BP_EMERG_TRN","C","ADMIMETH","2B","Transfer of an admitted PATIENT from another Hospital Provider in an emergency"]
[null,{"$f":"OR(C352='BP Flag Rules'!Y$18,C352='BP Flag Rules'!Y$19,C352='BP Flag Rules'!Y$20,C352='BP Flag Rules'!Y$21,C352='BP Flag Rules'!Y$22,C352='BP Flag Rules'!Y$23,C352='BP Flag Rules'!Y$24,C352='BP Flag Rules'!Y$25,C352='BP Flag Rules'!Y$26,C352='BP Flag Rules'!Y$27)+B351","v":0},"BP_EMERG_TRN","C","ADMIMETH","2C","Baby born at home as intended"]
[null,{"$f":"OR(C353='BP Flag Rules'!Y$18,C353='BP Flag Rules'!Y$19,C353='BP Flag Rules'!Y$20,C353='BP Flag Rules'!Y$21,C353='BP Flag Rules'!Y$22,C353='BP Flag Rules'!Y$23,C353='BP Flag Rules'!Y$24,C353='BP Flag Rules'!Y$25,C353='BP Flag Rules'!Y$26,C353='BP Flag Rules'!Y$27)+B352","v":0},"BP_EMERG_TRN","C","ADMIMETH","2D","Other emergency admission"]
[null,{"$f":"OR(C354='BP Flag Rules'!Y$18,C354='BP Flag Rules'!Y$19,C354='BP Flag Rules'!Y$20,C354='BP Flag Rules'!Y$21,C354='BP Flag Rules'!Y$22,C354='BP Flag Rules'!Y$23,C354='BP Flag Rules'!Y$24,C354='BP Flag Rules'!Y$25,C354='BP Flag Rules'!Y$26,C354='BP Flag Rules'!Y$27)+B353","v":0},"BP_EMERG_TRN","C","ADMIMETH",81,"Transfer of any admitted PATIENT from other Hospital Provider other than in an emergency"]
[null,{"$f":"OR(C355='BP Flag Rules'!Y$18,C355='BP Flag Rules'!Y$19,C355='BP Flag Rules'!Y$20,C355='BP Flag Rules'!Y$21,C355='BP Flag Rules'!Y$22,C355='BP Flag Rules'!Y$23,C355='BP Flag Rules'!Y$24,C355='BP Flag Rules'!Y$25,C355='BP Flag Rules'!Y$26,C355='BP Flag Rules'!Y$27)+B354","v":0},"BP_ENDO_INSERT_PROST_OPCS","C","OPCS","M274","Ureteroscopic insertion of ureteric stent"]
[null,{"$f":"OR(C356='BP Flag Rules'!Y$18,C356='BP Flag Rules'!Y$19,C356='BP Flag Rules'!Y$20,C356='BP Flag Rules'!Y$21,C356='BP Flag Rules'!Y$22,C356='BP Flag Rules'!Y$23,C356='BP Flag Rules'!Y$24,C356='BP Flag Rules'!Y$25,C356='BP Flag Rules'!Y$26,C356='BP Flag Rules'!Y$27)+B355","v":0},"BP_ENDO_INSERT_PROST_OPCS","C","OPCS","M292","Endoscopic insertion of tubal prosthesis into ureter NEC"]
[null,{"$f":"OR(C357='BP Flag Rules'!Y$18,C357='BP Flag Rules'!Y$19,C357='BP Flag Rules'!Y$20,C357='BP Flag Rules'!Y$21,C357='BP Flag Rules'!Y$22,C357='BP Flag Rules'!Y$23,C357='BP Flag Rules'!Y$24,C357='BP Flag Rules'!Y$25,C357='BP Flag Rules'!Y$26,C357='BP Flag Rules'!Y$27)+B356","v":0},"BP_ENDO_INSERT_PROST_OPCS","C","OPCS","M295","Endoscopic renewal of tubal prosthesis into ureter"]
[null,{"$f":"OR(C358='BP Flag Rules'!Y$18,C358='BP Flag Rules'!Y$19,C358='BP Flag Rules'!Y$20,C358='BP Flag Rules'!Y$21,C358='BP Flag Rules'!Y$22,C358='BP Flag Rules'!Y$23,C358='BP Flag Rules'!Y$24,C358='BP Flag Rules'!Y$25,C358='BP Flag Rules'!Y$26,C358='BP Flag Rules'!Y$27)+B357","v":0},"BP_EPI_ICD","C","ICD","G253","Myoclonus"]
[null,{"$f":"OR(C359='BP Flag Rules'!Y$18,C359='BP Flag Rules'!Y$19,C359='BP Flag Rules'!Y$20,C359='BP Flag Rules'!Y$21,C359='BP Flag Rules'!Y$22,C359='BP Flag Rules'!Y$23,C359='BP Flag Rules'!Y$24,C359='BP Flag Rules'!Y$25,C359='BP Flag Rules'!Y$26,C359='BP Flag Rules'!Y$27)+B358","v":0},"BP_EPI_ICD","C","ICD","G400","Localization-related (focal)(partial) idiopathic epilepsy and epileptic syndromes with seizures of localized onset"]
[null,{"$f":"OR(C360='BP Flag Rules'!Y$18,C360='BP Flag Rules'!Y$19,C360='BP Flag Rules'!Y$20,C360='BP Flag Rules'!Y$21,C360='BP Flag Rules'!Y$22,C360='BP Flag Rules'!Y$23,C360='BP Flag Rules'!Y$24,C360='BP Flag Rules'!Y$25,C360='BP Flag Rules'!Y$26,C360='BP Flag Rules'!Y$27)+B359","v":0},"BP_EPI_ICD","C","ICD","G401","Localization-related (focal)(partial) symptomatic epilepsy and epileptic syndromes with simple partial seizures"]
[null,{"$f":"OR(C361='BP Flag Rules'!Y$18,C361='BP Flag Rules'!Y$19,C361='BP Flag Rules'!Y$20,C361='BP Flag Rules'!Y$21,C361='BP Flag Rules'!Y$22,C361='BP Flag Rules'!Y$23,C361='BP Flag Rules'!Y$24,C361='BP Flag Rules'!Y$25,C361='BP Flag Rules'!Y$26,C361='BP Flag Rules'!Y$27)+B360","v":0},"BP_EPI_ICD","C","ICD","G402","Localization-related (focal)(partial) symptomatic epilepsy and epileptic syndromes with complex partial seizures"]
[null,{"$f":"OR(C362='BP Flag Rules'!Y$18,C362='BP Flag Rules'!Y$19,C362='BP Flag Rules'!Y$20,C362='BP Flag Rules'!Y$21,C362='BP Flag Rules'!Y$22,C362='BP Flag Rules'!Y$23,C362='BP Flag Rules'!Y$24,C362='BP Flag Rules'!Y$25,C362='BP Flag Rules'!Y$26,C362='BP Flag Rules'!Y$27)+B361","v":0},"BP_EPI_ICD","C","ICD","G403","Generalized idiopathic epilepsy and epileptic syndromes"]
[null,{"$f":"OR(C363='BP Flag Rules'!Y$18,C363='BP Flag Rules'!Y$19,C363='BP Flag Rules'!Y$20,C363='BP Flag Rules'!Y$21,C363='BP Flag Rules'!Y$22,C363='BP Flag Rules'!Y$23,C363='BP Flag Rules'!Y$24,C363='BP Flag Rules'!Y$25,C363='BP Flag Rules'!Y$26,C363='BP Flag Rules'!Y$27)+B362","v":0},"BP_EPI_ICD","C","ICD","G404","Other generalized epilepsy and epileptic syndromes"]
[null,{"$f":"OR(C364='BP Flag Rules'!Y$18,C364='BP Flag Rules'!Y$19,C364='BP Flag Rules'!Y$20,C364='BP Flag Rules'!Y$21,C364='BP Flag Rules'!Y$22,C364='BP Flag Rules'!Y$23,C364='BP Flag Rules'!Y$24,C364='BP Flag Rules'!Y$25,C364='BP Flag Rules'!Y$26,C364='BP Flag Rules'!Y$27)+B363","v":0},"BP_EPI_ICD","C","ICD","G405","Special epileptic syndromes"]
[null,{"$f":"OR(C365='BP Flag Rules'!Y$18,C365='BP Flag Rules'!Y$19,C365='BP Flag Rules'!Y$20,C365='BP Flag Rules'!Y$21,C365='BP Flag Rules'!Y$22,C365='BP Flag Rules'!Y$23,C365='BP Flag Rules'!Y$24,C365='BP Flag Rules'!Y$25,C365='BP Flag Rules'!Y$26,C365='BP Flag Rules'!Y$27)+B364","v":0},"BP_EPI_ICD","C","ICD","G406","Grand mal seizures, unspecified (with or without petit mal)"]
[null,{"$f":"OR(C366='BP Flag Rules'!Y$18,C366='BP Flag Rules'!Y$19,C366='BP Flag Rules'!Y$20,C366='BP Flag Rules'!Y$21,C366='BP Flag Rules'!Y$22,C366='BP Flag Rules'!Y$23,C366='BP Flag Rules'!Y$24,C366='BP Flag Rules'!Y$25,C366='BP Flag Rules'!Y$26,C366='BP Flag Rules'!Y$27)+B365","v":0},"BP_EPI_ICD","C","ICD","G407","Petit mal, unspecified, without grand mal seizures"]
[null,{"$f":"OR(C367='BP Flag Rules'!Y$18,C367='BP Flag Rules'!Y$19,C367='BP Flag Rules'!Y$20,C367='BP Flag Rules'!Y$21,C367='BP Flag Rules'!Y$22,C367='BP Flag Rules'!Y$23,C367='BP Flag Rules'!Y$24,C367='BP Flag Rules'!Y$25,C367='BP Flag Rules'!Y$26,C367='BP Flag Rules'!Y$27)+B366","v":0},"BP_EPI_ICD","C","ICD","G408","Other epilepsy"]
[null,{"$f":"OR(C368='BP Flag Rules'!Y$18,C368='BP Flag Rules'!Y$19,C368='BP Flag Rules'!Y$20,C368='BP Flag Rules'!Y$21,C368='BP Flag Rules'!Y$22,C368='BP Flag Rules'!Y$23,C368='BP Flag Rules'!Y$24,C368='BP Flag Rules'!Y$25,C368='BP Flag Rules'!Y$26,C368='BP Flag Rules'!Y$27)+B367","v":0},"BP_EPI_ICD","C","ICD","G409","Epilepsy, unspecified"]
[null,{"$f":"OR(C369='BP Flag Rules'!Y$18,C369='BP Flag Rules'!Y$19,C369='BP Flag Rules'!Y$20,C369='BP Flag Rules'!Y$21,C369='BP Flag Rules'!Y$22,C369='BP Flag Rules'!Y$23,C369='BP Flag Rules'!Y$24,C369='BP Flag Rules'!Y$25,C369='BP Flag Rules'!Y$26,C369='BP Flag Rules'!Y$27)+B368","v":0},"BP_EPI_ICD","C","ICD","R568","Other and unspecified convulsions"]
[null,{"$f":"OR(C370='BP Flag Rules'!Y$18,C370='BP Flag Rules'!Y$19,C370='BP Flag Rules'!Y$20,C370='BP Flag Rules'!Y$21,C370='BP Flag Rules'!Y$22,C370='BP Flag Rules'!Y$23,C370='BP Flag Rules'!Y$24,C370='BP Flag Rules'!Y$25,C370='BP Flag Rules'!Y$26,C370='BP Flag Rules'!Y$27)+B369","v":0},"BP_EXBREAST_OPCS","C","OPCS","B281","Quadrantectomy of breast"]
[null,{"$f":"OR(C371='BP Flag Rules'!Y$18,C371='BP Flag Rules'!Y$19,C371='BP Flag Rules'!Y$20,C371='BP Flag Rules'!Y$21,C371='BP Flag Rules'!Y$22,C371='BP Flag Rules'!Y$23,C371='BP Flag Rules'!Y$24,C371='BP Flag Rules'!Y$25,C371='BP Flag Rules'!Y$26,C371='BP Flag Rules'!Y$27)+B370","v":0},"BP_EXBREAST_OPCS","C","OPCS","B282","Partial excision of breast NEC"]
[null,{"$f":"OR(C372='BP Flag Rules'!Y$18,C372='BP Flag Rules'!Y$19,C372='BP Flag Rules'!Y$20,C372='BP Flag Rules'!Y$21,C372='BP Flag Rules'!Y$22,C372='BP Flag Rules'!Y$23,C372='BP Flag Rules'!Y$24,C372='BP Flag Rules'!Y$25,C372='BP Flag Rules'!Y$26,C372='BP Flag Rules'!Y$27)+B371","v":0},"BP_EXBREAST_OPCS","C","OPCS","B283","Excision of lesion of breast NEC"]
[null,{"$f":"OR(C373='BP Flag Rules'!Y$18,C373='BP Flag Rules'!Y$19,C373='BP Flag Rules'!Y$20,C373='BP Flag Rules'!Y$21,C373='BP Flag Rules'!Y$22,C373='BP Flag Rules'!Y$23,C373='BP Flag Rules'!Y$24,C373='BP Flag Rules'!Y$25,C373='BP Flag Rules'!Y$26,C373='BP Flag Rules'!Y$27)+B372","v":0},"BP_EXBREAST_OPCS","C","OPCS","B284","Re-excision of breast margins"]
[null,{"$f":"OR(C374='BP Flag Rules'!Y$18,C374='BP Flag Rules'!Y$19,C374='BP Flag Rules'!Y$20,C374='BP Flag Rules'!Y$21,C374='BP Flag Rules'!Y$22,C374='BP Flag Rules'!Y$23,C374='BP Flag Rules'!Y$24,C374='BP Flag Rules'!Y$25,C374='BP Flag Rules'!Y$26,C374='BP Flag Rules'!Y$27)+B373","v":0},"BP_EXBREAST_OPCS","C","OPCS","B287","Wire guided excision of lesion of breast"]
[null,{"$f":"OR(C375='BP Flag Rules'!Y$18,C375='BP Flag Rules'!Y$19,C375='BP Flag Rules'!Y$20,C375='BP Flag Rules'!Y$21,C375='BP Flag Rules'!Y$22,C375='BP Flag Rules'!Y$23,C375='BP Flag Rules'!Y$24,C375='BP Flag Rules'!Y$25,C375='BP Flag Rules'!Y$26,C375='BP Flag Rules'!Y$27)+B374","v":0},"BP_EXCN_BIO_LYMP_OPCS","C","OPCS","T871","Excision or biopsy of scalene lymph node"]
[null,{"$f":"OR(C376='BP Flag Rules'!Y$18,C376='BP Flag Rules'!Y$19,C376='BP Flag Rules'!Y$20,C376='BP Flag Rules'!Y$21,C376='BP Flag Rules'!Y$22,C376='BP Flag Rules'!Y$23,C376='BP Flag Rules'!Y$24,C376='BP Flag Rules'!Y$25,C376='BP Flag Rules'!Y$26,C376='BP Flag Rules'!Y$27)+B375","v":0},"BP_EXCN_BIO_LYMP_OPCS","C","OPCS","T873","Excision or biopsy of axillary lymph node"]
[null,{"$f":"OR(C377='BP Flag Rules'!Y$18,C377='BP Flag Rules'!Y$19,C377='BP Flag Rules'!Y$20,C377='BP Flag Rules'!Y$21,C377='BP Flag Rules'!Y$22,C377='BP Flag Rules'!Y$23,C377='BP Flag Rules'!Y$24,C377='BP Flag Rules'!Y$25,C377='BP Flag Rules'!Y$26,C377='BP Flag Rules'!Y$27)+B376","v":0},"BP_EXCN_BIO_LYMP_OPCS","C","OPCS","T877","Excision or biopsy of inguinal lymph node"]
[null,{"$f":"OR(C378='BP Flag Rules'!Y$18,C378='BP Flag Rules'!Y$19,C378='BP Flag Rules'!Y$20,C378='BP Flag Rules'!Y$21,C378='BP Flag Rules'!Y$22,C378='BP Flag Rules'!Y$23,C378='BP Flag Rules'!Y$24,C378='BP Flag Rules'!Y$25,C378='BP Flag Rules'!Y$26,C378='BP Flag Rules'!Y$27)+B377","v":0},"BP_EXCN_BIO_LYMP_OPCS","C","OPCS","T878","Other specified excision or biopsy of lymph node"]
[null,{"$f":"OR(C379='BP Flag Rules'!Y$18,C379='BP Flag Rules'!Y$19,C379='BP Flag Rules'!Y$20,C379='BP Flag Rules'!Y$21,C379='BP Flag Rules'!Y$22,C379='BP Flag Rules'!Y$23,C379='BP Flag Rules'!Y$24,C379='BP Flag Rules'!Y$25,C379='BP Flag Rules'!Y$26,C379='BP Flag Rules'!Y$27)+B378","v":0},"BP_EXCN_BIO_LYMP_OPCS","C","OPCS","T879","Unspecified excision or biopsy of lymph node"]
[null,{"$f":"OR(C380='BP Flag Rules'!Y$18,C380='BP Flag Rules'!Y$19,C380='BP Flag Rules'!Y$20,C380='BP Flag Rules'!Y$21,C380='BP Flag Rules'!Y$22,C380='BP Flag Rules'!Y$23,C380='BP Flag Rules'!Y$24,C380='BP Flag Rules'!Y$25,C380='BP Flag Rules'!Y$26,C380='BP Flag Rules'!Y$27)+B379","v":1},"BP_FHF_ICD","C","ICD","S720","Fracture of neck of femur"]
[null,{"$f":"OR(C381='BP Flag Rules'!Y$18,C381='BP Flag Rules'!Y$19,C381='BP Flag Rules'!Y$20,C381='BP Flag Rules'!Y$21,C381='BP Flag Rules'!Y$22,C381='BP Flag Rules'!Y$23,C381='BP Flag Rules'!Y$24,C381='BP Flag Rules'!Y$25,C381='BP Flag Rules'!Y$26,C381='BP Flag Rules'!Y$27)+B380","v":2},"BP_FHF_ICD","C","ICD","S7200","Fracture of neck of femur: closed"]
[null,{"$f":"OR(C382='BP Flag Rules'!Y$18,C382='BP Flag Rules'!Y$19,C382='BP Flag Rules'!Y$20,C382='BP Flag Rules'!Y$21,C382='BP Flag Rules'!Y$22,C382='BP Flag Rules'!Y$23,C382='BP Flag Rules'!Y$24,C382='BP Flag Rules'!Y$25,C382='BP Flag Rules'!Y$26,C382='BP Flag Rules'!Y$27)+B381","v":3},"BP_FHF_ICD","C","ICD","S7201","Fracture of neck of femur: open"]
[null,{"$f":"OR(C383='BP Flag Rules'!Y$18,C383='BP Flag Rules'!Y$19,C383='BP Flag Rules'!Y$20,C383='BP Flag Rules'!Y$21,C383='BP Flag Rules'!Y$22,C383='BP Flag Rules'!Y$23,C383='BP Flag Rules'!Y$24,C383='BP Flag Rules'!Y$25,C383='BP Flag Rules'!Y$26,C383='BP Flag Rules'!Y$27)+B382","v":4},"BP_FHF_ICD","C","ICD","S721","Pertrochanteric fracture"]
[null,{"$f":"OR(C384='BP Flag Rules'!Y$18,C384='BP Flag Rules'!Y$19,C384='BP Flag Rules'!Y$20,C384='BP Flag Rules'!Y$21,C384='BP Flag Rules'!Y$22,C384='BP Flag Rules'!Y$23,C384='BP Flag Rules'!Y$24,C384='BP Flag Rules'!Y$25,C384='BP Flag Rules'!Y$26,C384='BP Flag Rules'!Y$27)+B383","v":5},"BP_FHF_ICD","C","ICD","S7210","Pertrochanteric fracture: closed"]
[null,{"$f":"OR(C385='BP Flag Rules'!Y$18,C385='BP Flag Rules'!Y$19,C385='BP Flag Rules'!Y$20,C385='BP Flag Rules'!Y$21,C385='BP Flag Rules'!Y$22,C385='BP Flag Rules'!Y$23,C385='BP Flag Rules'!Y$24,C385='BP Flag Rules'!Y$25,C385='BP Flag Rules'!Y$26,C385='BP Flag Rules'!Y$27)+B384","v":6},"BP_FHF_ICD","C","ICD","S7211","Pertrochanteric fracture: open"]
[null,{"$f":"OR(C386='BP Flag Rules'!Y$18,C386='BP Flag Rules'!Y$19,C386='BP Flag Rules'!Y$20,C386='BP Flag Rules'!Y$21,C386='BP Flag Rules'!Y$22,C386='BP Flag Rules'!Y$23,C386='BP Flag Rules'!Y$24,C386='BP Flag Rules'!Y$25,C386='BP Flag Rules'!Y$26,C386='BP Flag Rules'!Y$27)+B385","v":7},"BP_FHF_ICD","C","ICD","S722","Subtrochanteric fracture"]
[null,{"$f":"OR(C387='BP Flag Rules'!Y$18,C387='BP Flag Rules'!Y$19,C387='BP Flag Rules'!Y$20,C387='BP Flag Rules'!Y$21,C387='BP Flag Rules'!Y$22,C387='BP Flag Rules'!Y$23,C387='BP Flag Rules'!Y$24,C387='BP Flag Rules'!Y$25,C387='BP Flag Rules'!Y$26,C387='BP Flag Rules'!Y$27)+B386","v":8},"BP_FHF_ICD","C","ICD","S7220","Subtrochanteric fracture: closed"]
[null,{"$f":"OR(C388='BP Flag Rules'!Y$18,C388='BP Flag Rules'!Y$19,C388='BP Flag Rules'!Y$20,C388='BP Flag Rules'!Y$21,C388='BP Flag Rules'!Y$22,C388='BP Flag Rules'!Y$23,C388='BP Flag Rules'!Y$24,C388='BP Flag Rules'!Y$25,C388='BP Flag Rules'!Y$26,C388='BP Flag Rules'!Y$27)+B387","v":9},"BP_FHF_ICD","C","ICD","S7221","Subtrochanteric fracture: open"]
[null,{"$f":"OR(C389='BP Flag Rules'!Y$18,C389='BP Flag Rules'!Y$19,C389='BP Flag Rules'!Y$20,C389='BP Flag Rules'!Y$21,C389='BP Flag Rules'!Y$22,C389='BP Flag Rules'!Y$23,C389='BP Flag Rules'!Y$24,C389='BP Flag Rules'!Y$25,C389='BP Flag Rules'!Y$26,C389='BP Flag Rules'!Y$27)+B388","v":10},"BP_FHF_OPCS","C","OPCS","O171","Remanipulation of intracapsular fracture of neck of femur and fixation using nail or screw"]
[null,{"$f":"OR(C390='BP Flag Rules'!Y$18,C390='BP Flag Rules'!Y$19,C390='BP Flag Rules'!Y$20,C390='BP Flag Rules'!Y$21,C390='BP Flag Rules'!Y$22,C390='BP Flag Rules'!Y$23,C390='BP Flag Rules'!Y$24,C390='BP Flag Rules'!Y$25,C390='BP Flag Rules'!Y$26,C390='BP Flag Rules'!Y$27)+B389","v":11},"BP_FHF_OPCS","C","OPCS","O172","Remanipulation of fracture of long bone and rigid internal fixation NEC"]
[null,{"$f":"OR(C391='BP Flag Rules'!Y$18,C391='BP Flag Rules'!Y$19,C391='BP Flag Rules'!Y$20,C391='BP Flag Rules'!Y$21,C391='BP Flag Rules'!Y$22,C391='BP Flag Rules'!Y$23,C391='BP Flag Rules'!Y$24,C391='BP Flag Rules'!Y$25,C391='BP Flag Rules'!Y$26,C391='BP Flag Rules'!Y$27)+B390","v":12},"BP_FHF_OPCS","C","OPCS","W191","Primary open reduction of fracture of neck of femur and open fixation using pin and plate"]
[null,{"$f":"OR(C392='BP Flag Rules'!Y$18,C392='BP Flag Rules'!Y$19,C392='BP Flag Rules'!Y$20,C392='BP Flag Rules'!Y$21,C392='BP Flag Rules'!Y$22,C392='BP Flag Rules'!Y$23,C392='BP Flag Rules'!Y$24,C392='BP Flag Rules'!Y$25,C392='BP Flag Rules'!Y$26,C392='BP Flag Rules'!Y$27)+B391","v":13},"BP_FHF_OPCS","C","OPCS","W192","Primary open reduction of fracture of long bone and fixation using rigid nail NEC"]
[null,{"$f":"OR(C393='BP Flag Rules'!Y$18,C393='BP Flag Rules'!Y$19,C393='BP Flag Rules'!Y$20,C393='BP Flag Rules'!Y$21,C393='BP Flag Rules'!Y$22,C393='BP Flag Rules'!Y$23,C393='BP Flag Rules'!Y$24,C393='BP Flag Rules'!Y$25,C393='BP Flag Rules'!Y$26,C393='BP Flag Rules'!Y$27)+B392","v":14},"BP_FHF_OPCS","C","OPCS","W241","Closed reduction of intracapsular fracture of neck of femur and fixation using nail or screw"]
[null,{"$f":"OR(C394='BP Flag Rules'!Y$18,C394='BP Flag Rules'!Y$19,C394='BP Flag Rules'!Y$20,C394='BP Flag Rules'!Y$21,C394='BP Flag Rules'!Y$22,C394='BP Flag Rules'!Y$23,C394='BP Flag Rules'!Y$24,C394='BP Flag Rules'!Y$25,C394='BP Flag Rules'!Y$26,C394='BP Flag Rules'!Y$27)+B393","v":15},"BP_FHF_OPCS","C","OPCS","W242","Closed reduction of fracture of long bone and rigid internal fixation NEC"]
[null,{"$f":"OR(C395='BP Flag Rules'!Y$18,C395='BP Flag Rules'!Y$19,C395='BP Flag Rules'!Y$20,C395='BP Flag Rules'!Y$21,C395='BP Flag Rules'!Y$22,C395='BP Flag Rules'!Y$23,C395='BP Flag Rules'!Y$24,C395='BP Flag Rules'!Y$25,C395='BP Flag Rules'!Y$26,C395='BP Flag Rules'!Y$27)+B394","v":16},"BP_FHF_OPCS","C","OPCS","W246","Closed reduction of fracture of bone and fixation using nail or screw"]
[null,{"$f":"OR(C396='BP Flag Rules'!Y$18,C396='BP Flag Rules'!Y$19,C396='BP Flag Rules'!Y$20,C396='BP Flag Rules'!Y$21,C396='BP Flag Rules'!Y$22,C396='BP Flag Rules'!Y$23,C396='BP Flag Rules'!Y$24,C396='BP Flag Rules'!Y$25,C396='BP Flag Rules'!Y$26,C396='BP Flag Rules'!Y$27)+B395","v":17},"BP_FHF_OPCS","C","OPCS","W371","Primary total prosthetic replacement of hip joint using cement"]
[null,{"$f":"OR(C397='BP Flag Rules'!Y$18,C397='BP Flag Rules'!Y$19,C397='BP Flag Rules'!Y$20,C397='BP Flag Rules'!Y$21,C397='BP Flag Rules'!Y$22,C397='BP Flag Rules'!Y$23,C397='BP Flag Rules'!Y$24,C397='BP Flag Rules'!Y$25,C397='BP Flag Rules'!Y$26,C397='BP Flag Rules'!Y$27)+B396","v":18},"BP_FHF_OPCS","C","OPCS","W381","Primary total prosthetic replacement of hip joint not using cement"]
[null,{"$f":"OR(C398='BP Flag Rules'!Y$18,C398='BP Flag Rules'!Y$19,C398='BP Flag Rules'!Y$20,C398='BP Flag Rules'!Y$21,C398='BP Flag Rules'!Y$22,C398='BP Flag Rules'!Y$23,C398='BP Flag Rules'!Y$24,C398='BP Flag Rules'!Y$25,C398='BP Flag Rules'!Y$26,C398='BP Flag Rules'!Y$27)+B397","v":19},"BP_FHF_OPCS","C","OPCS","W391","Primary total prosthetic replacement of hip joint NEC"]
[null,{"$f":"OR(C399='BP Flag Rules'!Y$18,C399='BP Flag Rules'!Y$19,C399='BP Flag Rules'!Y$20,C399='BP Flag Rules'!Y$21,C399='BP Flag Rules'!Y$22,C399='BP Flag Rules'!Y$23,C399='BP Flag Rules'!Y$24,C399='BP Flag Rules'!Y$25,C399='BP Flag Rules'!Y$26,C399='BP Flag Rules'!Y$27)+B398","v":20},"BP_FHF_OPCS","C","OPCS","W461","Primary prosthetic replacement of head of femur using cement"]
[null,{"$f":"OR(C400='BP Flag Rules'!Y$18,C400='BP Flag Rules'!Y$19,C400='BP Flag Rules'!Y$20,C400='BP Flag Rules'!Y$21,C400='BP Flag Rules'!Y$22,C400='BP Flag Rules'!Y$23,C400='BP Flag Rules'!Y$24,C400='BP Flag Rules'!Y$25,C400='BP Flag Rules'!Y$26,C400='BP Flag Rules'!Y$27)+B399","v":21},"BP_FHF_OPCS","C","OPCS","W471","Primary prosthetic replacement of head of femur not using cement"]
[null,{"$f":"OR(C401='BP Flag Rules'!Y$18,C401='BP Flag Rules'!Y$19,C401='BP Flag Rules'!Y$20,C401='BP Flag Rules'!Y$21,C401='BP Flag Rules'!Y$22,C401='BP Flag Rules'!Y$23,C401='BP Flag Rules'!Y$24,C401='BP Flag Rules'!Y$25,C401='BP Flag Rules'!Y$26,C401='BP Flag Rules'!Y$27)+B400","v":22},"BP_FHF_OPCS","C","OPCS","W481","Primary prosthetic replacement of head of femur NEC"]
[null,{"$f":"OR(C402='BP Flag Rules'!Y$18,C402='BP Flag Rules'!Y$19,C402='BP Flag Rules'!Y$20,C402='BP Flag Rules'!Y$21,C402='BP Flag Rules'!Y$22,C402='BP Flag Rules'!Y$23,C402='BP Flag Rules'!Y$24,C402='BP Flag Rules'!Y$25,C402='BP Flag Rules'!Y$26,C402='BP Flag Rules'!Y$27)+B401","v":23},"BP_FHF_OPCS","C","OPCS","W572","Primary excision arthroplasty of joint NEC"]
[null,{"$f":"OR(C403='BP Flag Rules'!Y$18,C403='BP Flag Rules'!Y$19,C403='BP Flag Rules'!Y$20,C403='BP Flag Rules'!Y$21,C403='BP Flag Rules'!Y$22,C403='BP Flag Rules'!Y$23,C403='BP Flag Rules'!Y$24,C403='BP Flag Rules'!Y$25,C403='BP Flag Rules'!Y$26,C403='BP Flag Rules'!Y$27)+B402","v":24},"BP_FHF_OPCS","C","OPCS","W654","Primary open reduction of fracture dislocation of joint and internal fixation NEC"]
[null,{"$f":"OR(C404='BP Flag Rules'!Y$18,C404='BP Flag Rules'!Y$19,C404='BP Flag Rules'!Y$20,C404='BP Flag Rules'!Y$21,C404='BP Flag Rules'!Y$22,C404='BP Flag Rules'!Y$23,C404='BP Flag Rules'!Y$24,C404='BP Flag Rules'!Y$25,C404='BP Flag Rules'!Y$26,C404='BP Flag Rules'!Y$27)+B403","v":25},"BP_FHF_OPCS","C","OPCS","W931","Primary hybrid prosthetic replacement of hip joint using cemented acetabular component"]
[null,{"$f":"OR(C405='BP Flag Rules'!Y$18,C405='BP Flag Rules'!Y$19,C405='BP Flag Rules'!Y$20,C405='BP Flag Rules'!Y$21,C405='BP Flag Rules'!Y$22,C405='BP Flag Rules'!Y$23,C405='BP Flag Rules'!Y$24,C405='BP Flag Rules'!Y$25,C405='BP Flag Rules'!Y$26,C405='BP Flag Rules'!Y$27)+B404","v":26},"BP_FHF_OPCS","C","OPCS","W941","Primary hybrid prosthetic replacement of hip joint using cemented femoral component"]
[null,{"$f":"OR(C406='BP Flag Rules'!Y$18,C406='BP Flag Rules'!Y$19,C406='BP Flag Rules'!Y$20,C406='BP Flag Rules'!Y$21,C406='BP Flag Rules'!Y$22,C406='BP Flag Rules'!Y$23,C406='BP Flag Rules'!Y$24,C406='BP Flag Rules'!Y$25,C406='BP Flag Rules'!Y$26,C406='BP Flag Rules'!Y$27)+B405","v":27},"BP_FHF_OPCS","C","OPCS","W951","Primary hybrid prosthetic replacement of hip joint using cement NEC"]
[null,{"$f":"OR(C407='BP Flag Rules'!Y$18,C407='BP Flag Rules'!Y$19,C407='BP Flag Rules'!Y$20,C407='BP Flag Rules'!Y$21,C407='BP Flag Rules'!Y$22,C407='BP Flag Rules'!Y$23,C407='BP Flag Rules'!Y$24,C407='BP Flag Rules'!Y$25,C407='BP Flag Rules'!Y$26,C407='BP Flag Rules'!Y$27)+B406","v":27},"BP_HEAD_ICD","C","ICD","S060","Concussion"]
[null,{"$f":"OR(C408='BP Flag Rules'!Y$18,C408='BP Flag Rules'!Y$19,C408='BP Flag Rules'!Y$20,C408='BP Flag Rules'!Y$21,C408='BP Flag Rules'!Y$22,C408='BP Flag Rules'!Y$23,C408='BP Flag Rules'!Y$24,C408='BP Flag Rules'!Y$25,C408='BP Flag Rules'!Y$26,C408='BP Flag Rules'!Y$27)+B407","v":27},"BP_HEAD_ICD","C","ICD","S0600","Concussion: without open intracranial wound"]
[null,{"$f":"OR(C409='BP Flag Rules'!Y$18,C409='BP Flag Rules'!Y$19,C409='BP Flag Rules'!Y$20,C409='BP Flag Rules'!Y$21,C409='BP Flag Rules'!Y$22,C409='BP Flag Rules'!Y$23,C409='BP Flag Rules'!Y$24,C409='BP Flag Rules'!Y$25,C409='BP Flag Rules'!Y$26,C409='BP Flag Rules'!Y$27)+B408","v":27},"BP_HEAD_ICD","C","ICD","S0601","Concussion: with open intracranial wound"]
[null,{"$f":"OR(C410='BP Flag Rules'!Y$18,C410='BP Flag Rules'!Y$19,C410='BP Flag Rules'!Y$20,C410='BP Flag Rules'!Y$21,C410='BP Flag Rules'!Y$22,C410='BP Flag Rules'!Y$23,C410='BP Flag Rules'!Y$24,C410='BP Flag Rules'!Y$25,C410='BP Flag Rules'!Y$26,C410='BP Flag Rules'!Y$27)+B409","v":27},"BP_HEAD_ICD","C","ICD","S098","Other specified injuries of head"]
[null,{"$f":"OR(C411='BP Flag Rules'!Y$18,C411='BP Flag Rules'!Y$19,C411='BP Flag Rules'!Y$20,C411='BP Flag Rules'!Y$21,C411='BP Flag Rules'!Y$22,C411='BP Flag Rules'!Y$23,C411='BP Flag Rules'!Y$24,C411='BP Flag Rules'!Y$25,C411='BP Flag Rules'!Y$26,C411='BP Flag Rules'!Y$27)+B410","v":27},"BP_HEAD_ICD","C","ICD","S099","Unspecified injury of head"]
[null,{"$f":"OR(C412='BP Flag Rules'!Y$18,C412='BP Flag Rules'!Y$19,C412='BP Flag Rules'!Y$20,C412='BP Flag Rules'!Y$21,C412='BP Flag Rules'!Y$22,C412='BP Flag Rules'!Y$23,C412='BP Flag Rules'!Y$24,C412='BP Flag Rules'!Y$25,C412='BP Flag Rules'!Y$26,C412='BP Flag Rules'!Y$27)+B411","v":27},"BP_LAR_OOP_SPTMY_OPCS","C","OPCS","Q221","Bilateral salpingoophorectomy",1]
[null,{"$f":"OR(C413='BP Flag Rules'!Y$18,C413='BP Flag Rules'!Y$19,C413='BP Flag Rules'!Y$20,C413='BP Flag Rules'!Y$21,C413='BP Flag Rules'!Y$22,C413='BP Flag Rules'!Y$23,C413='BP Flag Rules'!Y$24,C413='BP Flag Rules'!Y$25,C413='BP Flag Rules'!Y$26,C413='BP Flag Rules'!Y$27)+B412","v":27},"BP_LAR_OOP_SPTMY_OPCS","C","OPCS","Q222","Bilateral salpingectomy NEC",1]
[null,{"$f":"OR(C414='BP Flag Rules'!Y$18,C414='BP Flag Rules'!Y$19,C414='BP Flag Rules'!Y$20,C414='BP Flag Rules'!Y$21,C414='BP Flag Rules'!Y$22,C414='BP Flag Rules'!Y$23,C414='BP Flag Rules'!Y$24,C414='BP Flag Rules'!Y$25,C414='BP Flag Rules'!Y$26,C414='BP Flag Rules'!Y$27)+B413","v":27},"BP_LAR_OOP_SPTMY_OPCS","C","OPCS","Q223","Bilateral oophorectomy NEC",1]
[null,{"$f":"OR(C415='BP Flag Rules'!Y$18,C415='BP Flag Rules'!Y$19,C415='BP Flag Rules'!Y$20,C415='BP Flag Rules'!Y$21,C415='BP Flag Rules'!Y$22,C415='BP Flag Rules'!Y$23,C415='BP Flag Rules'!Y$24,C415='BP Flag Rules'!Y$25,C415='BP Flag Rules'!Y$26,C415='BP Flag Rules'!Y$27)+B414","v":27},"BP_LAR_OOP_SPTMY_OPCS","C","OPCS","Q228","Other specified bilateral excision of adnexa of uterus",1]
[null,{"$f":"OR(C416='BP Flag Rules'!Y$18,C416='BP Flag Rules'!Y$19,C416='BP Flag Rules'!Y$20,C416='BP Flag Rules'!Y$21,C416='BP Flag Rules'!Y$22,C416='BP Flag Rules'!Y$23,C416='BP Flag Rules'!Y$24,C416='BP Flag Rules'!Y$25,C416='BP Flag Rules'!Y$26,C416='BP Flag Rules'!Y$27)+B415","v":27},"BP_LAR_OOP_SPTMY_OPCS","C","OPCS","Q229","Unspecified bilateral excision of adnexa of uterus",1]
[null,{"$f":"OR(C417='BP Flag Rules'!Y$18,C417='BP Flag Rules'!Y$19,C417='BP Flag Rules'!Y$20,C417='BP Flag Rules'!Y$21,C417='BP Flag Rules'!Y$22,C417='BP Flag Rules'!Y$23,C417='BP Flag Rules'!Y$24,C417='BP Flag Rules'!Y$25,C417='BP Flag Rules'!Y$26,C417='BP Flag Rules'!Y$27)+B416","v":27},"BP_LAR_OOP_SPTMY_OPCS","C","OPCS","Q231","Unilateral salpingoophorectomy NEC",1]
[null,{"$f":"OR(C418='BP Flag Rules'!Y$18,C418='BP Flag Rules'!Y$19,C418='BP Flag Rules'!Y$20,C418='BP Flag Rules'!Y$21,C418='BP Flag Rules'!Y$22,C418='BP Flag Rules'!Y$23,C418='BP Flag Rules'!Y$24,C418='BP Flag Rules'!Y$25,C418='BP Flag Rules'!Y$26,C418='BP Flag Rules'!Y$27)+B417","v":27},"BP_LAR_OOP_SPTMY_OPCS","C","OPCS","Q232","Salpingoophorectomy of remaining solitary fallopian tube and ovary",1]
[null,{"$f":"OR(C419='BP Flag Rules'!Y$18,C419='BP Flag Rules'!Y$19,C419='BP Flag Rules'!Y$20,C419='BP Flag Rules'!Y$21,C419='BP Flag Rules'!Y$22,C419='BP Flag Rules'!Y$23,C419='BP Flag Rules'!Y$24,C419='BP Flag Rules'!Y$25,C419='BP Flag Rules'!Y$26,C419='BP Flag Rules'!Y$27)+B418","v":27},"BP_LAR_OOP_SPTMY_OPCS","C","OPCS","Q233","Unilateral salpingectomy NEC",1]
[null,{"$f":"OR(C420='BP Flag Rules'!Y$18,C420='BP Flag Rules'!Y$19,C420='BP Flag Rules'!Y$20,C420='BP Flag Rules'!Y$21,C420='BP Flag Rules'!Y$22,C420='BP Flag Rules'!Y$23,C420='BP Flag Rules'!Y$24,C420='BP Flag Rules'!Y$25,C420='BP Flag Rules'!Y$26,C420='BP Flag Rules'!Y$27)+B419","v":27},"BP_LAR_OOP_SPTMY_OPCS","C","OPCS","Q234","Salpingectomy of remaining solitary fallopian tube NEC",1]
[null,{"$f":"OR(C421='BP Flag Rules'!Y$18,C421='BP Flag Rules'!Y$19,C421='BP Flag Rules'!Y$20,C421='BP Flag Rules'!Y$21,C421='BP Flag Rules'!Y$22,C421='BP Flag Rules'!Y$23,C421='BP Flag Rules'!Y$24,C421='BP Flag Rules'!Y$25,C421='BP Flag Rules'!Y$26,C421='BP Flag Rules'!Y$27)+B420","v":27},"BP_LAR_OOP_SPTMY_OPCS","C","OPCS","Q235","Unilateral oophorectomy NEC",1]
[null,{"$f":"OR(C422='BP Flag Rules'!Y$18,C422='BP Flag Rules'!Y$19,C422='BP Flag Rules'!Y$20,C422='BP Flag Rules'!Y$21,C422='BP Flag Rules'!Y$22,C422='BP Flag Rules'!Y$23,C422='BP Flag Rules'!Y$24,C422='BP Flag Rules'!Y$25,C422='BP Flag Rules'!Y$26,C422='BP Flag Rules'!Y$27)+B421","v":27},"BP_LAR_OOP_SPTMY_OPCS","C","OPCS","Q236","Oophorectomy of remaining solitary ovary NEC",1]
[null,{"$f":"OR(C423='BP Flag Rules'!Y$18,C423='BP Flag Rules'!Y$19,C423='BP Flag Rules'!Y$20,C423='BP Flag Rules'!Y$21,C423='BP Flag Rules'!Y$22,C423='BP Flag Rules'!Y$23,C423='BP Flag Rules'!Y$24,C423='BP Flag Rules'!Y$25,C423='BP Flag Rules'!Y$26,C423='BP Flag Rules'!Y$27)+B422","v":27},"BP_LAR_OOP_SPTMY_OPCS","C","OPCS","Q238","Other specified unilateral excision of adnexa of uterus",1]
[null,{"$f":"OR(C424='BP Flag Rules'!Y$18,C424='BP Flag Rules'!Y$19,C424='BP Flag Rules'!Y$20,C424='BP Flag Rules'!Y$21,C424='BP Flag Rules'!Y$22,C424='BP Flag Rules'!Y$23,C424='BP Flag Rules'!Y$24,C424='BP Flag Rules'!Y$25,C424='BP Flag Rules'!Y$26,C424='BP Flag Rules'!Y$27)+B423","v":27},"BP_LAR_OOP_SPTMY_OPCS","C","OPCS","Q239","Unspecified unilateral excision of adnexa of uterus",1]
[null,{"$f":"OR(C425='BP Flag Rules'!Y$18,C425='BP Flag Rules'!Y$19,C425='BP Flag Rules'!Y$20,C425='BP Flag Rules'!Y$21,C425='BP Flag Rules'!Y$22,C425='BP Flag Rules'!Y$23,C425='BP Flag Rules'!Y$24,C425='BP Flag Rules'!Y$25,C425='BP Flag Rules'!Y$26,C425='BP Flag Rules'!Y$27)+B424","v":27},"BP_LAR_OOP_SPTMY_OPCS","C","OPCS","Q241","Salpingoophorectomy NEC",1]
[null,{"$f":"OR(C426='BP Flag Rules'!Y$18,C426='BP Flag Rules'!Y$19,C426='BP Flag Rules'!Y$20,C426='BP Flag Rules'!Y$21,C426='BP Flag Rules'!Y$22,C426='BP Flag Rules'!Y$23,C426='BP Flag Rules'!Y$24,C426='BP Flag Rules'!Y$25,C426='BP Flag Rules'!Y$26,C426='BP Flag Rules'!Y$27)+B425","v":27},"BP_LAR_OOP_SPTMY_OPCS","C","OPCS","Q242","Salpingectomy NEC",1]
[null,{"$f":"OR(C427='BP Flag Rules'!Y$18,C427='BP Flag Rules'!Y$19,C427='BP Flag Rules'!Y$20,C427='BP Flag Rules'!Y$21,C427='BP Flag Rules'!Y$22,C427='BP Flag Rules'!Y$23,C427='BP Flag Rules'!Y$24,C427='BP Flag Rules'!Y$25,C427='BP Flag Rules'!Y$26,C427='BP Flag Rules'!Y$27)+B426","v":27},"BP_LAR_OOP_SPTMY_OPCS","C","OPCS","Q243","Oophorectomy NEC",1]
[null,{"$f":"OR(C428='BP Flag Rules'!Y$18,C428='BP Flag Rules'!Y$19,C428='BP Flag Rules'!Y$20,C428='BP Flag Rules'!Y$21,C428='BP Flag Rules'!Y$22,C428='BP Flag Rules'!Y$23,C428='BP Flag Rules'!Y$24,C428='BP Flag Rules'!Y$25,C428='BP Flag Rules'!Y$26,C428='BP Flag Rules'!Y$27)+B427","v":27},"BP_LAR_OOP_SPTMY_OPCS","C","OPCS","Q248","Other specified other excision of adnexa of uterus",1]
[null,{"$f":"OR(C429='BP Flag Rules'!Y$18,C429='BP Flag Rules'!Y$19,C429='BP Flag Rules'!Y$20,C429='BP Flag Rules'!Y$21,C429='BP Flag Rules'!Y$22,C429='BP Flag Rules'!Y$23,C429='BP Flag Rules'!Y$24,C429='BP Flag Rules'!Y$25,C429='BP Flag Rules'!Y$26,C429='BP Flag Rules'!Y$27)+B428","v":27},"BP_LAR_OOP_SPTMY_OPCS","C","OPCS","Q249","Unspecified other excision of adnexa of uterus",1]
[null,{"$f":"OR(C430='BP Flag Rules'!Y$18,C430='BP Flag Rules'!Y$19,C430='BP Flag Rules'!Y$20,C430='BP Flag Rules'!Y$21,C430='BP Flag Rules'!Y$22,C430='BP Flag Rules'!Y$23,C430='BP Flag Rules'!Y$24,C430='BP Flag Rules'!Y$25,C430='BP Flag Rules'!Y$26,C430='BP Flag Rules'!Y$27)+B429","v":27},"BP_LAR_OOP_SPTMY_OPCS","C","OPCS","Q251","Excision of lesion of fallopian tube",1]
[null,{"$f":"OR(C431='BP Flag Rules'!Y$18,C431='BP Flag Rules'!Y$19,C431='BP Flag Rules'!Y$20,C431='BP Flag Rules'!Y$21,C431='BP Flag Rules'!Y$22,C431='BP Flag Rules'!Y$23,C431='BP Flag Rules'!Y$24,C431='BP Flag Rules'!Y$25,C431='BP Flag Rules'!Y$26,C431='BP Flag Rules'!Y$27)+B430","v":27},"BP_LAR_OOP_SPTMY_OPCS","C","OPCS","Q258","Other specified partial excision of fallopian tube",1]
[null,{"$f":"OR(C432='BP Flag Rules'!Y$18,C432='BP Flag Rules'!Y$19,C432='BP Flag Rules'!Y$20,C432='BP Flag Rules'!Y$21,C432='BP Flag Rules'!Y$22,C432='BP Flag Rules'!Y$23,C432='BP Flag Rules'!Y$24,C432='BP Flag Rules'!Y$25,C432='BP Flag Rules'!Y$26,C432='BP Flag Rules'!Y$27)+B431","v":27},"BP_LAR_OOP_SPTMY_OPCS","C","OPCS","Q259","Unspecified partial excision of fallopian tube",1]
[null,{"$f":"OR(C433='BP Flag Rules'!Y$18,C433='BP Flag Rules'!Y$19,C433='BP Flag Rules'!Y$20,C433='BP Flag Rules'!Y$21,C433='BP Flag Rules'!Y$22,C433='BP Flag Rules'!Y$23,C433='BP Flag Rules'!Y$24,C433='BP Flag Rules'!Y$25,C433='BP Flag Rules'!Y$26,C433='BP Flag Rules'!Y$27)+B432","v":27},"BP_LAR_OOP_SPTMY_OPCS","C","OPCS","Y752","Laparoscopic approach to abdominal cavity NEC",2]
[null,{"$f":"OR(C434='BP Flag Rules'!Y$18,C434='BP Flag Rules'!Y$19,C434='BP Flag Rules'!Y$20,C434='BP Flag Rules'!Y$21,C434='BP Flag Rules'!Y$22,C434='BP Flag Rules'!Y$23,C434='BP Flag Rules'!Y$24,C434='BP Flag Rules'!Y$25,C434='BP Flag Rules'!Y$26,C434='BP Flag Rules'!Y$27)+B433","v":27},"BP_LYMPH_OPCS_1","C","OPCS","O142","Sentinel lymph node",2]
[null,{"$f":"OR(C435='BP Flag Rules'!Y$18,C435='BP Flag Rules'!Y$19,C435='BP Flag Rules'!Y$20,C435='BP Flag Rules'!Y$21,C435='BP Flag Rules'!Y$22,C435='BP Flag Rules'!Y$23,C435='BP Flag Rules'!Y$24,C435='BP Flag Rules'!Y$25,C435='BP Flag Rules'!Y$26,C435='BP Flag Rules'!Y$27)+B434","v":27},"BP_LYMPH_OPCS_1","C","OPCS","T873","Excision or biopsy of axillary lymph node",1]
[null,{"$f":"OR(C436='BP Flag Rules'!Y$18,C436='BP Flag Rules'!Y$19,C436='BP Flag Rules'!Y$20,C436='BP Flag Rules'!Y$21,C436='BP Flag Rules'!Y$22,C436='BP Flag Rules'!Y$23,C436='BP Flag Rules'!Y$24,C436='BP Flag Rules'!Y$25,C436='BP Flag Rules'!Y$26,C436='BP Flag Rules'!Y$27)+B435","v":27},"BP_LYMPH_OPCS_2","C","OPCS","T862","Sampling of axillary lymph nodes"]
[null,{"$f":"OR(C437='BP Flag Rules'!Y$18,C437='BP Flag Rules'!Y$19,C437='BP Flag Rules'!Y$20,C437='BP Flag Rules'!Y$21,C437='BP Flag Rules'!Y$22,C437='BP Flag Rules'!Y$23,C437='BP Flag Rules'!Y$24,C437='BP Flag Rules'!Y$25,C437='BP Flag Rules'!Y$26,C437='BP Flag Rules'!Y$27)+B436","v":27},"BP_MASTECTOMY_OPCS","C","OPCS","B274","Total mastectomy NEC"]
[null,{"$f":"OR(C438='BP Flag Rules'!Y$18,C438='BP Flag Rules'!Y$19,C438='BP Flag Rules'!Y$20,C438='BP Flag Rules'!Y$21,C438='BP Flag Rules'!Y$22,C438='BP Flag Rules'!Y$23,C438='BP Flag Rules'!Y$24,C438='BP Flag Rules'!Y$25,C438='BP Flag Rules'!Y$26,C438='BP Flag Rules'!Y$27)+B437","v":27},"BP_MASTECTOMY_OPCS","C","OPCS","B275","Subcutaneous mastectomy"]
[null,{"$f":"OR(C439='BP Flag Rules'!Y$18,C439='BP Flag Rules'!Y$19,C439='BP Flag Rules'!Y$20,C439='BP Flag Rules'!Y$21,C439='BP Flag Rules'!Y$22,C439='BP Flag Rules'!Y$23,C439='BP Flag Rules'!Y$24,C439='BP Flag Rules'!Y$25,C439='BP Flag Rules'!Y$26,C439='BP Flag Rules'!Y$27)+B438","v":27},"BP_MASTECTOMY_OPCS","C","OPCS","B276","Skin sparing mastectomy"]
[null,{"$f":"OR(C440='BP Flag Rules'!Y$18,C440='BP Flag Rules'!Y$19,C440='BP Flag Rules'!Y$20,C440='BP Flag Rules'!Y$21,C440='BP Flag Rules'!Y$22,C440='BP Flag Rules'!Y$23,C440='BP Flag Rules'!Y$24,C440='BP Flag Rules'!Y$25,C440='BP Flag Rules'!Y$26,C440='BP Flag Rules'!Y$27)+B439","v":27},"BP_MASTECTOMY_OPCS","C","OPCS","B278","Other specified total excision of breast"]
[null,{"$f":"OR(C441='BP Flag Rules'!Y$18,C441='BP Flag Rules'!Y$19,C441='BP Flag Rules'!Y$20,C441='BP Flag Rules'!Y$21,C441='BP Flag Rules'!Y$22,C441='BP Flag Rules'!Y$23,C441='BP Flag Rules'!Y$24,C441='BP Flag Rules'!Y$25,C441='BP Flag Rules'!Y$26,C441='BP Flag Rules'!Y$27)+B440","v":27},"BP_MASTECTOMY_OPCS","C","OPCS","B279","Unspecified total excision of breast"]
[null,{"$f":"OR(C442='BP Flag Rules'!Y$18,C442='BP Flag Rules'!Y$19,C442='BP Flag Rules'!Y$20,C442='BP Flag Rules'!Y$21,C442='BP Flag Rules'!Y$22,C442='BP Flag Rules'!Y$23,C442='BP Flag Rules'!Y$24,C442='BP Flag Rules'!Y$25,C442='BP Flag Rules'!Y$26,C442='BP Flag Rules'!Y$27)+B441","v":27},"BP_MI_ICD","C","ICD","I210","Acute transmural myocardial infarction of anterior wall"]
[null,{"$f":"OR(C443='BP Flag Rules'!Y$18,C443='BP Flag Rules'!Y$19,C443='BP Flag Rules'!Y$20,C443='BP Flag Rules'!Y$21,C443='BP Flag Rules'!Y$22,C443='BP Flag Rules'!Y$23,C443='BP Flag Rules'!Y$24,C443='BP Flag Rules'!Y$25,C443='BP Flag Rules'!Y$26,C443='BP Flag Rules'!Y$27)+B442","v":27},"BP_MI_ICD","C","ICD","I211","Acute transmural myocardial infarction of inferior wall"]
[null,{"$f":"OR(C444='BP Flag Rules'!Y$18,C444='BP Flag Rules'!Y$19,C444='BP Flag Rules'!Y$20,C444='BP Flag Rules'!Y$21,C444='BP Flag Rules'!Y$22,C444='BP Flag Rules'!Y$23,C444='BP Flag Rules'!Y$24,C444='BP Flag Rules'!Y$25,C444='BP Flag Rules'!Y$26,C444='BP Flag Rules'!Y$27)+B443","v":27},"BP_MI_ICD","C","ICD","I212","Acute transmural myocardial infarction of other sites"]
[null,{"$f":"OR(C445='BP Flag Rules'!Y$18,C445='BP Flag Rules'!Y$19,C445='BP Flag Rules'!Y$20,C445='BP Flag Rules'!Y$21,C445='BP Flag Rules'!Y$22,C445='BP Flag Rules'!Y$23,C445='BP Flag Rules'!Y$24,C445='BP Flag Rules'!Y$25,C445='BP Flag Rules'!Y$26,C445='BP Flag Rules'!Y$27)+B444","v":27},"BP_MI_ICD","C","ICD","I213","Acute transmural myocardial infarction of unspecified site"]
[null,{"$f":"OR(C446='BP Flag Rules'!Y$18,C446='BP Flag Rules'!Y$19,C446='BP Flag Rules'!Y$20,C446='BP Flag Rules'!Y$21,C446='BP Flag Rules'!Y$22,C446='BP Flag Rules'!Y$23,C446='BP Flag Rules'!Y$24,C446='BP Flag Rules'!Y$25,C446='BP Flag Rules'!Y$26,C446='BP Flag Rules'!Y$27)+B445","v":27},"BP_MI_ICD","C","ICD","I219","Acute myocardial infarction, unspecified"]
[null,{"$f":"OR(C447='BP Flag Rules'!Y$18,C447='BP Flag Rules'!Y$19,C447='BP Flag Rules'!Y$20,C447='BP Flag Rules'!Y$21,C447='BP Flag Rules'!Y$22,C447='BP Flag Rules'!Y$23,C447='BP Flag Rules'!Y$24,C447='BP Flag Rules'!Y$25,C447='BP Flag Rules'!Y$26,C447='BP Flag Rules'!Y$27)+B446","v":27},"BP_MI_ICD","C","ICD","I220","Subsequent myocardial infarction of anterior wall"]
[null,{"$f":"OR(C448='BP Flag Rules'!Y$18,C448='BP Flag Rules'!Y$19,C448='BP Flag Rules'!Y$20,C448='BP Flag Rules'!Y$21,C448='BP Flag Rules'!Y$22,C448='BP Flag Rules'!Y$23,C448='BP Flag Rules'!Y$24,C448='BP Flag Rules'!Y$25,C448='BP Flag Rules'!Y$26,C448='BP Flag Rules'!Y$27)+B447","v":27},"BP_MI_ICD","C","ICD","I221","Subsequent myocardial infarction of inferior wall"]
[null,{"$f":"OR(C449='BP Flag Rules'!Y$18,C449='BP Flag Rules'!Y$19,C449='BP Flag Rules'!Y$20,C449='BP Flag Rules'!Y$21,C449='BP Flag Rules'!Y$22,C449='BP Flag Rules'!Y$23,C449='BP Flag Rules'!Y$24,C449='BP Flag Rules'!Y$25,C449='BP Flag Rules'!Y$26,C449='BP Flag Rules'!Y$27)+B448","v":27},"BP_MI_ICD","C","ICD","I228","Subsequent myocardial infarction of other sites"]
[null,{"$f":"OR(C450='BP Flag Rules'!Y$18,C450='BP Flag Rules'!Y$19,C450='BP Flag Rules'!Y$20,C450='BP Flag Rules'!Y$21,C450='BP Flag Rules'!Y$22,C450='BP Flag Rules'!Y$23,C450='BP Flag Rules'!Y$24,C450='BP Flag Rules'!Y$25,C450='BP Flag Rules'!Y$26,C450='BP Flag Rules'!Y$27)+B449","v":27},"BP_MI_ICD","C","ICD","I229","Subsequent myocardial infarction of unspecified site"]
[null,{"$f":"OR(C451='BP Flag Rules'!Y$18,C451='BP Flag Rules'!Y$19,C451='BP Flag Rules'!Y$20,C451='BP Flag Rules'!Y$21,C451='BP Flag Rules'!Y$22,C451='BP Flag Rules'!Y$23,C451='BP Flag Rules'!Y$24,C451='BP Flag Rules'!Y$25,C451='BP Flag Rules'!Y$26,C451='BP Flag Rules'!Y$27)+B450","v":27},"BP_NSTEMI_ICD","C","ICD","I214","Acute subendocardial myocardial infarction"]
[null,{"$f":"OR(C452='BP Flag Rules'!Y$18,C452='BP Flag Rules'!Y$19,C452='BP Flag Rules'!Y$20,C452='BP Flag Rules'!Y$21,C452='BP Flag Rules'!Y$22,C452='BP Flag Rules'!Y$23,C452='BP Flag Rules'!Y$24,C452='BP Flag Rules'!Y$25,C452='BP Flag Rules'!Y$26,C452='BP Flag Rules'!Y$27)+B451","v":27},"BP_OPT_URETHROMY_OPCS","C","OPCS","M763","Optical urethrotomy"]
[null,{"$f":"OR(C453='BP Flag Rules'!Y$18,C453='BP Flag Rules'!Y$19,C453='BP Flag Rules'!Y$20,C453='BP Flag Rules'!Y$21,C453='BP Flag Rules'!Y$22,C453='BP Flag Rules'!Y$23,C453='BP Flag Rules'!Y$24,C453='BP Flag Rules'!Y$25,C453='BP Flag Rules'!Y$26,C453='BP Flag Rules'!Y$27)+B452","v":27},"BP_POLYPEC_NOSE_OPCS","C","OPCS","E081","Polypectomy of internal nose"]
[null,{"$f":"OR(C454='BP Flag Rules'!Y$18,C454='BP Flag Rules'!Y$19,C454='BP Flag Rules'!Y$20,C454='BP Flag Rules'!Y$21,C454='BP Flag Rules'!Y$22,C454='BP Flag Rules'!Y$23,C454='BP Flag Rules'!Y$24,C454='BP Flag Rules'!Y$25,C454='BP Flag Rules'!Y$26,C454='BP Flag Rules'!Y$27)+B453","v":27},"BP_RAMI_ICD","C","ICD","S325","Fracture of pubis"]
[null,{"$f":"OR(C455='BP Flag Rules'!Y$18,C455='BP Flag Rules'!Y$19,C455='BP Flag Rules'!Y$20,C455='BP Flag Rules'!Y$21,C455='BP Flag Rules'!Y$22,C455='BP Flag Rules'!Y$23,C455='BP Flag Rules'!Y$24,C455='BP Flag Rules'!Y$25,C455='BP Flag Rules'!Y$26,C455='BP Flag Rules'!Y$27)+B454","v":27},"BP_RAMI_ICD","C","ICD","S3250","Fracture of pubis: closed"]
[null,{"$f":"OR(C456='BP Flag Rules'!Y$18,C456='BP Flag Rules'!Y$19,C456='BP Flag Rules'!Y$20,C456='BP Flag Rules'!Y$21,C456='BP Flag Rules'!Y$22,C456='BP Flag Rules'!Y$23,C456='BP Flag Rules'!Y$24,C456='BP Flag Rules'!Y$25,C456='BP Flag Rules'!Y$26,C456='BP Flag Rules'!Y$27)+B455","v":27},"BP_REP_OTH_ABD_HERN_OPCS","C","OPCS","T271","Repair of ventral hernia using insert of natural material"]
[null,{"$f":"OR(C457='BP Flag Rules'!Y$18,C457='BP Flag Rules'!Y$19,C457='BP Flag Rules'!Y$20,C457='BP Flag Rules'!Y$21,C457='BP Flag Rules'!Y$22,C457='BP Flag Rules'!Y$23,C457='BP Flag Rules'!Y$24,C457='BP Flag Rules'!Y$25,C457='BP Flag Rules'!Y$26,C457='BP Flag Rules'!Y$27)+B456","v":27},"BP_REP_OTH_ABD_HERN_OPCS","C","OPCS","T272","Repair of ventral hernia using insert of prosthetic material"]
[null,{"$f":"OR(C458='BP Flag Rules'!Y$18,C458='BP Flag Rules'!Y$19,C458='BP Flag Rules'!Y$20,C458='BP Flag Rules'!Y$21,C458='BP Flag Rules'!Y$22,C458='BP Flag Rules'!Y$23,C458='BP Flag Rules'!Y$24,C458='BP Flag Rules'!Y$25,C458='BP Flag Rules'!Y$26,C458='BP Flag Rules'!Y$27)+B457","v":27},"BP_REP_OTH_ABD_HERN_OPCS","C","OPCS","T273","Repair of ventral hernia using sutures"]
[null,{"$f":"OR(C459='BP Flag Rules'!Y$18,C459='BP Flag Rules'!Y$19,C459='BP Flag Rules'!Y$20,C459='BP Flag Rules'!Y$21,C459='BP Flag Rules'!Y$22,C459='BP Flag Rules'!Y$23,C459='BP Flag Rules'!Y$24,C459='BP Flag Rules'!Y$25,C459='BP Flag Rules'!Y$26,C459='BP Flag Rules'!Y$27)+B458","v":27},"BP_REP_OTH_ABD_HERN_OPCS","C","OPCS","T278","Other specified repair of other hernia of abdominal wall"]
[null,{"$f":"OR(C460='BP Flag Rules'!Y$18,C460='BP Flag Rules'!Y$19,C460='BP Flag Rules'!Y$20,C460='BP Flag Rules'!Y$21,C460='BP Flag Rules'!Y$22,C460='BP Flag Rules'!Y$23,C460='BP Flag Rules'!Y$24,C460='BP Flag Rules'!Y$25,C460='BP Flag Rules'!Y$26,C460='BP Flag Rules'!Y$27)+B459","v":27},"BP_REP_OTH_ABD_HERN_OPCS","C","OPCS","T279","Unspecified repair of other hernia of abdominal wall"]
[null,{"$f":"OR(C461='BP Flag Rules'!Y$18,C461='BP Flag Rules'!Y$19,C461='BP Flag Rules'!Y$20,C461='BP Flag Rules'!Y$21,C461='BP Flag Rules'!Y$22,C461='BP Flag Rules'!Y$23,C461='BP Flag Rules'!Y$24,C461='BP Flag Rules'!Y$25,C461='BP Flag Rules'!Y$26,C461='BP Flag Rules'!Y$27)+B460","v":27},"BP_SHOULDER_OPCS","C","OPCS","O291","Subacromial decompression",1]
[null,{"$f":"OR(C462='BP Flag Rules'!Y$18,C462='BP Flag Rules'!Y$19,C462='BP Flag Rules'!Y$20,C462='BP Flag Rules'!Y$21,C462='BP Flag Rules'!Y$22,C462='BP Flag Rules'!Y$23,C462='BP Flag Rules'!Y$24,C462='BP Flag Rules'!Y$25,C462='BP Flag Rules'!Y$26,C462='BP Flag Rules'!Y$27)+B461","v":27},"BP_SHOULDER_OPCS","C","OPCS","Y767","Arthroscopic approach to joint",2]
[null,{"$f":"OR(C463='BP Flag Rules'!Y$18,C463='BP Flag Rules'!Y$19,C463='BP Flag Rules'!Y$20,C463='BP Flag Rules'!Y$21,C463='BP Flag Rules'!Y$22,C463='BP Flag Rules'!Y$23,C463='BP Flag Rules'!Y$24,C463='BP Flag Rules'!Y$25,C463='BP Flag Rules'!Y$26,C463='BP Flag Rules'!Y$27)+B462","v":27},"BP_TRA_PRC_ILI_FEM_OPCS","C","OPCS","L541","Percutaneous transluminal angioplasty of iliac artery"]
[null,{"$f":"OR(C464='BP Flag Rules'!Y$18,C464='BP Flag Rules'!Y$19,C464='BP Flag Rules'!Y$20,C464='BP Flag Rules'!Y$21,C464='BP Flag Rules'!Y$22,C464='BP Flag Rules'!Y$23,C464='BP Flag Rules'!Y$24,C464='BP Flag Rules'!Y$25,C464='BP Flag Rules'!Y$26,C464='BP Flag Rules'!Y$27)+B463","v":27},"BP_TRA_PRC_ILI_FEM_OPCS","C","OPCS","L542","Percutaneous transluminal embolectomy of iliac artery"]
[null,{"$f":"OR(C465='BP Flag Rules'!Y$18,C465='BP Flag Rules'!Y$19,C465='BP Flag Rules'!Y$20,C465='BP Flag Rules'!Y$21,C465='BP Flag Rules'!Y$22,C465='BP Flag Rules'!Y$23,C465='BP Flag Rules'!Y$24,C465='BP Flag Rules'!Y$25,C465='BP Flag Rules'!Y$26,C465='BP Flag Rules'!Y$27)+B464","v":27},"BP_TRA_PRC_ILI_FEM_OPCS","C","OPCS","L543","Arteriography of iliac artery"]
[null,{"$f":"OR(C466='BP Flag Rules'!Y$18,C466='BP Flag Rules'!Y$19,C466='BP Flag Rules'!Y$20,C466='BP Flag Rules'!Y$21,C466='BP Flag Rules'!Y$22,C466='BP Flag Rules'!Y$23,C466='BP Flag Rules'!Y$24,C466='BP Flag Rules'!Y$25,C466='BP Flag Rules'!Y$26,C466='BP Flag Rules'!Y$27)+B465","v":27},"BP_TRA_PRC_ILI_FEM_OPCS","C","OPCS","L544","Percutaneous transluminal insertion of stent into iliac artery"]
[null,{"$f":"OR(C467='BP Flag Rules'!Y$18,C467='BP Flag Rules'!Y$19,C467='BP Flag Rules'!Y$20,C467='BP Flag Rules'!Y$21,C467='BP Flag Rules'!Y$22,C467='BP Flag Rules'!Y$23,C467='BP Flag Rules'!Y$24,C467='BP Flag Rules'!Y$25,C467='BP Flag Rules'!Y$26,C467='BP Flag Rules'!Y$27)+B466","v":27},"BP_TRA_PRC_ILI_FEM_OPCS","C","OPCS","L548","Other specified transluminal operations on iliac artery"]
[null,{"$f":"OR(C468='BP Flag Rules'!Y$18,C468='BP Flag Rules'!Y$19,C468='BP Flag Rules'!Y$20,C468='BP Flag Rules'!Y$21,C468='BP Flag Rules'!Y$22,C468='BP Flag Rules'!Y$23,C468='BP Flag Rules'!Y$24,C468='BP Flag Rules'!Y$25,C468='BP Flag Rules'!Y$26,C468='BP Flag Rules'!Y$27)+B467","v":27},"BP_TRA_PRC_ILI_FEM_OPCS","C","OPCS","L549","Unspecified transluminal operations on iliac artery"]
[null,{"$f":"OR(C469='BP Flag Rules'!Y$18,C469='BP Flag Rules'!Y$19,C469='BP Flag Rules'!Y$20,C469='BP Flag Rules'!Y$21,C469='BP Flag Rules'!Y$22,C469='BP Flag Rules'!Y$23,C469='BP Flag Rules'!Y$24,C469='BP Flag Rules'!Y$25,C469='BP Flag Rules'!Y$26,C469='BP Flag Rules'!Y$27)+B468","v":27},"BP_TRA_PRC_ILI_FEM_OPCS","C","OPCS","L631","Percutaneous transluminal angioplasty of femoral artery"]
[null,{"$f":"OR(C470='BP Flag Rules'!Y$18,C470='BP Flag Rules'!Y$19,C470='BP Flag Rules'!Y$20,C470='BP Flag Rules'!Y$21,C470='BP Flag Rules'!Y$22,C470='BP Flag Rules'!Y$23,C470='BP Flag Rules'!Y$24,C470='BP Flag Rules'!Y$25,C470='BP Flag Rules'!Y$26,C470='BP Flag Rules'!Y$27)+B469","v":27},"BP_TRA_PRC_ILI_FEM_OPCS","C","OPCS","L632","Percutaneous transluminal embolectomy of femoral artery"]
[null,{"$f":"OR(C471='BP Flag Rules'!Y$18,C471='BP Flag Rules'!Y$19,C471='BP Flag Rules'!Y$20,C471='BP Flag Rules'!Y$21,C471='BP Flag Rules'!Y$22,C471='BP Flag Rules'!Y$23,C471='BP Flag Rules'!Y$24,C471='BP Flag Rules'!Y$25,C471='BP Flag Rules'!Y$26,C471='BP Flag Rules'!Y$27)+B470","v":27},"BP_TRA_PRC_ILI_FEM_OPCS","C","OPCS","L633","Percutaneous transluminal embolisation of femoral artery"]
[null,{"$f":"OR(C472='BP Flag Rules'!Y$18,C472='BP Flag Rules'!Y$19,C472='BP Flag Rules'!Y$20,C472='BP Flag Rules'!Y$21,C472='BP Flag Rules'!Y$22,C472='BP Flag Rules'!Y$23,C472='BP Flag Rules'!Y$24,C472='BP Flag Rules'!Y$25,C472='BP Flag Rules'!Y$26,C472='BP Flag Rules'!Y$27)+B471","v":27},"BP_TRA_PRC_ILI_FEM_OPCS","C","OPCS","L634","Arteriography of femoral artery"]
[null,{"$f":"OR(C473='BP Flag Rules'!Y$18,C473='BP Flag Rules'!Y$19,C473='BP Flag Rules'!Y$20,C473='BP Flag Rules'!Y$21,C473='BP Flag Rules'!Y$22,C473='BP Flag Rules'!Y$23,C473='BP Flag Rules'!Y$24,C473='BP Flag Rules'!Y$25,C473='BP Flag Rules'!Y$26,C473='BP Flag Rules'!Y$27)+B472","v":27},"BP_TRA_PRC_ILI_FEM_OPCS","C","OPCS","L635","Percutaneous transluminal insertion of stent into femoral artery"]
[null,{"$f":"OR(C474='BP Flag Rules'!Y$18,C474='BP Flag Rules'!Y$19,C474='BP Flag Rules'!Y$20,C474='BP Flag Rules'!Y$21,C474='BP Flag Rules'!Y$22,C474='BP Flag Rules'!Y$23,C474='BP Flag Rules'!Y$24,C474='BP Flag Rules'!Y$25,C474='BP Flag Rules'!Y$26,C474='BP Flag Rules'!Y$27)+B473","v":27},"BP_TRA_PRC_ILI_FEM_OPCS","C","OPCS","L638","Other specified transluminal operations on femoral artery"]
[null,{"$f":"OR(C475='BP Flag Rules'!Y$18,C475='BP Flag Rules'!Y$19,C475='BP Flag Rules'!Y$20,C475='BP Flag Rules'!Y$21,C475='BP Flag Rules'!Y$22,C475='BP Flag Rules'!Y$23,C475='BP Flag Rules'!Y$24,C475='BP Flag Rules'!Y$25,C475='BP Flag Rules'!Y$26,C475='BP Flag Rules'!Y$27)+B474","v":27},"BP_TRA_PRC_ILI_FEM_OPCS","C","OPCS","L639","Unspecified transluminal operations on femoral artery"]
[null,{"$f":"OR(C476='BP Flag Rules'!Y$18,C476='BP Flag Rules'!Y$19,C476='BP Flag Rules'!Y$20,C476='BP Flag Rules'!Y$21,C476='BP Flag Rules'!Y$22,C476='BP Flag Rules'!Y$23,C476='BP Flag Rules'!Y$24,C476='BP Flag Rules'!Y$25,C476='BP Flag Rules'!Y$26,C476='BP Flag Rules'!Y$27)+B475","v":27},"BP_U_GAST_HAEMO_ICD","C","ICD","K20X","Oesophagitis"]
[null,{"$f":"OR(C477='BP Flag Rules'!Y$18,C477='BP Flag Rules'!Y$19,C477='BP Flag Rules'!Y$20,C477='BP Flag Rules'!Y$21,C477='BP Flag Rules'!Y$22,C477='BP Flag Rules'!Y$23,C477='BP Flag Rules'!Y$24,C477='BP Flag Rules'!Y$25,C477='BP Flag Rules'!Y$26,C477='BP Flag Rules'!Y$27)+B476","v":27},"BP_U_GAST_HAEMO_ICD","C","ICD","K210","Gastro-oesophageal reflux disease with oesophagitis"]
[null,{"$f":"OR(C478='BP Flag Rules'!Y$18,C478='BP Flag Rules'!Y$19,C478='BP Flag Rules'!Y$20,C478='BP Flag Rules'!Y$21,C478='BP Flag Rules'!Y$22,C478='BP Flag Rules'!Y$23,C478='BP Flag Rules'!Y$24,C478='BP Flag Rules'!Y$25,C478='BP Flag Rules'!Y$26,C478='BP Flag Rules'!Y$27)+B477","v":27},"BP_U_GAST_HAEMO_ICD","C","ICD","K219","Gastro-oesophageal reflux disease without oesophagitis"]
[null,{"$f":"OR(C479='BP Flag Rules'!Y$18,C479='BP Flag Rules'!Y$19,C479='BP Flag Rules'!Y$20,C479='BP Flag Rules'!Y$21,C479='BP Flag Rules'!Y$22,C479='BP Flag Rules'!Y$23,C479='BP Flag Rules'!Y$24,C479='BP Flag Rules'!Y$25,C479='BP Flag Rules'!Y$26,C479='BP Flag Rules'!Y$27)+B478","v":27},"BP_U_GAST_HAEMO_ICD","C","ICD","K221","Ulcer of oesophagus"]
[null,{"$f":"OR(C480='BP Flag Rules'!Y$18,C480='BP Flag Rules'!Y$19,C480='BP Flag Rules'!Y$20,C480='BP Flag Rules'!Y$21,C480='BP Flag Rules'!Y$22,C480='BP Flag Rules'!Y$23,C480='BP Flag Rules'!Y$24,C480='BP Flag Rules'!Y$25,C480='BP Flag Rules'!Y$26,C480='BP Flag Rules'!Y$27)+B479","v":27},"BP_U_GAST_HAEMO_ICD","C","ICD","K226","Gastro-oesophageal laceration-haemorrhage syndrome"]
[null,{"$f":"OR(C481='BP Flag Rules'!Y$18,C481='BP Flag Rules'!Y$19,C481='BP Flag Rules'!Y$20,C481='BP Flag Rules'!Y$21,C481='BP Flag Rules'!Y$22,C481='BP Flag Rules'!Y$23,C481='BP Flag Rules'!Y$24,C481='BP Flag Rules'!Y$25,C481='BP Flag Rules'!Y$26,C481='BP Flag Rules'!Y$27)+B480","v":27},"BP_U_GAST_HAEMO_ICD","C","ICD","K250","Gastric ulcer: Acute with haemorrhage"]
[null,{"$f":"OR(C482='BP Flag Rules'!Y$18,C482='BP Flag Rules'!Y$19,C482='BP Flag Rules'!Y$20,C482='BP Flag Rules'!Y$21,C482='BP Flag Rules'!Y$22,C482='BP Flag Rules'!Y$23,C482='BP Flag Rules'!Y$24,C482='BP Flag Rules'!Y$25,C482='BP Flag Rules'!Y$26,C482='BP Flag Rules'!Y$27)+B481","v":27},"BP_U_GAST_HAEMO_ICD","C","ICD","K254","Gastric ulcer: Chronic or unspecified with haemorrhage"]
[null,{"$f":"OR(C483='BP Flag Rules'!Y$18,C483='BP Flag Rules'!Y$19,C483='BP Flag Rules'!Y$20,C483='BP Flag Rules'!Y$21,C483='BP Flag Rules'!Y$22,C483='BP Flag Rules'!Y$23,C483='BP Flag Rules'!Y$24,C483='BP Flag Rules'!Y$25,C483='BP Flag Rules'!Y$26,C483='BP Flag Rules'!Y$27)+B482","v":27},"BP_U_GAST_HAEMO_ICD","C","ICD","K260","Duodenal ulcer: Acute with haemorrhage"]
[null,{"$f":"OR(C484='BP Flag Rules'!Y$18,C484='BP Flag Rules'!Y$19,C484='BP Flag Rules'!Y$20,C484='BP Flag Rules'!Y$21,C484='BP Flag Rules'!Y$22,C484='BP Flag Rules'!Y$23,C484='BP Flag Rules'!Y$24,C484='BP Flag Rules'!Y$25,C484='BP Flag Rules'!Y$26,C484='BP Flag Rules'!Y$27)+B483","v":27},"BP_U_GAST_HAEMO_ICD","C","ICD","K264","Duodenal ulcer: Chronic or unspecified with haemorrhage"]
[null,{"$f":"OR(C485='BP Flag Rules'!Y$18,C485='BP Flag Rules'!Y$19,C485='BP Flag Rules'!Y$20,C485='BP Flag Rules'!Y$21,C485='BP Flag Rules'!Y$22,C485='BP Flag Rules'!Y$23,C485='BP Flag Rules'!Y$24,C485='BP Flag Rules'!Y$25,C485='BP Flag Rules'!Y$26,C485='BP Flag Rules'!Y$27)+B484","v":27},"BP_U_GAST_HAEMO_ICD","C","ICD","K266","Duodenal ulcer: Chronic or unspecified with both haemorrhage and perforation"]
[null,{"$f":"OR(C486='BP Flag Rules'!Y$18,C486='BP Flag Rules'!Y$19,C486='BP Flag Rules'!Y$20,C486='BP Flag Rules'!Y$21,C486='BP Flag Rules'!Y$22,C486='BP Flag Rules'!Y$23,C486='BP Flag Rules'!Y$24,C486='BP Flag Rules'!Y$25,C486='BP Flag Rules'!Y$26,C486='BP Flag Rules'!Y$27)+B485","v":27},"BP_U_GAST_HAEMO_ICD","C","ICD","K270","Peptic ulcer, site unspecified: Acute with haemorrhage"]
[null,{"$f":"OR(C487='BP Flag Rules'!Y$18,C487='BP Flag Rules'!Y$19,C487='BP Flag Rules'!Y$20,C487='BP Flag Rules'!Y$21,C487='BP Flag Rules'!Y$22,C487='BP Flag Rules'!Y$23,C487='BP Flag Rules'!Y$24,C487='BP Flag Rules'!Y$25,C487='BP Flag Rules'!Y$26,C487='BP Flag Rules'!Y$27)+B486","v":27},"BP_U_GAST_HAEMO_ICD","C","ICD","K274","Peptic ulcer, site unspecified: Chronic or unspecified with haemorrhage"]
[null,{"$f":"OR(C488='BP Flag Rules'!Y$18,C488='BP Flag Rules'!Y$19,C488='BP Flag Rules'!Y$20,C488='BP Flag Rules'!Y$21,C488='BP Flag Rules'!Y$22,C488='BP Flag Rules'!Y$23,C488='BP Flag Rules'!Y$24,C488='BP Flag Rules'!Y$25,C488='BP Flag Rules'!Y$26,C488='BP Flag Rules'!Y$27)+B487","v":27},"BP_U_GAST_HAEMO_ICD","C","ICD","K276","Peptic ulcer, site unspecified: Chronic or unspecified with both haemorrhage and perforation"]
[null,{"$f":"OR(C489='BP Flag Rules'!Y$18,C489='BP Flag Rules'!Y$19,C489='BP Flag Rules'!Y$20,C489='BP Flag Rules'!Y$21,C489='BP Flag Rules'!Y$22,C489='BP Flag Rules'!Y$23,C489='BP Flag Rules'!Y$24,C489='BP Flag Rules'!Y$25,C489='BP Flag Rules'!Y$26,C489='BP Flag Rules'!Y$27)+B488","v":27},"BP_U_GAST_HAEMO_ICD","C","ICD","K284","Gastrojejunal ulcer: Chronic or unspecified with haemorrhage"]
[null,{"$f":"OR(C490='BP Flag Rules'!Y$18,C490='BP Flag Rules'!Y$19,C490='BP Flag Rules'!Y$20,C490='BP Flag Rules'!Y$21,C490='BP Flag Rules'!Y$22,C490='BP Flag Rules'!Y$23,C490='BP Flag Rules'!Y$24,C490='BP Flag Rules'!Y$25,C490='BP Flag Rules'!Y$26,C490='BP Flag Rules'!Y$27)+B489","v":27},"BP_U_GAST_HAEMO_ICD","C","ICD","K920","Haematemesis"]
[null,{"$f":"OR(C491='BP Flag Rules'!Y$18,C491='BP Flag Rules'!Y$19,C491='BP Flag Rules'!Y$20,C491='BP Flag Rules'!Y$21,C491='BP Flag Rules'!Y$22,C491='BP Flag Rules'!Y$23,C491='BP Flag Rules'!Y$24,C491='BP Flag Rules'!Y$25,C491='BP Flag Rules'!Y$26,C491='BP Flag Rules'!Y$27)+B490","v":27},"BP_U_GAST_HAEMO_ICD","C","ICD","K921","Melaena"]
[null,{"$f":"OR(C492='BP Flag Rules'!Y$18,C492='BP Flag Rules'!Y$19,C492='BP Flag Rules'!Y$20,C492='BP Flag Rules'!Y$21,C492='BP Flag Rules'!Y$22,C492='BP Flag Rules'!Y$23,C492='BP Flag Rules'!Y$24,C492='BP Flag Rules'!Y$25,C492='BP Flag Rules'!Y$26,C492='BP Flag Rules'!Y$27)+B491","v":27},"BP_UTR_EXT_CAL_URET_OPCS","C","OPCS","M271","Ureteroscopic laser fragmentation of calculus of ureter"]
[null,{"$f":"OR(C493='BP Flag Rules'!Y$18,C493='BP Flag Rules'!Y$19,C493='BP Flag Rules'!Y$20,C493='BP Flag Rules'!Y$21,C493='BP Flag Rules'!Y$22,C493='BP Flag Rules'!Y$23,C493='BP Flag Rules'!Y$24,C493='BP Flag Rules'!Y$25,C493='BP Flag Rules'!Y$26,C493='BP Flag Rules'!Y$27)+B492","v":27},"BP_UTR_EXT_CAL_URET_OPCS","C","OPCS","M272","Ureteroscopic fragmentation of calculus of ureter NEC"]
[null,{"$f":"OR(C494='BP Flag Rules'!Y$18,C494='BP Flag Rules'!Y$19,C494='BP Flag Rules'!Y$20,C494='BP Flag Rules'!Y$21,C494='BP Flag Rules'!Y$22,C494='BP Flag Rules'!Y$23,C494='BP Flag Rules'!Y$24,C494='BP Flag Rules'!Y$25,C494='BP Flag Rules'!Y$26,C494='BP Flag Rules'!Y$27)+B493","v":27},"BP_UTR_EXT_CAL_URET_OPCS","C","OPCS","M273","Ureteroscopic extraction of calculus of ureter"]
[null,{"$f":"OR(C495='BP Flag Rules'!Y$18,C495='BP Flag Rules'!Y$19,C495='BP Flag Rules'!Y$20,C495='BP Flag Rules'!Y$21,C495='BP Flag Rules'!Y$22,C495='BP Flag Rules'!Y$23,C495='BP Flag Rules'!Y$24,C495='BP Flag Rules'!Y$25,C495='BP Flag Rules'!Y$26,C495='BP Flag Rules'!Y$27)+B494","v":27},"BPT_Age_60plus","C","Age",100]
[null,{"$f":"OR(C496='BP Flag Rules'!Y$18,C496='BP Flag Rules'!Y$19,C496='BP Flag Rules'!Y$20,C496='BP Flag Rules'!Y$21,C496='BP Flag Rules'!Y$22,C496='BP Flag Rules'!Y$23,C496='BP Flag Rules'!Y$24,C496='BP Flag Rules'!Y$25,C496='BP Flag Rules'!Y$26,C496='BP Flag Rules'!Y$27)+B495","v":27},"BPT_Age_60plus","C","Age",101]
[null,{"$f":"OR(C497='BP Flag Rules'!Y$18,C497='BP Flag Rules'!Y$19,C497='BP Flag Rules'!Y$20,C497='BP Flag Rules'!Y$21,C497='BP Flag Rules'!Y$22,C497='BP Flag Rules'!Y$23,C497='BP Flag Rules'!Y$24,C497='BP Flag Rules'!Y$25,C497='BP Flag Rules'!Y$26,C497='BP Flag Rules'!Y$27)+B496","v":27},"BPT_Age_60plus","C","Age",102]
[null,{"$f":"OR(C498='BP Flag Rules'!Y$18,C498='BP Flag Rules'!Y$19,C498='BP Flag Rules'!Y$20,C498='BP Flag Rules'!Y$21,C498='BP Flag Rules'!Y$22,C498='BP Flag Rules'!Y$23,C498='BP Flag Rules'!Y$24,C498='BP Flag Rules'!Y$25,C498='BP Flag Rules'!Y$26,C498='BP Flag Rules'!Y$27)+B497","v":27},"BPT_Age_60plus","C","Age",103]
[null,{"$f":"OR(C499='BP Flag Rules'!Y$18,C499='BP Flag Rules'!Y$19,C499='BP Flag Rules'!Y$20,C499='BP Flag Rules'!Y$21,C499='BP Flag Rules'!Y$22,C499='BP Flag Rules'!Y$23,C499='BP Flag Rules'!Y$24,C499='BP Flag Rules'!Y$25,C499='BP Flag Rules'!Y$26,C499='BP Flag Rules'!Y$27)+B498","v":27},"BPT_Age_60plus","C","Age",104]
[null,{"$f":"OR(C500='BP Flag Rules'!Y$18,C500='BP Flag Rules'!Y$19,C500='BP Flag Rules'!Y$20,C500='BP Flag Rules'!Y$21,C500='BP Flag Rules'!Y$22,C500='BP Flag Rules'!Y$23,C500='BP Flag Rules'!Y$24,C500='BP Flag Rules'!Y$25,C500='BP Flag Rules'!Y$26,C500='BP Flag Rules'!Y$27)+B499","v":27},"BPT_Age_60plus","C","Age",105]
[null,{"$f":"OR(C501='BP Flag Rules'!Y$18,C501='BP Flag Rules'!Y$19,C501='BP Flag Rules'!Y$20,C501='BP Flag Rules'!Y$21,C501='BP Flag Rules'!Y$22,C501='BP Flag Rules'!Y$23,C501='BP Flag Rules'!Y$24,C501='BP Flag Rules'!Y$25,C501='BP Flag Rules'!Y$26,C501='BP Flag Rules'!Y$27)+B500","v":27},"BPT_Age_60plus","C","Age",106]
[null,{"$f":"OR(C502='BP Flag Rules'!Y$18,C502='BP Flag Rules'!Y$19,C502='BP Flag Rules'!Y$20,C502='BP Flag Rules'!Y$21,C502='BP Flag Rules'!Y$22,C502='BP Flag Rules'!Y$23,C502='BP Flag Rules'!Y$24,C502='BP Flag Rules'!Y$25,C502='BP Flag Rules'!Y$26,C502='BP Flag Rules'!Y$27)+B501","v":27},"BPT_Age_60plus","C","Age",107]
[null,{"$f":"OR(C503='BP Flag Rules'!Y$18,C503='BP Flag Rules'!Y$19,C503='BP Flag Rules'!Y$20,C503='BP Flag Rules'!Y$21,C503='BP Flag Rules'!Y$22,C503='BP Flag Rules'!Y$23,C503='BP Flag Rules'!Y$24,C503='BP Flag Rules'!Y$25,C503='BP Flag Rules'!Y$26,C503='BP Flag Rules'!Y$27)+B502","v":27},"BPT_Age_60plus","C","Age",108]
[null,{"$f":"OR(C504='BP Flag Rules'!Y$18,C504='BP Flag Rules'!Y$19,C504='BP Flag Rules'!Y$20,C504='BP Flag Rules'!Y$21,C504='BP Flag Rules'!Y$22,C504='BP Flag Rules'!Y$23,C504='BP Flag Rules'!Y$24,C504='BP Flag Rules'!Y$25,C504='BP Flag Rules'!Y$26,C504='BP Flag Rules'!Y$27)+B503","v":27},"BPT_Age_60plus","C","Age",109]
[null,{"$f":"OR(C505='BP Flag Rules'!Y$18,C505='BP Flag Rules'!Y$19,C505='BP Flag Rules'!Y$20,C505='BP Flag Rules'!Y$21,C505='BP Flag Rules'!Y$22,C505='BP Flag Rules'!Y$23,C505='BP Flag Rules'!Y$24,C505='BP Flag Rules'!Y$25,C505='BP Flag Rules'!Y$26,C505='BP Flag Rules'!Y$27)+B504","v":27},"BPT_Age_60plus","C","Age",110]
[null,{"$f":"OR(C506='BP Flag Rules'!Y$18,C506='BP Flag Rules'!Y$19,C506='BP Flag Rules'!Y$20,C506='BP Flag Rules'!Y$21,C506='BP Flag Rules'!Y$22,C506='BP Flag Rules'!Y$23,C506='BP Flag Rules'!Y$24,C506='BP Flag Rules'!Y$25,C506='BP Flag Rules'!Y$26,C506='BP Flag Rules'!Y$27)+B505","v":27},"BPT_Age_60plus","C","Age",111]
[null,{"$f":"OR(C507='BP Flag Rules'!Y$18,C507='BP Flag Rules'!Y$19,C507='BP Flag Rules'!Y$20,C507='BP Flag Rules'!Y$21,C507='BP Flag Rules'!Y$22,C507='BP Flag Rules'!Y$23,C507='BP Flag Rules'!Y$24,C507='BP Flag Rules'!Y$25,C507='BP Flag Rules'!Y$26,C507='BP Flag Rules'!Y$27)+B506","v":27},"BPT_Age_60plus","C","Age",112]
[null,{"$f":"OR(C508='BP Flag Rules'!Y$18,C508='BP Flag Rules'!Y$19,C508='BP Flag Rules'!Y$20,C508='BP Flag Rules'!Y$21,C508='BP Flag Rules'!Y$22,C508='BP Flag Rules'!Y$23,C508='BP Flag Rules'!Y$24,C508='BP Flag Rules'!Y$25,C508='BP Flag Rules'!Y$26,C508='BP Flag Rules'!Y$27)+B507","v":27},"BPT_Age_60plus","C","Age",113]
[null,{"$f":"OR(C509='BP Flag Rules'!Y$18,C509='BP Flag Rules'!Y$19,C509='BP Flag Rules'!Y$20,C509='BP Flag Rules'!Y$21,C509='BP Flag Rules'!Y$22,C509='BP Flag Rules'!Y$23,C509='BP Flag Rules'!Y$24,C509='BP Flag Rules'!Y$25,C509='BP Flag Rules'!Y$26,C509='BP Flag Rules'!Y$27)+B508","v":27},"BPT_Age_60plus","C","Age",114]
[null,{"$f":"OR(C510='BP Flag Rules'!Y$18,C510='BP Flag Rules'!Y$19,C510='BP Flag Rules'!Y$20,C510='BP Flag Rules'!Y$21,C510='BP Flag Rules'!Y$22,C510='BP Flag Rules'!Y$23,C510='BP Flag Rules'!Y$24,C510='BP Flag Rules'!Y$25,C510='BP Flag Rules'!Y$26,C510='BP Flag Rules'!Y$27)+B509","v":27},"BPT_Age_60plus","C","Age",115]
[null,{"$f":"OR(C511='BP Flag Rules'!Y$18,C511='BP Flag Rules'!Y$19,C511='BP Flag Rules'!Y$20,C511='BP Flag Rules'!Y$21,C511='BP Flag Rules'!Y$22,C511='BP Flag Rules'!Y$23,C511='BP Flag Rules'!Y$24,C511='BP Flag Rules'!Y$25,C511='BP Flag Rules'!Y$26,C511='BP Flag Rules'!Y$27)+B510","v":27},"BPT_Age_60plus","C","Age",116]
[null,{"$f":"OR(C512='BP Flag Rules'!Y$18,C512='BP Flag Rules'!Y$19,C512='BP Flag Rules'!Y$20,C512='BP Flag Rules'!Y$21,C512='BP Flag Rules'!Y$22,C512='BP Flag Rules'!Y$23,C512='BP Flag Rules'!Y$24,C512='BP Flag Rules'!Y$25,C512='BP Flag Rules'!Y$26,C512='BP Flag Rules'!Y$27)+B511","v":27},"BPT_Age_60plus","C","Age",117]
[null,{"$f":"OR(C513='BP Flag Rules'!Y$18,C513='BP Flag Rules'!Y$19,C513='BP Flag Rules'!Y$20,C513='BP Flag Rules'!Y$21,C513='BP Flag Rules'!Y$22,C513='BP Flag Rules'!Y$23,C513='BP Flag Rules'!Y$24,C513='BP Flag Rules'!Y$25,C513='BP Flag Rules'!Y$26,C513='BP Flag Rules'!Y$27)+B512","v":27},"BPT_Age_60plus","C","Age",118]
[null,{"$f":"OR(C514='BP Flag Rules'!Y$18,C514='BP Flag Rules'!Y$19,C514='BP Flag Rules'!Y$20,C514='BP Flag Rules'!Y$21,C514='BP Flag Rules'!Y$22,C514='BP Flag Rules'!Y$23,C514='BP Flag Rules'!Y$24,C514='BP Flag Rules'!Y$25,C514='BP Flag Rules'!Y$26,C514='BP Flag Rules'!Y$27)+B513","v":27},"BPT_Age_60plus","C","Age",119]
[null,{"$f":"OR(C515='BP Flag Rules'!Y$18,C515='BP Flag Rules'!Y$19,C515='BP Flag Rules'!Y$20,C515='BP Flag Rules'!Y$21,C515='BP Flag Rules'!Y$22,C515='BP Flag Rules'!Y$23,C515='BP Flag Rules'!Y$24,C515='BP Flag Rules'!Y$25,C515='BP Flag Rules'!Y$26,C515='BP Flag Rules'!Y$27)+B514","v":27},"BPT_Age_60plus","C","Age",120]
[null,{"$f":"OR(C516='BP Flag Rules'!Y$18,C516='BP Flag Rules'!Y$19,C516='BP Flag Rules'!Y$20,C516='BP Flag Rules'!Y$21,C516='BP Flag Rules'!Y$22,C516='BP Flag Rules'!Y$23,C516='BP Flag Rules'!Y$24,C516='BP Flag Rules'!Y$25,C516='BP Flag Rules'!Y$26,C516='BP Flag Rules'!Y$27)+B515","v":27},"BPT_Age_60plus","C","Age",121]
[null,{"$f":"OR(C517='BP Flag Rules'!Y$18,C517='BP Flag Rules'!Y$19,C517='BP Flag Rules'!Y$20,C517='BP Flag Rules'!Y$21,C517='BP Flag Rules'!Y$22,C517='BP Flag Rules'!Y$23,C517='BP Flag Rules'!Y$24,C517='BP Flag Rules'!Y$25,C517='BP Flag Rules'!Y$26,C517='BP Flag Rules'!Y$27)+B516","v":27},"BPT_Age_60plus","C","Age",122]
[null,{"$f":"OR(C518='BP Flag Rules'!Y$18,C518='BP Flag Rules'!Y$19,C518='BP Flag Rules'!Y$20,C518='BP Flag Rules'!Y$21,C518='BP Flag Rules'!Y$22,C518='BP Flag Rules'!Y$23,C518='BP Flag Rules'!Y$24,C518='BP Flag Rules'!Y$25,C518='BP Flag Rules'!Y$26,C518='BP Flag Rules'!Y$27)+B517","v":27},"BPT_Age_60plus","C","Age",123]
[null,{"$f":"OR(C519='BP Flag Rules'!Y$18,C519='BP Flag Rules'!Y$19,C519='BP Flag Rules'!Y$20,C519='BP Flag Rules'!Y$21,C519='BP Flag Rules'!Y$22,C519='BP Flag Rules'!Y$23,C519='BP Flag Rules'!Y$24,C519='BP Flag Rules'!Y$25,C519='BP Flag Rules'!Y$26,C519='BP Flag Rules'!Y$27)+B518","v":27},"BPT_Age_60plus","C","Age",124]
[null,{"$f":"OR(C520='BP Flag Rules'!Y$18,C520='BP Flag Rules'!Y$19,C520='BP Flag Rules'!Y$20,C520='BP Flag Rules'!Y$21,C520='BP Flag Rules'!Y$22,C520='BP Flag Rules'!Y$23,C520='BP Flag Rules'!Y$24,C520='BP Flag Rules'!Y$25,C520='BP Flag Rules'!Y$26,C520='BP Flag Rules'!Y$27)+B519","v":27},"BPT_Age_60plus","C","Age",125]
[null,{"$f":"OR(C521='BP Flag Rules'!Y$18,C521='BP Flag Rules'!Y$19,C521='BP Flag Rules'!Y$20,C521='BP Flag Rules'!Y$21,C521='BP Flag Rules'!Y$22,C521='BP Flag Rules'!Y$23,C521='BP Flag Rules'!Y$24,C521='BP Flag Rules'!Y$25,C521='BP Flag Rules'!Y$26,C521='BP Flag Rules'!Y$27)+B520","v":27},"BPT_Age_60plus","C","Age",126]
[null,{"$f":"OR(C522='BP Flag Rules'!Y$18,C522='BP Flag Rules'!Y$19,C522='BP Flag Rules'!Y$20,C522='BP Flag Rules'!Y$21,C522='BP Flag Rules'!Y$22,C522='BP Flag Rules'!Y$23,C522='BP Flag Rules'!Y$24,C522='BP Flag Rules'!Y$25,C522='BP Flag Rules'!Y$26,C522='BP Flag Rules'!Y$27)+B521","v":27},"BPT_Age_60plus","C","Age",127]
[null,{"$f":"OR(C523='BP Flag Rules'!Y$18,C523='BP Flag Rules'!Y$19,C523='BP Flag Rules'!Y$20,C523='BP Flag Rules'!Y$21,C523='BP Flag Rules'!Y$22,C523='BP Flag Rules'!Y$23,C523='BP Flag Rules'!Y$24,C523='BP Flag Rules'!Y$25,C523='BP Flag Rules'!Y$26,C523='BP Flag Rules'!Y$27)+B522","v":27},"BPT_Age_60plus","C","Age",128]
[null,{"$f":"OR(C524='BP Flag Rules'!Y$18,C524='BP Flag Rules'!Y$19,C524='BP Flag Rules'!Y$20,C524='BP Flag Rules'!Y$21,C524='BP Flag Rules'!Y$22,C524='BP Flag Rules'!Y$23,C524='BP Flag Rules'!Y$24,C524='BP Flag Rules'!Y$25,C524='BP Flag Rules'!Y$26,C524='BP Flag Rules'!Y$27)+B523","v":27},"BPT_Age_60plus","C","Age",129]
[null,{"$f":"OR(C525='BP Flag Rules'!Y$18,C525='BP Flag Rules'!Y$19,C525='BP Flag Rules'!Y$20,C525='BP Flag Rules'!Y$21,C525='BP Flag Rules'!Y$22,C525='BP Flag Rules'!Y$23,C525='BP Flag Rules'!Y$24,C525='BP Flag Rules'!Y$25,C525='BP Flag Rules'!Y$26,C525='BP Flag Rules'!Y$27)+B524","v":27},"BPT_Age_60plus","C","Age",130]
[null,{"$f":"OR(C526='BP Flag Rules'!Y$18,C526='BP Flag Rules'!Y$19,C526='BP Flag Rules'!Y$20,C526='BP Flag Rules'!Y$21,C526='BP Flag Rules'!Y$22,C526='BP Flag Rules'!Y$23,C526='BP Flag Rules'!Y$24,C526='BP Flag Rules'!Y$25,C526='BP Flag Rules'!Y$26,C526='BP Flag Rules'!Y$27)+B525","v":27},"BPT_Age_60plus","C","Age",60]
[null,{"$f":"OR(C527='BP Flag Rules'!Y$18,C527='BP Flag Rules'!Y$19,C527='BP Flag Rules'!Y$20,C527='BP Flag Rules'!Y$21,C527='BP Flag Rules'!Y$22,C527='BP Flag Rules'!Y$23,C527='BP Flag Rules'!Y$24,C527='BP Flag Rules'!Y$25,C527='BP Flag Rules'!Y$26,C527='BP Flag Rules'!Y$27)+B526","v":27},"BPT_Age_60plus","C","Age",61]
[null,{"$f":"OR(C528='BP Flag Rules'!Y$18,C528='BP Flag Rules'!Y$19,C528='BP Flag Rules'!Y$20,C528='BP Flag Rules'!Y$21,C528='BP Flag Rules'!Y$22,C528='BP Flag Rules'!Y$23,C528='BP Flag Rules'!Y$24,C528='BP Flag Rules'!Y$25,C528='BP Flag Rules'!Y$26,C528='BP Flag Rules'!Y$27)+B527","v":27},"BPT_Age_60plus","C","Age",62]
[null,{"$f":"OR(C529='BP Flag Rules'!Y$18,C529='BP Flag Rules'!Y$19,C529='BP Flag Rules'!Y$20,C529='BP Flag Rules'!Y$21,C529='BP Flag Rules'!Y$22,C529='BP Flag Rules'!Y$23,C529='BP Flag Rules'!Y$24,C529='BP Flag Rules'!Y$25,C529='BP Flag Rules'!Y$26,C529='BP Flag Rules'!Y$27)+B528","v":27},"BPT_Age_60plus","C","Age",63]
[null,{"$f":"OR(C530='BP Flag Rules'!Y$18,C530='BP Flag Rules'!Y$19,C530='BP Flag Rules'!Y$20,C530='BP Flag Rules'!Y$21,C530='BP Flag Rules'!Y$22,C530='BP Flag Rules'!Y$23,C530='BP Flag Rules'!Y$24,C530='BP Flag Rules'!Y$25,C530='BP Flag Rules'!Y$26,C530='BP Flag Rules'!Y$27)+B529","v":27},"BPT_Age_60plus","C","Age",64]
[null,{"$f":"OR(C531='BP Flag Rules'!Y$18,C531='BP Flag Rules'!Y$19,C531='BP Flag Rules'!Y$20,C531='BP Flag Rules'!Y$21,C531='BP Flag Rules'!Y$22,C531='BP Flag Rules'!Y$23,C531='BP Flag Rules'!Y$24,C531='BP Flag Rules'!Y$25,C531='BP Flag Rules'!Y$26,C531='BP Flag Rules'!Y$27)+B530","v":27},"BPT_Age_60plus","C","Age",65]
[null,{"$f":"OR(C532='BP Flag Rules'!Y$18,C532='BP Flag Rules'!Y$19,C532='BP Flag Rules'!Y$20,C532='BP Flag Rules'!Y$21,C532='BP Flag Rules'!Y$22,C532='BP Flag Rules'!Y$23,C532='BP Flag Rules'!Y$24,C532='BP Flag Rules'!Y$25,C532='BP Flag Rules'!Y$26,C532='BP Flag Rules'!Y$27)+B531","v":27},"BPT_Age_60plus","C","Age",66]
[null,{"$f":"OR(C533='BP Flag Rules'!Y$18,C533='BP Flag Rules'!Y$19,C533='BP Flag Rules'!Y$20,C533='BP Flag Rules'!Y$21,C533='BP Flag Rules'!Y$22,C533='BP Flag Rules'!Y$23,C533='BP Flag Rules'!Y$24,C533='BP Flag Rules'!Y$25,C533='BP Flag Rules'!Y$26,C533='BP Flag Rules'!Y$27)+B532","v":27},"BPT_Age_60plus","C","Age",67]
[null,{"$f":"OR(C534='BP Flag Rules'!Y$18,C534='BP Flag Rules'!Y$19,C534='BP Flag Rules'!Y$20,C534='BP Flag Rules'!Y$21,C534='BP Flag Rules'!Y$22,C534='BP Flag Rules'!Y$23,C534='BP Flag Rules'!Y$24,C534='BP Flag Rules'!Y$25,C534='BP Flag Rules'!Y$26,C534='BP Flag Rules'!Y$27)+B533","v":27},"BPT_Age_60plus","C","Age",68]
[null,{"$f":"OR(C535='BP Flag Rules'!Y$18,C535='BP Flag Rules'!Y$19,C535='BP Flag Rules'!Y$20,C535='BP Flag Rules'!Y$21,C535='BP Flag Rules'!Y$22,C535='BP Flag Rules'!Y$23,C535='BP Flag Rules'!Y$24,C535='BP Flag Rules'!Y$25,C535='BP Flag Rules'!Y$26,C535='BP Flag Rules'!Y$27)+B534","v":27},"BPT_Age_60plus","C","Age",69]
[null,{"$f":"OR(C536='BP Flag Rules'!Y$18,C536='BP Flag Rules'!Y$19,C536='BP Flag Rules'!Y$20,C536='BP Flag Rules'!Y$21,C536='BP Flag Rules'!Y$22,C536='BP Flag Rules'!Y$23,C536='BP Flag Rules'!Y$24,C536='BP Flag Rules'!Y$25,C536='BP Flag Rules'!Y$26,C536='BP Flag Rules'!Y$27)+B535","v":27},"BPT_Age_60plus","C","Age",70]
[null,{"$f":"OR(C537='BP Flag Rules'!Y$18,C537='BP Flag Rules'!Y$19,C537='BP Flag Rules'!Y$20,C537='BP Flag Rules'!Y$21,C537='BP Flag Rules'!Y$22,C537='BP Flag Rules'!Y$23,C537='BP Flag Rules'!Y$24,C537='BP Flag Rules'!Y$25,C537='BP Flag Rules'!Y$26,C537='BP Flag Rules'!Y$27)+B536","v":27},"BPT_Age_60plus","C","Age",71]
[null,{"$f":"OR(C538='BP Flag Rules'!Y$18,C538='BP Flag Rules'!Y$19,C538='BP Flag Rules'!Y$20,C538='BP Flag Rules'!Y$21,C538='BP Flag Rules'!Y$22,C538='BP Flag Rules'!Y$23,C538='BP Flag Rules'!Y$24,C538='BP Flag Rules'!Y$25,C538='BP Flag Rules'!Y$26,C538='BP Flag Rules'!Y$27)+B537","v":27},"BPT_Age_60plus","C","Age",72]
[null,{"$f":"OR(C539='BP Flag Rules'!Y$18,C539='BP Flag Rules'!Y$19,C539='BP Flag Rules'!Y$20,C539='BP Flag Rules'!Y$21,C539='BP Flag Rules'!Y$22,C539='BP Flag Rules'!Y$23,C539='BP Flag Rules'!Y$24,C539='BP Flag Rules'!Y$25,C539='BP Flag Rules'!Y$26,C539='BP Flag Rules'!Y$27)+B538","v":27},"BPT_Age_60plus","C","Age",73]
[null,{"$f":"OR(C540='BP Flag Rules'!Y$18,C540='BP Flag Rules'!Y$19,C540='BP Flag Rules'!Y$20,C540='BP Flag Rules'!Y$21,C540='BP Flag Rules'!Y$22,C540='BP Flag Rules'!Y$23,C540='BP Flag Rules'!Y$24,C540='BP Flag Rules'!Y$25,C540='BP Flag Rules'!Y$26,C540='BP Flag Rules'!Y$27)+B539","v":27},"BPT_Age_60plus","C","Age",74]
[null,{"$f":"OR(C541='BP Flag Rules'!Y$18,C541='BP Flag Rules'!Y$19,C541='BP Flag Rules'!Y$20,C541='BP Flag Rules'!Y$21,C541='BP Flag Rules'!Y$22,C541='BP Flag Rules'!Y$23,C541='BP Flag Rules'!Y$24,C541='BP Flag Rules'!Y$25,C541='BP Flag Rules'!Y$26,C541='BP Flag Rules'!Y$27)+B540","v":27},"BPT_Age_60plus","C","Age",75]
[null,{"$f":"OR(C542='BP Flag Rules'!Y$18,C542='BP Flag Rules'!Y$19,C542='BP Flag Rules'!Y$20,C542='BP Flag Rules'!Y$21,C542='BP Flag Rules'!Y$22,C542='BP Flag Rules'!Y$23,C542='BP Flag Rules'!Y$24,C542='BP Flag Rules'!Y$25,C542='BP Flag Rules'!Y$26,C542='BP Flag Rules'!Y$27)+B541","v":27},"BPT_Age_60plus","C","Age",76]
[null,{"$f":"OR(C543='BP Flag Rules'!Y$18,C543='BP Flag Rules'!Y$19,C543='BP Flag Rules'!Y$20,C543='BP Flag Rules'!Y$21,C543='BP Flag Rules'!Y$22,C543='BP Flag Rules'!Y$23,C543='BP Flag Rules'!Y$24,C543='BP Flag Rules'!Y$25,C543='BP Flag Rules'!Y$26,C543='BP Flag Rules'!Y$27)+B542","v":27},"BPT_Age_60plus","C","Age",77]
[null,{"$f":"OR(C544='BP Flag Rules'!Y$18,C544='BP Flag Rules'!Y$19,C544='BP Flag Rules'!Y$20,C544='BP Flag Rules'!Y$21,C544='BP Flag Rules'!Y$22,C544='BP Flag Rules'!Y$23,C544='BP Flag Rules'!Y$24,C544='BP Flag Rules'!Y$25,C544='BP Flag Rules'!Y$26,C544='BP Flag Rules'!Y$27)+B543","v":27},"BPT_Age_60plus","C","Age",78]
[null,{"$f":"OR(C545='BP Flag Rules'!Y$18,C545='BP Flag Rules'!Y$19,C545='BP Flag Rules'!Y$20,C545='BP Flag Rules'!Y$21,C545='BP Flag Rules'!Y$22,C545='BP Flag Rules'!Y$23,C545='BP Flag Rules'!Y$24,C545='BP Flag Rules'!Y$25,C545='BP Flag Rules'!Y$26,C545='BP Flag Rules'!Y$27)+B544","v":27},"BPT_Age_60plus","C","Age",79]
[null,{"$f":"OR(C546='BP Flag Rules'!Y$18,C546='BP Flag Rules'!Y$19,C546='BP Flag Rules'!Y$20,C546='BP Flag Rules'!Y$21,C546='BP Flag Rules'!Y$22,C546='BP Flag Rules'!Y$23,C546='BP Flag Rules'!Y$24,C546='BP Flag Rules'!Y$25,C546='BP Flag Rules'!Y$26,C546='BP Flag Rules'!Y$27)+B545","v":27},"BPT_Age_60plus","C","Age",80]
[null,{"$f":"OR(C547='BP Flag Rules'!Y$18,C547='BP Flag Rules'!Y$19,C547='BP Flag Rules'!Y$20,C547='BP Flag Rules'!Y$21,C547='BP Flag Rules'!Y$22,C547='BP Flag Rules'!Y$23,C547='BP Flag Rules'!Y$24,C547='BP Flag Rules'!Y$25,C547='BP Flag Rules'!Y$26,C547='BP Flag Rules'!Y$27)+B546","v":27},"BPT_Age_60plus","C","Age",81]
[null,{"$f":"OR(C548='BP Flag Rules'!Y$18,C548='BP Flag Rules'!Y$19,C548='BP Flag Rules'!Y$20,C548='BP Flag Rules'!Y$21,C548='BP Flag Rules'!Y$22,C548='BP Flag Rules'!Y$23,C548='BP Flag Rules'!Y$24,C548='BP Flag Rules'!Y$25,C548='BP Flag Rules'!Y$26,C548='BP Flag Rules'!Y$27)+B547","v":27},"BPT_Age_60plus","C","Age",82]
[null,{"$f":"OR(C549='BP Flag Rules'!Y$18,C549='BP Flag Rules'!Y$19,C549='BP Flag Rules'!Y$20,C549='BP Flag Rules'!Y$21,C549='BP Flag Rules'!Y$22,C549='BP Flag Rules'!Y$23,C549='BP Flag Rules'!Y$24,C549='BP Flag Rules'!Y$25,C549='BP Flag Rules'!Y$26,C549='BP Flag Rules'!Y$27)+B548","v":27},"BPT_Age_60plus","C","Age",83]
[null,{"$f":"OR(C550='BP Flag Rules'!Y$18,C550='BP Flag Rules'!Y$19,C550='BP Flag Rules'!Y$20,C550='BP Flag Rules'!Y$21,C550='BP Flag Rules'!Y$22,C550='BP Flag Rules'!Y$23,C550='BP Flag Rules'!Y$24,C550='BP Flag Rules'!Y$25,C550='BP Flag Rules'!Y$26,C550='BP Flag Rules'!Y$27)+B549","v":27},"BPT_Age_60plus","C","Age",84]
[null,{"$f":"OR(C551='BP Flag Rules'!Y$18,C551='BP Flag Rules'!Y$19,C551='BP Flag Rules'!Y$20,C551='BP Flag Rules'!Y$21,C551='BP Flag Rules'!Y$22,C551='BP Flag Rules'!Y$23,C551='BP Flag Rules'!Y$24,C551='BP Flag Rules'!Y$25,C551='BP Flag Rules'!Y$26,C551='BP Flag Rules'!Y$27)+B550","v":27},"BPT_Age_60plus","C","Age",85]
[null,{"$f":"OR(C552='BP Flag Rules'!Y$18,C552='BP Flag Rules'!Y$19,C552='BP Flag Rules'!Y$20,C552='BP Flag Rules'!Y$21,C552='BP Flag Rules'!Y$22,C552='BP Flag Rules'!Y$23,C552='BP Flag Rules'!Y$24,C552='BP Flag Rules'!Y$25,C552='BP Flag Rules'!Y$26,C552='BP Flag Rules'!Y$27)+B551","v":27},"BPT_Age_60plus","C","Age",86]
[null,{"$f":"OR(C553='BP Flag Rules'!Y$18,C553='BP Flag Rules'!Y$19,C553='BP Flag Rules'!Y$20,C553='BP Flag Rules'!Y$21,C553='BP Flag Rules'!Y$22,C553='BP Flag Rules'!Y$23,C553='BP Flag Rules'!Y$24,C553='BP Flag Rules'!Y$25,C553='BP Flag Rules'!Y$26,C553='BP Flag Rules'!Y$27)+B552","v":27},"BPT_Age_60plus","C","Age",87]
[null,{"$f":"OR(C554='BP Flag Rules'!Y$18,C554='BP Flag Rules'!Y$19,C554='BP Flag Rules'!Y$20,C554='BP Flag Rules'!Y$21,C554='BP Flag Rules'!Y$22,C554='BP Flag Rules'!Y$23,C554='BP Flag Rules'!Y$24,C554='BP Flag Rules'!Y$25,C554='BP Flag Rules'!Y$26,C554='BP Flag Rules'!Y$27)+B553","v":27},"BPT_Age_60plus","C","Age",88]
[null,{"$f":"OR(C555='BP Flag Rules'!Y$18,C555='BP Flag Rules'!Y$19,C555='BP Flag Rules'!Y$20,C555='BP Flag Rules'!Y$21,C555='BP Flag Rules'!Y$22,C555='BP Flag Rules'!Y$23,C555='BP Flag Rules'!Y$24,C555='BP Flag Rules'!Y$25,C555='BP Flag Rules'!Y$26,C555='BP Flag Rules'!Y$27)+B554","v":27},"BPT_Age_60plus","C","Age",89]
[null,{"$f":"OR(C556='BP Flag Rules'!Y$18,C556='BP Flag Rules'!Y$19,C556='BP Flag Rules'!Y$20,C556='BP Flag Rules'!Y$21,C556='BP Flag Rules'!Y$22,C556='BP Flag Rules'!Y$23,C556='BP Flag Rules'!Y$24,C556='BP Flag Rules'!Y$25,C556='BP Flag Rules'!Y$26,C556='BP Flag Rules'!Y$27)+B555","v":27},"BPT_Age_60plus","C","Age",90]
[null,{"$f":"OR(C557='BP Flag Rules'!Y$18,C557='BP Flag Rules'!Y$19,C557='BP Flag Rules'!Y$20,C557='BP Flag Rules'!Y$21,C557='BP Flag Rules'!Y$22,C557='BP Flag Rules'!Y$23,C557='BP Flag Rules'!Y$24,C557='BP Flag Rules'!Y$25,C557='BP Flag Rules'!Y$26,C557='BP Flag Rules'!Y$27)+B556","v":27},"BPT_Age_60plus","C","Age",91]
[null,{"$f":"OR(C558='BP Flag Rules'!Y$18,C558='BP Flag Rules'!Y$19,C558='BP Flag Rules'!Y$20,C558='BP Flag Rules'!Y$21,C558='BP Flag Rules'!Y$22,C558='BP Flag Rules'!Y$23,C558='BP Flag Rules'!Y$24,C558='BP Flag Rules'!Y$25,C558='BP Flag Rules'!Y$26,C558='BP Flag Rules'!Y$27)+B557","v":27},"BPT_Age_60plus","C","Age",92]
[null,{"$f":"OR(C559='BP Flag Rules'!Y$18,C559='BP Flag Rules'!Y$19,C559='BP Flag Rules'!Y$20,C559='BP Flag Rules'!Y$21,C559='BP Flag Rules'!Y$22,C559='BP Flag Rules'!Y$23,C559='BP Flag Rules'!Y$24,C559='BP Flag Rules'!Y$25,C559='BP Flag Rules'!Y$26,C559='BP Flag Rules'!Y$27)+B558","v":27},"BPT_Age_60plus","C","Age",93]
[null,{"$f":"OR(C560='BP Flag Rules'!Y$18,C560='BP Flag Rules'!Y$19,C560='BP Flag Rules'!Y$20,C560='BP Flag Rules'!Y$21,C560='BP Flag Rules'!Y$22,C560='BP Flag Rules'!Y$23,C560='BP Flag Rules'!Y$24,C560='BP Flag Rules'!Y$25,C560='BP Flag Rules'!Y$26,C560='BP Flag Rules'!Y$27)+B559","v":27},"BPT_Age_60plus","C","Age",94]
[null,{"$f":"OR(C561='BP Flag Rules'!Y$18,C561='BP Flag Rules'!Y$19,C561='BP Flag Rules'!Y$20,C561='BP Flag Rules'!Y$21,C561='BP Flag Rules'!Y$22,C561='BP Flag Rules'!Y$23,C561='BP Flag Rules'!Y$24,C561='BP Flag Rules'!Y$25,C561='BP Flag Rules'!Y$26,C561='BP Flag Rules'!Y$27)+B560","v":27},"BPT_Age_60plus","C","Age",95]
[null,{"$f":"OR(C562='BP Flag Rules'!Y$18,C562='BP Flag Rules'!Y$19,C562='BP Flag Rules'!Y$20,C562='BP Flag Rules'!Y$21,C562='BP Flag Rules'!Y$22,C562='BP Flag Rules'!Y$23,C562='BP Flag Rules'!Y$24,C562='BP Flag Rules'!Y$25,C562='BP Flag Rules'!Y$26,C562='BP Flag Rules'!Y$27)+B561","v":27},"BPT_Age_60plus","C","Age",96]
[null,{"$f":"OR(C563='BP Flag Rules'!Y$18,C563='BP Flag Rules'!Y$19,C563='BP Flag Rules'!Y$20,C563='BP Flag Rules'!Y$21,C563='BP Flag Rules'!Y$22,C563='BP Flag Rules'!Y$23,C563='BP Flag Rules'!Y$24,C563='BP Flag Rules'!Y$25,C563='BP Flag Rules'!Y$26,C563='BP Flag Rules'!Y$27)+B562","v":27},"BPT_Age_60plus","C","Age",97]
[null,{"$f":"OR(C564='BP Flag Rules'!Y$18,C564='BP Flag Rules'!Y$19,C564='BP Flag Rules'!Y$20,C564='BP Flag Rules'!Y$21,C564='BP Flag Rules'!Y$22,C564='BP Flag Rules'!Y$23,C564='BP Flag Rules'!Y$24,C564='BP Flag Rules'!Y$25,C564='BP Flag Rules'!Y$26,C564='BP Flag Rules'!Y$27)+B563","v":27},"BPT_Age_60plus","C","Age",98]
[null,{"$f":"OR(C565='BP Flag Rules'!Y$18,C565='BP Flag Rules'!Y$19,C565='BP Flag Rules'!Y$20,C565='BP Flag Rules'!Y$21,C565='BP Flag Rules'!Y$22,C565='BP Flag Rules'!Y$23,C565='BP Flag Rules'!Y$24,C565='BP Flag Rules'!Y$25,C565='BP Flag Rules'!Y$26,C565='BP Flag Rules'!Y$27)+B564","v":27},"BPT_Age_60plus","C","Age",99]

{"sheet":"Eligible(W)","index":11,"n_rows":213,"n_cols":15,"rows_kept":213,"cut":false,"hidden":true,"merged":[]}
["BP","CODE_HRG","Documentation_Flag_ID",null,0,0,"no. eligible","flag",{"$f":"'BP Flag Rules'!AJ3","v":"BP01"},null,"BP","CODE_HRG",0,0,"no eligible"]
["BP01","HT12A","BP_FHF",{"$f":"B2&\" - \"&C2","v":"HT12A - BP_FHF"},{"$f":"IF(ISNUMBER(MATCH(A2,$I$1,0)),LOOKUP(30000,E$1:E1)+1,\"\")","v":1},{"$f":"MAX(E:E)","v":18},{"$f":"IF(COUNTA(G$1:G1)>$F$2,\"\",LOOKUP(COUNTA(G$1:G1),E:E,B:B))","v":"HT12A"},{"$f":"IF(COUNTA(H$1:H1)>$F$2,\"\",LOOKUP(COUNTA(H$1:H1),E:E,D:D))","v":"HT12A - BP_FHF"},null,null,"BP01","HT12A",{"$f":"IF(ISNUMBER(MATCH(K2,$I$1,0)),LOOKUP(30000,M$1:M1)+1,\"\")","v":1},{"$f":"MAX(M:M)","v":18},{"$f":"IF(COUNTA(O$1:O1)>$N$2,\"\",LOOKUP(COUNTA(O$1:O1),M:M,L:L))","v":"HT12A"}]
["BP01","HT12B","BP_FHF",{"$f":"B3&\" - \"&C3","v":"HT12B - BP_FHF"},{"$f":"IF(ISNUMBER(MATCH(A3,$I$1,0)),LOOKUP(30000,E$1:E2)+1,\"\")","v":2},null,{"$f":"IF(COUNTA(G$1:G2)>$F$2,\"\",LOOKUP(COUNTA(G$1:G2),E:E,B:B))","v":"HT12B"},{"$f":"IF(COUNTA(H$1:H2)>$F$2,\"\",LOOKUP(COUNTA(H$1:H2),E:E,D:D))","v":"HT12B - BP_FHF"},null,null,"BP01","HT12B",{"$f":"IF(ISNUMBER(MATCH(K3,$I$1,0)),LOOKUP(30000,M$1:M2)+1,\"\")","v":2},null,{"$f":"IF(COUNTA(O$1:O2)>$N$2,\"\",LOOKUP(COUNTA(O$1:O2),M:M,L:L))","v":"HT12B"}]
["BP01","HT12C","BP_FHF","HT12C - BP_FHF",{"$f":"IF(ISNUMBER(MATCH(A4,$I$1,0)),LOOKUP(30000,E$1:E3)+1,\"\")","v":3},null,{"$f":"IF(COUNTA(G$1:G3)>$F$2,\"\",LOOKUP(COUNTA(G$1:G3),E:E,B:B))","v":"HT12C"},{"$f":"IF(COUNTA(H$1:H3)>$F$2,\"\",LOOKUP(COUNTA(H$1:H3),E:E,D:D))","v":"HT12C - BP_FHF"},null,null,"BP01","HT12C",{"$f":"IF(ISNUMBER(MATCH(K4,$I$1,0)),LOOKUP(30000,M$1:M3)+1,\"\")","v":3},null,{"$f":"IF(COUNTA(O$1:O3)>$N$2,\"\",LOOKUP(COUNTA(O$1:O3),M:M,L:L))","v":"HT12C"}]
["BP01","HT12D","BP_FHF","HT12D - BP_FHF",{"$f":"IF(ISNUMBER(MATCH(A5,$I$1,0)),LOOKUP(30000,E$1:E4)+1,\"\")","v":4},null,{"$f":"IF(COUNTA(G$1:G4)>$F$2,\"\",LOOKUP(COUNTA(G$1:G4),E:E,B:B))","v":"HT12D"},{"$f":"IF(COUNTA(H$1:H4)>$F$2,\"\",LOOKUP(COUNTA(H$1:H4),E:E,D:D))","v":"HT12D - BP_FHF"},null,null,"BP01","HT12D",{"$f":"IF(ISNUMBER(MATCH(K5,$I$1,0)),LOOKUP(30000,M$1:M4)+1,\"\")","v":4},null,{"$f":"IF(COUNTA(O$1:O4)>$N$2,\"\",LOOKUP(COUNTA(O$1:O4),M:M,L:L))","v":"HT12D"}]
["BP01","HT12E","BP_FHF","HT12E - BP_FHF",{"$f":"IF(ISNUMBER(MATCH(A6,$I$1,0)),LOOKUP(30000,E$1:E5)+1,\"\")","v":5},null,{"$f":"IF(COUNTA(G$1:G5)>$F$2,\"\",LOOKUP(COUNTA(G$1:G5),E:E,B:B))","v":"HT12E"},{"$f":"IF(COUNTA(H$1:H5)>$F$2,\"\",LOOKUP(COUNTA(H$1:H5),E:E,D:D))","v":"HT12E - BP_FHF"},null,null,"BP01","HT12E",{"$f":"IF(ISNUMBER(MATCH(K6,$I$1,0)),LOOKUP(30000,M$1:M5)+1,\"\")","v":5},null,{"$f":"IF(COUNTA(O$1:O5)>$N$2,\"\",LOOKUP(COUNTA(O$1:O5),M:M,L:L))","v":"HT12E"}]
["BP01","HT13A","BP_FHF","HT13A - BP_FHF",{"$f":"IF(ISNUMBER(MATCH(A7,$I$1,0)),LOOKUP(30000,E$1:E6)+1,\"\")","v":6},null,{"$f":"IF(COUNTA(G$1:G6)>$F$2,\"\",LOOKUP(COUNTA(G$1:G6),E:E,B:B))","v":"HT13A"},{"$f":"IF(COUNTA(H$1:H6)>$F$2,\"\",LOOKUP(COUNTA(H$1:H6),E:E,D:D))","v":"HT13A - BP_FHF"},null,null,"BP01","HT13A",{"$f":"IF(ISNUMBER(MATCH(K7,$I$1,0)),LOOKUP(30000,M$1:M6)+1,\"\")","v":6},null,{"$f":"IF(COUNTA(O$1:O6)>$N$2,\"\",LOOKUP(COUNTA(O$1:O6),M:M,L:L))","v":"HT13A"}]
["BP01","HT13B","BP_FHF","HT13B - BP_FHF",{"$f":"IF(ISNUMBER(MATCH(A8,$I$1,0)),LOOKUP(30000,E$1:E7)+1,\"\")","v":7},null,{"$f":"IF(COUNTA(G$1:G7)>$F$2,\"\",LOOKUP(COUNTA(G$1:G7),E:E,B:B))","v":"HT13B"},{"$f":"IF(COUNTA(H$1:H7)>$F$2,\"\",LOOKUP(COUNTA(H$1:H7),E:E,D:D))","v":"HT13B - BP_FHF"},null,null,"BP01","HT13B",{"$f":"IF(ISNUMBER(MATCH(K8,$I$1,0)),LOOKUP(30000,M$1:M7)+1,\"\")","v":7},null,{"$f":"IF(COUNTA(O$1:O7)>$N$2,\"\",LOOKUP(COUNTA(O$1:O7),M:M,L:L))","v":"HT13B"}]
["BP01","HT13C","BP_FHF","HT13C - BP_FHF",{"$f":"IF(ISNUMBER(MATCH(A9,$I$1,0)),LOOKUP(30000,E$1:E8)+1,\"\")","v":8},null,{"$f":"IF(COUNTA(G$1:G8)>$F$2,\"\",LOOKUP(COUNTA(G$1:G8),E:E,B:B))","v":"HT13C"},{"$f":"IF(COUNTA(H$1:H8)>$F$2,\"\",LOOKUP(COUNTA(H$1:H8),E:E,D:D))","v":"HT13C - BP_FHF"},null,null,"BP01","HT13C",{"$f":"IF(ISNUMBER(MATCH(K9,$I$1,0)),LOOKUP(30000,M$1:M8)+1,\"\")","v":8},null,{"$f":"IF(COUNTA(O$1:O8)>$N$2,\"\",LOOKUP(COUNTA(O$1:O8),M:M,L:L))","v":"HT13C"}]
["BP01","HT13D","BP_FHF","HT13D - BP_FHF",{"$f":"IF(ISNUMBER(MATCH(A10,$I$1,0)),LOOKUP(30000,E$1:E9)+1,\"\")","v":9},null,{"$f":"IF(COUNTA(G$1:G9)>$F$2,\"\",LOOKUP(COUNTA(G$1:G9),E:E,B:B))","v":"HT13D"},{"$f":"IF(COUNTA(H$1:H9)>$F$2,\"\",LOOKUP(COUNTA(H$1:H9),E:E,D:D))","v":"HT13D - BP_FHF"},null,null,"BP01","HT13D",{"$f":"IF(ISNUMBER(MATCH(K10,$I$1,0)),LOOKUP(30000,M$1:M9)+1,\"\")","v":9},null,{"$f":"IF(COUNTA(O$1:O9)>$N$2,\"\",LOOKUP(COUNTA(O$1:O9),M:M,L:L))","v":"HT13D"}]
["BP01","HT13E","BP_FHF","HT13E - BP_FHF",{"$f":"IF(ISNUMBER(MATCH(A11,$I$1,0)),LOOKUP(30000,E$1:E10)+1,\"\")","v":10},null,{"$f":"IF(COUNTA(G$1:G10)>$F$2,\"\",LOOKUP(COUNTA(G$1:G10),E:E,B:B))","v":"HT13E"},{"$f":"IF(COUNTA(H$1:H10)>$F$2,\"\",LOOKUP(COUNTA(H$1:H10),E:E,D:D))","v":"HT13E - BP_FHF"},null,null,"BP01","HT13E",{"$f":"IF(ISNUMBER(MATCH(K11,$I$1,0)),LOOKUP(30000,M$1:M10)+1,\"\")","v":10},null,{"$f":"IF(COUNTA(O$1:O10)>$N$2,\"\",LOOKUP(COUNTA(O$1:O10),M:M,L:L))","v":"HT13E"}]
["BP01","VA11A","BP_FHF","VA11A - BP_FHF",{"$f":"IF(ISNUMBER(MATCH(A12,$I$1,0)),LOOKUP(30000,E$1:E11)+1,\"\")","v":11},null,{"$f":"IF(COUNTA(G$1:G11)>$F$2,\"\",LOOKUP(COUNTA(G$1:G11),E:E,B:B))","v":"VA11A"},{"$f":"IF(COUNTA(H$1:H11)>$F$2,\"\",LOOKUP(COUNTA(H$1:H11),E:E,D:D))","v":"VA11A - BP_FHF"},null,null,"BP01","VA11A",{"$f":"IF(ISNUMBER(MATCH(K12,$I$1,0)),LOOKUP(30000,M$1:M11)+1,\"\")","v":11},null,{"$f":"IF(COUNTA(O$1:O11)>$N$2,\"\",LOOKUP(COUNTA(O$1:O11),M:M,L:L))","v":"VA11A"}]
["BP01","VA11B","BP_FHF","VA11B - BP_FHF",{"$f":"IF(ISNUMBER(MATCH(A13,$I$1,0)),LOOKUP(30000,E$1:E12)+1,\"\")","v":12},null,{"$f":"IF(COUNTA(G$1:G12)>$F$2,\"\",LOOKUP(COUNTA(G$1:G12),E:E,B:B))","v":"VA11B"},{"$f":"IF(COUNTA(H$1:H12)>$F$2,\"\",LOOKUP(COUNTA(H$1:H12),E:E,D:D))","v":"VA11B - BP_FHF"},null,null,"BP01","VA11B",{"$f":"IF(ISNUMBER(MATCH(K13,$I$1,0)),LOOKUP(30000,M$1:M12)+1,\"\")","v":12},null,{"$f":"IF(COUNTA(O$1:O12)>$N$2,\"\",LOOKUP(COUNTA(O$1:O12),M:M,L:L))","v":"VA11B"}]
["BP01","VA11C","BP_FHF","VA11C - BP_FHF",{"$f":"IF(ISNUMBER(MATCH(A14,$I$1,0)),LOOKUP(30000,E$1:E13)+1,\"\")","v":13},null,{"$f":"IF(COUNTA(G$1:G13)>$F$2,\"\",LOOKUP(COUNTA(G$1:G13),E:E,B:B))","v":"VA11C"},{"$f":"IF(COUNTA(H$1:H13)>$F$2,\"\",LOOKUP(COUNTA(H$1:H13),E:E,D:D))","v":"VA11C - BP_FHF"},null,null,"BP01","VA11C",{"$f":"IF(ISNUMBER(MATCH(K14,$I$1,0)),LOOKUP(30000,M$1:M13)+1,\"\")","v":13},null,{"$f":"IF(COUNTA(O$1:O13)>$N$2,\"\",LOOKUP(COUNTA(O$1:O13),M:M,L:L))","v":"VA11C"}]
["BP01","VA11D","BP_FHF","VA11D - BP_FHF",{"$f":"IF(ISNUMBER(MATCH(A15,$I$1,0)),LOOKUP(30000,E$1:E14)+1,\"\")","v":14},null,{"$f":"IF(COUNTA(G$1:G14)>$F$2,\"\",LOOKUP(COUNTA(G$1:G14),E:E,B:B))","v":"VA11D"},{"$f":"IF(COUNTA(H$1:H14)>$F$2,\"\",LOOKUP(COUNTA(H$1:H14),E:E,D:D))","v":"VA11D - BP_FHF"},null,null,"BP01","VA11D",{"$f":"IF(ISNUMBER(MATCH(K15,$I$1,0)),LOOKUP(30000,M$1:M14)+1,\"\")","v":14},null,{"$f":"IF(COUNTA(O$1:O14)>$N$2,\"\",LOOKUP(COUNTA(O$1:O14),M:M,L:L))","v":"VA11D"}]
["BP01","VA12A","BP_FHF","VA12A - BP_FHF",{"$f":"IF(ISNUMBER(MATCH(A16,$I$1,0)),LOOKUP(30000,E$1:E15)+1,\"\")","v":15},null,{"$f":"IF(COUNTA(G$1:G15)>$F$2,\"\",LOOKUP(COUNTA(G$1:G15),E:E,B:B))","v":"VA12A"},{"$f":"IF(COUNTA(H$1:H15)>$F$2,\"\",LOOKUP(COUNTA(H$1:H15),E:E,D:D))","v":"VA12A - BP_FHF"},null,null,"BP01","VA12A",{"$f":"IF(ISNUMBER(MATCH(K16,$I$1,0)),LOOKUP(30000,M$1:M15)+1,\"\")","v":15},null,{"$f":"IF(COUNTA(O$1:O15)>$N$2,\"\",LOOKUP(COUNTA(O$1:O15),M:M,L:L))","v":"VA12A"}]
["BP01","VA12B","BP_FHF","VA12B - BP_FHF",{"$f":"IF(ISNUMBER(MATCH(A17,$I$1,0)),LOOKUP(30000,E$1:E16)+1,\"\")","v":16},null,{"$f":"IF(COUNTA(G$1:G16)>$F$2,\"\",LOOKUP(COUNTA(G$1:G16),E:E,B:B))","v":"VA12B"},{"$f":"IF(COUNTA(H$1:H16)>$F$2,\"\",LOOKUP(COUNTA(H$1:H16),E:E,D:D))","v":"VA12B - BP_FHF"},null,null,"BP01","VA12B",{"$f":"IF(ISNUMBER(MATCH(K17,$I$1,0)),LOOKUP(30000,M$1:M16)+1,\"\")","v":16},null,{"$f":"IF(COUNTA(O$1:O16)>$N$2,\"\",LOOKUP(COUNTA(O$1:O16),M:M,L:L))","v":"VA12B"}]
["BP01","VA12C","BP_FHF","VA12C - BP_FHF",{"$f":"IF(ISNUMBER(MATCH(A18,$I$1,0)),LOOKUP(30000,E$1:E17)+1,\"\")","v":17},null,{"$f":"IF(COUNTA(G$1:G17)>$F$2,\"\",LOOKUP(COUNTA(G$1:G17),E:E,B:B))","v":"VA12C"},{"$f":"IF(COUNTA(H$1:H17)>$F$2,\"\",LOOKUP(COUNTA(H$1:H17),E:E,D:D))","v":"VA12C - BP_FHF"},null,null,"BP01","VA12C",{"$f":"IF(ISNUMBER(MATCH(K18,$I$1,0)),LOOKUP(30000,M$1:M17)+1,\"\")","v":17},null,{"$f":"IF(COUNTA(O$1:O17)>$N$2,\"\",LOOKUP(COUNTA(O$1:O17),M:M,L:L))","v":"VA12C"}]
["BP01","VA12D","BP_FHF","VA12D - BP_FHF",{"$f":"IF(ISNUMBER(MATCH(A19,$I$1,0)),LOOKUP(30000,E$1:E18)+1,\"\")","v":18},null,{"$f":"IF(COUNTA(G$1:G18)>$F$2,\"\",LOOKUP(COUNTA(G$1:G18),E:E,B:B))","v":"VA12D"},{"$f":"IF(COUNTA(H$1:H18)>$F$2,\"\",LOOKUP(COUNTA(H$1:H18),E:E,D:D))","v":"VA12D - BP_FHF"},null,null,"BP01","VA12D",{"$f":"IF(ISNUMBER(MATCH(K19,$I$1,0)),LOOKUP(30000,M$1:M18)+1,\"\")","v":18},null,{"$f":"IF(COUNTA(O$1:O18)>$N$2,\"\",LOOKUP(COUNTA(O$1:O18),M:M,L:L))","v":"VA12D"}]
["BP02","EB10A","BP_MI","EB10A - BP_MI",{"$f":"IF(ISNUMBER(MATCH(A20,$I$1,0)),LOOKUP(30000,E$1:E19)+1,\"\")","v":""},null,{"$f":"IF(COUNTA(G$1:G19)>$F$2,\"\",LOOKUP(COUNTA(G$1:G19),E:E,B:B))","v":""},{"$f":"IF(COUNTA(H$1:H19)>$F$2,\"\",LOOKUP(COUNTA(H$1:H19),E:E,D:D))","v":""},null,null,"BP02","EB10A",{"$f":"IF(ISNUMBER(MATCH(K20,$I$1,0)),LOOKUP(30000,M$1:M19)+1,\"\")","v":""},null,{"$f":"IF(COUNTA(O$1:O19)>$N$2,\"\",LOOKUP(COUNTA(O$1:O19),M:M,L:L))","v":""}]
["BP02","EB10B","BP_MI","EB10B - BP_MI",{"$f":"IF(ISNUMBER(MATCH(A21,$I$1,0)),LOOKUP(30000,E$1:E20)+1,\"\")","v":""},null,{"$f":"IF(COUNTA(G$1:G20)>$F$2,\"\",LOOKUP(COUNTA(G$1:G20),E:E,B:B))","v":""},{"$f":"IF(COUNTA(H$1:H20)>$F$2,\"\",LOOKUP(COUNTA(H$1:H20),E:E,D:D))","v":""},null,null,"BP02","EB10B",{"$f":"IF(ISNUMBER(MATCH(K21,$I$1,0)),LOOKUP(30000,M$1:M20)+1,\"\")","v":""},null,{"$f":"IF(COUNTA(O$1:O20)>$N$2,\"\",LOOKUP(COUNTA(O$1:O20),M:M,L:L))","v":""}]
["BP02","EB10C","BP_MI","EB10C - BP_MI",{"$f":"IF(ISNUMBER(MATCH(A22,$I$1,0)),LOOKUP(30000,E$1:E21)+1,\"\")","v":""},null,{"$f":"IF(COUNTA(G$1:G21)>$F$2,\"\",LOOKUP(COUNTA(G$1:G21),E:E,B:B))","v":""},{"$f":"IF(COUNTA(H$1:H21)>$F$2,\"\",LOOKUP(COUNTA(H$1:H21),E:E,D:D))","v":""},null,null,"BP02","EB10C",{"$f":"IF(ISNUMBER(MATCH(K22,$I$1,0)),LOOKUP(30000,M$1:M21)+1,\"\")","v":""},null,{"$f":"IF(COUNTA(O$1:O21)>$N$2,\"\",LOOKUP(COUNTA(O$1:O21),M:M,L:L))","v":""}]
["BP02","EB10D","BP_MI","EB10D - BP_MI",{"$f":"IF(ISNUMBER(MATCH(A23,$I$1,0)),LOOKUP(30000,E$1:E22)+1,\"\")","v":""},null,{"$f":"IF(COUNTA(G$1:G22)>$F$2,\"\",LOOKUP(COUNTA(G$1:G22),E:E,B:B))","v":""},{"$f":"IF(COUNTA(H$1:H22)>$F$2,\"\",LOOKUP(COUNTA(H$1:H22),E:E,D:D))","v":""},null,null,"BP02","EB10D",{"$f":"IF(ISNUMBER(MATCH(K23,$I$1,0)),LOOKUP(30000,M$1:M22)+1,\"\")","v":""},null,{"$f":"IF(COUNTA(O$1:O22)>$N$2,\"\",LOOKUP(COUNTA(O$1:O22),M:M,L:L))","v":""}]
["BP02","EB10E","BP_MI","EB10E - BP_MI",{"$f":"IF(ISNUMBER(MATCH(A24,$I$1,0)),LOOKUP(30000,E$1:E23)+1,\"\")","v":""},null,{"$f":"IF(COUNTA(G$1:G23)>$F$2,\"\",LOOKUP(COUNTA(G$1:G23),E:E,B:B))","v":""},{"$f":"IF(COUNTA(H$1:H23)>$F$2,\"\",LOOKUP(COUNTA(H$1:H23),E:E,D:D))","v":""},null,null,"BP02","EB10E",{"$f":"IF(ISNUMBER(MATCH(K24,$I$1,0)),LOOKUP(30000,M$1:M23)+1,\"\")","v":""},null,{"$f":"IF(COUNTA(O$1:O23)>$N$2,\"\",LOOKUP(COUNTA(O$1:O23),M:M,L:L))","v":""}]
["BP02","EY40A","BP_MI","EY40A - BP_MI",{"$f":"IF(ISNUMBER(MATCH(A25,$I$1,0)),LOOKUP(30000,E$1:E24)+1,\"\")","v":""},null,{"$f":"IF(COUNTA(G$1:G24)>$F$2,\"\",LOOKUP(COUNTA(G$1:G24),E:E,B:B))","v":""},{"$f":"IF(COUNTA(H$1:H24)>$F$2,\"\",LOOKUP(COUNTA(H$1:H24),E:E,D:D))","v":""},null,null,"BP02","EY40A",{"$f":"IF(ISNUMBER(MATCH(K25,$I$1,0)),LOOKUP(30000,M$1:M24)+1,\"\")","v":""},null,{"$f":"IF(COUNTA(O$1:O24)>$N$2,\"\",LOOKUP(COUNTA(O$1:O24),M:M,L:L))","v":""}]
["BP02","EY40B","BP_MI","EY40B - BP_MI",{"$f":"IF(ISNUMBER(MATCH(A26,$I$1,0)),LOOKUP(30000,E$1:E25)+1,\"\")","v":""},null,{"$f":"IF(COUNTA(G$1:G25)>$F$2,\"\",LOOKUP(COUNTA(G$1:G25),E:E,B:B))","v":""},{"$f":"IF(COUNTA(H$1:H25)>$F$2,\"\",LOOKUP(COUNTA(H$1:H25),E:E,D:D))","v":""},null,null,"BP02","EY40B",{"$f":"IF(ISNUMBER(MATCH(K26,$I$1,0)),LOOKUP(30000,M$1:M25)+1,\"\")","v":""},null,{"$f":"IF(COUNTA(O$1:O25)>$N$2,\"\",LOOKUP(COUNTA(O$1:O25),M:M,L:L))","v":""}]
["BP02","EY40C","BP_MI","EY40C - BP_MI",{"$f":"IF(ISNUMBER(MATCH(A27,$I$1,0)),LOOKUP(30000,E$1:E26)+1,\"\")","v":""},null,{"$f":"IF(COUNTA(G$1:G26)>$F$2,\"\",LOOKUP(COUNTA(G$1:G26),E:E,B:B))","v":""},{"$f":"IF(COUNTA(H$1:H26)>$F$2,\"\",LOOKUP(COUNTA(H$1:H26),E:E,D:D))","v":""},null,null,"BP02","EY40C",{"$f":"IF(ISNUMBER(MATCH(K27,$I$1,0)),LOOKUP(30000,M$1:M26)+1,\"\")","v":""},null,{"$f":"IF(COUNTA(O$1:O26)>$N$2,\"\",LOOKUP(COUNTA(O$1:O26),M:M,L:L))","v":""}]
["BP02","EY40D","BP_MI","EY40D - BP_MI",{"$f":"IF(ISNUMBER(MATCH(A28,$I$1,0)),LOOKUP(30000,E$1:E27)+1,\"\")","v":""},null,{"$f":"IF(COUNTA(G$1:G27)>$F$2,\"\",LOOKUP(COUNTA(G$1:G27),E:E,B:B))","v":""},{"$f":"IF(COUNTA(H$1:H27)>$F$2,\"\",LOOKUP(COUNTA(H$1:H27),E:E,D:D))","v":""},null,null,"BP02","EY40D",{"$f":"IF(ISNUMBER(MATCH(K28,$I$1,0)),LOOKUP(30000,M$1:M27)+1,\"\")","v":""},null,{"$f":"IF(COUNTA(O$1:O27)>$N$2,\"\",LOOKUP(COUNTA(O$1:O27),M:M,L:L))","v":""}]
["BP02","EY41A","BP_MI","EY41A - BP_MI",{"$f":"IF(ISNUMBER(MATCH(A29,$I$1,0)),LOOKUP(30000,E$1:E28)+1,\"\")","v":""},null,{"$f":"IF(COUNTA(G$1:G28)>$F$2,\"\",LOOKUP(COUNTA(G$1:G28),E:E,B:B))","v":""},{"$f":"IF(COUNTA(H$1:H28)>$F$2,\"\",LOOKUP(COUNTA(H$1:H28),E:E,D:D))","v":""},null,null,"BP02","EY41A",{"$f":"IF(ISNUMBER(MATCH(K29,$I$1,0)),LOOKUP(30000,M$1:M28)+1,\"\")","v":""},null,{"$f":"IF(COUNTA(O$1:O28)>$N$2,\"\",LOOKUP(COUNTA(O$1:O28),M:M,L:L))","v":""}]
["BP02","EY41B","BP_MI","EY41B - BP_MI",{"$f":"IF(ISNUMBER(MATCH(A30,$I$1,0)),LOOKUP(30000,E$1:E29)+1,\"\")","v":""},null,{"$f":"IF(COUNTA(G$1:G29)>$F$2,\"\",LOOKUP(COUNTA(G$1:G29),E:E,B:B))","v":""},{"$f":"IF(COUNTA(H$1:H29)>$F$2,\"\",LOOKUP(COUNTA(H$1:H29),E:E,D:D))","v":""},null,null,"BP02","EY41B",{"$f":"IF(ISNUMBER(MATCH(K30,$I$1,0)),LOOKUP(30000,M$1:M29)+1,\"\")","v":""},null,{"$f":"IF(COUNTA(O$1:O29)>$N$2,\"\",LOOKUP(COUNTA(O$1:O29),M:M,L:L))","v":""}]
["BP02","EY41C","BP_MI","EY41C - BP_MI",{"$f":"IF(ISNUMBER(MATCH(A31,$I$1,0)),LOOKUP(30000,E$1:E30)+1,\"\")","v":""},null,{"$f":"IF(COUNTA(G$1:G30)>$F$2,\"\",LOOKUP(COUNTA(G$1:G30),E:E,B:B))","v":""},{"$f":"IF(COUNTA(H$1:H30)>$F$2,\"\",LOOKUP(COUNTA(H$1:H30),E:E,D:D))","v":""},null,null,"BP02","EY41C",{"$f":"IF(ISNUMBER(MATCH(K31,$I$1,0)),LOOKUP(30000,M$1:M30)+1,\"\")","v":""},null,{"$f":"IF(COUNTA(O$1:O30)>$N$2,\"\",LOOKUP(COUNTA(O$1:O30),M:M,L:L))","v":""}]
["BP02","EY41D","BP_MI","EY41D - BP_MI",{"$f":"IF(ISNUMBER(MATCH(A32,$I$1,0)),LOOKUP(30000,E$1:E31)+1,\"\")","v":""},null,{"$f":"IF(COUNTA(G$1:G31)>$F$2,\"\",LOOKUP(COUNTA(G$1:G31),E:E,B:B))","v":""},{"$f":"IF(COUNTA(H$1:H31)>$F$2,\"\",LOOKUP(COUNTA(H$1:H31),E:E,D:D))","v":""},null,null,"BP02","EY41D",{"$f":"IF(ISNUMBER(MATCH(K32,$I$1,0)),LOOKUP(30000,M$1:M31)+1,\"\")","v":""},null,{"$f":"IF(COUNTA(O$1:O31)>$N$2,\"\",LOOKUP(COUNTA(O$1:O31),M:M,L:L))","v":""}]
["BP02","EY42A","BP_MI","EY42A - BP_MI",{"$f":"IF(ISNUMBER(MATCH(A33,$I$1,0)),LOOKUP(30000,E$1:E32)+1,\"\")","v":""},null,{"$f":"IF(COUNTA(G$1:G32)>$F$2,\"\",LOOKUP(COUNTA(G$1:G32),E:E,B:B))","v":""},{"$f":"IF(COUNTA(H$1:H32)>$F$2,\"\",LOOKUP(COUNTA(H$1:H32),E:E,D:D))","v":""},null,null,"BP02","EY42A",{"$f":"IF(ISNUMBER(MATCH(K33,$I$1,0)),LOOKUP(30000,M$1:M32)+1,\"\")","v":""},null,{"$f":"IF(COUNTA(O$1:O32)>$N$2,\"\",LOOKUP(COUNTA(O$1:O32),M:M,L:L))","v":""}]
["BP02","EY42B","BP_MI","EY42B - BP_MI",{"$f":"IF(ISNUMBER(MATCH(A34,$I$1,0)),LOOKUP(30000,E$1:E33)+1,\"\")","v":""},null,{"$f":"IF(COUNTA(G$1:G33)>$F$2,\"\",LOOKUP(COUNTA(G$1:G33),E:E,B:B))","v":""},{"$f":"IF(COUNTA(H$1:H33)>$F$2,\"\",LOOKUP(COUNTA(H$1:H33),E:E,D:D))","v":""},null,null,"BP02","EY42B",{"$f":"IF(ISNUMBER(MATCH(K34,$I$1,0)),LOOKUP(30000,M$1:M33)+1,\"\")","v":""},null,{"$f":"IF(COUNTA(O$1:O33)>$N$2,\"\",LOOKUP(COUNTA(O$1:O33),M:M,L:L))","v":""}]
["BP02","EY42C","BP_MI","EY42C - BP_MI",{"$f":"IF(ISNUMBER(MATCH(A35,$I$1,0)),LOOKUP(30000,E$1:E34)+1,\"\")","v":""},null,{"$f":"IF(COUNTA(G$1:G34)>$F$2,\"\",LOOKUP(COUNTA(G$1:G34),E:E,B:B))","v":""},{"$f":"IF(COUNTA(H$1:H34)>$F$2,\"\",LOOKUP(COUNTA(H$1:H34),E:E,D:D))","v":""},null,null,"BP02","EY42C",{"$f":"IF(ISNUMBER(MATCH(K35,$I$1,0)),LOOKUP(30000,M$1:M34)+1,\"\")","v":""},null,{"$f":"IF(COUNTA(O$1:O34)>$N$2,\"\",LOOKUP(COUNTA(O$1:O34),M:M,L:L))","v":""}]
["BP02","EY42D","BP_MI","EY42D - BP_MI",{"$f":"IF(ISNUMBER(MATCH(A36,$I$1,0)),LOOKUP(30000,E$1:E35)+1,\"\")","v":""},null,{"$f":"IF(COUNTA(G$1:G35)>$F$2,\"\",LOOKUP(COUNTA(G$1:G35),E:E,B:B))","v":""},{"$f":"IF(COUNTA(H$1:H35)>$F$2,\"\",LOOKUP(COUNTA(H$1:H35),E:E,D:D))","v":""},null,null,"BP02","EY42D",{"$f":"IF(ISNUMBER(MATCH(K36,$I$1,0)),LOOKUP(30000,M$1:M35)+1,\"\")","v":""},null,{"$f":"IF(COUNTA(O$1:O35)>$N$2,\"\",LOOKUP(COUNTA(O$1:O35),M:M,L:L))","v":""}]
["BP02","EY43A","BP_MI","EY43A - BP_MI",{"$f":"IF(ISNUMBER(MATCH(A37,$I$1,0)),LOOKUP(30000,E$1:E36)+1,\"\")","v":""},null,{"$f":"IF(COUNTA(G$1:G36)>$F$2,\"\",LOOKUP(COUNTA(G$1:G36),E:E,B:B))","v":""},{"$f":"IF(COUNTA(H$1:H36)>$F$2,\"\",LOOKUP(COUNTA(H$1:H36),E:E,D:D))","v":""},null,null,"BP02","EY43A",{"$f":"IF(ISNUMBER(MATCH(K37,$I$1,0)),LOOKUP(30000,M$1:M36)+1,\"\")","v":""},null,{"$f":"IF(COUNTA(O$1:O36)>$N$2,\"\",LOOKUP(COUNTA(O$1:O36),M:M,L:L))","v":""}]
["BP02","EY43B","BP_MI","EY43B - BP_MI",{"$f":"IF(ISNUMBER(MATCH(A38,$I$1,0)),LOOKUP(30000,E$1:E37)+1,\"\")","v":""},null,{"$f":"IF(COUNTA(G$1:G37)>$F$2,\"\",LOOKUP(COUNTA(G$1:G37),E:E,B:B))","v":""},{"$f":"IF(COUNTA(H$1:H37)>$F$2,\"\",LOOKUP(COUNTA(H$1:H37),E:E,D:D))","v":""},null,null,"BP02","EY43B",{"$f":"IF(ISNUMBER(MATCH(K38,$I$1,0)),LOOKUP(30000,M$1:M37)+1,\"\")","v":""},null,{"$f":"IF(COUNTA(O$1:O37)>$N$2,\"\",LOOKUP(COUNTA(O$1:O37),M:M,L:L))","v":""}]
["BP02","EY43C","BP_MI","EY43C - BP_MI",{"$f":"IF(ISNUMBER(MATCH(A39,$I$1,0)),LOOKUP(30000,E$1:E38)+1,\"\")","v":""},null,{"$f":"IF(COUNTA(G$1:G38)>$F$2,\"\",LOOKUP(COUNTA(G$1:G38),E:E,B:B))","v":""},{"$f":"IF(COUNTA(H$1:H38)>$F$2,\"\",LOOKUP(COUNTA(H$1:H38),E:E,D:D))","v":""},null,null,"BP02","EY43C",{"$f":"IF(ISNUMBER(MATCH(K39,$I$1,0)),LOOKUP(30000,M$1:M38)+1,\"\")","v":""},null,{"$f":"IF(COUNTA(O$1:O38)>$N$2,\"\",LOOKUP(COUNTA(O$1:O38),M:M,L:L))","v":""}]
["BP02","EY43D","BP_MI","EY43D - BP_MI",{"$f":"IF(ISNUMBER(MATCH(A40,$I$1,0)),LOOKUP(30000,E$1:E39)+1,\"\")","v":""},null,{"$f":"IF(COUNTA(G$1:G39)>$F$2,\"\",LOOKUP(COUNTA(G$1:G39),E:E,B:B))","v":""},{"$f":"IF(COUNTA(H$1:H39)>$F$2,\"\",LOOKUP(COUNTA(H$1:H39),E:E,D:D))","v":""},null,null,"BP02","EY43D",{"$f":"IF(ISNUMBER(MATCH(K40,$I$1,0)),LOOKUP(30000,M$1:M39)+1,\"\")","v":""},null,{"$f":"IF(COUNTA(O$1:O39)>$N$2,\"\",LOOKUP(COUNTA(O$1:O39),M:M,L:L))","v":""}]
["BP02","EY43E","BP_MI","EY43E - BP_MI",{"$f":"IF(ISNUMBER(MATCH(A41,$I$1,0)),LOOKUP(30000,E$1:E40)+1,\"\")","v":""},null,{"$f":"IF(COUNTA(G$1:G40)>$F$2,\"\",LOOKUP(COUNTA(G$1:G40),E:E,B:B))","v":""},{"$f":"IF(COUNTA(H$1:H40)>$F$2,\"\",LOOKUP(COUNTA(H$1:H40),E:E,D:D))","v":""},null,null,"BP02","EY43E",{"$f":"IF(ISNUMBER(MATCH(K41,$I$1,0)),LOOKUP(30000,M$1:M40)+1,\"\")","v":""},null,{"$f":"IF(COUNTA(O$1:O40)>$N$2,\"\",LOOKUP(COUNTA(O$1:O40),M:M,L:L))","v":""}]
["BP02","EY43F","BP_MI","EY43F - BP_MI",{"$f":"IF(ISNUMBER(MATCH(A42,$I$1,0)),LOOKUP(30000,E$1:E41)+1,\"\")","v":""},null,{"$f":"IF(COUNTA(G$1:G41)>$F$2,\"\",LOOKUP(COUNTA(G$1:G41),E:E,B:B))","v":""},{"$f":"IF(COUNTA(H$1:H41)>$F$2,\"\",LOOKUP(COUNTA(H$1:H41),E:E,D:D))","v":""},null,null,"BP02","EY43F",{"$f":"IF(ISNUMBER(MATCH(K42,$I$1,0)),LOOKUP(30000,M$1:M41)+1,\"\")","v":""},null,{"$f":"IF(COUNTA(O$1:O41)>$N$2,\"\",LOOKUP(COUNTA(O$1:O41),M:M,L:L))","v":""}]
["BP15","HN54C","BP_SHOULDER","HN54C - BP_SHOULDER",{"$f":"IF(ISNUMBER(MATCH(A43,$I$1,0)),LOOKUP(30000,E$1:E42)+1,\"\")","v":""},null,{"$f":"IF(COUNTA(G$1:G42)>$F$2,\"\",LOOKUP(COUNTA(G$1:G42),E:E,B:B))","v":""},{"$f":"IF(COUNTA(H$1:H42)>$F$2,\"\",LOOKUP(COUNTA(H$1:H42),E:E,D:D))","v":""},null,null,"BP15","HN54C",{"$f":"IF(ISNUMBER(MATCH(K43,$I$1,0)),LOOKUP(30000,M$1:M42)+1,\"\")","v":""},null,{"$f":"IF(COUNTA(O$1:O42)>$N$2,\"\",LOOKUP(COUNTA(O$1:O42),M:M,L:L))","v":""}]
["BP16","HN34C","BP_BUNION","HN34C - BP_BUNION",{"$f":"IF(ISNUMBER(MATCH(A44,$I$1,0)),LOOKUP(30000,E$1:E43)+1,\"\")","v":""},null,{"$f":"IF(COUNTA(G$1:G43)>$F$2,\"\",LOOKUP(COUNTA(G$1:G43),E:E,B:B))","v":""},{"$f":"IF(COUNTA(H$1:H43)>$F$2,\"\",LOOKUP(COUNTA(H$1:H43),E:E,D:D))","v":""},null,null,"BP16","HN34C",{"$f":"IF(ISNUMBER(MATCH(K44,$I$1,0)),LOOKUP(30000,M$1:M43)+1,\"\")","v":""},null,{"$f":"IF(COUNTA(O$1:O43)>$N$2,\"\",LOOKUP(COUNTA(O$1:O43),M:M,L:L))","v":""}]
["BP17","HN44B","BP_DUPUYTRENS","HN44B - BP_DUPUYTRENS",{"$f":"IF(ISNUMBER(MATCH(A45,$I$1,0)),LOOKUP(30000,E$1:E44)+1,\"\")","v":""},null,{"$f":"IF(COUNTA(G$1:G44)>$F$2,\"\",LOOKUP(COUNTA(G$1:G44),E:E,B:B))","v":""},{"$f":"IF(COUNTA(H$1:H44)>$F$2,\"\",LOOKUP(COUNTA(H$1:H44),E:E,D:D))","v":""},null,null,"BP17","HN44B",{"$f":"IF(ISNUMBER(MATCH(K45,$I$1,0)),LOOKUP(30000,M$1:M44)+1,\"\")","v":""},null,{"$f":"IF(COUNTA(O$1:O44)>$N$2,\"\",LOOKUP(COUNTA(O$1:O44),M:M,L:L))","v":""}]
["BP28","JA20F","BP_MAST","JA20F - BP_MAST",{"$f":"IF(ISNUMBER(MATCH(A46,$I$1,0)),LOOKUP(30000,E$1:E45)+1,\"\")","v":""},null,{"$f":"IF(COUNTA(G$1:G45)>$F$2,\"\",LOOKUP(COUNTA(G$1:G45),E:E,B:B))","v":""},{"$f":"IF(COUNTA(H$1:H45)>$F$2,\"\",LOOKUP(COUNTA(H$1:H45),E:E,D:D))","v":""},null,null,"BP28","JA20F",{"$f":"IF(ISNUMBER(MATCH(K46,$I$1,0)),LOOKUP(30000,M$1:M45)+1,\"\")","v":""},null,{"$f":"IF(COUNTA(O$1:O45)>$N$2,\"\",LOOKUP(COUNTA(O$1:O45),M:M,L:L))","v":""}]
["BP28","JA38C","BP_MAST","JA38C - BP_MAST",{"$f":"IF(ISNUMBER(MATCH(A47,$I$1,0)),LOOKUP(30000,E$1:E46)+1,\"\")","v":""},null,{"$f":"IF(COUNTA(G$1:G46)>$F$2,\"\",LOOKUP(COUNTA(G$1:G46),E:E,B:B))","v":""},{"$f":"IF(COUNTA(H$1:H46)>$F$2,\"\",LOOKUP(COUNTA(H$1:H46),E:E,D:D))","v":""},null,null,"BP28","JA38C",{"$f":"IF(ISNUMBER(MATCH(K47,$I$1,0)),LOOKUP(30000,M$1:M46)+1,\"\")","v":""},null,{"$f":"IF(COUNTA(O$1:O46)>$N$2,\"\",LOOKUP(COUNTA(O$1:O46),M:M,L:L))","v":""}]
["BP29","JA20F","BP_EXBREAST","JA20F - BP_EXBREAST",{"$f":"IF(ISNUMBER(MATCH(A48,$I$1,0)),LOOKUP(30000,E$1:E47)+1,\"\")","v":""},null,{"$f":"IF(COUNTA(G$1:G47)>$F$2,\"\",LOOKUP(COUNTA(G$1:G47),E:E,B:B))","v":""},{"$f":"IF(COUNTA(H$1:H47)>$F$2,\"\",LOOKUP(COUNTA(H$1:H47),E:E,D:D))","v":""},null,null,"BP29","JA20F",{"$f":"IF(ISNUMBER(MATCH(K48,$I$1,0)),LOOKUP(30000,M$1:M47)+1,\"\")","v":""},null,{"$f":"IF(COUNTA(O$1:O47)>$N$2,\"\",LOOKUP(COUNTA(O$1:O47),M:M,L:L))","v":""}]
["BP29","JA43B","BP_EXBREAST","JA43B - BP_EXBREAST",{"$f":"IF(ISNUMBER(MATCH(A49,$I$1,0)),LOOKUP(30000,E$1:E48)+1,\"\")","v":""},null,{"$f":"IF(COUNTA(G$1:G48)>$F$2,\"\",LOOKUP(COUNTA(G$1:G48),E:E,B:B))","v":""},{"$f":"IF(COUNTA(H$1:H48)>$F$2,\"\",LOOKUP(COUNTA(H$1:H48),E:E,D:D))","v":""},null,null,"BP29","JA43B",{"$f":"IF(ISNUMBER(MATCH(K49,$I$1,0)),LOOKUP(30000,M$1:M48)+1,\"\")","v":""},null,{"$f":"IF(COUNTA(O$1:O48)>$N$2,\"\",LOOKUP(COUNTA(O$1:O48),M:M,L:L))","v":""}]
["BP31","YJ04Z","BP_LYMPH_1","YJ04Z - BP_LYMPH_1",{"$f":"IF(ISNUMBER(MATCH(A50,$I$1,0)),LOOKUP(30000,E$1:E49)+1,\"\")","v":""},null,{"$f":"IF(COUNTA(G$1:G49)>$F$2,\"\",LOOKUP(COUNTA(G$1:G49),E:E,B:B))","v":""},{"$f":"IF(COUNTA(H$1:H49)>$F$2,\"\",LOOKUP(COUNTA(H$1:H49),E:E,D:D))","v":""},null,null,"BP31","YJ04Z",{"$f":"IF(ISNUMBER(MATCH(K50,$I$1,0)),LOOKUP(30000,M$1:M49)+1,\"\")","v":""},null,{"$f":"IF(COUNTA(O$1:O49)>$N$2,\"\",LOOKUP(COUNTA(O$1:O49),M:M,L:L))","v":""}]
["BP31","YJ04Z","BP_LYMPH_2","YJ04Z - BP_LYMPH_2",{"$f":"IF(ISNUMBER(MATCH(A51,$I$1,0)),LOOKUP(30000,E$1:E50)+1,\"\")","v":""},null,{"$f":"IF(COUNTA(G$1:G50)>$F$2,\"\",LOOKUP(COUNTA(G$1:G50),E:E,B:B))","v":""},{"$f":"IF(COUNTA(H$1:H50)>$F$2,\"\",LOOKUP(COUNTA(H$1:H50),E:E,D:D))","v":""},null,null,"BP32","JA20F",{"$f":"IF(ISNUMBER(MATCH(K51,$I$1,0)),LOOKUP(30000,M$1:M50)+1,\"\")","v":""},null,{"$f":"IF(COUNTA(O$1:O50)>$N$2,\"\",LOOKUP(COUNTA(O$1:O50),M:M,L:L))","v":""}]
["BP32","JA20F","BP_AXILLARY","JA20F - BP_AXILLARY",{"$f":"IF(ISNUMBER(MATCH(A52,$I$1,0)),LOOKUP(30000,E$1:E51)+1,\"\")","v":""},null,{"$f":"IF(COUNTA(G$1:G51)>$F$2,\"\",LOOKUP(COUNTA(G$1:G51),E:E,B:B))","v":""},{"$f":"IF(COUNTA(H$1:H51)>$F$2,\"\",LOOKUP(COUNTA(H$1:H51),E:E,D:D))","v":""},null,null,"BP35","AA26F",{"$f":"IF(ISNUMBER(MATCH(K52,$I$1,0)),LOOKUP(30000,M$1:M51)+1,\"\")","v":""},null,{"$f":"IF(COUNTA(O$1:O51)>$N$2,\"\",LOOKUP(COUNTA(O$1:O51),M:M,L:L))","v":""}]
["BP35","AA26F","BP_EPI","AA26F - BP_EPI",{"$f":"IF(ISNUMBER(MATCH(A53,$I$1,0)),LOOKUP(30000,E$1:E52)+1,\"\")","v":""},null,{"$f":"IF(COUNTA(G$1:G52)>$F$2,\"\",LOOKUP(COUNTA(G$1:G52),E:E,B:B))","v":""},{"$f":"IF(COUNTA(H$1:H52)>$F$2,\"\",LOOKUP(COUNTA(H$1:H52),E:E,D:D))","v":""},null,null,"BP35","AA26G",{"$f":"IF(ISNUMBER(MATCH(K53,$I$1,0)),LOOKUP(30000,M$1:M52)+1,\"\")","v":""},null,{"$f":"IF(COUNTA(O$1:O52)>$N$2,\"\",LOOKUP(COUNTA(O$1:O52),M:M,L:L))","v":""}]
["BP35","AA26G","BP_EPI","AA26G - BP_EPI",{"$f":"IF(ISNUMBER(MATCH(A54,$I$1,0)),LOOKUP(30000,E$1:E53)+1,\"\")","v":""},null,{"$f":"IF(COUNTA(G$1:G53)>$F$2,\"\",LOOKUP(COUNTA(G$1:G53),E:E,B:B))","v":""},{"$f":"IF(COUNTA(H$1:H53)>$F$2,\"\",LOOKUP(COUNTA(H$1:H53),E:E,D:D))","v":""},null,null,"BP35","AA26H",{"$f":"IF(ISNUMBER(MATCH(K54,$I$1,0)),LOOKUP(30000,M$1:M53)+1,\"\")","v":""},null,{"$f":"IF(COUNTA(O$1:O53)>$N$2,\"\",LOOKUP(COUNTA(O$1:O53),M:M,L:L))","v":""}]
["BP35","AA26H","BP_EPI","AA26H - BP_EPI",{"$f":"IF(ISNUMBER(MATCH(A55,$I$1,0)),LOOKUP(30000,E$1:E54)+1,\"\")","v":""},null,{"$f":"IF(COUNTA(G$1:G54)>$F$2,\"\",LOOKUP(COUNTA(G$1:G54),E:E,B:B))","v":""},{"$f":"IF(COUNTA(H$1:H54)>$F$2,\"\",LOOKUP(COUNTA(H$1:H54),E:E,D:D))","v":""},null,null,"BP38","WH04E",{"$f":"IF(ISNUMBER(MATCH(K55,$I$1,0)),LOOKUP(30000,M$1:M54)+1,\"\")","v":""},null,{"$f":"IF(COUNTA(O$1:O54)>$N$2,\"\",LOOKUP(COUNTA(O$1:O54),M:M,L:L))","v":""}]
["BP38","WH04E","BP_DSH","WH04E - BP_DSH",{"$f":"IF(ISNUMBER(MATCH(A56,$I$1,0)),LOOKUP(30000,E$1:E55)+1,\"\")","v":""},null,{"$f":"IF(COUNTA(G$1:G55)>$F$2,\"\",LOOKUP(COUNTA(G$1:G55),E:E,B:B))","v":""},{"$f":"IF(COUNTA(H$1:H55)>$F$2,\"\",LOOKUP(COUNTA(H$1:H55),E:E,D:D))","v":""},null,null,"BP39","JD07H",{"$f":"IF(ISNUMBER(MATCH(K56,$I$1,0)),LOOKUP(30000,M$1:M55)+1,\"\")","v":""},null,{"$f":"IF(COUNTA(O$1:O55)>$N$2,\"\",LOOKUP(COUNTA(O$1:O55),M:M,L:L))","v":""}]
["BP39","JD07H","BP_CELL","JD07H - BP_CELL",{"$f":"IF(ISNUMBER(MATCH(A57,$I$1,0)),LOOKUP(30000,E$1:E56)+1,\"\")","v":""},null,{"$f":"IF(COUNTA(G$1:G56)>$F$2,\"\",LOOKUP(COUNTA(G$1:G56),E:E,B:B))","v":""},{"$f":"IF(COUNTA(H$1:H56)>$F$2,\"\",LOOKUP(COUNTA(H$1:H56),E:E,D:D))","v":""},null,null,"BP39","JD07J",{"$f":"IF(ISNUMBER(MATCH(K57,$I$1,0)),LOOKUP(30000,M$1:M56)+1,\"\")","v":""},null,{"$f":"IF(COUNTA(O$1:O56)>$N$2,\"\",LOOKUP(COUNTA(O$1:O56),M:M,L:L))","v":""}]
["BP39","JD07J","BP_CELL","JD07J - BP_CELL",{"$f":"IF(ISNUMBER(MATCH(A58,$I$1,0)),LOOKUP(30000,E$1:E57)+1,\"\")","v":""},null,{"$f":"IF(COUNTA(G$1:G57)>$F$2,\"\",LOOKUP(COUNTA(G$1:G57),E:E,B:B))","v":""},{"$f":"IF(COUNTA(H$1:H57)>$F$2,\"\",LOOKUP(COUNTA(H$1:H57),E:E,D:D))","v":""},null,null,"BP39","JD07K",{"$f":"IF(ISNUMBER(MATCH(K58,$I$1,0)),LOOKUP(30000,M$1:M57)+1,\"\")","v":""},null,{"$f":"IF(COUNTA(O$1:O57)>$N$2,\"\",LOOKUP(COUNTA(O$1:O57),M:M,L:L))","v":""}]
["BP39","JD07K","BP_CELL","JD07K - BP_CELL",{"$f":"IF(ISNUMBER(MATCH(A59,$I$1,0)),LOOKUP(30000,E$1:E58)+1,\"\")","v":""},null,{"$f":"IF(COUNTA(G$1:G58)>$F$2,\"\",LOOKUP(COUNTA(G$1:G58),E:E,B:B))","v":""},{"$f":"IF(COUNTA(H$1:H58)>$F$2,\"\",LOOKUP(COUNTA(H$1:H58),E:E,D:D))","v":""},null,null,"BP40","EB12B",{"$f":"IF(ISNUMBER(MATCH(K59,$I$1,0)),LOOKUP(30000,M$1:M58)+1,\"\")","v":""},null,{"$f":"IF(COUNTA(O$1:O58)>$N$2,\"\",LOOKUP(COUNTA(O$1:O58),M:M,L:L))","v":""}]
["BP40","EB12B","BP_CHESTPAIN","EB12B - BP_CHESTPAIN",{"$f":"IF(ISNUMBER(MATCH(A60,$I$1,0)),LOOKUP(30000,E$1:E59)+1,\"\")","v":""},null,{"$f":"IF(COUNTA(G$1:G59)>$F$2,\"\",LOOKUP(COUNTA(G$1:G59),E:E,B:B))","v":""},{"$f":"IF(COUNTA(H$1:H59)>$F$2,\"\",LOOKUP(COUNTA(H$1:H59),E:E,D:D))","v":""},null,null,"BP40","EB12C",{"$f":"IF(ISNUMBER(MATCH(K60,$I$1,0)),LOOKUP(30000,M$1:M59)+1,\"\")","v":""},null,{"$f":"IF(COUNTA(O$1:O59)>$N$2,\"\",LOOKUP(COUNTA(O$1:O59),M:M,L:L))","v":""}]
["BP40","EB12C","BP_CHESTPAIN","EB12C - BP_CHESTPAIN",{"$f":"IF(ISNUMBER(MATCH(A61,$I$1,0)),LOOKUP(30000,E$1:E60)+1,\"\")","v":""},null,{"$f":"IF(COUNTA(G$1:G60)>$F$2,\"\",LOOKUP(COUNTA(G$1:G60),E:E,B:B))","v":""},{"$f":"IF(COUNTA(H$1:H60)>$F$2,\"\",LOOKUP(COUNTA(H$1:H60),E:E,D:D))","v":""},null,null,"BP40","EB13C",{"$f":"IF(ISNUMBER(MATCH(K61,$I$1,0)),LOOKUP(30000,M$1:M60)+1,\"\")","v":""},null,{"$f":"IF(COUNTA(O$1:O60)>$N$2,\"\",LOOKUP(COUNTA(O$1:O60),M:M,L:L))","v":""}]
["BP40","EB13C","BP_CHESTPAIN","EB13C - BP_CHESTPAIN",{"$f":"IF(ISNUMBER(MATCH(A62,$I$1,0)),LOOKUP(30000,E$1:E61)+1,\"\")","v":""},null,{"$f":"IF(COUNTA(G$1:G61)>$F$2,\"\",LOOKUP(COUNTA(G$1:G61),E:E,B:B))","v":""},{"$f":"IF(COUNTA(H$1:H61)>$F$2,\"\",LOOKUP(COUNTA(H$1:H61),E:E,D:D))","v":""},null,null,"BP40","EB13D",{"$f":"IF(ISNUMBER(MATCH(K62,$I$1,0)),LOOKUP(30000,M$1:M61)+1,\"\")","v":""},null,{"$f":"IF(COUNTA(O$1:O61)>$N$2,\"\",LOOKUP(COUNTA(O$1:O61),M:M,L:L))","v":""}]
["BP40","EB13D","BP_CHESTPAIN","EB13D - BP_CHESTPAIN",{"$f":"IF(ISNUMBER(MATCH(A63,$I$1,0)),LOOKUP(30000,E$1:E62)+1,\"\")","v":""},null,{"$f":"IF(COUNTA(G$1:G62)>$F$2,\"\",LOOKUP(COUNTA(G$1:G62),E:E,B:B))","v":""},{"$f":"IF(COUNTA(H$1:H62)>$F$2,\"\",LOOKUP(COUNTA(H$1:H62),E:E,D:D))","v":""},null,null,"BP41","EB08E",{"$f":"IF(ISNUMBER(MATCH(K63,$I$1,0)),LOOKUP(30000,M$1:M62)+1,\"\")","v":""},null,{"$f":"IF(COUNTA(O$1:O62)>$N$2,\"\",LOOKUP(COUNTA(O$1:O62),M:M,L:L))","v":""}]
["BP41","EB08E","BP_FALL","EB08E - BP_FALL",{"$f":"IF(ISNUMBER(MATCH(A64,$I$1,0)),LOOKUP(30000,E$1:E63)+1,\"\")","v":""},null,{"$f":"IF(COUNTA(G$1:G63)>$F$2,\"\",LOOKUP(COUNTA(G$1:G63),E:E,B:B))","v":""},{"$f":"IF(COUNTA(H$1:H63)>$F$2,\"\",LOOKUP(COUNTA(H$1:H63),E:E,D:D))","v":""},null,null,"BP42","HE21F",{"$f":"IF(ISNUMBER(MATCH(K64,$I$1,0)),LOOKUP(30000,M$1:M63)+1,\"\")","v":""},null,{"$f":"IF(COUNTA(O$1:O63)>$N$2,\"\",LOOKUP(COUNTA(O$1:O63),M:M,L:L))","v":""}]
["BP42","HE21F","BP_APPFRAC","HE21F - BP_APPFRAC",{"$f":"IF(ISNUMBER(MATCH(A65,$I$1,0)),LOOKUP(30000,E$1:E64)+1,\"\")","v":""},null,{"$f":"IF(COUNTA(G$1:G64)>$F$2,\"\",LOOKUP(COUNTA(G$1:G64),E:E,B:B))","v":""},{"$f":"IF(COUNTA(H$1:H64)>$F$2,\"\",LOOKUP(COUNTA(H$1:H64),E:E,D:D))","v":""},null,null,"BP42","HE21G",{"$f":"IF(ISNUMBER(MATCH(K65,$I$1,0)),LOOKUP(30000,M$1:M64)+1,\"\")","v":""},null,{"$f":"IF(COUNTA(O$1:O64)>$N$2,\"\",LOOKUP(COUNTA(O$1:O64),M:M,L:L))","v":""}]
["BP42","HE21G","BP_APPFRAC","HE21G - BP_APPFRAC",{"$f":"IF(ISNUMBER(MATCH(A66,$I$1,0)),LOOKUP(30000,E$1:E65)+1,\"\")","v":""},null,{"$f":"IF(COUNTA(G$1:G65)>$F$2,\"\",LOOKUP(COUNTA(G$1:G65),E:E,B:B))","v":""},{"$f":"IF(COUNTA(H$1:H65)>$F$2,\"\",LOOKUP(COUNTA(H$1:H65),E:E,D:D))","v":""},null,null,"BP42","HE31F",{"$f":"IF(ISNUMBER(MATCH(K66,$I$1,0)),LOOKUP(30000,M$1:M65)+1,\"\")","v":""},null,{"$f":"IF(COUNTA(O$1:O65)>$N$2,\"\",LOOKUP(COUNTA(O$1:O65),M:M,L:L))","v":""}]
["BP42","HE31F","BP_APPFRAC",{"$f":"B67&\" - \"&C67","v":"HE31F - BP_APPFRAC"},{"$f":"IF(ISNUMBER(MATCH(A67,$I$1,0)),LOOKUP(30000,E$1:E66)+1,\"\")","v":""},null,{"$f":"IF(COUNTA(G$1:G66)>$F$2,\"\",LOOKUP(COUNTA(G$1:G66),E:E,B:B))","v":""},{"$f":"IF(COUNTA(H$1:H66)>$F$2,\"\",LOOKUP(COUNTA(H$1:H66),E:E,D:D))","v":""},null,null,"BP42","HE31G",{"$f":"IF(ISNUMBER(MATCH(K67,$I$1,0)),LOOKUP(30000,M$1:M66)+1,\"\")","v":""},null,{"$f":"IF(COUNTA(O$1:O66)>$N$2,\"\",LOOKUP(COUNTA(O$1:O66),M:M,L:L))","v":""}]
["BP42","HE31G","BP_APPFRAC","HE31G - BP_APPFRAC",{"$f":"IF(ISNUMBER(MATCH(A68,$I$1,0)),LOOKUP(30000,E$1:E67)+1,\"\")","v":""},null,{"$f":"IF(COUNTA(G$1:G67)>$F$2,\"\",LOOKUP(COUNTA(G$1:G67),E:E,B:B))","v":""},{"$f":"IF(COUNTA(H$1:H67)>$F$2,\"\",LOOKUP(COUNTA(H$1:H67),E:E,D:D))","v":""},null,null,"BP42","HE41C",{"$f":"IF(ISNUMBER(MATCH(K68,$I$1,0)),LOOKUP(30000,M$1:M67)+1,\"\")","v":""},null,{"$f":"IF(COUNTA(O$1:O67)>$N$2,\"\",LOOKUP(COUNTA(O$1:O67),M:M,L:L))","v":""}]
["BP42","HE41C","BP_APPFRAC","HE41C - BP_APPFRAC",{"$f":"IF(ISNUMBER(MATCH(A69,$I$1,0)),LOOKUP(30000,E$1:E68)+1,\"\")","v":""},null,{"$f":"IF(COUNTA(G$1:G68)>$F$2,\"\",LOOKUP(COUNTA(G$1:G68),E:E,B:B))","v":""},{"$f":"IF(COUNTA(H$1:H68)>$F$2,\"\",LOOKUP(COUNTA(H$1:H68),E:E,D:D))","v":""},null,null,"BP42","HE41D",{"$f":"IF(ISNUMBER(MATCH(K69,$I$1,0)),LOOKUP(30000,M$1:M68)+1,\"\")","v":""},null,{"$f":"IF(COUNTA(O$1:O68)>$N$2,\"\",LOOKUP(COUNTA(O$1:O68),M:M,L:L))","v":""}]
["BP42","HE41D","BP_APPFRAC","HE41D - BP_APPFRAC",{"$f":"IF(ISNUMBER(MATCH(A70,$I$1,0)),LOOKUP(30000,E$1:E69)+1,\"\")","v":""},null,{"$f":"IF(COUNTA(G$1:G69)>$F$2,\"\",LOOKUP(COUNTA(G$1:G69),E:E,B:B))","v":""},{"$f":"IF(COUNTA(H$1:H69)>$F$2,\"\",LOOKUP(COUNTA(H$1:H69),E:E,D:D))","v":""},null,null,"BP42","HE51G",{"$f":"IF(ISNUMBER(MATCH(K70,$I$1,0)),LOOKUP(30000,M$1:M69)+1,\"\")","v":""},null,{"$f":"IF(COUNTA(O$1:O69)>$N$2,\"\",LOOKUP(COUNTA(O$1:O69),M:M,L:L))","v":""}]
["BP42","HE51G","BP_APPFRAC","HE51G - BP_APPFRAC",{"$f":"IF(ISNUMBER(MATCH(A71,$I$1,0)),LOOKUP(30000,E$1:E70)+1,\"\")","v":""},null,{"$f":"IF(COUNTA(G$1:G70)>$F$2,\"\",LOOKUP(COUNTA(G$1:G70),E:E,B:B))","v":""},{"$f":"IF(COUNTA(H$1:H70)>$F$2,\"\",LOOKUP(COUNTA(H$1:H70),E:E,D:D))","v":""},null,null,"BP42","HE51H",{"$f":"IF(ISNUMBER(MATCH(K71,$I$1,0)),LOOKUP(30000,M$1:M70)+1,\"\")","v":""},null,{"$f":"IF(COUNTA(O$1:O70)>$N$2,\"\",LOOKUP(COUNTA(O$1:O70),M:M,L:L))","v":""}]
["BP42","HE51H","BP_APPFRAC","HE51H - BP_APPFRAC",{"$f":"IF(ISNUMBER(MATCH(A72,$I$1,0)),LOOKUP(30000,E$1:E71)+1,\"\")","v":""},null,{"$f":"IF(COUNTA(G$1:G71)>$F$2,\"\",LOOKUP(COUNTA(G$1:G71),E:E,B:B))","v":""},{"$f":"IF(COUNTA(H$1:H71)>$F$2,\"\",LOOKUP(COUNTA(H$1:H71),E:E,D:D))","v":""},null,null,"BP44","DZ15Q",{"$f":"IF(ISNUMBER(MATCH(K72,$I$1,0)),LOOKUP(30000,M$1:M71)+1,\"\")","v":""},null,{"$f":"IF(COUNTA(O$1:O71)>$N$2,\"\",LOOKUP(COUNTA(O$1:O71),M:M,L:L))","v":""}]
["BP44","DZ15Q","BP_ASTHMA","DZ15Q - BP_ASTHMA",{"$f":"IF(ISNUMBER(MATCH(A73,$I$1,0)),LOOKUP(30000,E$1:E72)+1,\"\")","v":""},null,{"$f":"IF(COUNTA(G$1:G72)>$F$2,\"\",LOOKUP(COUNTA(G$1:G72),E:E,B:B))","v":""},{"$f":"IF(COUNTA(H$1:H72)>$F$2,\"\",LOOKUP(COUNTA(H$1:H72),E:E,D:D))","v":""},null,null,"BP44","DZ15R",{"$f":"IF(ISNUMBER(MATCH(K73,$I$1,0)),LOOKUP(30000,M$1:M72)+1,\"\")","v":""},null,{"$f":"IF(COUNTA(O$1:O72)>$N$2,\"\",LOOKUP(COUNTA(O$1:O72),M:M,L:L))","v":""}]
["BP44","DZ15R","BP_ASTHMA","DZ15R - BP_ASTHMA",{"$f":"IF(ISNUMBER(MATCH(A74,$I$1,0)),LOOKUP(30000,E$1:E73)+1,\"\")","v":""},null,{"$f":"IF(COUNTA(G$1:G73)>$F$2,\"\",LOOKUP(COUNTA(G$1:G73),E:E,B:B))","v":""},{"$f":"IF(COUNTA(H$1:H73)>$F$2,\"\",LOOKUP(COUNTA(H$1:H73),E:E,D:D))","v":""},null,null,"BP45","DZ22Q",{"$f":"IF(ISNUMBER(MATCH(K74,$I$1,0)),LOOKUP(30000,M$1:M73)+1,\"\")","v":""},null,{"$f":"IF(COUNTA(O$1:O73)>$N$2,\"\",LOOKUP(COUNTA(O$1:O73),M:M,L:L))","v":""}]
["BP45","DZ22Q","BP_LRTI","DZ22Q - BP_LRTI",{"$f":"IF(ISNUMBER(MATCH(A75,$I$1,0)),LOOKUP(30000,E$1:E74)+1,\"\")","v":""},null,{"$f":"IF(COUNTA(G$1:G74)>$F$2,\"\",LOOKUP(COUNTA(G$1:G74),E:E,B:B))","v":""},{"$f":"IF(COUNTA(H$1:H74)>$F$2,\"\",LOOKUP(COUNTA(H$1:H74),E:E,D:D))","v":""},null,null,"BP46","DZ09P",{"$f":"IF(ISNUMBER(MATCH(K75,$I$1,0)),LOOKUP(30000,M$1:M74)+1,\"\")","v":""},null,{"$f":"IF(COUNTA(O$1:O74)>$N$2,\"\",LOOKUP(COUNTA(O$1:O74),M:M,L:L))","v":""}]
["BP46","DZ09P","BP_PULEMB","DZ09P - BP_PULEMB",{"$f":"IF(ISNUMBER(MATCH(A76,$I$1,0)),LOOKUP(30000,E$1:E75)+1,\"\")","v":""},null,{"$f":"IF(COUNTA(G$1:G75)>$F$2,\"\",LOOKUP(COUNTA(G$1:G75),E:E,B:B))","v":""},{"$f":"IF(COUNTA(H$1:H75)>$F$2,\"\",LOOKUP(COUNTA(H$1:H75),E:E,D:D))","v":""},null,null,"BP46","DZ09Q",{"$f":"IF(ISNUMBER(MATCH(K76,$I$1,0)),LOOKUP(30000,M$1:M75)+1,\"\")","v":""},null,{"$f":"IF(COUNTA(O$1:O75)>$N$2,\"\",LOOKUP(COUNTA(O$1:O75),M:M,L:L))","v":""}]
["BP46","DZ09Q","BP_PULEMB","DZ09Q - BP_PULEMB",{"$f":"IF(ISNUMBER(MATCH(A77,$I$1,0)),LOOKUP(30000,E$1:E76)+1,\"\")","v":""},null,{"$f":"IF(COUNTA(G$1:G76)>$F$2,\"\",LOOKUP(COUNTA(G$1:G76),E:E,B:B))","v":""},{"$f":"IF(COUNTA(H$1:H76)>$F$2,\"\",LOOKUP(COUNTA(H$1:H76),E:E,D:D))","v":""},null,null,"BP47","LB40G",{"$f":"IF(ISNUMBER(MATCH(K77,$I$1,0)),LOOKUP(30000,M$1:M76)+1,\"\")","v":""},null,{"$f":"IF(COUNTA(O$1:O76)>$N$2,\"\",LOOKUP(COUNTA(O$1:O76),M:M,L:L))","v":""}]
["BP47","LB40G","BP_STONES","LB40G - BP_STONES",{"$f":"IF(ISNUMBER(MATCH(A78,$I$1,0)),LOOKUP(30000,E$1:E77)+1,\"\")","v":""},null,{"$f":"IF(COUNTA(G$1:G77)>$F$2,\"\",LOOKUP(COUNTA(G$1:G77),E:E,B:B))","v":""},{"$f":"IF(COUNTA(H$1:H77)>$F$2,\"\",LOOKUP(COUNTA(H$1:H77),E:E,D:D))","v":""},null,null,"BP48","YQ51C",{"$f":"IF(ISNUMBER(MATCH(K78,$I$1,0)),LOOKUP(30000,M$1:M77)+1,\"\")","v":""},null,{"$f":"IF(COUNTA(O$1:O77)>$N$2,\"\",LOOKUP(COUNTA(O$1:O77),M:M,L:L))","v":""}]
["BP48","YQ51C","BP_DVT","YQ51C - BP_DVT",{"$f":"IF(ISNUMBER(MATCH(A79,$I$1,0)),LOOKUP(30000,E$1:E78)+1,\"\")","v":""},null,{"$f":"IF(COUNTA(G$1:G78)>$F$2,\"\",LOOKUP(COUNTA(G$1:G78),E:E,B:B))","v":""},{"$f":"IF(COUNTA(H$1:H78)>$F$2,\"\",LOOKUP(COUNTA(H$1:H78),E:E,D:D))","v":""},null,null,"BP48","YQ51D",{"$f":"IF(ISNUMBER(MATCH(K79,$I$1,0)),LOOKUP(30000,M$1:M78)+1,\"\")","v":""},null,{"$f":"IF(COUNTA(O$1:O78)>$N$2,\"\",LOOKUP(COUNTA(O$1:O78),M:M,L:L))","v":""}]
["BP48","YQ51D","BP_DVT","YQ51D - BP_DVT",{"$f":"IF(ISNUMBER(MATCH(A80,$I$1,0)),LOOKUP(30000,E$1:E79)+1,\"\")","v":""},null,{"$f":"IF(COUNTA(G$1:G79)>$F$2,\"\",LOOKUP(COUNTA(G$1:G79),E:E,B:B))","v":""},{"$f":"IF(COUNTA(H$1:H79)>$F$2,\"\",LOOKUP(COUNTA(H$1:H79),E:E,D:D))","v":""},null,null,"BP48","YQ51E",{"$f":"IF(ISNUMBER(MATCH(K80,$I$1,0)),LOOKUP(30000,M$1:M79)+1,\"\")","v":""},null,{"$f":"IF(COUNTA(O$1:O79)>$N$2,\"\",LOOKUP(COUNTA(O$1:O79),M:M,L:L))","v":""}]
["BP48","YQ51E","BP_DVT","YQ51E - BP_DVT",{"$f":"IF(ISNUMBER(MATCH(A81,$I$1,0)),LOOKUP(30000,E$1:E80)+1,\"\")","v":""},null,{"$f":"IF(COUNTA(G$1:G80)>$F$2,\"\",LOOKUP(COUNTA(G$1:G80),E:E,B:B))","v":""},{"$f":"IF(COUNTA(H$1:H80)>$F$2,\"\",LOOKUP(COUNTA(H$1:H80),E:E,D:D))","v":""},null,null,"BP49","AA31D",{"$f":"IF(ISNUMBER(MATCH(K81,$I$1,0)),LOOKUP(30000,M$1:M80)+1,\"\")","v":""},null,{"$f":"IF(COUNTA(O$1:O80)>$N$2,\"\",LOOKUP(COUNTA(O$1:O80),M:M,L:L))","v":""}]
["BP49","AA31D","BP_HEADACHE","AA31D - BP_HEADACHE",{"$f":"IF(ISNUMBER(MATCH(A82,$I$1,0)),LOOKUP(30000,E$1:E81)+1,\"\")","v":""},null,{"$f":"IF(COUNTA(G$1:G81)>$F$2,\"\",LOOKUP(COUNTA(G$1:G81),E:E,B:B))","v":""},{"$f":"IF(COUNTA(H$1:H81)>$F$2,\"\",LOOKUP(COUNTA(H$1:H81),E:E,D:D))","v":""},null,null,"BP49","AA31E",{"$f":"IF(ISNUMBER(MATCH(K82,$I$1,0)),LOOKUP(30000,M$1:M81)+1,\"\")","v":""},null,{"$f":"IF(COUNTA(O$1:O81)>$N$2,\"\",LOOKUP(COUNTA(O$1:O81),M:M,L:L))","v":""}]
["BP49","AA31E","BP_HEADACHE","AA31E - BP_HEADACHE",{"$f":"IF(ISNUMBER(MATCH(A83,$I$1,0)),LOOKUP(30000,E$1:E82)+1,\"\")","v":""},null,{"$f":"IF(COUNTA(G$1:G82)>$F$2,\"\",LOOKUP(COUNTA(G$1:G82),E:E,B:B))","v":""},{"$f":"IF(COUNTA(H$1:H82)>$F$2,\"\",LOOKUP(COUNTA(H$1:H82),E:E,D:D))","v":""},null,null,"BP50","EY40A",{"$f":"IF(ISNUMBER(MATCH(K83,$I$1,0)),LOOKUP(30000,M$1:M82)+1,\"\")","v":""},null,{"$f":"IF(COUNTA(O$1:O82)>$N$2,\"\",LOOKUP(COUNTA(O$1:O82),M:M,L:L))","v":""}]
["BP50","EY40A","BP_NSTEMI","EY40A - BP_NSTEMI",{"$f":"IF(ISNUMBER(MATCH(A84,$I$1,0)),LOOKUP(30000,E$1:E83)+1,\"\")","v":""},null,{"$f":"IF(COUNTA(G$1:G83)>$F$2,\"\",LOOKUP(COUNTA(G$1:G83),E:E,B:B))","v":""},{"$f":"IF(COUNTA(H$1:H83)>$F$2,\"\",LOOKUP(COUNTA(H$1:H83),E:E,D:D))","v":""},null,null,"BP50","EY40B",{"$f":"IF(ISNUMBER(MATCH(K84,$I$1,0)),LOOKUP(30000,M$1:M83)+1,\"\")","v":""},null,{"$f":"IF(COUNTA(O$1:O83)>$N$2,\"\",LOOKUP(COUNTA(O$1:O83),M:M,L:L))","v":""}]
["BP50","EY40B","BP_NSTEMI","EY40B - BP_NSTEMI",{"$f":"IF(ISNUMBER(MATCH(A85,$I$1,0)),LOOKUP(30000,E$1:E84)+1,\"\")","v":""},null,{"$f":"IF(COUNTA(G$1:G84)>$F$2,\"\",LOOKUP(COUNTA(G$1:G84),E:E,B:B))","v":""},{"$f":"IF(COUNTA(H$1:H84)>$F$2,\"\",LOOKUP(COUNTA(H$1:H84),E:E,D:D))","v":""},null,null,"BP50","EY40C",{"$f":"IF(ISNUMBER(MATCH(K85,$I$1,0)),LOOKUP(30000,M$1:M84)+1,\"\")","v":""},null,{"$f":"IF(COUNTA(O$1:O84)>$N$2,\"\",LOOKUP(COUNTA(O$1:O84),M:M,L:L))","v":""}]
["BP50","EY40C","BP_NSTEMI","EY40C - BP_NSTEMI",{"$f":"IF(ISNUMBER(MATCH(A86,$I$1,0)),LOOKUP(30000,E$1:E85)+1,\"\")","v":""},null,{"$f":"IF(COUNTA(G$1:G85)>$F$2,\"\",LOOKUP(COUNTA(G$1:G85),E:E,B:B))","v":""},{"$f":"IF(COUNTA(H$1:H85)>$F$2,\"\",LOOKUP(COUNTA(H$1:H85),E:E,D:D))","v":""},null,null,"BP50","EY40D",{"$f":"IF(ISNUMBER(MATCH(K86,$I$1,0)),LOOKUP(30000,M$1:M85)+1,\"\")","v":""},null,{"$f":"IF(COUNTA(O$1:O85)>$N$2,\"\",LOOKUP(COUNTA(O$1:O85),M:M,L:L))","v":""}]
["BP50","EY40D","BP_NSTEMI","EY40D - BP_NSTEMI",{"$f":"IF(ISNUMBER(MATCH(A87,$I$1,0)),LOOKUP(30000,E$1:E86)+1,\"\")","v":""},null,{"$f":"IF(COUNTA(G$1:G86)>$F$2,\"\",LOOKUP(COUNTA(G$1:G86),E:E,B:B))","v":""},{"$f":"IF(COUNTA(H$1:H86)>$F$2,\"\",LOOKUP(COUNTA(H$1:H86),E:E,D:D))","v":""},null,null,"BP50","EY41A",{"$f":"IF(ISNUMBER(MATCH(K87,$I$1,0)),LOOKUP(30000,M$1:M86)+1,\"\")","v":""},null,{"$f":"IF(COUNTA(O$1:O86)>$N$2,\"\",LOOKUP(COUNTA(O$1:O86),M:M,L:L))","v":""}]
["BP50","EY41A","BP_NSTEMI","EY41A - BP_NSTEMI",{"$f":"IF(ISNUMBER(MATCH(A88,$I$1,0)),LOOKUP(30000,E$1:E87)+1,\"\")","v":""},null,{"$f":"IF(COUNTA(G$1:G87)>$F$2,\"\",LOOKUP(COUNTA(G$1:G87),E:E,B:B))","v":""},{"$f":"IF(COUNTA(H$1:H87)>$F$2,\"\",LOOKUP(COUNTA(H$1:H87),E:E,D:D))","v":""},null,null,"BP50","EY41B",{"$f":"IF(ISNUMBER(MATCH(K88,$I$1,0)),LOOKUP(30000,M$1:M87)+1,\"\")","v":""},null,{"$f":"IF(COUNTA(O$1:O87)>$N$2,\"\",LOOKUP(COUNTA(O$1:O87),M:M,L:L))","v":""}]
["BP50","EY41B","BP_NSTEMI","EY41B - BP_NSTEMI",{"$f":"IF(ISNUMBER(MATCH(A89,$I$1,0)),LOOKUP(30000,E$1:E88)+1,\"\")","v":""},null,{"$f":"IF(COUNTA(G$1:G88)>$F$2,\"\",LOOKUP(COUNTA(G$1:G88),E:E,B:B))","v":""},{"$f":"IF(COUNTA(H$1:H88)>$F$2,\"\",LOOKUP(COUNTA(H$1:H88),E:E,D:D))","v":""},null,null,"BP50","EY41C",{"$f":"IF(ISNUMBER(MATCH(K89,$I$1,0)),LOOKUP(30000,M$1:M88)+1,\"\")","v":""},null,{"$f":"IF(COUNTA(O$1:O88)>$N$2,\"\",LOOKUP(COUNTA(O$1:O88),M:M,L:L))","v":""}]
["BP50","EY41C","BP_NSTEMI","EY41C - BP_NSTEMI",{"$f":"IF(ISNUMBER(MATCH(A90,$I$1,0)),LOOKUP(30000,E$1:E89)+1,\"\")","v":""},null,{"$f":"IF(COUNTA(G$1:G89)>$F$2,\"\",LOOKUP(COUNTA(G$1:G89),E:E,B:B))","v":""},{"$f":"IF(COUNTA(H$1:H89)>$F$2,\"\",LOOKUP(COUNTA(H$1:H89),E:E,D:D))","v":""},null,null,"BP50","EY41D",{"$f":"IF(ISNUMBER(MATCH(K90,$I$1,0)),LOOKUP(30000,M$1:M89)+1,\"\")","v":""},null,{"$f":"IF(COUNTA(O$1:O89)>$N$2,\"\",LOOKUP(COUNTA(O$1:O89),M:M,L:L))","v":""}]
["BP50","EY41D","BP_NSTEMI","EY41D - BP_NSTEMI",{"$f":"IF(ISNUMBER(MATCH(A91,$I$1,0)),LOOKUP(30000,E$1:E90)+1,\"\")","v":""},null,{"$f":"IF(COUNTA(G$1:G90)>$F$2,\"\",LOOKUP(COUNTA(G$1:G90),E:E,B:B))","v":""},{"$f":"IF(COUNTA(H$1:H90)>$F$2,\"\",LOOKUP(COUNTA(H$1:H90),E:E,D:D))","v":""},null,null,"BP50","EY42A",{"$f":"IF(ISNUMBER(MATCH(K91,$I$1,0)),LOOKUP(30000,M$1:M90)+1,\"\")","v":""},null,{"$f":"IF(COUNTA(O$1:O90)>$N$2,\"\",LOOKUP(COUNTA(O$1:O90),M:M,L:L))","v":""}]
["BP50","EY42A","BP_NSTEMI","EY42A - BP_NSTEMI",{"$f":"IF(ISNUMBER(MATCH(A92,$I$1,0)),LOOKUP(30000,E$1:E91)+1,\"\")","v":""},null,{"$f":"IF(COUNTA(G$1:G91)>$F$2,\"\",LOOKUP(COUNTA(G$1:G91),E:E,B:B))","v":""},{"$f":"IF(COUNTA(H$1:H91)>$F$2,\"\",LOOKUP(COUNTA(H$1:H91),E:E,D:D))","v":""},null,null,"BP50","EY42B",{"$f":"IF(ISNUMBER(MATCH(K92,$I$1,0)),LOOKUP(30000,M$1:M91)+1,\"\")","v":""},null,{"$f":"IF(COUNTA(O$1:O91)>$N$2,\"\",LOOKUP(COUNTA(O$1:O91),M:M,L:L))","v":""}]
["BP50","EY42B","BP_NSTEMI","EY42B - BP_NSTEMI",{"$f":"IF(ISNUMBER(MATCH(A93,$I$1,0)),LOOKUP(30000,E$1:E92)+1,\"\")","v":""},null,{"$f":"IF(COUNTA(G$1:G92)>$F$2,\"\",LOOKUP(COUNTA(G$1:G92),E:E,B:B))","v":""},{"$f":"IF(COUNTA(H$1:H92)>$F$2,\"\",LOOKUP(COUNTA(H$1:H92),E:E,D:D))","v":""},null,null,"BP50","EY42C",{"$f":"IF(ISNUMBER(MATCH(K93,$I$1,0)),LOOKUP(30000,M$1:M92)+1,\"\")","v":""},null,{"$f":"IF(COUNTA(O$1:O92)>$N$2,\"\",LOOKUP(COUNTA(O$1:O92),M:M,L:L))","v":""}]
["BP50","EY42C","BP_NSTEMI","EY42C - BP_NSTEMI",{"$f":"IF(ISNUMBER(MATCH(A94,$I$1,0)),LOOKUP(30000,E$1:E93)+1,\"\")","v":""},null,{"$f":"IF(COUNTA(G$1:G93)>$F$2,\"\",LOOKUP(COUNTA(G$1:G93),E:E,B:B))","v":""},{"$f":"IF(COUNTA(H$1:H93)>$F$2,\"\",LOOKUP(COUNTA(H$1:H93),E:E,D:D))","v":""},null,null,"BP50","EY42D",{"$f":"IF(ISNUMBER(MATCH(K94,$I$1,0)),LOOKUP(30000,M$1:M93)+1,\"\")","v":""},null,{"$f":"IF(COUNTA(O$1:O93)>$N$2,\"\",LOOKUP(COUNTA(O$1:O93),M:M,L:L))","v":""}]
["BP50","EY42D","BP_NSTEMI","EY42D - BP_NSTEMI",{"$f":"IF(ISNUMBER(MATCH(A95,$I$1,0)),LOOKUP(30000,E$1:E94)+1,\"\")","v":""},null,{"$f":"IF(COUNTA(G$1:G94)>$F$2,\"\",LOOKUP(COUNTA(G$1:G94),E:E,B:B))","v":""},{"$f":"IF(COUNTA(H$1:H94)>$F$2,\"\",LOOKUP(COUNTA(H$1:H94),E:E,D:D))","v":""},null,null,"BP50","EY43A",{"$f":"IF(ISNUMBER(MATCH(K95,$I$1,0)),LOOKUP(30000,M$1:M94)+1,\"\")","v":""},null,{"$f":"IF(COUNTA(O$1:O94)>$N$2,\"\",LOOKUP(COUNTA(O$1:O94),M:M,L:L))","v":""}]
["BP50","EY43A","BP_NSTEMI","EY43A - BP_NSTEMI",{"$f":"IF(ISNUMBER(MATCH(A96,$I$1,0)),LOOKUP(30000,E$1:E95)+1,\"\")","v":""},null,{"$f":"IF(COUNTA(G$1:G95)>$F$2,\"\",LOOKUP(COUNTA(G$1:G95),E:E,B:B))","v":""},{"$f":"IF(COUNTA(H$1:H95)>$F$2,\"\",LOOKUP(COUNTA(H$1:H95),E:E,D:D))","v":""},null,null,"BP50","EY43B",{"$f":"IF(ISNUMBER(MATCH(K96,$I$1,0)),LOOKUP(30000,M$1:M95)+1,\"\")","v":""},null,{"$f":"IF(COUNTA(O$1:O95)>$N$2,\"\",LOOKUP(COUNTA(O$1:O95),M:M,L:L))","v":""}]
["BP50","EY43B","BP_NSTEMI","EY43B - BP_NSTEMI",{"$f":"IF(ISNUMBER(MATCH(A97,$I$1,0)),LOOKUP(30000,E$1:E96)+1,\"\")","v":""},null,{"$f":"IF(COUNTA(G$1:G96)>$F$2,\"\",LOOKUP(COUNTA(G$1:G96),E:E,B:B))","v":""},{"$f":"IF(COUNTA(H$1:H96)>$F$2,\"\",LOOKUP(COUNTA(H$1:H96),E:E,D:D))","v":""},null,null,"BP50","EY43C",{"$f":"IF(ISNUMBER(MATCH(K97,$I$1,0)),LOOKUP(30000,M$1:M96)+1,\"\")","v":""},null,{"$f":"IF(COUNTA(O$1:O96)>$N$2,\"\",LOOKUP(COUNTA(O$1:O96),M:M,L:L))","v":""}]
["BP50","EY43C","BP_NSTEMI","EY43C - BP_NSTEMI",{"$f":"IF(ISNUMBER(MATCH(A98,$I$1,0)),LOOKUP(30000,E$1:E97)+1,\"\")","v":""},null,{"$f":"IF(COUNTA(G$1:G97)>$F$2,\"\",LOOKUP(COUNTA(G$1:G97),E:E,B:B))","v":""},{"$f":"IF(COUNTA(H$1:H97)>$F$2,\"\",LOOKUP(COUNTA(H$1:H97),E:E,D:D))","v":""},null,null,"BP50","EY43D",{"$f":"IF(ISNUMBER(MATCH(K98,$I$1,0)),LOOKUP(30000,M$1:M97)+1,\"\")","v":""},null,{"$f":"IF(COUNTA(O$1:O97)>$N$2,\"\",LOOKUP(COUNTA(O$1:O97),M:M,L:L))","v":""}]
["BP50","EY43D","BP_NSTEMI","EY43D - BP_NSTEMI",{"$f":"IF(ISNUMBER(MATCH(A99,$I$1,0)),LOOKUP(30000,E$1:E98)+1,\"\")","v":""},null,{"$f":"IF(COUNTA(G$1:G98)>$F$2,\"\",LOOKUP(COUNTA(G$1:G98),E:E,B:B))","v":""},{"$f":"IF(COUNTA(H$1:H98)>$F$2,\"\",LOOKUP(COUNTA(H$1:H98),E:E,D:D))","v":""},null,null,"BP50","EY43E",{"$f":"IF(ISNUMBER(MATCH(K99,$I$1,0)),LOOKUP(30000,M$1:M98)+1,\"\")","v":""},null,{"$f":"IF(COUNTA(O$1:O98)>$N$2,\"\",LOOKUP(COUNTA(O$1:O98),M:M,L:L))","v":""}]
["BP50","EY43E","BP_NSTEMI","EY43E - BP_NSTEMI",{"$f":"IF(ISNUMBER(MATCH(A100,$I$1,0)),LOOKUP(30000,E$1:E99)+1,\"\")","v":""},null,{"$f":"IF(COUNTA(G$1:G99)>$F$2,\"\",LOOKUP(COUNTA(G$1:G99),E:E,B:B))","v":""},{"$f":"IF(COUNTA(H$1:H99)>$F$2,\"\",LOOKUP(COUNTA(H$1:H99),E:E,D:D))","v":""},null,null,"BP50","EY43F",{"$f":"IF(ISNUMBER(MATCH(K100,$I$1,0)),LOOKUP(30000,M$1:M99)+1,\"\")","v":""},null,{"$f":"IF(COUNTA(O$1:O99)>$N$2,\"\",LOOKUP(COUNTA(O$1:O99),M:M,L:L))","v":""}]
["BP50","EY43F","BP_NSTEMI","EY43F - BP_NSTEMI",{"$f":"IF(ISNUMBER(MATCH(A101,$I$1,0)),LOOKUP(30000,E$1:E100)+1,\"\")","v":""},null,{"$f":"IF(COUNTA(G$1:G100)>$F$2,\"\",LOOKUP(COUNTA(G$1:G100),E:E,B:B))","v":""},{"$f":"IF(COUNTA(H$1:H100)>$F$2,\"\",LOOKUP(COUNTA(H$1:H100),E:E,D:D))","v":""},null,null,"BP52","KB01C",{"$f":"IF(ISNUMBER(MATCH(K101,$I$1,0)),LOOKUP(30000,M$1:M100)+1,\"\")","v":""},null,{"$f":"IF(COUNTA(O$1:O100)>$N$2,\"\",LOOKUP(COUNTA(O$1:O100),M:M,L:L))","v":""}]
["BP52","KB01C","BP_DIAB_KETO_01","KB01C - BP_DIAB_KETO_01",{"$f":"IF(ISNUMBER(MATCH(A102,$I$1,0)),LOOKUP(30000,E$1:E101)+1,\"\")","v":""},null,{"$f":"IF(COUNTA(G$1:G101)>$F$2,\"\",LOOKUP(COUNTA(G$1:G101),E:E,B:B))","v":""},{"$f":"IF(COUNTA(H$1:H101)>$F$2,\"\",LOOKUP(COUNTA(H$1:H101),E:E,D:D))","v":""},null,null,"BP52","KB01D",{"$f":"IF(ISNUMBER(MATCH(K102,$I$1,0)),LOOKUP(30000,M$1:M101)+1,\"\")","v":""},null,{"$f":"IF(COUNTA(O$1:O101)>$N$2,\"\",LOOKUP(COUNTA(O$1:O101),M:M,L:L))","v":""}]
["BP52","KB01C","BP_DIAB_KETO_02","KB01C - BP_DIAB_KETO_02",{"$f":"IF(ISNUMBER(MATCH(A103,$I$1,0)),LOOKUP(30000,E$1:E102)+1,\"\")","v":""},null,{"$f":"IF(COUNTA(G$1:G102)>$F$2,\"\",LOOKUP(COUNTA(G$1:G102),E:E,B:B))","v":""},{"$f":"IF(COUNTA(H$1:H102)>$F$2,\"\",LOOKUP(COUNTA(H$1:H102),E:E,D:D))","v":""},null,null,"BP52","KB01E",{"$f":"IF(ISNUMBER(MATCH(K103,$I$1,0)),LOOKUP(30000,M$1:M102)+1,\"\")","v":""},null,{"$f":"IF(COUNTA(O$1:O102)>$N$2,\"\",LOOKUP(COUNTA(O$1:O102),M:M,L:L))","v":""}]
["BP52","KB01D","BP_DIAB_KETO_02","KB01D - BP_DIAB_KETO_02",{"$f":"IF(ISNUMBER(MATCH(A104,$I$1,0)),LOOKUP(30000,E$1:E103)+1,\"\")","v":""},null,{"$f":"IF(COUNTA(G$1:G103)>$F$2,\"\",LOOKUP(COUNTA(G$1:G103),E:E,B:B))","v":""},{"$f":"IF(COUNTA(H$1:H103)>$F$2,\"\",LOOKUP(COUNTA(H$1:H103),E:E,D:D))","v":""},null,null,"BP52","KB01F",{"$f":"IF(ISNUMBER(MATCH(K104,$I$1,0)),LOOKUP(30000,M$1:M103)+1,\"\")","v":""},null,{"$f":"IF(COUNTA(O$1:O103)>$N$2,\"\",LOOKUP(COUNTA(O$1:O103),M:M,L:L))","v":""}]
["BP52","KB01D","BP_DIAB_KETO_01","KB01D - BP_DIAB_KETO_01",{"$f":"IF(ISNUMBER(MATCH(A105,$I$1,0)),LOOKUP(30000,E$1:E104)+1,\"\")","v":""},null,{"$f":"IF(COUNTA(G$1:G104)>$F$2,\"\",LOOKUP(COUNTA(G$1:G104),E:E,B:B))","v":""},{"$f":"IF(COUNTA(H$1:H104)>$F$2,\"\",LOOKUP(COUNTA(H$1:H104),E:E,D:D))","v":""},null,null,"BP52","KB02G",{"$f":"IF(ISNUMBER(MATCH(K105,$I$1,0)),LOOKUP(30000,M$1:M104)+1,\"\")","v":""},null,{"$f":"IF(COUNTA(O$1:O104)>$N$2,\"\",LOOKUP(COUNTA(O$1:O104),M:M,L:L))","v":""}]
["BP52","KB01E","BP_DIAB_KETO_01","KB01E - BP_DIAB_KETO_01",{"$f":"IF(ISNUMBER(MATCH(A106,$I$1,0)),LOOKUP(30000,E$1:E105)+1,\"\")","v":""},null,{"$f":"IF(COUNTA(G$1:G105)>$F$2,\"\",LOOKUP(COUNTA(G$1:G105),E:E,B:B))","v":""},{"$f":"IF(COUNTA(H$1:H105)>$F$2,\"\",LOOKUP(COUNTA(H$1:H105),E:E,D:D))","v":""},null,null,"BP52","KB02H",{"$f":"IF(ISNUMBER(MATCH(K106,$I$1,0)),LOOKUP(30000,M$1:M105)+1,\"\")","v":""},null,{"$f":"IF(COUNTA(O$1:O105)>$N$2,\"\",LOOKUP(COUNTA(O$1:O105),M:M,L:L))","v":""}]
["BP52","KB01E","BP_DIAB_KETO_02","KB01E - BP_DIAB_KETO_02",{"$f":"IF(ISNUMBER(MATCH(A107,$I$1,0)),LOOKUP(30000,E$1:E106)+1,\"\")","v":""},null,{"$f":"IF(COUNTA(G$1:G106)>$F$2,\"\",LOOKUP(COUNTA(G$1:G106),E:E,B:B))","v":""},{"$f":"IF(COUNTA(H$1:H106)>$F$2,\"\",LOOKUP(COUNTA(H$1:H106),E:E,D:D))","v":""},null,null,"BP52","KB02J",{"$f":"IF(ISNUMBER(MATCH(K107,$I$1,0)),LOOKUP(30000,M$1:M106)+1,\"\")","v":""},null,{"$f":"IF(COUNTA(O$1:O106)>$N$2,\"\",LOOKUP(COUNTA(O$1:O106),M:M,L:L))","v":""}]
["BP52","KB01F","BP_DIAB_KETO_02","KB01F - BP_DIAB_KETO_02",{"$f":"IF(ISNUMBER(MATCH(A108,$I$1,0)),LOOKUP(30000,E$1:E107)+1,\"\")","v":""},null,{"$f":"IF(COUNTA(G$1:G107)>$F$2,\"\",LOOKUP(COUNTA(G$1:G107),E:E,B:B))","v":""},{"$f":"IF(COUNTA(H$1:H107)>$F$2,\"\",LOOKUP(COUNTA(H$1:H107),E:E,D:D))","v":""},null,null,"BP52","KB02K",{"$f":"IF(ISNUMBER(MATCH(K108,$I$1,0)),LOOKUP(30000,M$1:M107)+1,\"\")","v":""},null,{"$f":"IF(COUNTA(O$1:O107)>$N$2,\"\",LOOKUP(COUNTA(O$1:O107),M:M,L:L))","v":""}]
["BP52","KB01F","BP_DIAB_KETO_01","KB01F - BP_DIAB_KETO_01",{"$f":"IF(ISNUMBER(MATCH(A109,$I$1,0)),LOOKUP(30000,E$1:E108)+1,\"\")","v":""},null,{"$f":"IF(COUNTA(G$1:G108)>$F$2,\"\",LOOKUP(COUNTA(G$1:G108),E:E,B:B))","v":""},{"$f":"IF(COUNTA(H$1:H108)>$F$2,\"\",LOOKUP(COUNTA(H$1:H108),E:E,D:D))","v":""},null,null,"BP53","HE11G",{"$f":"IF(ISNUMBER(MATCH(K109,$I$1,0)),LOOKUP(30000,M$1:M108)+1,\"\")","v":""},null,{"$f":"IF(COUNTA(O$1:O108)>$N$2,\"\",LOOKUP(COUNTA(O$1:O108),M:M,L:L))","v":""}]
["BP52","KB02G","BP_DIAB_KETO_01","KB02G - BP_DIAB_KETO_01",{"$f":"IF(ISNUMBER(MATCH(A110,$I$1,0)),LOOKUP(30000,E$1:E109)+1,\"\")","v":""},null,{"$f":"IF(COUNTA(G$1:G109)>$F$2,\"\",LOOKUP(COUNTA(G$1:G109),E:E,B:B))","v":""},{"$f":"IF(COUNTA(H$1:H109)>$F$2,\"\",LOOKUP(COUNTA(H$1:H109),E:E,D:D))","v":""},null,null,"BP53","HE11H",{"$f":"IF(ISNUMBER(MATCH(K110,$I$1,0)),LOOKUP(30000,M$1:M109)+1,\"\")","v":""},null,{"$f":"IF(COUNTA(O$1:O109)>$N$2,\"\",LOOKUP(COUNTA(O$1:O109),M:M,L:L))","v":""}]
["BP52","KB02G","BP_DIAB_KETO_02","KB02G - BP_DIAB_KETO_02",{"$f":"IF(ISNUMBER(MATCH(A111,$I$1,0)),LOOKUP(30000,E$1:E110)+1,\"\")","v":""},null,{"$f":"IF(COUNTA(G$1:G110)>$F$2,\"\",LOOKUP(COUNTA(G$1:G110),E:E,B:B))","v":""},{"$f":"IF(COUNTA(H$1:H110)>$F$2,\"\",LOOKUP(COUNTA(H$1:H110),E:E,D:D))","v":""},null,null,"BP54","SA04K",{"$f":"IF(ISNUMBER(MATCH(K111,$I$1,0)),LOOKUP(30000,M$1:M110)+1,\"\")","v":""},null,{"$f":"IF(COUNTA(O$1:O110)>$N$2,\"\",LOOKUP(COUNTA(O$1:O110),M:M,L:L))","v":""}]
["BP52","KB02H","BP_DIAB_KETO_02","KB02H - BP_DIAB_KETO_02",{"$f":"IF(ISNUMBER(MATCH(A112,$I$1,0)),LOOKUP(30000,E$1:E111)+1,\"\")","v":""},null,{"$f":"IF(COUNTA(G$1:G111)>$F$2,\"\",LOOKUP(COUNTA(G$1:G111),E:E,B:B))","v":""},{"$f":"IF(COUNTA(H$1:H111)>$F$2,\"\",LOOKUP(COUNTA(H$1:H111),E:E,D:D))","v":""},null,null,"BP54","SA04L",{"$f":"IF(ISNUMBER(MATCH(K112,$I$1,0)),LOOKUP(30000,M$1:M111)+1,\"\")","v":""},null,{"$f":"IF(COUNTA(O$1:O111)>$N$2,\"\",LOOKUP(COUNTA(O$1:O111),M:M,L:L))","v":""}]
["BP52","KB02H","BP_DIAB_KETO_01","KB02H - BP_DIAB_KETO_01",{"$f":"IF(ISNUMBER(MATCH(A113,$I$1,0)),LOOKUP(30000,E$1:E112)+1,\"\")","v":""},null,{"$f":"IF(COUNTA(G$1:G112)>$F$2,\"\",LOOKUP(COUNTA(G$1:G112),E:E,B:B))","v":""},{"$f":"IF(COUNTA(H$1:H112)>$F$2,\"\",LOOKUP(COUNTA(H$1:H112),E:E,D:D))","v":""},null,null,"BP54","SA09K",{"$f":"IF(ISNUMBER(MATCH(K113,$I$1,0)),LOOKUP(30000,M$1:M112)+1,\"\")","v":""},null,{"$f":"IF(COUNTA(O$1:O112)>$N$2,\"\",LOOKUP(COUNTA(O$1:O112),M:M,L:L))","v":""}]
["BP52","KB02J","BP_DIAB_KETO_01","KB02J - BP_DIAB_KETO_01",{"$f":"IF(ISNUMBER(MATCH(A114,$I$1,0)),LOOKUP(30000,E$1:E113)+1,\"\")","v":""},null,{"$f":"IF(COUNTA(G$1:G113)>$F$2,\"\",LOOKUP(COUNTA(G$1:G113),E:E,B:B))","v":""},{"$f":"IF(COUNTA(H$1:H113)>$F$2,\"\",LOOKUP(COUNTA(H$1:H113),E:E,D:D))","v":""},null,null,"BP54","SA09L",{"$f":"IF(ISNUMBER(MATCH(K114,$I$1,0)),LOOKUP(30000,M$1:M113)+1,\"\")","v":""},null,{"$f":"IF(COUNTA(O$1:O113)>$N$2,\"\",LOOKUP(COUNTA(O$1:O113),M:M,L:L))","v":""}]
["BP52","KB02J","BP_DIAB_KETO_02","KB02J - BP_DIAB_KETO_02",{"$f":"IF(ISNUMBER(MATCH(A115,$I$1,0)),LOOKUP(30000,E$1:E114)+1,\"\")","v":""},null,{"$f":"IF(COUNTA(G$1:G114)>$F$2,\"\",LOOKUP(COUNTA(G$1:G114),E:E,B:B))","v":""},{"$f":"IF(COUNTA(H$1:H114)>$F$2,\"\",LOOKUP(COUNTA(H$1:H114),E:E,D:D))","v":""},null,null,"BP55","LB16J",{"$f":"IF(ISNUMBER(MATCH(K115,$I$1,0)),LOOKUP(30000,M$1:M114)+1,\"\")","v":""},null,{"$f":"IF(COUNTA(O$1:O114)>$N$2,\"\",LOOKUP(COUNTA(O$1:O114),M:M,L:L))","v":""}]
["BP52","KB02K","BP_DIAB_KETO_02","KB02K - BP_DIAB_KETO_02",{"$f":"IF(ISNUMBER(MATCH(A116,$I$1,0)),LOOKUP(30000,E$1:E115)+1,\"\")","v":""},null,{"$f":"IF(COUNTA(G$1:G115)>$F$2,\"\",LOOKUP(COUNTA(G$1:G115),E:E,B:B))","v":""},{"$f":"IF(COUNTA(H$1:H115)>$F$2,\"\",LOOKUP(COUNTA(H$1:H115),E:E,D:D))","v":""},null,null,"BP55","LB16K",{"$f":"IF(ISNUMBER(MATCH(K116,$I$1,0)),LOOKUP(30000,M$1:M115)+1,\"\")","v":""},null,{"$f":"IF(COUNTA(O$1:O115)>$N$2,\"\",LOOKUP(COUNTA(O$1:O115),M:M,L:L))","v":""}]
["BP52","KB02K","BP_DIAB_KETO_01","KB02K - BP_DIAB_KETO_01",{"$f":"IF(ISNUMBER(MATCH(A117,$I$1,0)),LOOKUP(30000,E$1:E116)+1,\"\")","v":""},null,{"$f":"IF(COUNTA(G$1:G116)>$F$2,\"\",LOOKUP(COUNTA(G$1:G116),E:E,B:B))","v":""},{"$f":"IF(COUNTA(H$1:H116)>$F$2,\"\",LOOKUP(COUNTA(H$1:H116),E:E,D:D))","v":""},null,null,"BP56","DZ11V",{"$f":"IF(ISNUMBER(MATCH(K117,$I$1,0)),LOOKUP(30000,M$1:M116)+1,\"\")","v":""},null,{"$f":"IF(COUNTA(O$1:O116)>$N$2,\"\",LOOKUP(COUNTA(O$1:O116),M:M,L:L))","v":""}]
["BP53","HE11G","BP_RAMI","HE11G - BP_RAMI",{"$f":"IF(ISNUMBER(MATCH(A118,$I$1,0)),LOOKUP(30000,E$1:E117)+1,\"\")","v":""},null,{"$f":"IF(COUNTA(G$1:G117)>$F$2,\"\",LOOKUP(COUNTA(G$1:G117),E:E,B:B))","v":""},{"$f":"IF(COUNTA(H$1:H117)>$F$2,\"\",LOOKUP(COUNTA(H$1:H117),E:E,D:D))","v":""},null,null,"BP58","CB02E",{"$f":"IF(ISNUMBER(MATCH(K118,$I$1,0)),LOOKUP(30000,M$1:M117)+1,\"\")","v":""},null,{"$f":"IF(COUNTA(O$1:O117)>$N$2,\"\",LOOKUP(COUNTA(O$1:O117),M:M,L:L))","v":""}]
["BP53","HE11H","BP_RAMI","HE11H - BP_RAMI",{"$f":"IF(ISNUMBER(MATCH(A119,$I$1,0)),LOOKUP(30000,E$1:E118)+1,\"\")","v":""},null,{"$f":"IF(COUNTA(G$1:G118)>$F$2,\"\",LOOKUP(COUNTA(G$1:G118),E:E,B:B))","v":""},{"$f":"IF(COUNTA(H$1:H118)>$F$2,\"\",LOOKUP(COUNTA(H$1:H118),E:E,D:D))","v":""},null,null,"BP58","CB02F",{"$f":"IF(ISNUMBER(MATCH(K119,$I$1,0)),LOOKUP(30000,M$1:M118)+1,\"\")","v":""},null,{"$f":"IF(COUNTA(O$1:O118)>$N$2,\"\",LOOKUP(COUNTA(O$1:O118),M:M,L:L))","v":""}]
["BP54","SA04K","BP_ANAEMIA","SA04K - BP_ANAEMIA",{"$f":"IF(ISNUMBER(MATCH(A120,$I$1,0)),LOOKUP(30000,E$1:E119)+1,\"\")","v":""},null,{"$f":"IF(COUNTA(G$1:G119)>$F$2,\"\",LOOKUP(COUNTA(G$1:G119),E:E,B:B))","v":""},{"$f":"IF(COUNTA(H$1:H119)>$F$2,\"\",LOOKUP(COUNTA(H$1:H119),E:E,D:D))","v":""},null,null,"BP59","EB07C",{"$f":"IF(ISNUMBER(MATCH(K120,$I$1,0)),LOOKUP(30000,M$1:M119)+1,\"\")","v":""},null,{"$f":"IF(COUNTA(O$1:O119)>$N$2,\"\",LOOKUP(COUNTA(O$1:O119),M:M,L:L))","v":""}]
["BP54","SA04L","BP_ANAEMIA","SA04L - BP_ANAEMIA",{"$f":"IF(ISNUMBER(MATCH(A121,$I$1,0)),LOOKUP(30000,E$1:E120)+1,\"\")","v":""},null,{"$f":"IF(COUNTA(G$1:G120)>$F$2,\"\",LOOKUP(COUNTA(G$1:G120),E:E,B:B))","v":""},{"$f":"IF(COUNTA(H$1:H120)>$F$2,\"\",LOOKUP(COUNTA(H$1:H120),E:E,D:D))","v":""},null,null,"BP59","EB07D",{"$f":"IF(ISNUMBER(MATCH(K121,$I$1,0)),LOOKUP(30000,M$1:M120)+1,\"\")","v":""},null,{"$f":"IF(COUNTA(O$1:O120)>$N$2,\"\",LOOKUP(COUNTA(O$1:O120),M:M,L:L))","v":""}]
["BP54","SA09K","BP_ANAEMIA","SA09K - BP_ANAEMIA",{"$f":"IF(ISNUMBER(MATCH(A122,$I$1,0)),LOOKUP(30000,E$1:E121)+1,\"\")","v":""},null,{"$f":"IF(COUNTA(G$1:G121)>$F$2,\"\",LOOKUP(COUNTA(G$1:G121),E:E,B:B))","v":""},{"$f":"IF(COUNTA(H$1:H121)>$F$2,\"\",LOOKUP(COUNTA(H$1:H121),E:E,D:D))","v":""},null,null,"BP59","EB07E",{"$f":"IF(ISNUMBER(MATCH(K122,$I$1,0)),LOOKUP(30000,M$1:M121)+1,\"\")","v":""},null,{"$f":"IF(COUNTA(O$1:O121)>$N$2,\"\",LOOKUP(COUNTA(O$1:O121),M:M,L:L))","v":""}]
["BP54","SA09L","BP_ANAEMIA","SA09L - BP_ANAEMIA",{"$f":"IF(ISNUMBER(MATCH(A123,$I$1,0)),LOOKUP(30000,E$1:E122)+1,\"\")","v":""},null,{"$f":"IF(COUNTA(G$1:G122)>$F$2,\"\",LOOKUP(COUNTA(G$1:G122),E:E,B:B))","v":""},{"$f":"IF(COUNTA(H$1:H122)>$F$2,\"\",LOOKUP(COUNTA(H$1:H122),E:E,D:D))","v":""},null,null,"BP61","FZ90B",{"$f":"IF(ISNUMBER(MATCH(K123,$I$1,0)),LOOKUP(30000,M$1:M122)+1,\"\")","v":""},null,{"$f":"IF(COUNTA(O$1:O122)>$N$2,\"\",LOOKUP(COUNTA(O$1:O122),M:M,L:L))","v":""}]
["BP55","LB16J","BP_BOO","LB16J - BP_BOO",{"$f":"IF(ISNUMBER(MATCH(A124,$I$1,0)),LOOKUP(30000,E$1:E123)+1,\"\")","v":""},null,{"$f":"IF(COUNTA(G$1:G123)>$F$2,\"\",LOOKUP(COUNTA(G$1:G123),E:E,B:B))","v":""},{"$f":"IF(COUNTA(H$1:H123)>$F$2,\"\",LOOKUP(COUNTA(H$1:H123),E:E,D:D))","v":""},null,null,"BP63","HN23C",{"$f":"IF(ISNUMBER(MATCH(K124,$I$1,0)),LOOKUP(30000,M$1:M123)+1,\"\")","v":""},null,{"$f":"IF(COUNTA(O$1:O123)>$N$2,\"\",LOOKUP(COUNTA(O$1:O123),M:M,L:L))","v":""}]
["BP55","LB16K","BP_BOO","LB16K - BP_BOO",{"$f":"IF(ISNUMBER(MATCH(A125,$I$1,0)),LOOKUP(30000,E$1:E124)+1,\"\")","v":""},null,{"$f":"IF(COUNTA(G$1:G124)>$F$2,\"\",LOOKUP(COUNTA(G$1:G124),E:E,B:B))","v":""},{"$f":"IF(COUNTA(H$1:H124)>$F$2,\"\",LOOKUP(COUNTA(H$1:H124),E:E,D:D))","v":""},null,null,"BP64","CA05A",{"$f":"IF(ISNUMBER(MATCH(K125,$I$1,0)),LOOKUP(30000,M$1:M124)+1,\"\")","v":""},null,{"$f":"IF(COUNTA(O$1:O124)>$N$2,\"\",LOOKUP(COUNTA(O$1:O124),M:M,L:L))","v":""}]
["BP56","DZ11V","BP_PNEUMONIA","DZ11V - BP_PNEUMONIA",{"$f":"IF(ISNUMBER(MATCH(A126,$I$1,0)),LOOKUP(30000,E$1:E125)+1,\"\")","v":""},null,{"$f":"IF(COUNTA(G$1:G125)>$F$2,\"\",LOOKUP(COUNTA(G$1:G125),E:E,B:B))","v":""},{"$f":"IF(COUNTA(H$1:H125)>$F$2,\"\",LOOKUP(COUNTA(H$1:H125),E:E,D:D))","v":""},null,null,"BP65","YQ42Z",{"$f":"IF(ISNUMBER(MATCH(K126,$I$1,0)),LOOKUP(30000,M$1:M125)+1,\"\")","v":""},null,{"$f":"IF(COUNTA(O$1:O125)>$N$2,\"\",LOOKUP(COUNTA(O$1:O125),M:M,L:L))","v":""}]
["BP58","CB02E","BP_HEAD","CB02E - BP_HEAD",{"$f":"IF(ISNUMBER(MATCH(A127,$I$1,0)),LOOKUP(30000,E$1:E126)+1,\"\")","v":""},null,{"$f":"IF(COUNTA(G$1:G126)>$F$2,\"\",LOOKUP(COUNTA(G$1:G126),E:E,B:B))","v":""},{"$f":"IF(COUNTA(H$1:H126)>$F$2,\"\",LOOKUP(COUNTA(H$1:H126),E:E,D:D))","v":""},null,null,"BP66","BZ54B",{"$f":"IF(ISNUMBER(MATCH(K127,$I$1,0)),LOOKUP(30000,M$1:M126)+1,\"\")","v":""},null,{"$f":"IF(COUNTA(O$1:O126)>$N$2,\"\",LOOKUP(COUNTA(O$1:O126),M:M,L:L))","v":""}]
["BP58","CB02F","BP_HEAD","CB02F - BP_HEAD",{"$f":"IF(ISNUMBER(MATCH(A128,$I$1,0)),LOOKUP(30000,E$1:E127)+1,\"\")","v":""},null,{"$f":"IF(COUNTA(G$1:G127)>$F$2,\"\",LOOKUP(COUNTA(G$1:G127),E:E,B:B))","v":""},{"$f":"IF(COUNTA(H$1:H127)>$F$2,\"\",LOOKUP(COUNTA(H$1:H127),E:E,D:D))","v":""},null,null,"BP68","LB09D",{"$f":"IF(ISNUMBER(MATCH(K128,$I$1,0)),LOOKUP(30000,M$1:M127)+1,\"\")","v":""},null,{"$f":"IF(COUNTA(O$1:O127)>$N$2,\"\",LOOKUP(COUNTA(O$1:O127),M:M,L:L))","v":""}]
["BP59","EB07C","BP_SVT","EB07C - BP_SVT",{"$f":"IF(ISNUMBER(MATCH(A129,$I$1,0)),LOOKUP(30000,E$1:E128)+1,\"\")","v":""},null,{"$f":"IF(COUNTA(G$1:G128)>$F$2,\"\",LOOKUP(COUNTA(G$1:G128),E:E,B:B))","v":""},{"$f":"IF(COUNTA(H$1:H128)>$F$2,\"\",LOOKUP(COUNTA(H$1:H128),E:E,D:D))","v":""},null,null,"BP69","FZ12Q",{"$f":"IF(ISNUMBER(MATCH(K129,$I$1,0)),LOOKUP(30000,M$1:M128)+1,\"\")","v":""},null,{"$f":"IF(COUNTA(O$1:O128)>$N$2,\"\",LOOKUP(COUNTA(O$1:O128),M:M,L:L))","v":""}]
["BP59","EB07D","BP_SVT","EB07D - BP_SVT",{"$f":"IF(ISNUMBER(MATCH(A130,$I$1,0)),LOOKUP(30000,E$1:E129)+1,\"\")","v":""},null,{"$f":"IF(COUNTA(G$1:G129)>$F$2,\"\",LOOKUP(COUNTA(G$1:G129),E:E,B:B))","v":""},{"$f":"IF(COUNTA(H$1:H129)>$F$2,\"\",LOOKUP(COUNTA(H$1:H129),E:E,D:D))","v":""},null,null,"BP73","LB55A",{"$f":"IF(ISNUMBER(MATCH(K130,$I$1,0)),LOOKUP(30000,M$1:M129)+1,\"\")","v":""},null,{"$f":"IF(COUNTA(O$1:O129)>$N$2,\"\",LOOKUP(COUNTA(O$1:O129),M:M,L:L))","v":""}]
["BP59","EB07E","BP_SVT",{"$f":"B131&\" - \"&C131","v":"EB07E - BP_SVT"},{"$f":"IF(ISNUMBER(MATCH(A131,$I$1,0)),LOOKUP(30000,E$1:E130)+1,\"\")","v":""},null,{"$f":"IF(COUNTA(G$1:G130)>$F$2,\"\",LOOKUP(COUNTA(G$1:G130),E:E,B:B))","v":""},{"$f":"IF(COUNTA(H$1:H130)>$F$2,\"\",LOOKUP(COUNTA(H$1:H130),E:E,D:D))","v":""},null,null,"BP74","CA28Z",{"$f":"IF(ISNUMBER(MATCH(K131,$I$1,0)),LOOKUP(30000,M$1:M130)+1,\"\")","v":""},null,{"$f":"IF(COUNTA(O$1:O130)>$N$2,\"\",LOOKUP(COUNTA(O$1:O130),M:M,L:L))","v":""}]
["BP61","FZ90B","BP_ABDOPAIN","FZ90B - BP_ABDOPAIN",{"$f":"IF(ISNUMBER(MATCH(A132,$I$1,0)),LOOKUP(30000,E$1:E131)+1,\"\")","v":""},null,{"$f":"IF(COUNTA(G$1:G131)>$F$2,\"\",LOOKUP(COUNTA(G$1:G131),E:E,B:B))","v":""},{"$f":"IF(COUNTA(H$1:H131)>$F$2,\"\",LOOKUP(COUNTA(H$1:H131),E:E,D:D))","v":""},null,null,"BP76","FZ17G",{"$f":"IF(ISNUMBER(MATCH(K132,$I$1,0)),LOOKUP(30000,M$1:M131)+1,\"\")","v":""},null,{"$f":"IF(COUNTA(O$1:O131)>$N$2,\"\",LOOKUP(COUNTA(O$1:O131),M:M,L:L))","v":""}]
["BP63","HN23C","BP_AUTO_CRU_LIG","HN23C - BP_AUTO_CRU_LIG",{"$f":"IF(ISNUMBER(MATCH(A133,$I$1,0)),LOOKUP(30000,E$1:E132)+1,\"\")","v":""},null,{"$f":"IF(COUNTA(G$1:G132)>$F$2,\"\",LOOKUP(COUNTA(G$1:G132),E:E,B:B))","v":""},{"$f":"IF(COUNTA(H$1:H132)>$F$2,\"\",LOOKUP(COUNTA(H$1:H132),E:E,D:D))","v":""},null,null,"BP77","YR11D",{"$f":"IF(ISNUMBER(MATCH(K133,$I$1,0)),LOOKUP(30000,M$1:M132)+1,\"\")","v":""},null,{"$f":"IF(COUNTA(O$1:O132)>$N$2,\"\",LOOKUP(COUNTA(O$1:O132),M:M,L:L))","v":""}]
["BP64","CA05A","BP_BIO_C_LYMPH","CA05A - BP_BIO_C_LYMPH",{"$f":"IF(ISNUMBER(MATCH(A134,$I$1,0)),LOOKUP(30000,E$1:E133)+1,\"\")","v":""},null,{"$f":"IF(COUNTA(G$1:G133)>$F$2,\"\",LOOKUP(COUNTA(G$1:G133),E:E,B:B))","v":""},{"$f":"IF(COUNTA(H$1:H133)>$F$2,\"\",LOOKUP(COUNTA(H$1:H133),E:E,D:D))","v":""},null,null,"BP77","YR25Z",{"$f":"IF(ISNUMBER(MATCH(K134,$I$1,0)),LOOKUP(30000,M$1:M133)+1,\"\")","v":""},null,{"$f":"IF(COUNTA(O$1:O133)>$N$2,\"\",LOOKUP(COUNTA(O$1:O133),M:M,L:L))","v":""}]
["BP65","YQ42Z","BP_ART_FIST_DIA","YQ42Z - BP_ART_FIST_DIA",{"$f":"IF(ISNUMBER(MATCH(A135,$I$1,0)),LOOKUP(30000,E$1:E134)+1,\"\")","v":""},null,{"$f":"IF(COUNTA(G$1:G134)>$F$2,\"\",LOOKUP(COUNTA(G$1:G134),E:E,B:B))","v":""},{"$f":"IF(COUNTA(H$1:H134)>$F$2,\"\",LOOKUP(COUNTA(H$1:H134),E:E,D:D))","v":""},null,null,"BP78","LB65E",{"$f":"IF(ISNUMBER(MATCH(K135,$I$1,0)),LOOKUP(30000,M$1:M134)+1,\"\")","v":""},null,{"$f":"IF(COUNTA(O$1:O134)>$N$2,\"\",LOOKUP(COUNTA(O$1:O134),M:M,L:L))","v":""}]
["BP66","BZ54B","BP_DACRY_RHINO","BZ54B - BP_DACRY_RHINO",{"$f":"IF(ISNUMBER(MATCH(A136,$I$1,0)),LOOKUP(30000,E$1:E135)+1,\"\")","v":""},null,{"$f":"IF(COUNTA(G$1:G135)>$F$2,\"\",LOOKUP(COUNTA(G$1:G135),E:E,B:B))","v":""},{"$f":"IF(COUNTA(H$1:H135)>$F$2,\"\",LOOKUP(COUNTA(H$1:H135),E:E,D:D))","v":""},null,null,"BP79","MA08B",{"$f":"IF(ISNUMBER(MATCH(K136,$I$1,0)),LOOKUP(30000,M$1:M135)+1,\"\")","v":""},null,{"$f":"IF(COUNTA(O$1:O135)>$N$2,\"\",LOOKUP(COUNTA(O$1:O135),M:M,L:L))","v":""}]
["BP68","LB09D","BP_ENDO_INST_PRS","LB09D - BP_ENDO_INST_PRS",{"$f":"IF(ISNUMBER(MATCH(A137,$I$1,0)),LOOKUP(30000,E$1:E136)+1,\"\")","v":""},null,{"$f":"IF(COUNTA(G$1:G136)>$F$2,\"\",LOOKUP(COUNTA(G$1:G136),E:E,B:B))","v":""},{"$f":"IF(COUNTA(H$1:H136)>$F$2,\"\",LOOKUP(COUNTA(H$1:H136),E:E,D:D))","v":""},null,null,"BP80","GC17K",{"$f":"IF(ISNUMBER(MATCH(K137,$I$1,0)),LOOKUP(30000,M$1:M136)+1,\"\")","v":""},null,{"$f":"IF(COUNTA(O$1:O136)>$N$2,\"\",LOOKUP(COUNTA(O$1:O136),M:M,L:L))","v":""}]
["BP69","FZ12Q","BP_EXCN_BIO_LYMP","FZ12Q - BP_EXCN_BIO_LYMP",{"$f":"IF(ISNUMBER(MATCH(A138,$I$1,0)),LOOKUP(30000,E$1:E137)+1,\"\")","v":""},null,{"$f":"IF(COUNTA(G$1:G137)>$F$2,\"\",LOOKUP(COUNTA(G$1:G137),E:E,B:B))","v":""},{"$f":"IF(COUNTA(H$1:H137)>$F$2,\"\",LOOKUP(COUNTA(H$1:H137),E:E,D:D))","v":""},null,null,"BP81","HD26G",{"$f":"IF(ISNUMBER(MATCH(K138,$I$1,0)),LOOKUP(30000,M$1:M137)+1,\"\")","v":""},null,{"$f":"IF(COUNTA(O$1:O137)>$N$2,\"\",LOOKUP(COUNTA(O$1:O137),M:M,L:L))","v":""}]
["BP73","LB55A","BP_OPT_URETHROMY","LB55A - BP_OPT_URETHROMY",{"$f":"IF(ISNUMBER(MATCH(A139,$I$1,0)),LOOKUP(30000,E$1:E138)+1,\"\")","v":""},null,{"$f":"IF(COUNTA(G$1:G138)>$F$2,\"\",LOOKUP(COUNTA(G$1:G138),E:E,B:B))","v":""},{"$f":"IF(COUNTA(H$1:H138)>$F$2,\"\",LOOKUP(COUNTA(H$1:H138),E:E,D:D))","v":""},null,null,"BP82","LB15E",{"$f":"IF(ISNUMBER(MATCH(K139,$I$1,0)),LOOKUP(30000,M$1:M138)+1,\"\")","v":""},null,{"$f":"IF(COUNTA(O$1:O138)>$N$2,\"\",LOOKUP(COUNTA(O$1:O138),M:M,L:L))","v":""}]
["BP74","CA28Z","BP_POLYPEC_NOSE","CA28Z - BP_POLYPEC_NOSE",{"$f":"IF(ISNUMBER(MATCH(A140,$I$1,0)),LOOKUP(30000,E$1:E139)+1,\"\")","v":""},null,{"$f":"IF(COUNTA(G$1:G139)>$F$2,\"\",LOOKUP(COUNTA(G$1:G139),E:E,B:B))","v":""},{"$f":"IF(COUNTA(H$1:H139)>$F$2,\"\",LOOKUP(COUNTA(H$1:H139),E:E,D:D))","v":""},null,null,"BP82","LB20F",{"$f":"IF(ISNUMBER(MATCH(K140,$I$1,0)),LOOKUP(30000,M$1:M139)+1,\"\")","v":""},null,{"$f":"IF(COUNTA(O$1:O139)>$N$2,\"\",LOOKUP(COUNTA(O$1:O139),M:M,L:L))","v":""}]
["BP76","FZ17G","BP_OTH_ABD_HERN","FZ17G - BP_OTH_ABD_HERN",{"$f":"IF(ISNUMBER(MATCH(A141,$I$1,0)),LOOKUP(30000,E$1:E140)+1,\"\")","v":""},null,{"$f":"IF(COUNTA(G$1:G140)>$F$2,\"\",LOOKUP(COUNTA(G$1:G140),E:E,B:B))","v":""},{"$f":"IF(COUNTA(H$1:H140)>$F$2,\"\",LOOKUP(COUNTA(H$1:H140),E:E,D:D))","v":""},null,null,"BP82","LB20G",{"$f":"IF(ISNUMBER(MATCH(K141,$I$1,0)),LOOKUP(30000,M$1:M140)+1,\"\")","v":""},null,{"$f":"IF(COUNTA(O$1:O140)>$N$2,\"\",LOOKUP(COUNTA(O$1:O140),M:M,L:L))","v":""}]
["BP77","YR11D","BP_TRN_P_ILI_FEM","YR11D - BP_TRN_P_ILI_FEM",{"$f":"IF(ISNUMBER(MATCH(A142,$I$1,0)),LOOKUP(30000,E$1:E141)+1,\"\")","v":""},null,{"$f":"IF(COUNTA(G$1:G141)>$F$2,\"\",LOOKUP(COUNTA(G$1:G141),E:E,B:B))","v":""},{"$f":"IF(COUNTA(H$1:H141)>$F$2,\"\",LOOKUP(COUNTA(H$1:H141),E:E,D:D))","v":""},null,null,"BP83","FZ36P",{"$f":"IF(ISNUMBER(MATCH(K142,$I$1,0)),LOOKUP(30000,M$1:M141)+1,\"\")","v":""},null,{"$f":"IF(COUNTA(O$1:O141)>$N$2,\"\",LOOKUP(COUNTA(O$1:O141),M:M,L:L))","v":""}]
["BP77","YR25Z","BP_TRN_P_ILI_FEM","YR25Z - BP_TRN_P_ILI_FEM",{"$f":"IF(ISNUMBER(MATCH(A143,$I$1,0)),LOOKUP(30000,E$1:E142)+1,\"\")","v":""},null,{"$f":"IF(COUNTA(G$1:G142)>$F$2,\"\",LOOKUP(COUNTA(G$1:G142),E:E,B:B))","v":""},{"$f":"IF(COUNTA(H$1:H142)>$F$2,\"\",LOOKUP(COUNTA(H$1:H142),E:E,D:D))","v":""},null,null,"BP83","FZ36Q",{"$f":"IF(ISNUMBER(MATCH(K143,$I$1,0)),LOOKUP(30000,M$1:M142)+1,\"\")","v":""},null,{"$f":"IF(COUNTA(O$1:O142)>$N$2,\"\",LOOKUP(COUNTA(O$1:O142),M:M,L:L))","v":""}]
["BP78","LB65E","BP_UTR_EX_CAL_UR","LB65E - BP_UTR_EX_CAL_UR",{"$f":"IF(ISNUMBER(MATCH(A144,$I$1,0)),LOOKUP(30000,E$1:E143)+1,\"\")","v":""},null,{"$f":"IF(COUNTA(G$1:G143)>$F$2,\"\",LOOKUP(COUNTA(G$1:G143),E:E,B:B))","v":""},{"$f":"IF(COUNTA(H$1:H143)>$F$2,\"\",LOOKUP(COUNTA(H$1:H143),E:E,D:D))","v":""},null,null,"BP84","FZ38P",{"$f":"IF(ISNUMBER(MATCH(K144,$I$1,0)),LOOKUP(30000,M$1:M143)+1,\"\")","v":""},null,{"$f":"IF(COUNTA(O$1:O143)>$N$2,\"\",LOOKUP(COUNTA(O$1:O143),M:M,L:L))","v":""}]
["BP79","MA08B","BP_LAR_OOP_SPTMY","MA08B - BP_LAR_OOP_SPTMY",{"$f":"IF(ISNUMBER(MATCH(A145,$I$1,0)),LOOKUP(30000,E$1:E144)+1,\"\")","v":""},null,{"$f":"IF(COUNTA(G$1:G144)>$F$2,\"\",LOOKUP(COUNTA(G$1:G144),E:E,B:B))","v":""},{"$f":"IF(COUNTA(H$1:H144)>$F$2,\"\",LOOKUP(COUNTA(H$1:H144),E:E,D:D))","v":""},null,null,"BP84","FZ91M",{"$f":"IF(ISNUMBER(MATCH(K145,$I$1,0)),LOOKUP(30000,M$1:M144)+1,\"\")","v":""},null,{"$f":"IF(COUNTA(O$1:O144)>$N$2,\"\",LOOKUP(COUNTA(O$1:O144),M:M,L:L))","v":""}]
["BP80","GC17K","BP_ABN_LIVER_FN","GC17K - BP_ABN_LIVER_FN",{"$f":"IF(ISNUMBER(MATCH(A146,$I$1,0)),LOOKUP(30000,E$1:E145)+1,\"\")","v":""},null,{"$f":"IF(COUNTA(G$1:G145)>$F$2,\"\",LOOKUP(COUNTA(G$1:G145),E:E,B:B))","v":""},{"$f":"IF(COUNTA(H$1:H145)>$F$2,\"\",LOOKUP(COUNTA(H$1:H145),E:E,D:D))","v":""},null,null,"BP85","LA04Q",{"$f":"IF(ISNUMBER(MATCH(K146,$I$1,0)),LOOKUP(30000,M$1:M145)+1,\"\")","v":""},null,{"$f":"IF(COUNTA(O$1:O145)>$N$2,\"\",LOOKUP(COUNTA(O$1:O145),M:M,L:L))","v":""}]
["BP81","HD26G","BP_ACUTE_P_JNT","HD26G - BP_ACUTE_P_JNT",{"$f":"IF(ISNUMBER(MATCH(A147,$I$1,0)),LOOKUP(30000,E$1:E146)+1,\"\")","v":""},null,{"$f":"IF(COUNTA(G$1:G146)>$F$2,\"\",LOOKUP(COUNTA(G$1:G146),E:E,B:B))","v":""},{"$f":"IF(COUNTA(H$1:H146)>$F$2,\"\",LOOKUP(COUNTA(H$1:H146),E:E,D:D))","v":""},null,null,"BP85","LA04R",{"$f":"IF(ISNUMBER(MATCH(K147,$I$1,0)),LOOKUP(30000,M$1:M146)+1,\"\")","v":""},null,{"$f":"IF(COUNTA(O$1:O146)>$N$2,\"\",LOOKUP(COUNTA(O$1:O146),M:M,L:L))","v":""}]
["BP82","LB15E","BP_CHRONIC_CATH","LB15E - BP_CHRONIC_CATH",{"$f":"IF(ISNUMBER(MATCH(A148,$I$1,0)),LOOKUP(30000,E$1:E147)+1,\"\")","v":""},null,{"$f":"IF(COUNTA(G$1:G147)>$F$2,\"\",LOOKUP(COUNTA(G$1:G147),E:E,B:B))","v":""},{"$f":"IF(COUNTA(H$1:H147)>$F$2,\"\",LOOKUP(COUNTA(H$1:H147),E:E,D:D))","v":""},null,null,"BP85","LA04S",{"$f":"IF(ISNUMBER(MATCH(K148,$I$1,0)),LOOKUP(30000,M$1:M147)+1,\"\")","v":""},null,{"$f":"IF(COUNTA(O$1:O147)>$N$2,\"\",LOOKUP(COUNTA(O$1:O147),M:M,L:L))","v":""}]
["BP82","LB20F","BP_CHRONIC_CATH","LB20F - BP_CHRONIC_CATH",{"$f":"IF(ISNUMBER(MATCH(A149,$I$1,0)),LOOKUP(30000,E$1:E148)+1,\"\")","v":""},null,{"$f":"IF(COUNTA(G$1:G148)>$F$2,\"\",LOOKUP(COUNTA(G$1:G148),E:E,B:B))","v":""},{"$f":"IF(COUNTA(H$1:H148)>$F$2,\"\",LOOKUP(COUNTA(H$1:H148),E:E,D:D))","v":""},null,null,"BP86","AA29F",{"$f":"IF(ISNUMBER(MATCH(K149,$I$1,0)),LOOKUP(30000,M$1:M148)+1,\"\")","v":""},null,{"$f":"IF(COUNTA(O$1:O148)>$N$2,\"\",LOOKUP(COUNTA(O$1:O148),M:M,L:L))","v":""}]
["BP82","LB20G","BP_CHRONIC_CATH","LB20G - BP_CHRONIC_CATH",{"$f":"IF(ISNUMBER(MATCH(A150,$I$1,0)),LOOKUP(30000,E$1:E149)+1,\"\")","v":""},null,{"$f":"IF(COUNTA(G$1:G149)>$F$2,\"\",LOOKUP(COUNTA(G$1:G149),E:E,B:B))","v":""},{"$f":"IF(COUNTA(H$1:H149)>$F$2,\"\",LOOKUP(COUNTA(H$1:H149),E:E,D:D))","v":""},null,null,null,null,{"$f":"IF(ISNUMBER(MATCH(K150,$I$1,0)),LOOKUP(30000,M$1:M149)+1,\"\")","v":""},null,{"$f":"IF(COUNTA(O$1:O149)>$N$2,\"\",LOOKUP(COUNTA(O$1:O149),M:M,L:L))","v":""}]
["BP83","FZ36P","BP_GASTRO","FZ36P - BP_GASTRO",{"$f":"IF(ISNUMBER(MATCH(A151,$I$1,0)),LOOKUP(30000,E$1:E150)+1,\"\")","v":""},null,{"$f":"IF(COUNTA(G$1:G150)>$F$2,\"\",LOOKUP(COUNTA(G$1:G150),E:E,B:B))","v":""},{"$f":"IF(COUNTA(H$1:H150)>$F$2,\"\",LOOKUP(COUNTA(H$1:H150),E:E,D:D))","v":""},null,null,null,null,{"$f":"IF(ISNUMBER(MATCH(K151,$I$1,0)),LOOKUP(30000,M$1:M150)+1,\"\")","v":""},null,{"$f":"IF(COUNTA(O$1:O150)>$N$2,\"\",LOOKUP(COUNTA(O$1:O150),M:M,L:L))","v":""}]
["BP83","FZ36Q","BP_GASTRO","FZ36Q - BP_GASTRO",{"$f":"IF(ISNUMBER(MATCH(A152,$I$1,0)),LOOKUP(30000,E$1:E151)+1,\"\")","v":""},null,{"$f":"IF(COUNTA(G$1:G151)>$F$2,\"\",LOOKUP(COUNTA(G$1:G151),E:E,B:B))","v":""},{"$f":"IF(COUNTA(H$1:H151)>$F$2,\"\",LOOKUP(COUNTA(H$1:H151),E:E,D:D))","v":""},null,null,null,null,{"$f":"IF(ISNUMBER(MATCH(K152,$I$1,0)),LOOKUP(30000,M$1:M151)+1,\"\")","v":""},null,{"$f":"IF(COUNTA(O$1:O151)>$N$2,\"\",LOOKUP(COUNTA(O$1:O151),M:M,L:L))","v":""}]
["BP84","FZ38P","BP_U_GAST_HAEMO","FZ38P - BP_U_GAST_HAEMO",{"$f":"IF(ISNUMBER(MATCH(A153,$I$1,0)),LOOKUP(30000,E$1:E152)+1,\"\")","v":""},null,{"$f":"IF(COUNTA(G$1:G152)>$F$2,\"\",LOOKUP(COUNTA(G$1:G152),E:E,B:B))","v":""},{"$f":"IF(COUNTA(H$1:H152)>$F$2,\"\",LOOKUP(COUNTA(H$1:H152),E:E,D:D))","v":""},null,null,null,null,{"$f":"IF(ISNUMBER(MATCH(K153,$I$1,0)),LOOKUP(30000,M$1:M152)+1,\"\")","v":""},null,{"$f":"IF(COUNTA(O$1:O152)>$N$2,\"\",LOOKUP(COUNTA(O$1:O152),M:M,L:L))","v":""}]
["BP84","FZ91M","BP_U_GAST_HAEMO","FZ91M - BP_U_GAST_HAEMO",{"$f":"IF(ISNUMBER(MATCH(A154,$I$1,0)),LOOKUP(30000,E$1:E153)+1,\"\")","v":""},null,{"$f":"IF(COUNTA(G$1:G153)>$F$2,\"\",LOOKUP(COUNTA(G$1:G153),E:E,B:B))","v":""},{"$f":"IF(COUNTA(H$1:H153)>$F$2,\"\",LOOKUP(COUNTA(H$1:H153),E:E,D:D))","v":""},null,null,null,null,{"$f":"IF(ISNUMBER(MATCH(K154,$I$1,0)),LOOKUP(30000,M$1:M153)+1,\"\")","v":""},null,{"$f":"IF(COUNTA(O$1:O153)>$N$2,\"\",LOOKUP(COUNTA(O$1:O153),M:M,L:L))","v":""}]
["BP85","LA04Q","BP_URI_TRA_INFEC","LA04Q - BP_URI_TRA_INFEC",{"$f":"IF(ISNUMBER(MATCH(A155,$I$1,0)),LOOKUP(30000,E$1:E154)+1,\"\")","v":""},null,{"$f":"IF(COUNTA(G$1:G154)>$F$2,\"\",LOOKUP(COUNTA(G$1:G154),E:E,B:B))","v":""},{"$f":"IF(COUNTA(H$1:H154)>$F$2,\"\",LOOKUP(COUNTA(H$1:H154),E:E,D:D))","v":""},null,null,null,null,{"$f":"IF(ISNUMBER(MATCH(K155,$I$1,0)),LOOKUP(30000,M$1:M154)+1,\"\")","v":""},null,{"$f":"IF(COUNTA(O$1:O154)>$N$2,\"\",LOOKUP(COUNTA(O$1:O154),M:M,L:L))","v":""}]
["BP85","LA04R","BP_URI_TRA_INFEC","LA04R - BP_URI_TRA_INFEC",{"$f":"IF(ISNUMBER(MATCH(A156,$I$1,0)),LOOKUP(30000,E$1:E155)+1,\"\")","v":""},null,{"$f":"IF(COUNTA(G$1:G155)>$F$2,\"\",LOOKUP(COUNTA(G$1:G155),E:E,B:B))","v":""},{"$f":"IF(COUNTA(H$1:H155)>$F$2,\"\",LOOKUP(COUNTA(H$1:H155),E:E,D:D))","v":""},null,null,null,null,{"$f":"IF(ISNUMBER(MATCH(K156,$I$1,0)),LOOKUP(30000,M$1:M155)+1,\"\")","v":""},null,{"$f":"IF(COUNTA(O$1:O155)>$N$2,\"\",LOOKUP(COUNTA(O$1:O155),M:M,L:L))","v":""}]
["BP85","LA04S","BP_URI_TRA_INFEC","LA04S - BP_URI_TRA_INFEC",{"$f":"IF(ISNUMBER(MATCH(A157,$I$1,0)),LOOKUP(30000,E$1:E156)+1,\"\")","v":""},null,{"$f":"IF(COUNTA(G$1:G156)>$F$2,\"\",LOOKUP(COUNTA(G$1:G156),E:E,B:B))","v":""},{"$f":"IF(COUNTA(H$1:H156)>$F$2,\"\",LOOKUP(COUNTA(H$1:H156),E:E,D:D))","v":""},null,null,null,null,{"$f":"IF(ISNUMBER(MATCH(K157,$I$1,0)),LOOKUP(30000,M$1:M156)+1,\"\")","v":""},null,{"$f":"IF(COUNTA(O$1:O156)>$N$2,\"\",LOOKUP(COUNTA(O$1:O156),M:M,L:L))","v":""}]
["BP86","AA29F","BP_TIA","AA29F - BP_TIA",{"$f":"IF(ISNUMBER(MATCH(A158,$I$1,0)),LOOKUP(30000,E$1:E157)+1,\"\")","v":""},null,{"$f":"IF(COUNTA(G$1:G157)>$F$2,\"\",LOOKUP(COUNTA(G$1:G157),E:E,B:B))","v":""},{"$f":"IF(COUNTA(H$1:H157)>$F$2,\"\",LOOKUP(COUNTA(H$1:H157),E:E,D:D))","v":""},null,null,null,null,{"$f":"IF(ISNUMBER(MATCH(K158,$I$1,0)),LOOKUP(30000,M$1:M157)+1,\"\")","v":""},null,{"$f":"IF(COUNTA(O$1:O157)>$N$2,\"\",LOOKUP(COUNTA(O$1:O157),M:M,L:L))","v":""}]
[null,null,null," - ",{"$f":"IF(ISNUMBER(MATCH(A159,$I$1,0)),LOOKUP(30000,E$1:E158)+1,\"\")","v":""},null,{"$f":"IF(COUNTA(G$1:G158)>$F$2,\"\",LOOKUP(COUNTA(G$1:G158),E:E,B:B))","v":""},{"$f":"IF(COUNTA(H$1:H158)>$F$2,\"\",LOOKUP(COUNTA(H$1:H158),E:E,D:D))","v":""},null,null,null,null,{"$f":"IF(ISNUMBER(MATCH(K159,$I$1,0)),LOOKUP(30000,M$1:M158)+1,\"\")","v":""},null,{"$f":"IF(COUNTA(O$1:O158)>$N$2,\"\",LOOKUP(COUNTA(O$1:O158),M:M,L:L))","v":""}]
[null,null,null," - ",{"$f":"IF(ISNUMBER(MATCH(A160,$I$1,0)),LOOKUP(30000,E$1:E159)+1,\"\")","v":""},null,{"$f":"IF(COUNTA(G$1:G159)>$F$2,\"\",LOOKUP(COUNTA(G$1:G159),E:E,B:B))","v":""},{"$f":"IF(COUNTA(H$1:H159)>$F$2,\"\",LOOKUP(COUNTA(H$1:H159),E:E,D:D))","v":""},null,null,null,null,{"$f":"IF(ISNUMBER(MATCH(K160,$I$1,0)),LOOKUP(30000,M$1:M159)+1,\"\")","v":""},null,{"$f":"IF(COUNTA(O$1:O159)>$N$2,\"\",LOOKUP(COUNTA(O$1:O159),M:M,L:L))","v":""}]
[null,null,null," - ",{"$f":"IF(ISNUMBER(MATCH(A161,$I$1,0)),LOOKUP(30000,E$1:E160)+1,\"\")","v":""},null,{"$f":"IF(COUNTA(G$1:G160)>$F$2,\"\",LOOKUP(COUNTA(G$1:G160),E:E,B:B))","v":""},{"$f":"IF(COUNTA(H$1:H160)>$F$2,\"\",LOOKUP(COUNTA(H$1:H160),E:E,D:D))","v":""},null,null,null,null,{"$f":"IF(ISNUMBER(MATCH(K161,$I$1,0)),LOOKUP(30000,M$1:M160)+1,\"\")","v":""},null,{"$f":"IF(COUNTA(O$1:O160)>$N$2,\"\",LOOKUP(COUNTA(O$1:O160),M:M,L:L))","v":""}]
[null,null,null," - ",{"$f":"IF(ISNUMBER(MATCH(A162,$I$1,0)),LOOKUP(30000,E$1:E161)+1,\"\")","v":""},null,{"$f":"IF(COUNTA(G$1:G161)>$F$2,\"\",LOOKUP(COUNTA(G$1:G161),E:E,B:B))","v":""},{"$f":"IF(COUNTA(H$1:H161)>$F$2,\"\",LOOKUP(COUNTA(H$1:H161),E:E,D:D))","v":""},null,null,null,null,{"$f":"IF(ISNUMBER(MATCH(K162,$I$1,0)),LOOKUP(30000,M$1:M161)+1,\"\")","v":""},null,{"$f":"IF(COUNTA(O$1:O161)>$N$2,\"\",LOOKUP(COUNTA(O$1:O161),M:M,L:L))","v":""}]
[null,null,null," - ",{"$f":"IF(ISNUMBER(MATCH(A163,$I$1,0)),LOOKUP(30000,E$1:E162)+1,\"\")","v":""},null,{"$f":"IF(COUNTA(G$1:G162)>$F$2,\"\",LOOKUP(COUNTA(G$1:G162),E:E,B:B))","v":""},{"$f":"IF(COUNTA(H$1:H162)>$F$2,\"\",LOOKUP(COUNTA(H$1:H162),E:E,D:D))","v":""},null,null,null,null,{"$f":"IF(ISNUMBER(MATCH(K163,$I$1,0)),LOOKUP(30000,M$1:M162)+1,\"\")","v":""},null,{"$f":"IF(COUNTA(O$1:O162)>$N$2,\"\",LOOKUP(COUNTA(O$1:O162),M:M,L:L))","v":""}]
[null,null,null," - ",{"$f":"IF(ISNUMBER(MATCH(A164,$I$1,0)),LOOKUP(30000,E$1:E163)+1,\"\")","v":""},null,{"$f":"IF(COUNTA(G$1:G163)>$F$2,\"\",LOOKUP(COUNTA(G$1:G163),E:E,B:B))","v":""},{"$f":"IF(COUNTA(H$1:H163)>$F$2,\"\",LOOKUP(COUNTA(H$1:H163),E:E,D:D))","v":""},null,null,null,null,{"$f":"IF(ISNUMBER(MATCH(K164,$I$1,0)),LOOKUP(30000,M$1:M163)+1,\"\")","v":""},null,{"$f":"IF(COUNTA(O$1:O163)>$N$2,\"\",LOOKUP(COUNTA(O$1:O163),M:M,L:L))","v":""}]
[null,null,null,null,{"$f":"IF(ISNUMBER(MATCH(A165,$I$1,0)),LOOKUP(30000,E$1:E164)+1,\"\")","v":""},null,null,{"$f":"IF(COUNTA(H$1:H164)>$F$2,\"\",LOOKUP(COUNTA(H$1:H164),E:E,D:D))","v":""}]
[null,null,null,null,{"$f":"IF(ISNUMBER(MATCH(A166,$I$1,0)),LOOKUP(30000,E$1:E165)+1,\"\")","v":""},null,null,{"$f":"IF(COUNTA(H$1:H165)>$F$2,\"\",LOOKUP(COUNTA(H$1:H165),E:E,D:D))","v":""}]
[null,null,null,null,{"$f":"IF(ISNUMBER(MATCH(A167,$I$1,0)),LOOKUP(30000,E$1:E166)+1,\"\")","v":""},null,null,{"$f":"IF(COUNTA(H$1:H166)>$F$2,\"\",LOOKUP(COUNTA(H$1:H166),E:E,D:D))","v":""}]
[null,null,null,null,{"$f":"IF(ISNUMBER(MATCH(A168,$I$1,0)),LOOKUP(30000,E$1:E167)+1,\"\")","v":""},null,null,{"$f":"IF(COUNTA(H$1:H167)>$F$2,\"\",LOOKUP(COUNTA(H$1:H167),E:E,D:D))","v":""}]
[null,null,null,null,{"$f":"IF(ISNUMBER(MATCH(A169,$I$1,0)),LOOKUP(30000,E$1:E168)+1,\"\")","v":""},null,null,{"$f":"IF(COUNTA(H$1:H168)>$F$2,\"\",LOOKUP(COUNTA(H$1:H168),E:E,D:D))","v":""}]
[null,null,null,null,{"$f":"IF(ISNUMBER(MATCH(A170,$I$1,0)),LOOKUP(30000,E$1:E169)+1,\"\")","v":""},null,null,{"$f":"IF(COUNTA(H$1:H169)>$F$2,\"\",LOOKUP(COUNTA(H$1:H169),E:E,D:D))","v":""}]
[null,null,null,null,{"$f":"IF(ISNUMBER(MATCH(A171,$I$1,0)),LOOKUP(30000,E$1:E170)+1,\"\")","v":""},null,null,{"$f":"IF(COUNTA(H$1:H170)>$F$2,\"\",LOOKUP(COUNTA(H$1:H170),E:E,D:D))","v":""}]
[null,null,null,null,{"$f":"IF(ISNUMBER(MATCH(A172,$I$1,0)),LOOKUP(30000,E$1:E171)+1,\"\")","v":""},null,null,{"$f":"IF(COUNTA(H$1:H171)>$F$2,\"\",LOOKUP(COUNTA(H$1:H171),E:E,D:D))","v":""}]
[null,null,null,null,{"$f":"IF(ISNUMBER(MATCH(A173,$I$1,0)),LOOKUP(30000,E$1:E172)+1,\"\")","v":""},null,null,{"$f":"IF(COUNTA(H$1:H172)>$F$2,\"\",LOOKUP(COUNTA(H$1:H172),E:E,D:D))","v":""}]
[null,null,null,null,{"$f":"IF(ISNUMBER(MATCH(A174,$I$1,0)),LOOKUP(30000,E$1:E173)+1,\"\")","v":""},null,null,{"$f":"IF(COUNTA(H$1:H173)>$F$2,\"\",LOOKUP(COUNTA(H$1:H173),E:E,D:D))","v":""}]
[null,null,null,null,{"$f":"IF(ISNUMBER(MATCH(A175,$I$1,0)),LOOKUP(30000,E$1:E174)+1,\"\")","v":""},null,null,{"$f":"IF(COUNTA(H$1:H174)>$F$2,\"\",LOOKUP(COUNTA(H$1:H174),E:E,D:D))","v":""}]
[null,null,null,null,{"$f":"IF(ISNUMBER(MATCH(A176,$I$1,0)),LOOKUP(30000,E$1:E175)+1,\"\")","v":""},null,null,{"$f":"IF(COUNTA(H$1:H175)>$F$2,\"\",LOOKUP(COUNTA(H$1:H175),E:E,D:D))","v":""}]
[null,null,null,null,{"$f":"IF(ISNUMBER(MATCH(A177,$I$1,0)),LOOKUP(30000,E$1:E176)+1,\"\")","v":""},null,null,{"$f":"IF(COUNTA(H$1:H176)>$F$2,\"\",LOOKUP(COUNTA(H$1:H176),E:E,D:D))","v":""}]
[null,null,null,null,{"$f":"IF(ISNUMBER(MATCH(A178,$I$1,0)),LOOKUP(30000,E$1:E177)+1,\"\")","v":""},null,null,{"$f":"IF(COUNTA(H$1:H177)>$F$2,\"\",LOOKUP(COUNTA(H$1:H177),E:E,D:D))","v":""}]
[null,null,null,null,{"$f":"IF(ISNUMBER(MATCH(A179,$I$1,0)),LOOKUP(30000,E$1:E178)+1,\"\")","v":""},null,null,{"$f":"IF(COUNTA(H$1:H178)>$F$2,\"\",LOOKUP(COUNTA(H$1:H178),E:E,D:D))","v":""}]
[null,null,null,null,{"$f":"IF(ISNUMBER(MATCH(A180,$I$1,0)),LOOKUP(30000,E$1:E179)+1,\"\")","v":""},null,null,{"$f":"IF(COUNTA(H$1:H179)>$F$2,\"\",LOOKUP(COUNTA(H$1:H179),E:E,D:D))","v":""}]
[null,null,null,null,{"$f":"IF(ISNUMBER(MATCH(A181,$I$1,0)),LOOKUP(30000,E$1:E180)+1,\"\")","v":""},null,null,{"$f":"IF(COUNTA(H$1:H180)>$F$2,\"\",LOOKUP(COUNTA(H$1:H180),E:E,D:D))","v":""}]
[null,null,null,null,{"$f":"IF(ISNUMBER(MATCH(A182,$I$1,0)),LOOKUP(30000,E$1:E181)+1,\"\")","v":""},null,null,{"$f":"IF(COUNTA(H$1:H181)>$F$2,\"\",LOOKUP(COUNTA(H$1:H181),E:E,D:D))","v":""}]
[null,null,null,null,{"$f":"IF(ISNUMBER(MATCH(A183,$I$1,0)),LOOKUP(30000,E$1:E182)+1,\"\")","v":""},null,null,{"$f":"IF(COUNTA(H$1:H182)>$F$2,\"\",LOOKUP(COUNTA(H$1:H182),E:E,D:D))","v":""}]
[null,null,null,null,{"$f":"IF(ISNUMBER(MATCH(A184,$I$1,0)),LOOKUP(30000,E$1:E183)+1,\"\")","v":""},null,null,{"$f":"IF(COUNTA(H$1:H183)>$F$2,\"\",LOOKUP(COUNTA(H$1:H183),E:E,D:D))","v":""}]
[null,null,null,null,{"$f":"IF(ISNUMBER(MATCH(A185,$I$1,0)),LOOKUP(30000,E$1:E184)+1,\"\")","v":""},null,null,{"$f":"IF(COUNTA(H$1:H184)>$F$2,\"\",LOOKUP(COUNTA(H$1:H184),E:E,D:D))","v":""}]
[null,null,null,null,{"$f":"IF(ISNUMBER(MATCH(A186,$I$1,0)),LOOKUP(30000,E$1:E185)+1,\"\")","v":""},null,null,{"$f":"IF(COUNTA(H$1:H185)>$F$2,\"\",LOOKUP(COUNTA(H$1:H185),E:E,D:D))","v":""}]
[null,null,null,null,{"$f":"IF(ISNUMBER(MATCH(A187,$I$1,0)),LOOKUP(30000,E$1:E186)+1,\"\")","v":""},null,null,{"$f":"IF(COUNTA(H$1:H186)>$F$2,\"\",LOOKUP(COUNTA(H$1:H186),E:E,D:D))","v":""}]
[null,null,null,null,{"$f":"IF(ISNUMBER(MATCH(A188,$I$1,0)),LOOKUP(30000,E$1:E187)+1,\"\")","v":""},null,null,{"$f":"IF(COUNTA(H$1:H187)>$F$2,\"\",LOOKUP(COUNTA(H$1:H187),E:E,D:D))","v":""}]
[null,null,null,null,{"$f":"IF(ISNUMBER(MATCH(A189,$I$1,0)),LOOKUP(30000,E$1:E188)+1,\"\")","v":""},null,null,{"$f":"IF(COUNTA(H$1:H188)>$F$2,\"\",LOOKUP(COUNTA(H$1:H188),E:E,D:D))","v":""}]
[null,null,null,null,{"$f":"IF(ISNUMBER(MATCH(A190,$I$1,0)),LOOKUP(30000,E$1:E189)+1,\"\")","v":""},null,null,{"$f":"IF(COUNTA(H$1:H189)>$F$2,\"\",LOOKUP(COUNTA(H$1:H189),E:E,D:D))","v":""}]
[null,null,null,null,{"$f":"IF(ISNUMBER(MATCH(A191,$I$1,0)),LOOKUP(30000,E$1:E190)+1,\"\")","v":""},null,null,{"$f":"IF(COUNTA(H$1:H190)>$F$2,\"\",LOOKUP(COUNTA(H$1:H190),E:E,D:D))","v":""}]
[null,null,null,null,{"$f":"IF(ISNUMBER(MATCH(A192,$I$1,0)),LOOKUP(30000,E$1:E191)+1,\"\")","v":""},null,null,{"$f":"IF(COUNTA(H$1:H191)>$F$2,\"\",LOOKUP(COUNTA(H$1:H191),E:E,D:D))","v":""}]
[null,null,null,null,{"$f":"IF(ISNUMBER(MATCH(A193,$I$1,0)),LOOKUP(30000,E$1:E192)+1,\"\")","v":""},null,null,{"$f":"IF(COUNTA(H$1:H192)>$F$2,\"\",LOOKUP(COUNTA(H$1:H192),E:E,D:D))","v":""}]
[null,null,null,null,{"$f":"IF(ISNUMBER(MATCH(A194,$I$1,0)),LOOKUP(30000,E$1:E193)+1,\"\")","v":""},null,null,{"$f":"IF(COUNTA(H$1:H193)>$F$2,\"\",LOOKUP(COUNTA(H$1:H193),E:E,D:D))","v":""}]
[null,null,null,null,{"$f":"IF(ISNUMBER(MATCH(A195,$I$1,0)),LOOKUP(30000,E$1:E194)+1,\"\")","v":""},null,null,{"$f":"IF(COUNTA(H$1:H194)>$F$2,\"\",LOOKUP(COUNTA(H$1:H194),E:E,D:D))","v":""}]
[null,null,null,null,{"$f":"IF(ISNUMBER(MATCH(A196,$I$1,0)),LOOKUP(30000,E$1:E195)+1,\"\")","v":""},null,null,{"$f":"IF(COUNTA(H$1:H195)>$F$2,\"\",LOOKUP(COUNTA(H$1:H195),E:E,D:D))","v":""}]
[null,null,null,null,{"$f":"IF(ISNUMBER(MATCH(A197,$I$1,0)),LOOKUP(30000,E$1:E196)+1,\"\")","v":""},null,null,{"$f":"IF(COUNTA(H$1:H196)>$F$2,\"\",LOOKUP(COUNTA(H$1:H196),E:E,D:D))","v":""}]
[null,null,null,null,{"$f":"IF(ISNUMBER(MATCH(A198,$I$1,0)),LOOKUP(30000,E$1:E197)+1,\"\")","v":""},null,null,{"$f":"IF(COUNTA(H$1:H197)>$F$2,\"\",LOOKUP(COUNTA(H$1:H197),E:E,D:D))","v":""}]
[null,null,null,null,{"$f":"IF(ISNUMBER(MATCH(A199,$I$1,0)),LOOKUP(30000,E$1:E198)+1,\"\")","v":""},null,null,{"$f":"IF(COUNTA(H$1:H198)>$F$2,\"\",LOOKUP(COUNTA(H$1:H198),E:E,D:D))","v":""}]
[null,null,null,null,{"$f":"IF(ISNUMBER(MATCH(A200,$I$1,0)),LOOKUP(30000,E$1:E199)+1,\"\")","v":""},null,null,{"$f":"IF(COUNTA(H$1:H199)>$F$2,\"\",LOOKUP(COUNTA(H$1:H199),E:E,D:D))","v":""}]
[null,null,null,null,{"$f":"IF(ISNUMBER(MATCH(A201,$I$1,0)),LOOKUP(30000,E$1:E200)+1,\"\")","v":""},null,null,{"$f":"IF(COUNTA(H$1:H200)>$F$2,\"\",LOOKUP(COUNTA(H$1:H200),E:E,D:D))","v":""}]
[null,null,null,null,{"$f":"IF(ISNUMBER(MATCH(A202,$I$1,0)),LOOKUP(30000,E$1:E201)+1,\"\")","v":""},null,null,{"$f":"IF(COUNTA(H$1:H201)>$F$2,\"\",LOOKUP(COUNTA(H$1:H201),E:E,D:D))","v":""}]
[null,null,null,null,{"$f":"IF(ISNUMBER(MATCH(A203,$I$1,0)),LOOKUP(30000,E$1:E202)+1,\"\")","v":""},null,null,{"$f":"IF(COUNTA(H$1:H202)>$F$2,\"\",LOOKUP(COUNTA(H$1:H202),E:E,D:D))","v":""}]
[null,null,null,null,{"$f":"IF(ISNUMBER(MATCH(A204,$I$1,0)),LOOKUP(30000,E$1:E203)+1,\"\")","v":""},null,null,{"$f":"IF(COUNTA(H$1:H203)>$F$2,\"\",LOOKUP(COUNTA(H$1:H203),E:E,D:D))","v":""}]
[null,null,null,null,{"$f":"IF(ISNUMBER(MATCH(A205,$I$1,0)),LOOKUP(30000,E$1:E204)+1,\"\")","v":""},null,null,{"$f":"IF(COUNTA(H$1:H204)>$F$2,\"\",LOOKUP(COUNTA(H$1:H204),E:E,D:D))","v":""}]
[null,null,null,null,{"$f":"IF(ISNUMBER(MATCH(A206,$I$1,0)),LOOKUP(30000,E$1:E205)+1,\"\")","v":""},null,null,{"$f":"IF(COUNTA(H$1:H205)>$F$2,\"\",LOOKUP(COUNTA(H$1:H205),E:E,D:D))","v":""}]
[null,null,null,null,{"$f":"IF(ISNUMBER(MATCH(A207,$I$1,0)),LOOKUP(30000,E$1:E206)+1,\"\")","v":""},null,null,{"$f":"IF(COUNTA(H$1:H206)>$F$2,\"\",LOOKUP(COUNTA(H$1:H206),E:E,D:D))","v":""}]
[null,null,null,null,{"$f":"IF(ISNUMBER(MATCH(A208,$I$1,0)),LOOKUP(30000,E$1:E207)+1,\"\")","v":""},null,null,{"$f":"IF(COUNTA(H$1:H207)>$F$2,\"\",LOOKUP(COUNTA(H$1:H207),E:E,D:D))","v":""}]
[null,null,null,null,{"$f":"IF(ISNUMBER(MATCH(A209,$I$1,0)),LOOKUP(30000,E$1:E208)+1,\"\")","v":""},null,null,{"$f":"IF(COUNTA(H$1:H208)>$F$2,\"\",LOOKUP(COUNTA(H$1:H208),E:E,D:D))","v":""}]
[null,null,null,null,{"$f":"IF(ISNUMBER(MATCH(A210,$I$1,0)),LOOKUP(30000,E$1:E209)+1,\"\")","v":""},null,null,{"$f":"IF(COUNTA(H$1:H209)>$F$2,\"\",LOOKUP(COUNTA(H$1:H209),E:E,D:D))","v":""}]
[null,null,null,null,{"$f":"IF(ISNUMBER(MATCH(A211,$I$1,0)),LOOKUP(30000,E$1:E210)+1,\"\")","v":""},null,null,{"$f":"IF(COUNTA(H$1:H210)>$F$2,\"\",LOOKUP(COUNTA(H$1:H210),E:E,D:D))","v":""}]
[null,null,null,null,{"$f":"IF(ISNUMBER(MATCH(A212,$I$1,0)),LOOKUP(30000,E$1:E211)+1,\"\")","v":""},null,null,{"$f":"IF(COUNTA(H$1:H211)>$F$2,\"\",LOOKUP(COUNTA(H$1:H211),E:E,D:D))","v":""}]
[null,null,null,null,{"$f":"IF(ISNUMBER(MATCH(A213,$I$1,0)),LOOKUP(30000,E$1:E212)+1,\"\")","v":""},null,null,{"$f":"IF(COUNTA(H$1:H212)>$F$2,\"\",LOOKUP(COUNTA(H$1:H212),E:E,D:D))","v":""}]

{"sheet":"DocFlagstoListMembe(w)","index":12,"n_rows":40,"n_cols":13,"rows_kept":40,"cut":false,"hidden":true,"merged":[]}
[null,"Back","Documentation_Flag_ID","Code_Type","Position","Flag_Order","List_ID","Code_Value_Needed","Function_ID",null,"Position","Flag"]
[{"$f":"OR(C2='BP Flag Rules'!X$18,C2='BP Flag Rules'!X$19,C2='BP Flag Rules'!X$20,C2='BP Flag Rules'!X$21,(C2='BP Flag Rules'!X$22))+A1","v":0},{"$f":"C2&D2&G2","v":"BP_ABN_LIVER_FNICDBP_ABN_LIVER_FN_ICD"},"BP_ABN_LIVER_FN","ICD","Primary Diagnoses","1","BP_ABN_LIVER_FN_ICD",null,"DataItemInList",{"$f":"C2&G2","v":"BP_ABN_LIVER_FNBP_ABN_LIVER_FN_ICD"},{"$f":"E2","v":"Primary Diagnoses"},{"$f":"C2","v":"BP_ABN_LIVER_FN"}]
[{"$f":"OR(C3='BP Flag Rules'!X$18,C3='BP Flag Rules'!X$19,C3='BP Flag Rules'!X$20,C3='BP Flag Rules'!X$21,(C3='BP Flag Rules'!X$22))+A2","v":0},{"$f":"C3&D3&G3","v":"BP_ACUTE_P_JNTICDBP_ACUTE_P_JNT_ICD"},"BP_ACUTE_P_JNT","ICD","Primary Diagnoses","1","BP_ACUTE_P_JNT_ICD",null,"DataItemInList",{"$f":"C3&G3","v":"BP_ACUTE_P_JNTBP_ACUTE_P_JNT_ICD"},{"$f":"E3","v":"Primary Diagnoses"},"BP_ACUTE_P_JNT","Need to ensure column A,B,J and K formulas reach the bottom only"]
[{"$f":"OR(C4='BP Flag Rules'!X$18,C4='BP Flag Rules'!X$19,C4='BP Flag Rules'!X$20,C4='BP Flag Rules'!X$21,(C4='BP Flag Rules'!X$22))+A3","v":0},"BP_APPFRACICDBP_APPFRAC_ICD","BP_APPFRAC","ICD","Primary Diagnoses","1","BP_APPFRAC_ICD",null,"DataItemInList","BP_APPFRACBP_APPFRAC_ICD","Primary Diagnoses","BP_APPFRAC"]
[{"$f":"OR(C5='BP Flag Rules'!X$18,C5='BP Flag Rules'!X$19,C5='BP Flag Rules'!X$20,C5='BP Flag Rules'!X$21,(C5='BP Flag Rules'!X$22))+A4","v":0},"BP_ART_FIST_DIAOPCSBP_ART_FIST_DIAL_OPCS","BP_ART_FIST_DIA","OPCS","Any Position","3","BP_ART_FIST_DIAL_OPCS",null,"DataItemInList","BP_ART_FIST_DIABP_ART_FIST_DIAL_OPCS","Any Position","BP_ART_FIST_DIA"]
[{"$f":"OR(C6='BP Flag Rules'!X$18,C6='BP Flag Rules'!X$19,C6='BP Flag Rules'!X$20,C6='BP Flag Rules'!X$21,(C6='BP Flag Rules'!X$22))+A5","v":0},"BP_AUTO_CRU_LIGOPCSBP_AUTO_ANT_CRU_LIG_OPCS","BP_AUTO_CRU_LIG","OPCS","Any Position","3","BP_AUTO_ANT_CRU_LIG_OPCS",null,"DataItemInList","BP_AUTO_CRU_LIGBP_AUTO_ANT_CRU_LIG_OPCS","Any Position","BP_AUTO_CRU_LIG"]
[{"$f":"OR(C7='BP Flag Rules'!X$18,C7='BP Flag Rules'!X$19,C7='BP Flag Rules'!X$20,C7='BP Flag Rules'!X$21,(C7='BP Flag Rules'!X$22))+A6","v":0},"BP_AXILLARYOPCSBP_AXILLARY_OPCS","BP_AXILLARY","OPCS","Any Position","1","BP_AXILLARY_OPCS",null,"DataItemInList","BP_AXILLARYBP_AXILLARY_OPCS","Any Position","BP_AXILLARY"]
[{"$f":"OR(C8='BP Flag Rules'!X$18,C8='BP Flag Rules'!X$19,C8='BP Flag Rules'!X$20,C8='BP Flag Rules'!X$21,(C8='BP Flag Rules'!X$22))+A7","v":0},"BP_BIO_C_LYMPHOPCSBP_BIO_CERV_LYMPH_OPCS","BP_BIO_C_LYMPH","OPCS","Any Position","3","BP_BIO_CERV_LYMPH_OPCS",null,"DataItemInList","BP_BIO_C_LYMPHBP_BIO_CERV_LYMPH_OPCS","Any Position","BP_BIO_C_LYMPH"]
[{"$f":"OR(C9='BP Flag Rules'!X$18,C9='BP Flag Rules'!X$19,C9='BP Flag Rules'!X$20,C9='BP Flag Rules'!X$21,(C9='BP Flag Rules'!X$22))+A8","v":0},"BP_BUNIONOPCSBP_BUNION_OPCS","BP_BUNION","OPCS","Any Position","1","BP_BUNION_OPCS",null,"DataItemInList","BP_BUNIONBP_BUNION_OPCS","Any Position","BP_BUNION"]
[{"$f":"OR(C10='BP Flag Rules'!X$18,C10='BP Flag Rules'!X$19,C10='BP Flag Rules'!X$20,C10='BP Flag Rules'!X$21,(C10='BP Flag Rules'!X$22))+A9","v":0},"BP_CELLICDBP_CELL_ICD","BP_CELL","ICD","Primary Diagnoses","1","BP_CELL_ICD",null,"DataItemInList","BP_CELLBP_CELL_ICD","Primary Diagnoses","BP_CELL"]
[{"$f":"OR(C11='BP Flag Rules'!X$18,C11='BP Flag Rules'!X$19,C11='BP Flag Rules'!X$20,C11='BP Flag Rules'!X$21,(C11='BP Flag Rules'!X$22))+A10","v":0},"BP_CHESTPAINICDBP_CHESTPAIN_ICD","BP_CHESTPAIN","ICD","Primary Diagnoses","1","BP_CHESTPAIN_ICD",null,"DataItemInList","BP_CHESTPAINBP_CHESTPAIN_ICD","Primary Diagnoses","BP_CHESTPAIN"]
[{"$f":"OR(C12='BP Flag Rules'!X$18,C12='BP Flag Rules'!X$19,C12='BP Flag Rules'!X$20,C12='BP Flag Rules'!X$21,(C12='BP Flag Rules'!X$22))+A11","v":0},"BP_CHRONIC_CATHICDBP_CHRONIC_CATH_ICD","BP_CHRONIC_CATH","ICD","Primary Diagnoses","1","BP_CHRONIC_CATH_ICD",null,"DataItemInList","BP_CHRONIC_CATHBP_CHRONIC_CATH_ICD","Primary Diagnoses","BP_CHRONIC_CATH"]
[{"$f":"OR(C13='BP Flag Rules'!X$18,C13='BP Flag Rules'!X$19,C13='BP Flag Rules'!X$20,C13='BP Flag Rules'!X$21,(C13='BP Flag Rules'!X$22))+A12","v":0},"BP_DACRY_RHINOOPCSBP_DACRY_RHINO_OPCS","BP_DACRY_RHINO","OPCS","Any Position","3","BP_DACRY_RHINO_OPCS",null,"DataItemInList","BP_DACRY_RHINOBP_DACRY_RHINO_OPCS","Any Position","BP_DACRY_RHINO"]
[{"$f":"OR(C14='BP Flag Rules'!X$18,C14='BP Flag Rules'!X$19,C14='BP Flag Rules'!X$20,C14='BP Flag Rules'!X$21,(C14='BP Flag Rules'!X$22))+A13","v":0},"BP_DIAB_KETO_01ICDBP_DIAB_ICD_1","BP_DIAB_KETO_01","ICD","Primary Diagnoses","1","BP_DIAB_ICD_1",null,"DataItemInList","BP_DIAB_KETO_01BP_DIAB_ICD_1","Primary Diagnoses","BP_DIAB_KETO_01"]
[{"$f":"OR(C15='BP Flag Rules'!X$18,C15='BP Flag Rules'!X$19,C15='BP Flag Rules'!X$20,C15='BP Flag Rules'!X$21,(C15='BP Flag Rules'!X$22))+A14","v":0},"BP_DIAB_KETO_02ICDBP_DIAB_ICD_2","BP_DIAB_KETO_02","ICD","Primary Diagnoses","1","BP_DIAB_ICD_2",null,"DataItemInList","BP_DIAB_KETO_02BP_DIAB_ICD_2","Primary Diagnoses","BP_DIAB_KETO_02"]
[{"$f":"OR(C16='BP Flag Rules'!X$18,C16='BP Flag Rules'!X$19,C16='BP Flag Rules'!X$20,C16='BP Flag Rules'!X$21,(C16='BP Flag Rules'!X$22))+A15","v":0},"BP_DIAB_KETO_02ICDBP_DIAB_ICD_1","BP_DIAB_KETO_02","ICD","Secondary Diagnoses","2","BP_DIAB_ICD_1",null,"DataItemInList","BP_DIAB_KETO_02BP_DIAB_ICD_1","Secondary Diagnoses","BP_DIAB_KETO_02"]
[{"$f":"OR(C17='BP Flag Rules'!X$18,C17='BP Flag Rules'!X$19,C17='BP Flag Rules'!X$20,C17='BP Flag Rules'!X$21,(C17='BP Flag Rules'!X$22))+A16","v":0},"BP_DUPUYTRENSOPCSBP_DUPUY_OPCS","BP_DUPUYTRENS","OPCS","Any Position","1","BP_DUPUY_OPCS",null,"DataItemInList","BP_DUPUYTRENSBP_DUPUY_OPCS","Any Position","BP_DUPUYTRENS"]
[{"$f":"OR(C18='BP Flag Rules'!X$18,C18='BP Flag Rules'!X$19,C18='BP Flag Rules'!X$20,C18='BP Flag Rules'!X$21,(C18='BP Flag Rules'!X$22))+A17","v":0},"BP_ENDO_INST_PRSOPCSBP_ENDO_INSERT_PROST_OPCS","BP_ENDO_INST_PRS","OPCS","Any Position","3","BP_ENDO_INSERT_PROST_OPCS",null,"DataItemInList","BP_ENDO_INST_PRSBP_ENDO_INSERT_PROST_OPCS","Any Position","BP_ENDO_INST_PRS"]
[{"$f":"OR(C19='BP Flag Rules'!X$18,C19='BP Flag Rules'!X$19,C19='BP Flag Rules'!X$20,C19='BP Flag Rules'!X$21,(C19='BP Flag Rules'!X$22))+A18","v":0},"BP_EPIICDBP_EPI_ICD","BP_EPI","ICD","Primary Diagnoses","1","BP_EPI_ICD",null,"DataItemInList","BP_EPIBP_EPI_ICD","Primary Diagnoses","BP_EPI"]
[{"$f":"OR(C20='BP Flag Rules'!X$18,C20='BP Flag Rules'!X$19,C20='BP Flag Rules'!X$20,C20='BP Flag Rules'!X$21,(C20='BP Flag Rules'!X$22))+A19","v":0},"BP_EXBREASTOPCSBP_EXBREAST_OPCS","BP_EXBREAST","OPCS","Any Position","1","BP_EXBREAST_OPCS",null,"DataItemInList","BP_EXBREASTBP_EXBREAST_OPCS","Any Position","BP_EXBREAST"]
[{"$f":"OR(C21='BP Flag Rules'!X$18,C21='BP Flag Rules'!X$19,C21='BP Flag Rules'!X$20,C21='BP Flag Rules'!X$21,(C21='BP Flag Rules'!X$22))+A20","v":0},"BP_EXCN_BIO_LYMPOPCSBP_EXCN_BIO_LYMP_OPCS","BP_EXCN_BIO_LYMP","OPCS","Any Position","3","BP_EXCN_BIO_LYMP_OPCS",null,"DataItemInList","BP_EXCN_BIO_LYMPBP_EXCN_BIO_LYMP_OPCS","Any Position","BP_EXCN_BIO_LYMP"]
[{"$f":"OR(C22='BP Flag Rules'!X$18,C22='BP Flag Rules'!X$19,C22='BP Flag Rules'!X$20,C22='BP Flag Rules'!X$21,(C22='BP Flag Rules'!X$22))+A21","v":1},"BP_FHFICDBP_FHF_ICD","BP_FHF","ICD","Any Position","2","BP_FHF_ICD",null,"DataItemInList","BP_FHFBP_FHF_ICD","Any Position","BP_FHF"]
[{"$f":"OR(C23='BP Flag Rules'!X$18,C23='BP Flag Rules'!X$19,C23='BP Flag Rules'!X$20,C23='BP Flag Rules'!X$21,(C23='BP Flag Rules'!X$22))+A22","v":2},"BP_FHFOPCSBP_FHF_OPCS","BP_FHF","OPCS","Any Position","1","BP_FHF_OPCS",null,"DataItemInList","BP_FHFBP_FHF_OPCS","Any Position","BP_FHF"]
[{"$f":"OR(C24='BP Flag Rules'!X$18,C24='BP Flag Rules'!X$19,C24='BP Flag Rules'!X$20,C24='BP Flag Rules'!X$21,(C24='BP Flag Rules'!X$22))+A23","v":2},"BP_HEADICDBP_HEAD_ICD","BP_HEAD","ICD","Primary Diagnoses","2","BP_HEAD_ICD",null,"DataItemInList","BP_HEADBP_HEAD_ICD","Primary Diagnoses","BP_HEAD"]
[{"$f":"OR(C25='BP Flag Rules'!X$18,C25='BP Flag Rules'!X$19,C25='BP Flag Rules'!X$20,C25='BP Flag Rules'!X$21,(C25='BP Flag Rules'!X$22))+A24","v":2},"BP_LAR_OOP_SPTMYOPCSBP_LAR_OOP_SPTMY_OPCS","BP_LAR_OOP_SPTMY","OPCS","Any Position","3","BP_LAR_OOP_SPTMY_OPCS","Needs combination of 1 and 2","NestedDataItemInList","BP_LAR_OOP_SPTMYBP_LAR_OOP_SPTMY_OPCS","Any Position","BP_LAR_OOP_SPTMY"]
[{"$f":"OR(C26='BP Flag Rules'!X$18,C26='BP Flag Rules'!X$19,C26='BP Flag Rules'!X$20,C26='BP Flag Rules'!X$21,(C26='BP Flag Rules'!X$22))+A25","v":2},"BP_LYMPH_1OPCSBP_LYMPH_OPCS_1","BP_LYMPH_1","OPCS","Any Position","1","BP_LYMPH_OPCS_1","Needs combination of 1 and 2","NestedDataItemInList","BP_LYMPH_1BP_LYMPH_OPCS_1","Any Position","BP_LYMPH_1"]
[{"$f":"OR(C27='BP Flag Rules'!X$18,C27='BP Flag Rules'!X$19,C27='BP Flag Rules'!X$20,C27='BP Flag Rules'!X$21,(C27='BP Flag Rules'!X$22))+A26","v":2},"BP_LYMPH_2OPCSBP_LYMPH_OPCS_2","BP_LYMPH_2","OPCS","Any Position","1","BP_LYMPH_OPCS_2",null,"DataItemInList","BP_LYMPH_2BP_LYMPH_OPCS_2","Any Position","BP_LYMPH_2"]
[{"$f":"OR(C28='BP Flag Rules'!X$18,C28='BP Flag Rules'!X$19,C28='BP Flag Rules'!X$20,C28='BP Flag Rules'!X$21,(C28='BP Flag Rules'!X$22))+A27","v":2},"BP_MASTOPCSBP_MASTECTOMY_OPCS","BP_MAST","OPCS","Any Position","1","BP_MASTECTOMY_OPCS",null,"DataItemInList","BP_MASTBP_MASTECTOMY_OPCS","Any Position","BP_MAST"]
[{"$f":"OR(C29='BP Flag Rules'!X$18,C29='BP Flag Rules'!X$19,C29='BP Flag Rules'!X$20,C29='BP Flag Rules'!X$21,(C29='BP Flag Rules'!X$22))+A28","v":2},"BP_MIICDBP_MI_ICD","BP_MI","ICD","Primary Diagnoses","1","BP_MI_ICD",null,"DataItemInList","BP_MIBP_MI_ICD","Primary Diagnoses","BP_MI"]
[{"$f":"OR(C30='BP Flag Rules'!X$18,C30='BP Flag Rules'!X$19,C30='BP Flag Rules'!X$20,C30='BP Flag Rules'!X$21,(C30='BP Flag Rules'!X$22))+A29","v":2},"BP_NSTEMIICDBP_NSTEMI_ICD","BP_NSTEMI","ICD","Primary Diagnoses","1","BP_NSTEMI_ICD",null,"DataItemInList","BP_NSTEMIBP_NSTEMI_ICD","Primary Diagnoses","BP_NSTEMI"]
[{"$f":"OR(C31='BP Flag Rules'!X$18,C31='BP Flag Rules'!X$19,C31='BP Flag Rules'!X$20,C31='BP Flag Rules'!X$21,(C31='BP Flag Rules'!X$22))+A30","v":2},"BP_OPT_URETHROMYOPCSBP_OPT_URETHROMY_OPCS","BP_OPT_URETHROMY","OPCS","Any Position","3","BP_OPT_URETHROMY_OPCS",null,"DataItemInList","BP_OPT_URETHROMYBP_OPT_URETHROMY_OPCS","Any Position","BP_OPT_URETHROMY"]
[{"$f":"OR(C32='BP Flag Rules'!X$18,C32='BP Flag Rules'!X$19,C32='BP Flag Rules'!X$20,C32='BP Flag Rules'!X$21,(C32='BP Flag Rules'!X$22))+A31","v":2},"BP_OTH_ABD_HERNOPCSBP_REP_OTH_ABD_HERN_OPCS","BP_OTH_ABD_HERN","OPCS","Any Position","3","BP_REP_OTH_ABD_HERN_OPCS",null,"DataItemInList","BP_OTH_ABD_HERNBP_REP_OTH_ABD_HERN_OPCS","Any Position","BP_OTH_ABD_HERN"]
[{"$f":"OR(C33='BP Flag Rules'!X$18,C33='BP Flag Rules'!X$19,C33='BP Flag Rules'!X$20,C33='BP Flag Rules'!X$21,(C33='BP Flag Rules'!X$22))+A32","v":2},"BP_POLYPEC_NOSEOPCSBP_POLYPEC_NOSE_OPCS","BP_POLYPEC_NOSE","OPCS","Any Position","3","BP_POLYPEC_NOSE_OPCS",null,"DataItemInList","BP_POLYPEC_NOSEBP_POLYPEC_NOSE_OPCS","Any Position","BP_POLYPEC_NOSE"]
[{"$f":"OR(C34='BP Flag Rules'!X$18,C34='BP Flag Rules'!X$19,C34='BP Flag Rules'!X$20,C34='BP Flag Rules'!X$21,(C34='BP Flag Rules'!X$22))+A33","v":2},"BP_RAMIICDBP_RAMI_ICD","BP_RAMI","ICD","Primary Diagnoses","1","BP_RAMI_ICD",null,"DataItemInList","BP_RAMIBP_RAMI_ICD","Primary Diagnoses","BP_RAMI"]
[{"$f":"OR(C35='BP Flag Rules'!X$18,C35='BP Flag Rules'!X$19,C35='BP Flag Rules'!X$20,C35='BP Flag Rules'!X$21,(C35='BP Flag Rules'!X$22))+A34","v":2},"BP_SHOULDEROPCSBP_SHOULDER_OPCS","BP_SHOULDER","OPCS","Any Position","1","BP_SHOULDER_OPCS","Needs combination of 1 and 2","NestedDataItemInList","BP_SHOULDERBP_SHOULDER_OPCS","Any Position","BP_SHOULDER"]
[{"$f":"OR(C36='BP Flag Rules'!X$18,C36='BP Flag Rules'!X$19,C36='BP Flag Rules'!X$20,C36='BP Flag Rules'!X$21,(C36='BP Flag Rules'!X$22))+A35","v":2},"BP_TRN_P_ILI_FEMOPCSBP_TRA_PRC_ILI_FEM_OPCS","BP_TRN_P_ILI_FEM","OPCS","Any Position","3","BP_TRA_PRC_ILI_FEM_OPCS",null,"DataItemInList","BP_TRN_P_ILI_FEMBP_TRA_PRC_ILI_FEM_OPCS","Any Position","BP_TRN_P_ILI_FEM"]
[{"$f":"OR(C37='BP Flag Rules'!X$18,C37='BP Flag Rules'!X$19,C37='BP Flag Rules'!X$20,C37='BP Flag Rules'!X$21,(C37='BP Flag Rules'!X$22))+A36","v":2},"BP_U_GAST_HAEMOICDBP_U_GAST_HAEMO_ICD","BP_U_GAST_HAEMO","ICD","Primary Diagnoses","1","BP_U_GAST_HAEMO_ICD",null,"DataItemInList","BP_U_GAST_HAEMOBP_U_GAST_HAEMO_ICD","Primary Diagnoses","BP_U_GAST_HAEMO"]
[{"$f":"OR(C38='BP Flag Rules'!X$18,C38='BP Flag Rules'!X$19,C38='BP Flag Rules'!X$20,C38='BP Flag Rules'!X$21,(C38='BP Flag Rules'!X$22))+A37","v":2},"BP_UTR_EX_CAL_UROPCSBP_UTR_EXT_CAL_URET_OPCS","BP_UTR_EX_CAL_UR","OPCS","Any Position","3","BP_UTR_EXT_CAL_URET_OPCS",null,"DataItemInList","BP_UTR_EX_CAL_URBP_UTR_EXT_CAL_URET_OPCS","Any Position","BP_UTR_EX_CAL_UR"]
[{"$f":"OR(C39='BP Flag Rules'!X$18,C39='BP Flag Rules'!X$19,C39='BP Flag Rules'!X$20,C39='BP Flag Rules'!X$21,(C39='BP Flag Rules'!X$22))+A38","v":3},{"$f":"C39&D39&G39","v":""},null,null,null,null,null,null,null,{"$f":"C39&G39","v":""},{"$f":"E39","v":0},0]
[{"$f":"OR(C40='BP Flag Rules'!X$18,C40='BP Flag Rules'!X$19,C40='BP Flag Rules'!X$20,C40='BP Flag Rules'!X$21,(C40='BP Flag Rules'!X$22))+A39","v":4},null,null,null,null,null,null,null,null,null,0,0]

{"sheet":"TrigQualCount","index":13,"n_rows":36,"n_cols":25,"rows_kept":36,"cut":false,"hidden":true,"merged":[]}
[null,null,null,null,null,null,null,null,null,null,null,null,null,null,null,null,null,null,null,null,"code_type","List_ID","BP","Code_Value_in_List","Count_distinct_codes"]
["BP","Value","Sum",null,null,"BP",null,null,null,null,"BP","Value","Sum","sum 2+3",null,null,null,null,null,null,"OPCS","BP_FHF_OPCS","BP01","NULL",18]
["BP01","NULL",18,{"$f":"C3&\" Unique codes\"","v":"18 Unique codes"},null,"BP01","18 Unique codes",{"$f":"C3&\" Unique codes\"","v":"18 Unique codes"},null,null,"BP15",2,1,{"$f":"M3","v":1},"1 Unique codes",null,null,null,null,null,"OPCS","BP_SHOULDER","BP15",1,1]
["BP15",1,1,{"$f":"C4&\" Unique codes\"","v":"1 Unique codes"},null,"BP15","1 Unique codes",{"$f":"C4&\" Unique codes\"","v":"1 Unique codes"},null,null,"BP31",2,1,{"$f":"M4","v":1},"9 Unique codes",null,null,null,null,null,"OPCS","BP_SHOULDER","BP15",2,1]
["BP16","NULL",3,"3 Unique codes",null,"BP16","3 Unique codes","3 Unique codes",null,null,"BP79",2,1,{"$f":"M5+M6","v":1},"10 Unique codes",null,null,null,null,null,"OPCS","BP_BUNION_O","BP16","NULL",3]
["BP17","NULL",1,"1 Unique codes",null,"BP17","1 Unique codes","1 Unique codes",null,null,null,null,null,null,null,null,null,null,null,null,"OPCS","BP_DUPUY_OP","BP17","NULL",1]
["BP28","NULL",5,"5 Unique codes",null,"BP28","5 Unique codes","5 Unique codes",null,null,null,null,null,{"$f":"M7+M8","v":0},"16 Unique codes",null,null,null,null,null,"OPCS","BP_TEVAR_OP","BP23",1,1]
["BP29","NULL",5,"5 Unique codes",null,"BP29","5 Unique codes","5 Unique codes",null,null,null,null,null,null,null,null,null,null,null,null,"OPCS","BP_TEVAR_OP","BP23",2,9]
["BP31","NULL",1,"1 Unique codes",null,"BP31","1 Unique codes","1 Unique codes",null,null,null,null,null,{"$f":"M9","v":0},"9 Unique codes",null,null,null,null,null,"OPCS","BP_SFA_OPCS","BP24",1,4]
["BP31",1,1,"1 Unique codes",null,"BP31","1 Unique codes","1 Unique codes",null,null,null,null,null,{"$f":"M10+M11","v":0},"2 Unique codes",null,null,null,null,null,"OPCS","BP_SFA_OPCS","BP24",2,9]
["BP32","NULL",1,"1 Unique codes",null,"BP32","1 Unique codes","1 Unique codes",null,null,null,null,null,null,null,null,null,null,null,null,"OPCS","BP_SFA_OPCS","BP24",3,1]
["BP63","NULL",1,"1 Unique codes",null,"BP63","1 Unique codes","1 Unique codes",null,null,null,null,null,{"$f":"M12","v":0},"1 Unique codes",null,null,null,null,null,"OPCS","BP_DFD_OPCS","BP25",1,7]
["BP64","NULL",3,"3 Unique codes",null,"BP64","3 Unique codes","3 Unique codes",null,null,null,null,null,{"$f":"M13+M14+M15","v":0},"3 Unique codes",null,null,null,null,null,"OPCS","BP_DFD_OPCS","BP25",2,9]
["BP65","NULL",3,"3 Unique codes",null,"BP65","3 Unique codes","3 Unique codes",null,null,null,null,null,null,null,null,null,null,null,null,"OPCS","BP_DFD_OPCS","BP25",3,7]
["BP66","NULL",2,"2 Unique codes",null,"BP66","2 Unique codes","2 Unique codes",null,null,null,null,null,null,null,null,null,null,null,null,"OPCS","BP_TIPS_OPC","BP26",1,1]
["BP68","NULL",3,"3 Unique codes",null,"BP68","3 Unique codes","3 Unique codes",null,null,null,null,null,{"$f":"M16","v":0},"1 Unique codes",null,null,null,null,null,"OPCS","BP_TIPS_OPC","BP26",2,9]
["BP69","NULL",5,"5 Unique codes",null,"BP69","5 Unique codes",{"$f":"C17&\" Unique codes\"","v":"5 Unique codes"},null,null,null,null,null,null,null,null,null,null,null,null,"OPCS","BP_EXBRLESI","BP27",1,1]
["BP73","NULL",1,"1 Unique codes",null,"BP73","1 Unique codes","1 Unique codes",null,null,null,null,null,null,null,null,null,null,null,null,"OPCS","BP_EXBRLESI","BP27",2,1]
["BP74","NULL",1,"1 Unique codes",null,"BP74","1 Unique codes","1 Unique codes",null,null,null,null,null,null,null,null,null,null,null,null,"OPCS","BP_EXBRLESI","BP27",3,1]
["BP76","NULL",5,"5 Unique codes",null,"BP76","5 Unique codes","5 Unique codes",null,null,null,null,null,null,null,null,null,null,null,null,"OPCS","BP_MASTECTO","BP28","NULL",5]
["BP77","NULL",13,"13 Unique codes",null,"BP77","13 Unique codes","13 Unique codes",null,null,null,null,null,null,null,null,null,null,null,null,"OPCS","BP_EXBREAST","BP29","NULL",4]
["BP78","NULL",3,"3 Unique codes",null,"BP78","3 Unique codes","3 Unique codes",null,null,null,null,null,null,null,null,null,null,null,null,"OPCS","BP_LYMPH_OP","BP29","NULL",1]
["BP79",1,21,"21 Unique codes",null,"BP79","21 Unique codes","21 Unique codes",null,null,null,null,null,null,null,null,null,null,null,null,"OPCS","BP_EXBREAST","BP29",1,5]
[null,null,null,null,null,null,null,null,null,null,null,null,null,null,null,null,null,null,null,null,"OPCS","BP_LYMPH_OP","BP29",1,1]
[null,null,null,null,null,null,null,null,null,null,null,null,null,null,null,null,null,null,null,null,"OPCS","BP_LYMPH_OP","BP29",2,1]
[null,null,null,null,null,null,null,null,null,null,null,null,null,null,null,null,null,null,null,null,"OPCS","BP_LYMPH_OP","BP31","NULL",1]
[null,null,null,null,null,null,null,null,null,null,null,null,null,null,null,null,null,null,null,null,"OPCS","BP_EXBRLESI","BP31",1,1]
[null,null,null,null,null,null,null,null,null,null,null,null,null,null,null,null,null,null,null,null,"OPCS","BP_LYMPH_OP","BP31",1,1]
[null,null,null,null,null,null,null,null,null,null,null,null,null,null,null,null,null,null,null,null,"OPCS","BP_EXBRLESI","BP31",2,1]
[null,null,null,null,null,null,null,null,null,null,null,null,null,null,null,null,null,null,null,null,"OPCS","BP_LYMPH_OP","BP31",2,1]
[null,null,null,null,null,null,null,null,null,null,null,null,null,null,null,null,null,null,null,null,"OPCS","BP_EXBRLESI","BP31",3,1]
[null,null,null,null,null,null,null,null,null,null,null,null,null,null,null,null,null,null,null,null,"OPCS","BP_AXILLARY","BP32","NULL",1]
[null,null,null,null,null,null,null,null,null,null,null,null,null,null,null,null,null,null,null,null,"OPCS","BP_TONSIL_O","BP33","NULL",6]
[null,null,null,null,null,null,null,null,null,null,null,null,null,null,null,null,null,null,null,null,"OPCS","BP_SEPTO_OP","BP34","NULL",1]
[null,null,null,null,null,null,null,null,null,null,null,null,null,null,null,null,null,null,null,null,"OPCS","BP_PLEUAL_O","BP51",1,3]
[null,null,null,null,null,null,null,null,null,null,null,null,null,null,null,null,null,null,null,null,"OPCS","BP_PLEUAL_O","BP51",2,1]

{"sheet":"Hierarchy","index":14,"n_rows":1,"n_cols":2,"rows_kept":1,"cut":false,"hidden":true,"merged":[]}
["JA20F","1) BP28  2) BP29  3) BP32"]

{"sheet":"SummaryW","index":15,"n_rows":221,"n_cols":20,"rows_kept":221,"cut":false,"hidden":true,"merged":[[64,3,64,4],[64,7,64,11],[64,12,64,13],[65,7,65,11],[65,12,65,13],[66,7,66,11],[66,12,66,13],[70,7,70,11],[70,12,70,13],[71,7,71,11],[71,12,71,13],[72,7,72,11],[72,12,72,13],[67,7,67,11],[67,12,67,13],[68,7,68,11],[68,12,68,13],[69,7,69,11],[69,12,69,13],[76,7,76,11],[76,12,76,13],[77,7,77,11],[77,12,77,13],[78,7,78,11],[78,12,78,13],[73,7,73,11],[73,12,73,13],[74,7,74,11],[74,12,74,13],[75,7,75,11],[75,12,75,13],[82,7,82,11],[82,12,82,13],[83,7,83,11],[83,12,83,13],[84,7,84,11],[84,12,84,13],[79,7,79,11],[79,12,79,13],[80,7,80,11],[80,12,80,13],[81,7,81,11],[81,12,81,13],[88,7,88,11],[88,12,88,13],[89,7,89,11],[89,12,89,13],[90,7,90,11],[90,12,90,13],[85,7,85,11],[85,12,85,13],[86,7,86,11],[86,12,86,13],[87,7,87,11],[87,12,87,13],[94,12,94,13],[95,7,95,11],[95,12,95,13],[96,7,96,11],[96,12,96,13],[97,7,97,11],[97,12,97,13],[91,7,91,11],[91,12,91,13],[92,7,92,11],[92,12,92,13],[93,7,93,11],[93,12,93,13],[108,8,108,9],[109,8,109,9],[110,8,110,9],[111,8,111,9],[112,8,112,9],[113,8,113,9],[102,8,102,9],[103,8,103,9],[104,8,104,9],[105,8,105,9],[106,8,106,9],[107,8,107,9],[190,5,190,6],[191,5,191,6],[192,5,192,6],[193,5,193,6],[194,5,194,6],[195,5,195,6],[114,8,114,9],[115,8,115,9],[183,6,183,10],[187,5,187,6],[188,5,188,6],[189,5,189,6],[202,5,202,6],[203,5,203,6],[204,5,204,6],[205,5,205,6],[206,5,206,6],[207,5,207,6],[196,5,196,6],[197,5,197,6],[198,5,198,6],[199,5,199,6],[200,5,200,6],[201,5,201,6]]}
[]
[]
[null,"SUMMARY : HRG4 2013/14 Local Payment Grouper Best Practice Flag Code Set  (applies to APC only)"]
[]
[null,"Code / Flag","Present in 1213","Previous Name in 2011/12","Name","ICD10 &/or OPCS",null,"No. of ICD10 Triggers","No. of OPCS Triggers","Qualifying Age","Qualifying Admission Method","Triggering Diagnosis Position","Triggering Procedure Position","Other Criteria","Present in LP11/12","Changed since LP11/12","HRG Eligibility","Value in list","Documentation Flag","List"]
[null,"BP01",1213,88,"Fragility hip fracture","Both","AND",9,16,">59 (60-130) (not 999)","Emergency and transfers (21-25, 28, 81, 2A-D)","ANY","ANY","Requires 1 diagnostic qualifier in ANY position (from list of 9)","Yes","No",19,0,"BP_FHF","BP_FHF_OPCS"]
[null,null,null,null,null,null,null,null,null,null,null,null,null,null,null,null,null,null,null,"BP_FHF_ICD"]
[null,"BP05",1213,55,"Stroke","ICD-10",null,19,0,">18 Adults (19-130 or 999)","Emergency and transfers (21-25, 28, 81, 2A-D)","Spell primary","N/A","N/A","Yes","No",4,0,"BP_STROKE","BP_STROKE_ICD"]
[null,"BP15",1213,68,"Therapeutic arthroscopy of shoulder","OPCS","AND",0,"1+1",">18 Adults (19-130 or 999)","Elective (11,12,13)","N/A","ANY","Requires 1 procedure qualifier ","Yes","No",1,12,"BP_SHOULDER","BP_SHOULDER_OPCS"]
[null,"BP16",1213,69,"Bunion operations","OPCS",null,0,3,">18 Adults (19-130 or 999)","Elective (11,12,13)","N/A","ANY","N/A","Yes","No",3,0,"BP_BUNION","BP_BUNION_OPCS"]
[null,"BP17",1213,70,"Dupuytren's fasciectomy","OPCS",null,0,1,">18 Adults (19-130 or 999)","Elective (11,12,13)","N/A","ANY","N/A","Yes","No",1,null,"BP_DUPUYTRENS","BP_DUPUY_OPCS"]
[null,"BP20","deleted 1314",85,"Primary total hip replacements","OPCS",null,0,4,">18 Adults (19-130 or 999)","Elective (11,12,13)","N/A","ANY","N/A","Yes","No","Yes"]
[null,"BP21","deleted 1314",86,"Primary total knee replacements","OPCS",null,0,2,">18 Adults (19-130 or 999)","Elective (11,12,13)","N/A","ANY","N/A","Yes","No","Yes"]
[null,"BP23",1213,null,"Thoracic EVAR","OPCS","AND",0,"1+1",">18 Adults (19-130 or 999)","Elective (11,12,13)","N/A","ANY","Requires 1 procedure qualifier ","No","N/A",2,null,"BP_TEVAR","BP_TEVAR_OPCS"]
[null,"BP24",1213,null,"Angioplasty and stenting of SFA or iliac artery for PAD","OPCS",null,0,4,">18 Adults (19-130 or 999)","Elective (11,12,13)","N/A","ANY","2 Require 1 procedure qualifier (from list of 9)","No","N/A","HEIRACHY2",null,"BP_SFA_1","BP_SFA_OPCS_1"]
[null,null,null,null,null,null,null,null,null,null,null,null,null,"2 Require 2 procedure qualifier (1 from list of 9 +1)",null,null,null,null,"BP_SFA_2","BP_SFA_OPCS_2"]
[null,"BP25",1213,null,"Angioplasty and stenting for diabetic foot disease","Both","AND",5,7,">18 Adults (19-130 or 999)","Elective (11,12,13)","ANY","ANY","2 Require 1 procedure qualifier ","No","N/A","HEIRACHY2",null,"BP_DFD_1","BP_DFD_OPCS_1"]
[null,null,null,null,null,null,null,null,null,null,null,null,null,"2 Require 2 procedure qualifiers 1 + 1 ",null,null,null,null,"BP_DFD_2","BP_DFD_OPCS_2"]
[null,null,null,null,null,null,null,null,null,null,null,null,null,"2 Require 1 procedure qualifier + 1 (from list of 7)",null,null,null,null,"BP_DFD_3","BP_DFD_OPCS_3"]
[null,null,null,null,null,null,null,null,null,null,null,null,null,"1 Require 1 procedure qualifier + 1 (from list of 10)",null,null,null,null,"BP_DFD_4","BP_DFD_OPCS_4"]
[null,null,null,null,null,null,null,null,null,null,null,null,null,"xxxxxxx to remove",null,null,null,null,"BP_DFD_5","BP_DFD_OPCS_5"]
[null,"BP26",1213,null,"TIPS","OPCS",null,0,1,">18 Adults (19-130 or 999)","Elective (11,12,13)","N/A","ANY","Requires procedure qualifier from (list of 9)","No","N/A",1]
[null,"BP27",1213,null,"Percutaneous excision of benign breast lesions","OPCS",null,0,1,">18 Adults (19-130 or 999)","Elective (11,12,13)","N/A","ANY","Requires procedure qualifier 1 and 1","No","N/A",3]
[null,"BP28",1213,62,"Simple mastectomy without axillary surgery","OPCS",null,0,5,">18 Adults (19-130 or 999)","Elective (11,12,13)","N/A","ANY","N/A","Yes","Yes",3]
[" ","BP29",1213,null,"Excision of breast","OPCS",null,0,5,">18 Adults (19-130 or 999)","Elective (11,12,13)","N/A","ANY","N/A","No","N/A",3]
[null,"BP30","deleted 1314",null,"Excision of breast with sentinel lymph node biopsy or axillary sample","OPCS",null,0,5,">18 Adults (19-130 or 999)","Elective (11,12,13)","N/A","ANY","Requires procedure qualifier","No","N/A","Yes"]
[null,"BP31",1213,null,"Sentinel lymph node biopsy/Axillary sample","OPCS",null,0,2,">18 Adults (19-130 or 999)","Elective (11,12,13)","N/A","ANY","Requires procedure qualifier (1)","No","N/A",2]
[null,"BP32",1213,null,"Axillary clearance","OPCS",null,0,1,">18 Adults (19-130 or 999)","Elective (11,12,13)","N/A","ANY","N/A","No","N/A",2]
[null,"BP33",1213,null,"Tonsillectomy","OPCS",null,0,6,"N/A","Elective (11,12,13)","N/A","ANY","N/A","No","N/A",3,null,"BP_TONSIL","BP_TONSIL_OPCS"]
[null,"BP34 ",1213,null,"Septoplasty","OPCS",null,0,1,"N/A","Elective (11,12,13)","N/A","ANY","N/A","No","N/A",2,null,"BP_SEPTO","BP_SEPTO_OPCS"]
[null,"BP35",1213,null,"Epileptic seizure","ICD-10",null,12,0,">18 Adults (19-130 or 999)","Emergency  (21-25, 28, 2A-D)","Spell primary","N/A","N/A","No","N/A",2,null,"BP_EPI","BP_EPI_ICD"]
[null,"BP38","NEW 1314","sus r11?","Deliberate self harm","NONE",null,0,0,">18 Adults (19-130 or 999)","Emergency  (21-25, 28, 2A-D)","N/A","N/A","LOS","No","N/A",2]
[null,"BP39",1213,null,"Cellulitis","ICD-10",null,11,0,">18 Adults (19-130 or 999)","Emergency  (21-25, 28, 2A-D)","Spell primary","N/A","N/A","No","N/A",4]
[null,"BP40",1213,null,"Chest pain","ICD-10",null,11,0,">18 Adults (19-130 or 999)","Emergency  (21-25, 28, 2A-D)","Spell primary","N/A","N/A","No","N/A",1]
[null,"BP41","NEW 1314","sus r11?","Falls including syncope or collapse","NONE",null,0,0,">18 Adults (19-130 or 999)","Emergency  (21-25, 28, 2A-D)","N/A","N/A","LOS","No","N/A",1]
[null,"BP42",1213,null,"Appendicular fractures not requiring immediate fixation","ICD-10",null,52,0,">18 Adults (19-130 or 999)","Emergency  (21-25, 28, 2A-D)","Spell primary","N/A","N/A","No","N/A",4]
[null,"BP43","deleted 1314",null,"Simple mastectomy with axillary surgery","OPCS",null,0,5,">18 Adults (19-130 or 999)","Elective (11,12,13)","N/A","ANY","Requires procedure qualifier","No","N/A","Yes"]
[null,"BP44","NEW 1314","sus r11?","Asthma","NONE",null,0,0,">18 Adults (19-130 or 999)","Emergency  (21-25, 28, 2A-D)","N/A","N/A","LOS","No","N/A",2]
[null,"BP45","NEW 1314","sus r11?","Lower respiratory tract infections without COPD","NONE",null,0,0,">18 Adults (19-130 or 999)","Emergency  (21-25, 28, 2A-D)","N/A","N/A","LOS","No","N/A",1]
[null,"BP46","NEW 1314","sus r11?","Pulmonary embolism","NONE",null,0,0,">18 Adults (19-130 or 999)","Emergency  (21-25, 28, 2A-D)","N/A","N/A","LOS","No","N/A",2]
[null,"BP47","NEW 1314","sus r11?","Renal/ureteric stones","NONE",null,0,0,">18 Adults (19-130 or 999)","Emergency  (21-25, 28, 2A-D)","N/A","N/A","LOS","No","N/A",2]
[null,"BP48","NEW 1314","sus r11?","DVT","NONE",null,0,0,">18 Adults (19-130 or 999)","Emergency  (21-25, 28, 2A-D)","N/A","N/A","LOS","No","N/A",1]
[null,"BP49","NEW 1314","sus r11?","Acute headache","NONE",null,0,0,">18 Adults (19-130 or 999)","Emergency  (21-25, 28, 2A-D)","N/A","N/A","LOS","No","N/A",2]
[null,"BP50","deleted 1314",null,"???",null,null,5,3,null,null,null,null,null,null,null,1]
[null,"BP51","NEW 1314",null,"Pleural Effusion","ICD-10",null,0,3,">18 Adults (19-130 or 999)","Emergency  (21-25, 28, 2A-D)","N/A","N/A","Requires procedure qualifier ??","No","N/A",1]
[null,"BP52","NEW 1314",null,"Diabetic Ketoacidosis and Hypoglycemia","ICD-10",null,13,0,">18 Adults (19-130 or 999)","Emergency  (21-25, 28, 2A-D)","Spell primary + Qual in any","N/A","10 primary, 3 primary and 10 any","No","N/A",8]
[null,"BP53","NEW 1314",null,"Low risk pubic rami","ICD-10",null,2,0,">18 Adults (19-130 or 999)","Emergency  (21-25, 28, 2A-D)","N/A","N/A","N/A","No","N/A",1]
[null,"BP54","NEW 1314","sus r11?","Anaemia","NONE",null,0,0,">18 Adults (19-130 or 999)","Emergency  (21-25, 28, 2A-D)","N/A","N/A","LOS","No","N/A",6]
[null,"BP55","NEW 1314","sus r11?","Bladder outflow obstruction","NONE",null,0,0,">18 Adults (19-130 or 999)","Emergency  (21-25, 28, 2A-D)","N/A","N/A","LOS","No","N/A",2]
[null,"BP56","NEW 1314","sus r11?","Community acquired pneumonia","NONE",null,0,0,">18 Adults (19-130 or 999)","Emergency  (21-25, 28, 2A-D)","N/A","N/A","LOS","No","N/A",1]
[null,"BP58","NEW 1314","sus r11?","Minor head injury","NONE",null,0,0,">18 Adults (19-130 or 999)","Emergency  (21-25, 28, 2A-D)","N/A","N/A","LOS","No","N/A",2]
[null,"BP59","NEW 1314","sus r11?","Supraventricular tachycardias including atrial fibrillation","NONE",null,0,0,">18 Adults (19-130 or 999)","Emergency  (21-25, 28, 2A-D)","N/A","N/A","LOS","No","N/A",2]
[null,"BP61","NEW 1314","sus r11?","Abdominal pain","NONE",null,0,0,">18 Adults (19-130 or 999)","Emergency  (21-25, 28, 2A-D)","N/A","N/A","LOS","No","N/A",2]
[]
[]
[]
[]
[]
[]
[]
[]
[]
[null,"HRG4 2012/13 Local Payment Grouper & SUS PbR Flag Definition Summary"]
[]
[null,"BPT Identifier",null,"Outputs ",null,"Data Source",null,"Service",null,null,null,null,"HRG Eligibilty"]
[null,"BP01",null,"Grouper /SUS PbR",null,"APC",null,"Fragility Hip Fracture",null,null,null,null,"HA11 HA12 HA13 HA14 & VA11-VA12"]
[null,"BP04",null,"SUS PbR Generated",null,"OP",null,"Cataract Best Practice",null,null,null,null,"BZ02Z & BZ03Z"]
[null,"BP05",null,"Grouper /SUS PbR",null,"APC",null,"Stroke",null,null,null,null,"AA22Z & AA23Z"]
[null,"BP15",null,"Grouper /SUS PbR",null,"APC",null,"Therapeutic Arthroscopy of Shoulder",null,null,null,null,"HB62C"]
[null,"BP16",null,"Grouper /SUS PbR",null,"APC",null,"Bunion Operations",null,null,null,null,"HB34E, HB35B & HB35C"]
[null,"BP17",null,"Grouper /SUS PbR",null,"APC",null,"Dupuytren's Fasciectomy",null,null,null,null,"HB53Z"]
[null,"BP20",null,"Grouper /SUS PbR",null,"APC",null,"Primary Total Hip Replacements",null,null,null,null,"HB12B & HB12C"]
[null,"BP21",null,"Grouper /SUS PbR",null,"APC",null,"Primary Total Knee Replacements",null,null,null,null,"HB21B & HB21C"]
[null,"BP23",null,"Grouper /SUS PbR",null,"APC",null,"Thoracic EVAR",null,null,null,null,"QZ01A & QZ01B"]
[null,"BP24",null,"Grouper /SUS PbR",null,"APC",null,"Angioplasty and stenting of SFA or iliac artery for PAD",null,null,null,null,"QZ15B & QZ15C"]
[null,"BP25",null,"Grouper /SUS PbR",null,"APC",null,"Angioplasty and stenting for diabetic foot disease",null,null,null,null,"QZ15B & QZ15C"]
[null,"BP26",null,"Grouper /SUS PbR",null,"APC",null,"TIPS (Transjugular Intrahepatic Portosystemic Shunt)",null,null,null,null,"GB01Z"]
[null,"BP27",null,"Grouper /SUS PbR",null,"APC",null,"Percutaneous excision of benign breast lesions",null,null,null,null,"JA09B, JA09C & JA09D"]
[null,"BP28",null,"Grouper /SUS PbR",null,"APC",null,"Simple mastectomy without axillary surgery",null,null,null,null,"JA06Z, JA07B & JA07C"]
[null,"BP29",null,"Grouper /SUS PbR",null,"APC",null,"Excision of breast",null,null,null,null,"JA07B, JA07C & JA09B"]
[null,"BP30",null,"Grouper /SUS PbR",null,"APC",null,"Excision of breast with sentinel lymph node biopsy or axillary sample",null,null,null,null,"JA07B, JA07C & JA09B"]
[null,"BP31",null,"Grouper /SUS PbR",null,"APC",null,"Sentinel lymph node biopsy/Axillary sample",null,null,null,null,"JA09B & JA09D"]
[null,"BP32",null,"Grouper /SUS PbR",null,"APC",null,"Axillary clearance",null,null,null,null,"JA07B & JA07C"]
[null,"BP33",null,"Grouper /SUS PbR",null,"APC",null,"Tonsillectomy",null,null,null,null,"CZ05T, CZ05V & CZ05Y"]
[null,"BP34",null,"Grouper /SUS PbR",null,"APC",null,"Septoplasty",null,null,null,null,"CZ13V & CZ13Y"]
[null,"BP35",null,"Grouper /SUS PbR",null,"APC",null,"Epileptic seizure",null,null,null,null,"AA26Z"]
[null,"BP38",null,"SUS PbR Generated",null,"APC",null,"Deliberate self harm (Adult, Emergency/Transfer (21-25, 28, 81),Tariff differentiated on length of stay)",null,null,null,null,"WA11X & WA11Y"]
[null,"BP39",null,"Grouper /SUS PbR",null,"APC",null,"Cellulitis",null,null,null,null,"JD03B, JD03C, JD04B & JD04C"]
[null,"BP40",null,"Grouper /SUS PbR",null,"APC",null,"Chest pain",null,null,null,null,"EB01Z"]
[null,"BP41",null,"SUS PbR Generated",null,"APC",null,"Falls including syncope or collapse (Adult, Emergency/Transfer (21-25, 28, 81),Tariff differentiated on length of stay)",null,null,null,null,"EB08I"]
[null,"BP42",null,"Grouper /SUS PbR",null,"APC",null,"Appendicular fractures not requiring immediate fixation",null,null,null,null,"HA92Z, HA93Z, HA94Z & HA95Z"]
[null,"BP43",null,"Grouper /SUS PbR",null,"APC",null,"Simple mastectomy with axillary surgery",null,null,null,null,"JA06Z, JA07B & JA07C"]
[null,"BP44",null,"SUS PbR Generated",null,"APC",null,"Asthma (Adult, Emergency/Transfer (21-25, 28, 81),Tariff differentiated on length of stay)",null,null,null,null,"DZ15E & DZ15F"]
[null,"BP45",null,"SUS PbR Generated",null,"APC",null,"Lower respiratory tract infections without COPD (Adult, Emergency/Transfer (21-25, 28, 81),Tariff differentiated on los)",null,null,null,null,"DZ22B, DZ22C, DZ23B & DZ23C"]
[null,"BP46",null,"SUS PbR Generated",null,"APC",null,"Pulmonary embolism (Adult, Emergency/Transfer (21-25, 28, 81),Tariff differentiated on length of stay)",null,null,null,null,"DZ09A & DZ09B"]
[null,"BP47",null,"SUS PbR Generated",null,"APC",null,"Renal/ureteric stones (Adult, Emergency/Transfer (21-25, 28, 81),Tariff differentiated on length of stay)",null,null,null,null,"LB40A & LB40B"]
[null,"BP48",null,"SUS PbR Generated",null,"APC",null,"DVT (Adult, Emergency/Transfer (21-25, 28, 81),Tariff differentiated on length of stay)",null,null,null,null,"QZ20Z"]
[null,"BP49",null,"SUS PbR Generated",null,"APC",null,"Acute headache (Adult, Emergency/Transfer (21-25, 28, 81),Tariff differentiated on length of stay)",null,null,null,null,"AA31Z"]
[]
[]
[null,"Best practice without flags (ie Tariffs adjusted)"]
[]
[null,"Name",null,null,"Level","Setting",null,"Age criteria","Admission method criteria\n(APC only)",null,"Other criteria - not grouper applied","HRG criteria"]
[null,"Abdominal EVAR",null,null,"HRG","APC",null,"All","Elective (11, 12, 13)",null,null,"RC12-RC13"]
[null,"Adult Renal Dialysis",null,null,"HRG","All",null,"Adult","All",null,null,"Sub chapter LD"]
[null,"Cholecystectomy (gall bladder removal)",null,null,"HRG","APC",null,"All","Elective (11, 12, 13)",null,null,"GA10D & GA10E"]
[null,"Uterine Fibroid Embolisation",null,null,"HRG","APC",null,"Adult","Elective (11, 12, 13)",null,null,"RC41Z"]
[null,"Hernia repair",null,null,"HRG","APC",null,"All","Elective (11, 12, 13)",null,"Tariff differentiated on day case vs elective","FZ18A, FZ18B & FZ18C"]
[null,"Hysteroscopic sterilisation",null,null,"HRG","All",null,"Adult","Elective (11, 12, 13)",null,"Tariff differentiated on OP vs day case/elective","MA10Z"]
[null,"Operations to manage female incontinence",null,null,"HRG","APC",null,"All","Elective (11, 12, 13)",null,"Tariff differentiated on daycase vs elective","LB23Z"]
[null,"Endoscopic resection of prostate (TUR)",null,null,"HRG","APC",null,"All","Elective (11, 12, 13)",null,"Tariff differentiated on daycase vs elective","LB25B & LB25C"]
[null,"Resection of prostate by laser",null,null,"HRG","APC",null,"All","Elective (11, 12, 13)",null,"Tariff differentiated on daycase vs elective","LB25C"]
[null,"Diagnostic Cystoscopy",null,null,"HRG","All",null,"Adult","Elective (11, 12, 13)",null,"Tariff differentiated on OP vs day case/elective","LB14E"]
[null,"Diagnostic Hysteroscopy",null,null,"HRG","All",null,"Adult","Elective (11, 12, 13)",null,"Tariff differentiated on OP vs day case/elective","MA21Z"]
[null,"Paediatric Diabetes",null,null,"Year of Care","OP",null,"Child","N/A"]
[null,"Transient Ischaemic Attack",null,null,"TFC","OP",null,"Adult","N/A",null,"MRI (RA01-RA07) and/or high risk","TFC 329"]
[]
[null,1,null,3,null,null,6,null,8,9,10]
[null,"Code / Flag","Name","No. HRG Triggers","ICD-10 &/or OPCS","No. of ICD-10 Qualifiers","Qualifying Diagnosis Position","No. of OPCS Qualifiers","Qualifying Procedure Position","Qualifying Age","Qualifying Admission Method","Changes since LP11-12","PbR Provider Eligibility*"]
[null,"BP01","Fragility Hip Fracture",19,{"$f":"IF(AND(F120>0,H120>0),\"Both\",IF(F120>0,\"ICD-10\",IF(H120>0,\"OPCS\",IF(H120=0,\"Neither\"))))","v":"Both"},{"$f":"IF(ISNA(VLOOKUP(B120,$B$5:$L$53,7,FALSE)),0,VLOOKUP(B120,$B$5:$L$53,7,FALSE))","v":9},"Any Position",16,"Any Position",">59 (60-130)","Emergency and Transfers 21-25, 28, 81, 2A, 2B, 2C, 2D"]
[null,"BP05","Stroke",4,"ICD-10",{"$f":"IF(ISNA(VLOOKUP(B121,$B$5:$L$53,7,FALSE)),0,VLOOKUP(B121,$B$5:$L$53,7,FALSE))","v":19},"Primary Diagnoses",0,null,"Adults 19 and over (19-130 or 999)","Emergency and Transfers 21-25, 28, 81, 2A, 2B, 2C, 2D"]
[null,"BP15","Therapeutic Arthroscopy of Shoulder",1,"OPCS",0,null,2,"Any Position","Adults 19 and over (19-130 or 999)","Elective 11, 12, 13"]
[null,"BP16","Bunion Operations",3,{"$f":"IF(AND(F123>0,H123>0),\"Both\",IF(F123>0,\"ICD-10\",IF(H123>0,\"OPCS\",IF(H123=0,\"Neither\"))))","v":"OPCS"},0,null,3,"Any Position","Adults 19 and over (19-130 or 999)","Elective 11, 12, 13"]
[null,"BP17","Dupuytren's Fasciectomy",1,"OPCS",0,null,1,"Any Position","Adults 19 and over (19-130 or 999)","Elective 11, 12, 13"]
[null,"BP23","Thoracic EVAR",2,"OPCS",0,null,10,"Any Position","Adults 19 and over (19-130 or 999)","Elective 11, 12, 13"]
[null,"BP24","Angioplasty and stenting of SFA or iliac artery for PAD",2,"OPCS",0,null,23,"Any Position","Adults 19 and over (19-130 or 999)","Elective 11, 12, 13"]
[null,"BP25","Angioplasty and stenting for diabetic foot disease",2,"Both",5,"Any Position",69,"Any Position","Adults 19 and over (19-130 or 999)","Elective 11, 12, 13"]
[null,"BP26","TIPS",1,"OPCS",0,null,10,"Any Position","Adults 19 and over (19-130 or 999)","Elective 11, 12, 13"]
[null,"BP27","Percutaneous excision of benign breast lesions",3,"OPCS",0,null,3,"Any Position","Adults 19 and over (19-130 or 999)","Elective 11, 12, 13"]
[null,"BP28","Simple mastectomy",3,"OPCS",0,null,5,"Any Position","Adults 19 and over (19-130 or 999)","Elective 11, 12, 13"]
[null,"BP29","Excision of breast",3,"OPCS",0,null,12,"Any Position","Adults 19 and over (19-130 or 999)","Elective 11, 12, 13"]
[null,"BP31","Sentinel lymph node biopsy/Axillary sample",2,"OPCS",0,null,6,"Any Position","Adults 19 and over (19-130 or 999)","Elective 11, 12, 13"]
[null,"BP32","Axillary clearance",2,"OPCS",0,null,1,"Any Position","Adults 19 and over (19-130 or 999)","Elective 11, 12, 13"]
[null,"BP33","Tonsillectomy",3,"OPCS",0,null,6,"Any Position",null,"Elective 11, 12, 13"]
[null,"BP34","Septoplasty",2,"OPCS",0,null,1,"Any Position",null,"Elective 11, 12, 13"]
[null,"BP35","Epileptic seizure",2,"ICD-10",12,"Primary Diagnoses",0,null,"Adults 19 and over (19-130 or 999)","Emergency 21-25, 28, 2A, 2B, 2C, 2D"]
[null,"BP38","Deliberate self harm",2,"Neither",0,null,0,null,"Adults 19 and over (19-130 or 999)","Emergency 21-25, 28, 2A, 2B, 2C, 2D"]
[null,"BP39","Cellulitis",4,"ICD-10",11,"Primary Diagnoses",0,null,"Adults 19 and over (19-130 or 999)","Emergency 21-25, 28, 2A, 2B, 2C, 2D"]
[null,"BP40","Chest pain",1,"ICD-10",11,"Primary Diagnoses",0,null,"Adults 19 and over (19-130 or 999)","Emergency 21-25, 28, 2A, 2B, 2C, 2D"]
[null,"BP41","Falls including syncope or collapse",1,"Neither",0,null,0,null,"Adults 19 and over (19-130 or 999)","Emergency 21-25, 28, 2A, 2B, 2C, 2D"]
[null,"BP42","Appendicular fractures not requiring immediate fixation",4,"ICD-10",52,"Primary Diagnoses",0,null,"Adults 19 and over (19-130 or 999)","Emergency 21-25, 28, 2A, 2B, 2C, 2D"]
[null,"BP44","Asthma",2,"Neither",0,null,0,null,"Adults 19 and over (19-130 or 999)","Emergency 21-25, 28, 2A, 2B, 2C, 2D"]
[null,"BP45","Lower respiratory tract infections without COPD",1,"Neither",0,null,0,null,"Adults 19 and over (19-130 or 999)","Emergency 21-25, 28, 2A, 2B, 2C, 2D"]
[null,"BP46","Pulmonary embolism",2,"Neither",0,null,0,null,"Adults 19 and over (19-130 or 999)","Emergency 21-25, 28, 2A, 2B, 2C, 2D"]
[null,"BP47","Renal/ureteric stones",2,"Neither",0,null,0,null,"Adults 19 and over (19-130 or 999)","Emergency 21-25, 28, 2A, 2B, 2C, 2D"]
[null,"BP48","DVT",1,"Neither",0,null,0,null,"Adults 19 and over (19-130 or 999)","Emergency 21-25, 28, 2A, 2B, 2C, 2D"]
[null,"BP49","Acute headache",2,"Neither",0,null,0,null,"Adults 19 and over (19-130 or 999)","Emergency 21-25, 28, 2A, 2B, 2C, 2D"]
[null,"BP51","Pleural Effusion",1,"OPCS",0,null,4,"Any Position","Adults 19 and over (19-130 or 999)","Elective 11, 12, 13"]
[null,"BP52","Diabetic Ketoacidosis and Hypoglycemia",8,"ICD-10",13,"Primary and Secondary Diagnoses needed",0,null,"Adults 19 and over (19-130 or 999)","Emergency 21-25, 28, 2A, 2B, 2C, 2D"]
[null,"BP53","Low risk pubic rami",1,"ICD-10",2,"Primary Diagnoses",0,null,"Adults 19 and over (19-130 or 999)","Emergency 21-25, 28, 2A, 2B, 2C, 2D"]
[null,"BP54","Anaemia",6,"Neither",0,null,0,null,"Adults 19 and over (19-130 or 999)","Emergency 21-25, 28, 2A, 2B, 2C, 2D"]
[null,"BP55","Bladder outflow obstruction",2,"Neither",0,null,0,null,"Adults 19 and over (19-130 or 999)","Emergency 21-25, 28, 2A, 2B, 2C, 2D"]
[null,"BP56","Community acquired pneumonia",1,"Neither",0,null,0,null,"Adults 19 and over (19-130 or 999)","Emergency 21-25, 28, 2A, 2B, 2C, 2D"]
[null,"BP58","Minor head injury",2,"Neither",0,null,0,null,"Adults 19 and over (19-130 or 999)","Emergency 21-25, 28, 2A, 2B, 2C, 2D"]
[null,"BP59","Supraventricular tachycardias including atrial fibrillation",2,"Neither",0,null,0,null,"Adults 19 and over (19-130 or 999)","Emergency 21-25, 28, 2A, 2B, 2C, 2D"]
[null,"BP61","Abdominal pain",2,"Neither",0,null,0,null,"Adults 19 and over (19-130 or 999)","Emergency 21-25, 28, 2A, 2B, 2C, 2D"]
[]
["WIP"]
[null,"HRG4 2012/13 Unused BP Codes"]
[]
[null,"BPT Identifier"]
[null,"BP02"]
[null,"BP03"]
[null,"BP06"]
[null,"BP07"]
[null,"BP08"]
[null,"BP09"]
[null,"BP10"]
[null,"BP11"]
[null,"BP12"]
[null,"BP13"]
[null,"BP14"]
[null,"BP18"]
[null,"BP19"]
[null,"BP20"]
[null,"BP21"]
[null,"BP22"]
[null,"BP30"]
[null,"BP36"]
[null,"BP37"]
[null,"BP57"]
[null,"BP60"]
[]
["non mandatory","BP04","SUS PbR Generated",null,null,"OP","Cataract Best Practice"]
[]
[null,"Best practice without flags (ie Tariffs adjusted)"]
[]
[null,"Name","Level","Setting","Age criteria","Admission method criteria\n(APC only)",null,"Other criteria - not grouper applied","HRG criteria"]
[null,"Abdominal EVAR","HRG","APC","All","Elective (11, 12, 13)",null,null,"RC12-RC13"]
[null,"Adult Renal Dialysis","HRG"," ","Adult","All",null,null,"Sub chapter LD"]
[null,"Cholecystectomy (gall bladder removal)","HRG","APC","All","Elective (11, 12, 13)",null,null,"GA10D & GA10E"]
[null,"Uterine Fibroid Embolisation","HRG","APC","All","Elective (11, 12, 13)",null,null,"RC41Z"]
[null,"Hernia repair","HRG","APC","All","Elective (11, 12, 13)",null,"Tariff differentiated on day case vs elective","FZ18A, FZ18B & FZ18C"]
[null,"Hysteroscopic sterilisation","HRG","All","Adult","Elective (11, 12, 13)",null,"Tariff differentiated on OP vs day case/elective","MA10Z"]
[null,"Operations to manage female incontinence","HRG","APC","All","Elective (11, 12, 13)",null,"Tariff differentiated on daycase vs elective","LB23Z"]
[null,"Endoscopic resection of prostate (TUR)","HRG","APC","All","Elective (11, 12, 13)",null,"Tariff differentiated on daycase vs elective","LB25B & LB25C"]
[null,"Resection of prostate by laser","HRG","APC","All","Elective (11, 12, 13)",null,"Tariff differentiated on daycase vs elective","LB25C"]
[null,"Diagnostic Cystoscopy","HRG","All","Adult","Elective (11, 12, 13)",null,"Tariff differentiated on OP vs day case/elective","LB14E"]
[null,"Diagnostic Hysteroscopy","HRG","All","Adult","Elective (11, 12, 13)",null,"Tariff differentiated on OP vs day case/elective","MA21Z"]
[null,"Paediatric Diabetes","Year of Care","OP","Child","N/A"]
[null,"Transient Ischaemic Attack","TFC","OP","Adult","N/A",null,"MRI (RA01-RA07) and/or high risk","TFC 329"]
[null,"Paediatric epilepsy","TFC","OP","Child"]
["Added","Tympanoplasty???",null,null,"All"]
["Added","Early inflammatory arthritis ","TFC","OP","Adult","?"]
["Added","Endoscopy procedures ","HRG",null,"Adults","Elective (11, 12, 13)"]
["Added","Major trauma ","HRG",null,"All"]
["Added","Paediatric epilepsy",null,"OP","Child"]
["Added","Parkinson’s disease",null,null,"Adults"]
[]
[]
[null,"In doc not in database"]
[null,"Early inflammatory arthritis    no"]
[null,"Endoscopy procedures             no bp flag"]
[null,"Interventional radiology    some BPs"]
[null,"Major trauma                       no BP"]
[null,"Paediatric epilepsy           no"]
[null,"Parkinson’s disease          no"]
[null,"Same day emergency care     assorted BPs"]
[null,"Day case procedures   "]
[null,"Assorted BPs"]
[null,"Outpatient procedures     no BP flag"]

{"sheet":"SummaryForLookups","index":16,"n_rows":51,"n_cols":11,"rows_kept":51,"cut":false,"hidden":true,"merged":[]}
["Code / Flag","No. HRG Triggers","No. of ICD-10 Qualifiers","Qualifying Diagnosis Position","No. of OPCS Triggers","No. of OPCS Qualifiers","Qualifying Procedure Position","Qualifying Age","Qualifying Admission Method"]
["BP01",18,"9 Unique codes","Any Position","18 Unique codes","","Any Position","60 and over (60-130) (not 999)","Emergency and transfers (21-25, 28, 81, 2A, 2B, 2C, 2D)",{"$f":"VLOOKUP($A2,'BP Summary'!B:P,4,FALSE)","v":"Admitted Patient Care"},{"$f":"IF(VLOOKUP($A2,'BP Summary'!B:P,6,FALSE) =0,\"\", VLOOKUP($A2,'BP Summary'!B:P,6,FALSE))","v":"Any Position"}]
["BP02",23,"9 Unique codes","Primary Diagnoses","","",null,"19 and over (19-130 or 999)","Emergency and transfers (21-25, 28, 81, 2A, 2B, 2C, 2D)",{"$f":"VLOOKUP($A3,'BP Summary'!B:P,4,FALSE)","v":"Admitted Patient Care"},{"$f":"IF(VLOOKUP($A3,'BP Summary'!B:P,6,FALSE) =0,\"\", VLOOKUP($A3,'BP Summary'!B:P,6,FALSE))","v":"Primary Diagnoses"}]
["BP05",6,"19 Unique codes","Primary Diagnoses","","",null,"19 and over (19-130 or 999)","Emergency and transfers (21-25, 28, 81, 2A, 2B, 2C, 2D)",{"$f":"VLOOKUP($A4,'BP Summary'!B:P,4,FALSE)","v":0},{"$f":"IF(VLOOKUP($A4,'BP Summary'!B:P,6,FALSE) =0,\"\", VLOOKUP($A4,'BP Summary'!B:P,6,FALSE))","v":""}]
["BP15",1,"",null,"1 Unique code","1 Unique code","Any Position","19 and over (19-130 or 999)","Elective (11, 12, 13)",{"$f":"VLOOKUP($A5,'BP Summary'!B:P,4,FALSE)","v":"Admitted Patient Care"},{"$f":"IF(VLOOKUP($A5,'BP Summary'!B:P,6,FALSE) =0,\"\", VLOOKUP($A5,'BP Summary'!B:P,6,FALSE))","v":""}]
["BP16",1,"",null,"3 Unique codes","","Any Position","19 and over (19-130 or 999)","Elective (11, 12, 13)",{"$f":"VLOOKUP($A6,'BP Summary'!B:P,4,FALSE)","v":"Admitted Patient Care"},{"$f":"IF(VLOOKUP($A6,'BP Summary'!B:P,6,FALSE) =0,\"\", VLOOKUP($A6,'BP Summary'!B:P,6,FALSE))","v":""}]
["BP17",1,"",null,"1 Unique code","","Any Position","19 and over (19-130 or 999)","Elective (11, 12, 13)",{"$f":"VLOOKUP($A7,'BP Summary'!B:P,4,FALSE)","v":"Admitted Patient Care"},{"$f":"IF(VLOOKUP($A7,'BP Summary'!B:P,6,FALSE) =0,\"\", VLOOKUP($A7,'BP Summary'!B:P,6,FALSE))","v":""}]
["BP28",2,"",null,"5 Unique codes","","Any Position","19 and over (19-130 or 999)","Elective (11, 12, 13)",{"$f":"VLOOKUP($A8,'BP Summary'!B:P,4,FALSE)","v":"Admitted Patient Care"},{"$f":"IF(VLOOKUP($A8,'BP Summary'!B:P,6,FALSE) =0,\"\", VLOOKUP($A8,'BP Summary'!B:P,6,FALSE))","v":""}]
["BP29",2,"",null,"5 Unique codes","","Any Position","19 and over (19-130 or 999)","Elective (11, 12, 13)",{"$f":"VLOOKUP($A9,'BP Summary'!B:P,4,FALSE)","v":"Admitted Patient Care"},{"$f":"IF(VLOOKUP($A9,'BP Summary'!B:P,6,FALSE) =0,\"\", VLOOKUP($A9,'BP Summary'!B:P,6,FALSE))","v":""}]
["BP31",1,"",null,"2 Unique codes","1 Unique code","Any Position","19 and over (19-130 or 999)","Elective (11, 12, 13)",{"$f":"VLOOKUP($A10,'BP Summary'!B:P,4,FALSE)","v":"Admitted Patient Care"},{"$f":"IF(VLOOKUP($A10,'BP Summary'!B:P,6,FALSE) =0,\"\", VLOOKUP($A10,'BP Summary'!B:P,6,FALSE))","v":""}]
["BP32",1,"",null,"1 Unique code","","Any Position","19 and over (19-130 or 999)","Elective (11, 12, 13)",{"$f":"VLOOKUP($A11,'BP Summary'!B:P,4,FALSE)","v":"Admitted Patient Care"},{"$f":"IF(VLOOKUP($A11,'BP Summary'!B:P,6,FALSE) =0,\"\", VLOOKUP($A11,'BP Summary'!B:P,6,FALSE))","v":""}]
["BP35",3,"12 Unique codes","Primary Diagnoses","","",null,"19 and over (19-130 or 999)","Emergency (21-25, 28, 2A, 2B, 2C, 2D)",{"$f":"VLOOKUP($A12,'BP Summary'!B:P,4,FALSE)","v":"Admitted Patient Care"},{"$f":"IF(VLOOKUP($A12,'BP Summary'!B:P,6,FALSE) =0,\"\", VLOOKUP($A12,'BP Summary'!B:P,6,FALSE))","v":"Primary Diagnoses"}]
["BP38",1,"",null,"","",null,"19 and over (19-130 or 999)","Emergency (21-25, 28, 2A, 2B, 2C, 2D)",{"$f":"VLOOKUP($A13,'BP Summary'!B:P,4,FALSE)","v":"Admitted Patient Care"},{"$f":"IF(VLOOKUP($A13,'BP Summary'!B:P,6,FALSE) =0,\"\", VLOOKUP($A13,'BP Summary'!B:P,6,FALSE))","v":""}]
["BP39",3,"9 Unique codes","Primary Diagnoses","","",null,"19 and over (19-130 or 999)","Emergency (21-25, 28, 2A, 2B, 2C, 2D)",{"$f":"VLOOKUP($A14,'BP Summary'!B:P,4,FALSE)","v":"Admitted Patient Care"},{"$f":"IF(VLOOKUP($A14,'BP Summary'!B:P,6,FALSE) =0,\"\", VLOOKUP($A14,'BP Summary'!B:P,6,FALSE))","v":"Primary Diagnoses"}]
["BP40",4,"11 Unique codes","Primary Diagnoses","","",null,"19 and over (19-130 or 999)","Emergency (21-25, 28, 2A, 2B, 2C, 2D)",{"$f":"VLOOKUP($A15,'BP Summary'!B:P,4,FALSE)","v":"Admitted Patient Care"},{"$f":"IF(VLOOKUP($A15,'BP Summary'!B:P,6,FALSE) =0,\"\", VLOOKUP($A15,'BP Summary'!B:P,6,FALSE))","v":"Primary Diagnoses"}]
["BP41",1,"",null,"","",null,"19 and over (19-130 or 999)","Emergency (21-25, 28, 2A, 2B, 2C, 2D)",{"$f":"VLOOKUP($A16,'BP Summary'!B:P,4,FALSE)","v":"Admitted Patient Care"},{"$f":"IF(VLOOKUP($A16,'BP Summary'!B:P,6,FALSE) =0,\"\", VLOOKUP($A16,'BP Summary'!B:P,6,FALSE))","v":""}]
["BP42",8,"52 Unique codes","Primary Diagnoses","","",null,"19 and over (19-130 or 999)","Emergency (21-25, 28, 2A, 2B, 2C, 2D)",{"$f":"VLOOKUP($A17,'BP Summary'!B:P,4,FALSE)","v":"Admitted Patient Care"},{"$f":"IF(VLOOKUP($A17,'BP Summary'!B:P,6,FALSE) =0,\"\", VLOOKUP($A17,'BP Summary'!B:P,6,FALSE))","v":"Primary Diagnoses"}]
["BP44",2,"",null,"","",null,"19 and over (19-130 or 999)","Emergency (21-25, 28, 2A, 2B, 2C, 2D)",{"$f":"VLOOKUP($A18,'BP Summary'!B:P,4,FALSE)","v":"Admitted Patient Care"},{"$f":"IF(VLOOKUP($A18,'BP Summary'!B:P,6,FALSE) =0,\"\", VLOOKUP($A18,'BP Summary'!B:P,6,FALSE))","v":""}]
["BP45",1,"",null,"","",null,"19 and over (19-130 or 999)","Emergency (21-25, 28, 2A, 2B, 2C, 2D)",{"$f":"VLOOKUP($A19,'BP Summary'!B:P,4,FALSE)","v":"Admitted Patient Care"},{"$f":"IF(VLOOKUP($A19,'BP Summary'!B:P,6,FALSE) =0,\"\", VLOOKUP($A19,'BP Summary'!B:P,6,FALSE))","v":""}]
["BP46",2,"",null,"","",null,"19 and over (19-130 or 999)","Emergency (21-25, 28, 2A, 2B, 2C, 2D)",{"$f":"VLOOKUP($A20,'BP Summary'!B:P,4,FALSE)","v":"Admitted Patient Care"},{"$f":"IF(VLOOKUP($A20,'BP Summary'!B:P,6,FALSE) =0,\"\", VLOOKUP($A20,'BP Summary'!B:P,6,FALSE))","v":""}]
["BP47",1,"",null,"","",null,"19 and over (19-130 or 999)","Emergency (21-25, 28, 2A, 2B, 2C, 2D)",{"$f":"VLOOKUP($A21,'BP Summary'!B:P,4,FALSE)","v":"Admitted Patient Care"},{"$f":"IF(VLOOKUP($A21,'BP Summary'!B:P,6,FALSE) =0,\"\", VLOOKUP($A21,'BP Summary'!B:P,6,FALSE))","v":""}]
["BP48",3,"",null,"","",null,"19 and over (19-130 or 999)","Emergency (21-25, 28, 2A, 2B, 2C, 2D)",{"$f":"VLOOKUP($A22,'BP Summary'!B:P,4,FALSE)","v":"Admitted Patient Care"},{"$f":"IF(VLOOKUP($A22,'BP Summary'!B:P,6,FALSE) =0,\"\", VLOOKUP($A22,'BP Summary'!B:P,6,FALSE))","v":""}]
["BP49",2,"",null,"","",null,"19 and over (19-130 or 999)","Emergency (21-25, 28, 2A, 2B, 2C, 2D)",{"$f":"VLOOKUP($A23,'BP Summary'!B:P,4,FALSE)","v":"Admitted Patient Care"},{"$f":"IF(VLOOKUP($A23,'BP Summary'!B:P,6,FALSE) =0,\"\", VLOOKUP($A23,'BP Summary'!B:P,6,FALSE))","v":""}]
["BP50",18,"1 Unique code","Primary Diagnosis","","",null,"19 and over (19-130 or 999)","Emergency and transfers (21-25, 28, 81, 2A, 2B, 2C, 2D)",{"$f":"VLOOKUP($A24,'BP Summary'!B:P,4,FALSE)","v":"Admitted Patient Care"},{"$f":"IF(VLOOKUP($A24,'BP Summary'!B:P,6,FALSE) =0,\"\", VLOOKUP($A24,'BP Summary'!B:P,6,FALSE))","v":"Primary Diagnosis"}]
["BP52",8,"13 Unique codes","Primary Diagnoses","","",null,"19 and over (19-130 or 999)","Emergency (21-25, 28, 2A, 2B, 2C, 2D)",{"$f":"VLOOKUP($A25,'BP Summary'!B:P,4,FALSE)","v":"Admitted Patient Care"},{"$f":"IF(VLOOKUP($A25,'BP Summary'!B:P,6,FALSE) =0,\"\", VLOOKUP($A25,'BP Summary'!B:P,6,FALSE))","v":"Primary Diagnoses"}]
["BP53",2,"2 Unique codes","Primary Diagnoses","","",null,"19 and over (19-130 or 999)","Emergency (21-25, 28, 2A, 2B, 2C, 2D)",{"$f":"VLOOKUP($A26,'BP Summary'!B:P,4,FALSE)","v":"Admitted Patient Care"},{"$f":"IF(VLOOKUP($A26,'BP Summary'!B:P,6,FALSE) =0,\"\", VLOOKUP($A26,'BP Summary'!B:P,6,FALSE))","v":"Primary Diagnoses"}]
["BP54",4,"",null,"","",null,"19 and over (19-130 or 999)","Emergency (21-25, 28, 2A, 2B, 2C, 2D)",{"$f":"VLOOKUP($A27,'BP Summary'!B:P,4,FALSE)","v":"Admitted Patient Care"},{"$f":"IF(VLOOKUP($A27,'BP Summary'!B:P,6,FALSE) =0,\"\", VLOOKUP($A27,'BP Summary'!B:P,6,FALSE))","v":""}]
["BP55",2,"",null,"","",null,"19 and over (19-130 or 999)","Emergency (21-25, 28, 2A, 2B, 2C, 2D)",{"$f":"VLOOKUP($A28,'BP Summary'!B:P,4,FALSE)","v":"Admitted Patient Care"},{"$f":"IF(VLOOKUP($A28,'BP Summary'!B:P,6,FALSE) =0,\"\", VLOOKUP($A28,'BP Summary'!B:P,6,FALSE))","v":""}]
["BP56",1,"",null,"","",null,"19 and over (19-130 or 999)","Emergency (21-25, 28, 2A, 2B, 2C, 2D)",{"$f":"VLOOKUP($A29,'BP Summary'!B:P,4,FALSE)","v":"Admitted Patient Care"},{"$f":"IF(VLOOKUP($A29,'BP Summary'!B:P,6,FALSE) =0,\"\", VLOOKUP($A29,'BP Summary'!B:P,6,FALSE))","v":""}]
["BP58",2,"5 Unique codes","Primary Diagnoses","","",null,"19 and over (19-130 or 999)","Emergency (21-25, 28, 2A, 2B, 2C, 2D)",{"$f":"VLOOKUP($A30,'BP Summary'!B:P,4,FALSE)","v":"Admitted Patient Care"},{"$f":"IF(VLOOKUP($A30,'BP Summary'!B:P,6,FALSE) =0,\"\", VLOOKUP($A30,'BP Summary'!B:P,6,FALSE))","v":"Primary Diagnoses"}]
["BP59",3,"",null,"","",null,"19 and over (19-130 or 999)","Emergency (21-25, 28, 2A, 2B, 2C, 2D)",{"$f":"VLOOKUP($A31,'BP Summary'!B:P,4,FALSE)","v":"Admitted Patient Care"},{"$f":"IF(VLOOKUP($A31,'BP Summary'!B:P,6,FALSE) =0,\"\", VLOOKUP($A31,'BP Summary'!B:P,6,FALSE))","v":""}]
["BP61",1,"",null,"","",null,"19 and over (19-130 or 999)","Emergency (21-25, 28, 2A, 2B, 2C, 2D)",{"$f":"VLOOKUP($A32,'BP Summary'!B:P,4,FALSE)","v":"Admitted Patient Care"},{"$f":"IF(VLOOKUP($A32,'BP Summary'!B:P,6,FALSE) =0,\"\", VLOOKUP($A32,'BP Summary'!B:P,6,FALSE))","v":""}]
["BP63",1,"",null,"1 Unique code","","Any Position","19 and over (19-130 or 999)","Elective (11, 12, 13)",{"$f":"VLOOKUP($A33,'BP Summary'!B:P,4,FALSE)","v":"Admitted Patient Care"},{"$f":"IF(VLOOKUP($A33,'BP Summary'!B:P,6,FALSE) =0,\"\", VLOOKUP($A33,'BP Summary'!B:P,6,FALSE))","v":""}]
["BP64",1,"",null,"3 Unique codes","","Any Position","19 and over (19-130 or 999)","Elective (11, 12, 13)",{"$f":"VLOOKUP($A34,'BP Summary'!B:P,4,FALSE)","v":"Admitted Patient Care"},{"$f":"IF(VLOOKUP($A34,'BP Summary'!B:P,6,FALSE) =0,\"\", VLOOKUP($A34,'BP Summary'!B:P,6,FALSE))","v":""}]
["BP65",1,"",null,"3 Unique codes","","Any Position","19 and over (19-130 or 999)","Elective (11, 12, 13)",{"$f":"VLOOKUP($A35,'BP Summary'!B:P,4,FALSE)","v":"Admitted Patient Care"},{"$f":"IF(VLOOKUP($A35,'BP Summary'!B:P,6,FALSE) =0,\"\", VLOOKUP($A35,'BP Summary'!B:P,6,FALSE))","v":""}]
["BP66",1,"",null,"2 Unique codes","","Any Position","19 and over (19-130 or 999)","Elective (11, 12, 13)",{"$f":"VLOOKUP($A36,'BP Summary'!B:P,4,FALSE)","v":"Admitted Patient Care"},{"$f":"IF(VLOOKUP($A36,'BP Summary'!B:P,6,FALSE) =0,\"\", VLOOKUP($A36,'BP Summary'!B:P,6,FALSE))","v":""}]
["BP68",1,"",null,"3 Unique codes","","Any Position","19 and over (19-130 or 999)","Elective (11, 12, 13)",{"$f":"VLOOKUP($A37,'BP Summary'!B:P,4,FALSE)","v":"Admitted Patient Care"},{"$f":"IF(VLOOKUP($A37,'BP Summary'!B:P,6,FALSE) =0,\"\", VLOOKUP($A37,'BP Summary'!B:P,6,FALSE))","v":""}]
["BP69",1,"",null,"5 Unique codes","","Any Position","19 and over (19-130 or 999)","Elective (11, 12, 13)",{"$f":"VLOOKUP($A38,'BP Summary'!B:P,4,FALSE)","v":"Admitted Patient Care"},{"$f":"IF(VLOOKUP($A38,'BP Summary'!B:P,6,FALSE) =0,\"\", VLOOKUP($A38,'BP Summary'!B:P,6,FALSE))","v":""}]
["BP73",1,"",null,"1 Unique code","","Any Position","19 and over (19-130 or 999)","Elective (11, 12, 13)",{"$f":"VLOOKUP($A39,'BP Summary'!B:P,4,FALSE)","v":"Admitted Patient Care"},{"$f":"IF(VLOOKUP($A39,'BP Summary'!B:P,6,FALSE) =0,\"\", VLOOKUP($A39,'BP Summary'!B:P,6,FALSE))","v":""}]
["BP74",1,"",null,"1 Unique code","","Any Position","19 and over (19-130 or 999)","Elective (11, 12, 13)",{"$f":"VLOOKUP($A40,'BP Summary'!B:P,4,FALSE)","v":"Admitted Patient Care"},{"$f":"IF(VLOOKUP($A40,'BP Summary'!B:P,6,FALSE) =0,\"\", VLOOKUP($A40,'BP Summary'!B:P,6,FALSE))","v":""}]
["BP76",1,"",null,"5 Unique codes","","Any Position","19 and over (19-130 or 999)","Elective (11, 12, 13)",{"$f":"VLOOKUP($A41,'BP Summary'!B:P,4,FALSE)","v":"Admitted Patient Care"},{"$f":"IF(VLOOKUP($A41,'BP Summary'!B:P,6,FALSE) =0,\"\", VLOOKUP($A41,'BP Summary'!B:P,6,FALSE))","v":""}]
["BP77",2,"",null,"13 Unique codes","","Any Position","19 and over (19-130 or 999)","Elective (11, 12, 13)",{"$f":"VLOOKUP($A42,'BP Summary'!B:P,4,FALSE)","v":"Admitted Patient Care"},{"$f":"IF(VLOOKUP($A42,'BP Summary'!B:P,6,FALSE) =0,\"\", VLOOKUP($A42,'BP Summary'!B:P,6,FALSE))","v":""}]
["BP78",1,"",null,"3 Unique codes","","Any Position","19 and over (19-130 or 999)","Elective (11, 12, 13)",{"$f":"VLOOKUP($A43,'BP Summary'!B:P,4,FALSE)","v":"Admitted Patient Care"},{"$f":"IF(VLOOKUP($A43,'BP Summary'!B:P,6,FALSE) =0,\"\", VLOOKUP($A43,'BP Summary'!B:P,6,FALSE))","v":""}]
["BP79",1,"",null,"21 Unique codes","1 Unique code","Any Position","19 and over (19-130 or 999)","Elective (11, 12, 13)",{"$f":"VLOOKUP($A44,'BP Summary'!B:P,4,FALSE)","v":"Admitted Patient Care"},{"$f":"IF(VLOOKUP($A44,'BP Summary'!B:P,6,FALSE) =0,\"\", VLOOKUP($A44,'BP Summary'!B:P,6,FALSE))","v":""}]
["BP80",1,"58 Unique codes","Primary Diagnoses","","",null,"19 and over (19-130 or 999)","Emergency (21-25, 28, 2A, 2B, 2C, 2D)",{"$f":"VLOOKUP($A45,'BP Summary'!B:P,4,FALSE)","v":"Admitted Patient Care"},{"$f":"IF(VLOOKUP($A45,'BP Summary'!B:P,6,FALSE) =0,\"\", VLOOKUP($A45,'BP Summary'!B:P,6,FALSE))","v":"Primary Diagnoses"}]
["BP81",1,"53 Unique codes","Primary Diagnoses","","",null,"19 and over (19-130 or 999)","Emergency (21-25, 28, 2A, 2B, 2C, 2D)",{"$f":"VLOOKUP($A46,'BP Summary'!B:P,4,FALSE)","v":"Admitted Patient Care"},{"$f":"IF(VLOOKUP($A46,'BP Summary'!B:P,6,FALSE) =0,\"\", VLOOKUP($A46,'BP Summary'!B:P,6,FALSE))","v":"Primary Diagnoses"}]
["BP82",3,"6 Unique codes","Primary Diagnoses","","",null,"19 and over (19-130 or 999)","Emergency (21-25, 28, 2A, 2B, 2C, 2D)",{"$f":"VLOOKUP($A47,'BP Summary'!B:P,4,FALSE)","v":"Admitted Patient Care"},{"$f":"IF(VLOOKUP($A47,'BP Summary'!B:P,6,FALSE) =0,\"\", VLOOKUP($A47,'BP Summary'!B:P,6,FALSE))","v":"Primary Diagnoses"}]
["BP83",2,"",null,"","",null,"19 and over (19-130 or 999)","Emergency (21-25, 28, 2A, 2B, 2C, 2D)",{"$f":"VLOOKUP($A48,'BP Summary'!B:P,4,FALSE)","v":"Admitted Patient Care"},{"$f":"IF(VLOOKUP($A48,'BP Summary'!B:P,6,FALSE) =0,\"\", VLOOKUP($A48,'BP Summary'!B:P,6,FALSE))","v":""}]
["BP84",2,"16 Unique codes","Primary Diagnoses","","",null,"19 and over (19-130 or 999)","Emergency (21-25, 28, 2A, 2B, 2C, 2D)",{"$f":"VLOOKUP($A49,'BP Summary'!B:P,4,FALSE)","v":"Admitted Patient Care"},{"$f":"IF(VLOOKUP($A49,'BP Summary'!B:P,6,FALSE) =0,\"\", VLOOKUP($A49,'BP Summary'!B:P,6,FALSE))","v":"Primary Diagnoses"}]
["BP85",3,"",null,"","",null,"19 and over (19-130 or 999)","Emergency (21-25, 28, 2A, 2B, 2C, 2D)",{"$f":"VLOOKUP($A50,'BP Summary'!B:P,4,FALSE)","v":"Admitted Patient Care"},{"$f":"IF(VLOOKUP($A50,'BP Summary'!B:P,6,FALSE) =0,\"\", VLOOKUP($A50,'BP Summary'!B:P,6,FALSE))","v":""}]
["BP86",1,"",null,"","",null,"19 and over (19-130 or 999)","Emergency (21-25, 28, 2A, 2B, 2C, 2D)",{"$f":"VLOOKUP($A51,'BP Summary'!B:P,4,FALSE)","v":"Admitted Patient Care"},{"$f":"IF(VLOOKUP($A51,'BP Summary'!B:P,6,FALSE) =0,\"\", VLOOKUP($A51,'BP Summary'!B:P,6,FALSE))","v":""}]

{"sheet":"MoreInfor","index":17,"n_rows":53,"n_cols":32,"rows_kept":53,"cut":false,"hidden":true,"merged":[]}
["BPT","ADMIMETH","Age","OPCS_4","OPCS_4_Trigger","OPCS_4_Qualifier","OPCS-4 Any Position","ICD_10","ICD_10_Trigger","ICD-10 Primary Diagnoses","ICD-10 Any Position","ICD-10 Secondary Diagnoses","Documentation_Flag_ID","HRG_CODE","BPT_Flags_Hierarchy",null,null,"BPT","ADMIMETH","Age","OPCS_4","OPCS_4_Trigger","OPCS_4_Qualifier","OPCS-4 Any Position","ICD_10","ICD_10_Trigger","ICD-10 Primary Diagnoses","ICD-10 Any Position","ICD-10 Secondary Diagnoses","Documentation_Flag_ID","HRG_CODE","BPT_Flags_Hierarchy"]
["BP01","11","71","18","18","0","18","9","9","0","9","0","1","18","No",null,null,"BP01","11","71","18","18","0","18","9","9","0","9","0","1","18","No"]
["BP02","11","113","0","0","0","0","9","9","9","0","0","1","23","No",null,null,"BP02","11","113","0","0","0","0","9","9","9","0","0","1","23","No"]
["BP02","11","113","0","0","0","0","9","9","9","0","0","1","23","Yes",null,null,"BP02","11","113","0","0","0","0","9","9","9","0","0","1","23","Yes"]
["BP15","3","113","2","1","1","2","0","0","0","0","0","1","1","No",null,null,"BP15","3","113","2","1","1","2","0","0","0","0","0","1","1","No"]
["BP16","3","113","3","3","0","3","0","0","0","0","0","1","1","No",null,null,"BP16","3","113","3","3","0","3","0","0","0","0","0","1","1","No"]
["BP17","3","113","1","1","0","1","0","0","0","0","0","1","1","No",null,null,"BP17","3","113","1","1","0","1","0","0","0","0","0","1","1","No"]
["BP28","3","113","5","5","0","5","0","0","0","0","0","1","2","No",null,null,"BP28","3","113","5","5","0","5","0","0","0","0","0","1","2","No"]
["BP28","3","113","5","5","0","5","0","0","0","0","0","1","2","Yes",null,null,"BP28","3","113","5","5","0","5","0","0","0","0","0","1","2","Yes"]
["BP29","3","113","5","5","0","5","0","0","0","0","0","1","2","No",null,null,"BP29","3","113","5","5","0","5","0","0","0","0","0","1","2","No"]
["BP29","3","113","5","5","0","5","0","0","0","0","0","1","2","Yes",null,null,"BP29","3","113","5","5","0","5","0","0","0","0","0","1","2","Yes"]
["BP31","3","113","3","2","1","3","0","0","0","0","0","2","1","No",null,null,"BP31","3","113","3","2","1","3","0","0","0","0","0","2","1","No"]
["BP32","3","113","1","1","0","1","0","0","0","0","0","1","1","Yes",null,null,"BP32","3","113","1","1","0","1","0","0","0","0","0","1","1","Yes"]
["BP35","10","113","0","0","0","0","12","12","12","0","0","1","3","No",null,null,"BP35","10","113","0","0","0","0","12","12","12","0","0","1","3","No"]
["BP38","10","113","0","0","0","0","0","0","0","0","0","1","1","No",null,null,"BP38","10","113","0","0","0","0","0","0","0","0","0","1","1","No"]
["BP39","10","113","0","0","0","0","9","9","9","0","0","1","3","No",null,null,"BP39","10","113","0","0","0","0","9","9","9","0","0","1","3","No"]
["BP40","10","113","0","0","0","0","11","11","11","0","0","1","4","No",null,null,"BP40","10","113","0","0","0","0","11","11","11","0","0","1","4","No"]
["BP41","10","113","0","0","0","0","0","0","0","0","0","1","1","No",null,null,"BP41","10","113","0","0","0","0","0","0","0","0","0","1","1","No"]
["BP42","10","113","0","0","0","0","52","52","52","0","0","1","8","No",null,null,"BP42","10","113","0","0","0","0","52","52","52","0","0","1","8","No"]
["BP44","10","113","0","0","0","0","0","0","0","0","0","1","2","No",null,null,"BP44","10","113","0","0","0","0","0","0","0","0","0","1","2","No"]
["BP45","10","113","0","0","0","0","0","0","0","0","0","1","1","No",null,null,"BP45","10","113","0","0","0","0","0","0","0","0","0","1","1","No"]
["BP46","10","113","0","0","0","0","0","0","0","0","0","1","2","No",null,null,"BP46","10","113","0","0","0","0","0","0","0","0","0","1","2","No"]
["BP47","10","113","0","0","0","0","0","0","0","0","0","1","1","No",null,null,"BP47","10","113","0","0","0","0","0","0","0","0","0","1","1","No"]
["BP48","10","113","0","0","0","0","0","0","0","0","0","1","3","No",null,null,"BP48","10","113","0","0","0","0","0","0","0","0","0","1","3","No"]
["BP49","10","113","0","0","0","0","0","0","0","0","0","1","2","No",null,null,"BP49","10","113","0","0","0","0","0","0","0","0","0","1","2","No"]
["BP50","11","113","0","0","0","0","1","1","1","0","0","1","18","Yes",null,null,"BP50","11","113","0","0","0","0","1","1","1","0","0","1","18","Yes"]
["BP52","10","113","0","0","0","0","23","23","13","0","10","2","8","No",null,null,"BP52","10","113","0","0","0","0","23","23","13","0","10","2","8","No"]
["BP53","10","113","0","0","0","0","2","2","2","0","0","1","2","No",null,null,"BP53","10","113","0","0","0","0","2","2","2","0","0","1","2","No"]
["BP54","10","113","0","0","0","0","0","0","0","0","0","1","4","No",null,null,"BP54","10","113","0","0","0","0","0","0","0","0","0","1","4","No"]
["BP55","10","113","0","0","0","0","0","0","0","0","0","1","2","No",null,null,"BP55","10","113","0","0","0","0","0","0","0","0","0","1","2","No"]
["BP56","10","113","0","0","0","0","0","0","0","0","0","1","1","No",null,null,"BP56","10","113","0","0","0","0","0","0","0","0","0","1","1","No"]
["BP58","10","113","0","0","0","0","5","5","5","0","0","1","2","No",null,null,"BP58","10","113","0","0","0","0","5","5","5","0","0","1","2","No"]
["BP59","10","113","0","0","0","0","0","0","0","0","0","1","3","No",null,null,"BP59","10","113","0","0","0","0","0","0","0","0","0","1","3","No"]
["BP61","10","113","0","0","0","0","0","0","0","0","0","1","1","No",null,null,"BP61","10","113","0","0","0","0","0","0","0","0","0","1","1","No"]
["BP63","3","113","1","1","0","1","0","0","0","0","0","1","1","No",null,null,"BP63","3","113","1","1","0","1","0","0","0","0","0","1","1","No"]
["BP64","3","113","3","3","0","3","0","0","0","0","0","1","1","No",null,null,"BP64","3","113","3","3","0","3","0","0","0","0","0","1","1","No"]
["BP65","3","113","3","3","0","3","0","0","0","0","0","1","1","No",null,null,"BP65","3","113","3","3","0","3","0","0","0","0","0","1","1","No"]
["BP66","3","113","2","2","0","2","0","0","0","0","0","1","1","No",null,null,"BP66","3","113","2","2","0","2","0","0","0","0","0","1","1","No"]
["BP68","3","113","3","3","0","3","0","0","0","0","0","1","1","No",null,null,"BP68","3","113","3","3","0","3","0","0","0","0","0","1","1","No"]
["BP69","3","113","5","5","0","5","0","0","0","0","0","1","1","No",null,null,"BP69","3","113","5","5","0","5","0","0","0","0","0","1","1","No"]
["BP73","3","113","1","1","0","1","0","0","0","0","0","1","1","No",null,null,"BP73","3","113","1","1","0","1","0","0","0","0","0","1","1","No"]
["BP74","3","113","1","1","0","1","0","0","0","0","0","1","1","No",null,null,"BP74","3","113","1","1","0","1","0","0","0","0","0","1","1","No"]
["BP76","3","113","5","5","0","5","0","0","0","0","0","1","1","No",null,null,"BP76","3","113","5","5","0","5","0","0","0","0","0","1","1","No"]
["BP77","3","113","13","13","0","13","0","0","0","0","0","1","2","No",null,null,"BP77","3","113","13","13","0","13","0","0","0","0","0","1","2","No"]
["BP78","3","113","3","3","0","3","0","0","0","0","0","1","1","No",null,null,"BP78","3","113","3","3","0","3","0","0","0","0","0","1","1","No"]
["BP79","3","113","22","21","1","22","0","0","0","0","0","1","1","No",null,null,"BP79","3","113","22","21","1","22","0","0","0","0","0","1","1","No"]
["BP80","10","113","0","0","0","0","58","58","58","0","0","1","1","No",null,null,"BP80","10","113","0","0","0","0","58","58","58","0","0","1","1","No"]
["BP81","10","113","0","0","0","0","53","53","53","0","0","1","1","No",null,null,"BP81","10","113","0","0","0","0","53","53","53","0","0","1","1","No"]
["BP82","10","113","0","0","0","0","6","6","6","0","0","1","3","No",null,null,"BP82","10","113","0","0","0","0","6","6","6","0","0","1","3","No"]
["BP83","10","113","0","0","0","0","0","0","0","0","0","1","2","No",null,null,"BP83","10","113","0","0","0","0","0","0","0","0","0","1","2","No"]
["BP84","10","113","0","0","0","0","16","16","16","0","0","1","2","No",null,null,"BP84","10","113","0","0","0","0","16","16","16","0","0","1","2","No"]
["BP85","10","113","0","0","0","0","0","0","0","0","0","1","3","No",null,null,"BP85","10","113","0","0","0","0","0","0","0","0","0","1","3","No"]
["BP86","10","113","0","0","0","0","0","0","0","0","0","1","1","No",null,null,"BP86","10","113","0","0","0","0","0","0","0","0","0","1","1","No"]

{"sheet":"HelpInfo","index":18,"n_rows":53,"n_cols":9,"rows_kept":53,"cut":false,"hidden":true,"merged":[]}
["BPT","CASE_STATEMENT_OUTPUT","BPT_Hierarchy_WARNING",null,null,null,"BPT","CASE_STATEMENT_OUTPUT","BPT_Hierarchy_WARNING"]
["BP01","Requires an ICD-10 code and an OPCS-4 code in any position, and any of the HRG codes.",null,null,{"$f":"A2=G2","v":true},{"$f":"B2=H2","v":false},"BP01","It also requires an ICD-10 code and an OPCS-4 code in any position, and any of the HRG codes."]
["BP02","Requires any of the ICD-10 codes in the primary position, and any of the HRG codes.",null,"eligible HRG Codes",null,null,"BP02","It also requires any of the ICD-10 codes in the primary position and any of the HRG codes."]
["BP15","Requires the specified OPCS-4 triggering code in any position and a qualifier as indicated in the 'Combination Needed' column, and the specified HRG code.",null,null,null,null,"BP02","It also requires any of the ICD-10 codes in the primary position and any of the HRG codes.","WARNING: BP02 is part of a hierarchy"]
["BP16","Requires any of the OPCS-4 codes in any position, and the specified HRG code.",null,null,null,null,"BP15","It also requires the specified OPCS-4 triggering code in any position with qualifier(s) as indicated in the 'Combination Needed' column, and the specified HRG code."]
["BP17","Requires the specified the OPCS-4 code in any position, and the specified HRG code.",null,null,null,null,"BP16","It also requires any of the OPCS-4 codes in any position, and the specified HRG code."]
["BP28","Requires any of the below OPCS-4 codes in any position and any of the below HRG codes.\n\nThis BP flag is part of a hierarchy. If you have HRG JA20F, please note that BP28 outranks BP29 and BP32.","WARNING: BP28 is part of a hierarchy","Requires any of the below OPCS-4 codes in any position and any of the below HRG codes.\n\nThis BPT is part of a hierarchy. If you have HRG JA20F, please note this BP outranks BP29 and BP32.",null,null,"BP17","It also requires the specified the OPCS-4 code in any position, and the specified HRG code."]
["BP29","This BP flag is part of a hierarchy.\n\nRequires any of the below OPCS-4 codes in any position and any of the below HRG codes.\n\nHowever depending on the eligible HRG another BP flag may outrank it. See the hierarchy column for information on what BP flags outrank this BP flag with respective HRGs.\n\nIf another BP flag does outrank this one, check that BP flag to be sure you have the relevant criteria. If you do then the higher ranked BP flag will be used.","WARNING: BP29 is part of a hierarchy","This BPT is part of a hierarchy.\n\nRequires any of the below OPCS-4 codes in any position and any of the below HRG codes.\n\nHowever depending on the eligible HRG another BPT may outrank it. See the hierarchy column for information on what BPTs outrank this BPT with respective HRGs.\n\nIf another BPT does outrank this one check that BPT to be sure you have the relevant criteria. If you do the higher ranked BPT will be used.",null,null,"BP28","It also requires any of the OPCS-4 codes in any position, and any of the HRG codes."]
["BP31","This BP flag is created from OPCS-4 procedure codes, and the specified HRG code. It can be created in 2 ways.\n\n1. From list BP_LYMPH_OPCS_1, it requires the OPCS-4 triggering code (in any position)  and a qualifier as indicated in the 'Combination Needed' column.\n\nor \n\n2. The OPCS-4 triggering code (in any position) from list BP_LYMPH_OPCS_2.",null,null,null,null,"BP28","It also requires any of the OPCS-4 codes in any position, and any of the HRG codes.","WARNING: BP28 is part of a hierarchy"]
["BP32","Requires the specified the OPCS-4 code in any position, and the specified HRG code. \n\nThis BP flag is in a hierarchy and is outranked by BP28 and BP29. Please check BP28 and BP29 to see if the activity matches either of their criteria.","WARNING: BP32 is part of a hierarchy",null,null,null,"BP29","It also requires any of the OPCS-4 codes in any position, and any of the HRG codes."]
["BP35","Requires any of the ICD-10 codes in the primary position and any of the HRG codes.","Is this still the case since it now has a list of ICD10 codes???","Requires any of the ICD-10 codes in the primary position and any of the HRG codes. \n\n Flagged to allow adjustments to be made in the National Tariff System (SUS PBR). Adjustments are made on whether the length of stay (LOS) is 0 or above. For local implementation the LOS used should not be adjusted for critical care, rehabilitation or specialist palliative care days.",null,null,"BP29","It also requires any of the OPCS-4 codes in any position, and any of the HRG codes.","WARNING: BP29 is part of a hierarchy"]
["BP38","Requires the specified HRG code. \n\nFlagged to allow adjustments to be made in the National Tariff System (SUS PBR). Adjustments are made on whether the length of stay (LOS) is 0 or above. For local implementation the LOS used should not be adjusted for critical care, rehabilitation or specialist palliative care days.",null,null,null,null,"BP31","WARNING - MORE THAN 1 DOCUMENTATION FLAG: It also requires any of the OPCS-4 triggering codes with qualifier(s) as indicated in the 'Combination Needed' column, and any of the HRG codes."]
["BP39","Requires any of the ICD-10 codes in the primary position and any of the HRG codes.","Is this still the case since it now has a list of ICD10 codes???","Requires any of the ICD-10 codes in the primary position and any of the HRG codes. \n\n Flagged to allow adjustments to be made in the National Tariff System (SUS PBR). Adjustments are made on whether the length of stay (LOS) is 0 or above. For local implementation the LOS used should not be adjusted for critical care, rehabilitation or specialist palliative care days.",null,null,"BP32","It also requires the specified the OPCS-4 code in any position, and the specified HRG code.","WARNING: BP32 is part of a hierarchy"]
["BP40","Requires any of the ICD-10 codes in the primary position and any of the HRG codes.","Is this still the case since it now has a list of ICD10 codes???","Requires any of the ICD-10 codes in the primary position and any of the HRG codes. \n\n Flagged to allow adjustments to be made in the National Tariff System (SUS PBR). Adjustments are made on whether the length of stay (LOS) is 0 or above. For local implementation the LOS used should not be adjusted for critical care, rehabilitation or specialist palliative care days.",null,null,"BP35","It also requires any of the ICD-10 codes in the primary position and any of the HRG codes. zxy& Flagged to allow adjustments to be made in the National Tariff System (SUS PBR). Adjustments are made on whether the length of stay (LOS) is 0 or above. For local implementation the LOS used should not be adjusted for critical care, rehabilitation or specialist palliative care days."]
["BP41","Requires the specified HRG code. \n\n Flagged to allow adjustments to be made in the National Tariff System (SUS PBR). Adjustments are made on whether the length of stay (LOS) is 0 or above. For local implementation the LOS used should not be adjusted for critical care, rehabilitation or specialist palliative care days.",null,null,null,null,"BP38","It also requires the specified HRG code. zxy& Flagged to allow adjustments to be made in the National Tariff System (SUS PBR). Adjustments are made on whether the length of stay (LOS) is 0 or above. For local implementation the LOS used should not be adjusted for critical care, rehabilitation or specialist palliative care days."]
["BP42","Requires any of the ICD-10 codes in the primary position and any of the HRG codes. ","Is this still the case since it now has a list of ICD10 codes???","Requires any of the ICD-10 codes in the primary position and any of the HRG codes. \n\n Flagged to allow adjustments to be made in the National Tariff System (SUS PBR). Adjustments are made on whether the length of stay (LOS) is 0 or above. For local implementation the LOS used should not be adjusted for critical care, rehabilitation or specialist palliative care days.",null,null,"BP39","It also requires any of the ICD-10 codes in the primary position and any of the HRG codes. zxy& Flagged to allow adjustments to be made in the National Tariff System (SUS PBR). Adjustments are made on whether the length of stay (LOS) is 0 or above. For local implementation the LOS used should not be adjusted for critical care, rehabilitation or specialist palliative care days."]
["BP44","Requires any of the HRG codes. \n\n Flagged to allow adjustments to be made in the National Tariff System (SUS PBR). Adjustments are made on whether the length of stay (LOS) is 0 or above. For local implementation the LOS used should not be adjusted for critical care, rehabilitation or specialist palliative care days.",null,null,null,null,"BP40","It also requires any of the ICD-10 codes in the primary position and any of the HRG codes. zxy& Flagged to allow adjustments to be made in the National Tariff System (SUS PBR). Adjustments are made on whether the length of stay (LOS) is 0 or above. For local implementation the LOS used should not be adjusted for critical care, rehabilitation or specialist palliative care days."]
["BP45","Requires the specified HRG code. \n\n Flagged to allow adjustments to be made in the National Tariff System (SUS PBR). Adjustments are made on whether the length of stay (LOS) is 0 or above. For local implementation the LOS used should not be adjusted for critical care, rehabilitation or specialist palliative care days.",null,null,null,null,"BP41","It also requires the specified HRG code. zxy& Flagged to allow adjustments to be made in the National Tariff System (SUS PBR). Adjustments are made on whether the length of stay (LOS) is 0 or above. For local implementation the LOS used should not be adjusted for critical care, rehabilitation or specialist palliative care days."]
["BP46","Requires any of the HRG codes. \n\n Flagged to allow adjustments to be made in the National Tariff System (SUS PBR). Adjustments are made on whether the length of stay (LOS) is 0 or above. For local implementation the LOS used should not be adjusted for critical care, rehabilitation or specialist palliative care days.",null,null,null,null,"BP42","It also requires any of the ICD-10 codes in the primary position and any of the HRG codes. zxy& Flagged to allow adjustments to be made in the National Tariff System (SUS PBR). Adjustments are made on whether the length of stay (LOS) is 0 or above. For local implementation the LOS used should not be adjusted for critical care, rehabilitation or specialist palliative care days."]
["BP47","Requires the specified HRG code. \n\n Flagged to allow adjustments to be made in the National Tariff System (SUS PBR). Adjustments are made on whether the length of stay (LOS) is 0 or above. For local implementation the LOS used should not be adjusted for critical care, rehabilitation or specialist palliative care days.",null,null,null,null,"BP44","It also requires any of the HRG codes. zxy& Flagged to allow adjustments to be made in the National Tariff System (SUS PBR). Adjustments are made on whether the length of stay (LOS) is 0 or above. For local implementation the LOS used should not be adjusted for critical care, rehabilitation or specialist palliative care days."]
["BP48","Requires any of the HRG codes. \n\n Flagged to allow adjustments to be made in the National Tariff System (SUS PBR). Adjustments are made on whether the length of stay (LOS) is 0 or above. For local implementation the LOS used should not be adjusted for critical care, rehabilitation or specialist palliative care days.",null,null,null,null,"BP45","It also requires the specified HRG code. zxy& Flagged to allow adjustments to be made in the National Tariff System (SUS PBR). Adjustments are made on whether the length of stay (LOS) is 0 or above. For local implementation the LOS used should not be adjusted for critical care, rehabilitation or specialist palliative care days."]
["BP49","Requires any of the HRG codes. \n\n Flagged to allow adjustments to be made in the National Tariff System (SUS PBR). Adjustments are made on whether the length of stay (LOS) is 0 or above. For local implementation the LOS used should not be adjusted for critical care, rehabilitation or specialist palliative care days.",null,null,null,null,"BP46","It also requires any of the HRG codes. zxy& Flagged to allow adjustments to be made in the National Tariff System (SUS PBR). Adjustments are made on whether the length of stay (LOS) is 0 or above. For local implementation the LOS used should not be adjusted for critical care, rehabilitation or specialist palliative care days."]
["BP50","Requires the specified ICD-10 code in the primary position and any of the HRG codes.",null,null,null,null,"BP47","It also requires the specified HRG code. zxy& Flagged to allow adjustments to be made in the National Tariff System (SUS PBR). Adjustments are made on whether the length of stay (LOS) is 0 or above. For local implementation the LOS used should not be adjusted for critical care, rehabilitation or specialist palliative care days."]
["BP52","This BP flag is created from ICD-10 codes and any of the HRG codes. It can be created in 2 ways.\n\n1. Any code in the list 'BP_DIAB_ICD_1' in the primary position is eligible.\n\nor\n\n2. A code from list 'BP_DIAB_ICD_2' in the primary position, and also a code from list 'BP_DIAB_ICD_1' in the secondary position.",null,null,null,null,"BP48","It also requires any of the HRG codes. zxy& Flagged to allow adjustments to be made in the National Tariff System (SUS PBR). Adjustments are made on whether the length of stay (LOS) is 0 or above. For local implementation the LOS used should not be adjusted for critical care, rehabilitation or specialist palliative care days."]
["BP53","Requires any of the ICD-10 codes in the primary position and any of the HRG codes.","Is this still the case since it now has a list of ICD10 codes???","Requires any of the ICD-10 codes in the primary position and any of the HRG codes. \n\n Flagged to allow adjustments to be made in the National Tariff System (SUS PBR). Adjustments are made on whether the length of stay (LOS) is 0 or above. For local implementation the LOS used should not be adjusted for critical care, rehabilitation or specialist palliative care days.",null,null,"BP49","It also requires any of the HRG codes. zxy& Flagged to allow adjustments to be made in the National Tariff System (SUS PBR). Adjustments are made on whether the length of stay (LOS) is 0 or above. For local implementation the LOS used should not be adjusted for critical care, rehabilitation or specialist palliative care days."]
["BP54","Requires any of the HRG codes. \n\nFlagged to allow adjustments to be made in the National Tariff System (SUS PBR). Adjustments are made on whether the length of stay (LOS) is 0 or above. For local implementation the LOS used should not be adjusted for critical care, rehabilitation or specialist palliative care days.",null,null,null,null,"BP50","It also requires the specified ICD-10 code in the primary position and any of the HRG codes.","WARNING: BP50 is part of a hierarchy"]
["BP55","Requires any of the HRG codes. \n\n Flagged to allow adjustments to be made in the National Tariff System (SUS PBR). Adjustments are made on whether the length of stay (LOS) is 0 or above. For local implementation the LOS used should not be adjusted for critical care, rehabilitation or specialist palliative care days.",null,null,null,null,"BP52","WARNING - MORE THAN 1 DOCUMENTATION FLAG: It also requires any of the ICD-10 codes in the primary position in combination with Secondary Diagnoses as indicated in the 'Combination Needed' column, and any of the HRG codes."]
["BP56","Requires the specified HRG code. \n\nFlagged to allow adjustments to be made in the National Tariff System (SUS PBR). Adjustments are made on whether the length of stay (LOS) is 0 or above. For local implementation the LOS used should not be adjusted for critical care, rehabilitation or specialist palliative care days.",null,null,null,null,"BP53","It also requires any of the ICD-10 codes in the primary position and any of the HRG codes. zxy& Flagged to allow adjustments to be made in the National Tariff System (SUS PBR). Adjustments are made on whether the length of stay (LOS) is 0 or above. For local implementation the LOS used should not be adjusted for critical care, rehabilitation or specialist palliative care days."]
["BP58","Requires any of the ICD-10 codes in the primary position and any of the HRG codes.","Is this still the case since it now has a list of ICD10 codes???","Requires any of the ICD-10 codes in the primary position and any of the HRG codes. \n\n Flagged to allow adjustments to be made in the National Tariff System (SUS PBR). Adjustments are made on whether the length of stay (LOS) is 0 or above. For local implementation the LOS used should not be adjusted for critical care, rehabilitation or specialist palliative care days.",null,null,"BP54","It also requires any of the HRG codes. zxy& Flagged to allow adjustments to be made in the National Tariff System (SUS PBR). Adjustments are made on whether the length of stay (LOS) is 0 or above. For local implementation the LOS used should not be adjusted for critical care, rehabilitation or specialist palliative care days."]
["BP59","Requires any of the HRG codes. \n\n Flagged to allow adjustments to be made in the National Tariff System (SUS PBR). Adjustments are made on whether the length of stay (LOS) is 0 or above. For local implementation the LOS used should not be adjusted for critical care, rehabilitation or specialist palliative care days.",null,null,null,null,"BP55","It also requires any of the HRG codes. zxy& Flagged to allow adjustments to be made in the National Tariff System (SUS PBR). Adjustments are made on whether the length of stay (LOS) is 0 or above. For local implementation the LOS used should not be adjusted for critical care, rehabilitation or specialist palliative care days."]
["BP61","Requires the specified HRG code. \n\n Flagged to allow adjustments to be made in the National Tariff System (SUS PBR). Adjustments are made on whether the length of stay (LOS) is 0 or above. For local implementation the LOS used should not be adjusted for critical care, rehabilitation or specialist palliative care days.",null,null,null,null,"BP56","It also requires the specified HRG code. zxy& Flagged to allow adjustments to be made in the National Tariff System (SUS PBR). Adjustments are made on whether the length of stay (LOS) is 0 or above. For local implementation the LOS used should not be adjusted for critical care, rehabilitation or specialist palliative care days."]
["BP63","Requires the specified the OPCS-4 code in any position, and the specified HRG code.",null,null,null,null,"BP58","It also requires any of the ICD-10 codes in the primary position and any of the HRG codes. zxy& Flagged to allow adjustments to be made in the National Tariff System (SUS PBR). Adjustments are made on whether the length of stay (LOS) is 0 or above. For local implementation the LOS used should not be adjusted for critical care, rehabilitation or specialist palliative care days."]
["BP64","Requires any of the OPCS-4 codes in any position, and the specified HRG code.",null,null,null,null,"BP59","It also requires any of the HRG codes. zxy& Flagged to allow adjustments to be made in the National Tariff System (SUS PBR). Adjustments are made on whether the length of stay (LOS) is 0 or above. For local implementation the LOS used should not be adjusted for critical care, rehabilitation or specialist palliative care days."]
["BP65","Requires any of the OPCS-4 codes in any position, and the specified HRG code.",null,null,null,null,"BP61","It also requires the specified HRG code. zxy& Flagged to allow adjustments to be made in the National Tariff System (SUS PBR). Adjustments are made on whether the length of stay (LOS) is 0 or above. For local implementation the LOS used should not be adjusted for critical care, rehabilitation or specialist palliative care days."]
["BP66","Requires any of the OPCS-4 codes in any position, and the specified HRG code.",null,null,null,null,"BP63","It also requires the specified the OPCS-4 code in any position, and the specified HRG code."]
["BP68","Requires any of the OPCS-4 codes in any position, and the specified HRG code.",null,null,null,null,"BP64","It also requires any of the OPCS-4 codes in any position, and the specified HRG code."]
["BP69","Requires any of the OPCS-4 codes in any position, and the specified HRG code.",null,null,null,null,"BP65","It also requires any of the OPCS-4 codes in any position, and the specified HRG code."]
["BP73","Requires the specified the OPCS-4 code in any position, and the specified HRG code.",null,null,null,null,"BP66","It also requires any of the OPCS-4 codes in any position, and the specified HRG code."]
["BP74","Requires the specified the OPCS-4 code in any position, and the specified HRG code.",null,null,null,null,"BP68","It also requires any of the OPCS-4 codes in any position, and the specified HRG code."]
["BP76","Requires any of the OPCS-4 codes in any position, and the specified HRG code.",null,null,null,null,"BP69","It also requires any of the OPCS-4 codes in any position, and the specified HRG code."]
["BP77","Requires any of the OPCS-4 codes in any position, and any of the HRG codes.",null,null,null,null,"BP73","It also requires the specified the OPCS-4 code in any position, and the specified HRG code."]
["BP78","Requires any of the OPCS-4 codes in any position, and the specified HRG code.",null,null,null,null,"BP74","It also requires the specified the OPCS-4 code in any position, and the specified HRG code."]
["BP79","Requires any of the OPCS-4 triggering codes with a qualifier as indicated in the 'Combination Needed' column, and the specified HRG code.",null,null,null,null,"BP76","It also requires any of the OPCS-4 codes in any position, and the specified HRG code."]
["BP80","Requires any of the ICD-10 codes in the primary position and the specified HRG code.","Is this still the case since it now has a list of ICD10 codes???","Requires any of the ICD-10 codes in the primary position and the specified HRG code. \n\n Flagged to allow adjustments to be made in the National Tariff System (SUS PBR). Adjustments are made on whether the length of stay (LOS) is 0 or above. For local implementation the LOS used should not be adjusted for critical care, rehabilitation or specialist palliative care days.",null,null,"BP77","It also requires any of the OPCS-4 codes in any position, and any of the HRG codes."]
["BP81","Requires any of the ICD-10 codes in the primary position and the specified HRG code.",null,"Requires any of the ICD-10 codes in the primary position and the specified HRG code. \n\n Flagged to allow adjustments to be made in the National Tariff System (SUS PBR). Adjustments are made on whether the length of stay (LOS) is 0 or above. For local implementation the LOS used should not be adjusted for critical care, rehabilitation or specialist palliative care days.",null,null,"BP78","It also requires any of the OPCS-4 codes in any position, and the specified HRG code."]
["BP82","Requires any of the ICD-10 codes in the primary position and any of the HRG codes.",null,"Requires any of the ICD-10 codes in the primary position and any of the HRG codes. \n\n Flagged to allow adjustments to be made in the National Tariff System (SUS PBR). Adjustments are made on whether the length of stay (LOS) is 0 or above. For local implementation the LOS used should not be adjusted for critical care, rehabilitation or specialist palliative care days.",null,null,"BP79","It also requires any of the OPCS-4 triggering codes with qualifier(s) as indicated in the 'Combination Needed' column, and the specified HRG code."]
["BP83","Requires any of the HRG codes. \n\n Flagged to allow adjustments to be made in the National Tariff System (SUS PBR). Adjustments are made on whether the length of stay (LOS) is 0 or above. For local implementation the LOS used should not be adjusted for critical care, rehabilitation or specialist palliative care days.",null,"Requires any of the HRG codes. \n\n Flagged to allow adjustments to be made in the National Tariff System (SUS PBR). Adjustments are made on whether the length of stay (LOS) is 0 or above. For local implementation the LOS used should not be adjusted for critical care, rehabilitation or specialist palliative care days.",null,null,"BP80","It also requires any of the ICD-10 codes in the primary position and the specified HRG code. zxy& Flagged to allow adjustments to be made in the National Tariff System (SUS PBR). Adjustments are made on whether the length of stay (LOS) is 0 or above. For local implementation the LOS used should not be adjusted for critical care, rehabilitation or specialist palliative care days."]
["BP84","Requires any of the ICD-10 codes in the primary position and any of the HRG codes.",null,"Requires any of the ICD-10 codes in the primary position and any of the HRG codes. \n\n Flagged to allow adjustments to be made in the National Tariff System (SUS PBR). Adjustments are made on whether the length of stay (LOS) is 0 or above. For local implementation the LOS used should not be adjusted for critical care, rehabilitation or specialist palliative care days.",null,null,"BP81","It also requires any of the ICD-10 codes in the primary position and the specified HRG code. zxy& Flagged to allow adjustments to be made in the National Tariff System (SUS PBR). Adjustments are made on whether the length of stay (LOS) is 0 or above. For local implementation the LOS used should not be adjusted for critical care, rehabilitation or specialist palliative care days."]
["BP85","Requires any of the HRG codes. \n\n Flagged to allow adjustments to be made in the National Tariff System (SUS PBR). Adjustments are made on whether the length of stay (LOS) is 0 or above. For local implementation the LOS used should not be adjusted for critical care, rehabilitation or specialist palliative care days.",null,"Requires any of the HRG codes. \n\n Flagged to allow adjustments to be made in the National Tariff System (SUS PBR). Adjustments are made on whether the length of stay (LOS) is 0 or above. For local implementation the LOS used should not be adjusted for critical care, rehabilitation or specialist palliative care days.",null,null,"BP82","It also requires any of the ICD-10 codes in the primary position and any of the HRG codes. zxy& Flagged to allow adjustments to be made in the National Tariff System (SUS PBR). Adjustments are made on whether the length of stay (LOS) is 0 or above. For local implementation the LOS used should not be adjusted for critical care, rehabilitation or specialist palliative care days."]
["BP86","Requires the specified HRG code. \n\n Flagged to allow adjustments to be made in the National Tariff System (SUS PBR). Adjustments are made on whether the length of stay (LOS) is 0 or above. For local implementation the LOS used should not be adjusted for critical care, rehabilitation or specialist palliative care days.",null,null,null,null,"BP83","It also requires any of the HRG codes. zxy& Flagged to allow adjustments to be made in the National Tariff System (SUS PBR). Adjustments are made on whether the length of stay (LOS) is 0 or above. For local implementation the LOS used should not be adjusted for critical care, rehabilitation or specialist palliative care days."]
[null,null,null,null,null,null,"BP84","It also requires any of the ICD-10 codes in the primary position and any of the HRG codes. zxy& Flagged to allow adjustments to be made in the National Tariff System (SUS PBR). Adjustments are made on whether the length of stay (LOS) is 0 or above. For local implementation the LOS used should not be adjusted for critical care, rehabilitation or specialist palliative care days."]
[null,null,null,null,null,null,"BP85","It also requires any of the HRG codes. zxy& Flagged to allow adjustments to be made in the National Tariff System (SUS PBR). Adjustments are made on whether the length of stay (LOS) is 0 or above. For local implementation the LOS used should not be adjusted for critical care, rehabilitation or specialist palliative care days."]
[null,null,null,null,null,null,"BP86","It also requires the specified HRG code. zxy& Flagged to allow adjustments to be made in the National Tariff System (SUS PBR). Adjustments are made on whether the length of stay (LOS) is 0 or above. For local implementation the LOS used should not be adjusted for critical care, rehabilitation or specialist palliative care days."]

{"sheet":"Database used","index":19,"n_rows":2,"n_cols":1,"rows_kept":2,"cut":false,"hidden":true,"merged":[]}
["HRG Reference Database (P1718)"]
["2017-03-15"]

{"sheet":"Changes","index":20,"n_rows":13,"n_cols":2,"rows_kept":13,"cut":false,"hidden":true,"merged":[]}
["Changes"]
[]
["BPT Eligibility"]
[null,"Baseline from \"book3\""]
[null,"Added \"Non-Flagged\" to start of  Stroke and Heart failure categories, to easily filter on non-flagged emergency ones as per Julie's email"]
[null,"Moved MA04D to the non-flagged day case section. Changed label to \"or\" not \"and\" as per Daniel's email."]
[null,"Added SSEM column, still working on it. Ask Daniel"]
[null,"Added description for ages as per Julie's email"]
[null,"Added 2 more known differences, see orange highlight at bottom"]
[null,"Summary for BP50 to include transfers"]
[null,"update publication date on home page"]
[null,"Updated BPT Eligibility with Daniel's feedback, did not remove LB14Z as that will be removed for payment"]
[null,"Amended BP31 from Sinini's comments"]