Workbook

Sheet Growthfiles_clean
A1: Home orchard
A2: Tree species (common) | B2: Tree species scientifique | C2: average DBH (cm/yr) | D2: source | E2: wood density (g/cm3) | F2: source | G2: tree height (m) | H2: source
A3: Avocado | B3: Persea Americana | C3: DBH = 11,291ln(yr) - 8,2599 | D3: Dataset Ethiotrees | E3: 0.54 | F3: Fuentes-Talavera, F. J., Silva-Guzmán, J. A., Rodríguez-Anda, R., Lomelí-Ramírez, M. G., Sanjuán-Dueñas, R., & Richter, H. G. (2011). Strength properties and natural durability of Avocado (Persea americana Mill.) branch wood. Madera y bosques, 17(1), 37-47. | G3: 6.45 | H3: Dataset Ethiotrees: average height of trees older than 10y
A4: Orange | B4: Citrus sinensis | C4: 1.3 | D4: Ortiz, C., Torregrosa, A., Ortí, E., & Balasch, S. (2020). Mechanical Thinning of Mandarins with a Branch Shaker. HortTechnology, 30(6), 745-750. | E4: 0.827 | F4: Berti, S., Burato, P., Dionisi-Vici, P., and Allegretti, O. (2018). "Orange wood for parquet and engineered flooring use," BioRes. 13(1), 586-596. | G4: 10 | H4: retrieved from: https://prota.prota4u.org/protav8.asp?h=M1,M11,M12,M15,M16,M25,M26,M27,M34,M36,M4,M6,M7&t=Citrus,sinensis,citrus&p=Citrus+sinensis#Protologue
A5: Mandarin | B5: Citrus reticulata | C5: 1.3 | D5: Based on Orange | E5: 0.83 | F5: average orange and lemon | G5: 9 | H5: Manner, H.I., R.S. Buker, V. Easton Smith, and C.R. Elevitch. 2006. Citrus species (citrus), ver. 2.1. In: Elevitch, C.R. (ed.). Species Profiles for Pacific Island Agroforestry. Permanent Agriculture Resources (PAR), Hōlualoa, Hawai‘i. <http://www.traditionaltree.org>.
A6: Lemon | B6: Citrus limon | C6: 0.83 | D6: Wambede, M. N., Akello, G., Lugumira, J. S., Barasa, B., Amwonya, D., & Mulabbi, A. (2022). Carbon Sequestration of Fruit Trees under Contrasting Management Regimes. Indonesian Journal of Geography, 54(3). | E6: 0.834 | F6: Sahin, S., Ayata, U., Bal, B. C., Esteves, B., Can, A., & Sivrikaya, H. (2020). Determination of some wood properties and response to weathering of Citrus limon (L.) Burm wood. | G6: 6 | H6: retreived from: https://prota.prota4u.org/protav8.asp?h=M36&t=Persea&p=Citrus+limon#
A7: Mango | B7: Magnifera indica | C7: DBH = 10,348ln(yr) - 6,693 | D7: Dataset Ethiotrees | E7: 0.675 | F7: Eric. (2023). Mango. The Wood Database. https://www.wood-database.com/mango/ | G7: 5.36 | H7: Dataset Ethiotrees: average height of trees older than 10y
A8: Safoutier | B8: Dacryodes edulis | C8: 1.6 | D8: retrieved from: https://prota.prota4u.org/protav8.asp?h=M15,M16,M19,M27,M36,M5,M7&t=butter,fruit,tree&p=Dacryodes+edulis#Ecology and divided by 100y assuming 35 years | E8: 0.6 | F8: retrieved from: https://prota.prota4u.org/protav8.asp?h=M11,M12,M14,M25,M26,M27,M28,M34,M36,M4,M6,M7&t=Dacryodes,edulis&p=Dacryodes+edulis#Description | G8: 20(-25) | H8: retrieved from: https://prota.prota4u.org/protav8.asp?h=M18,M19,M21,M25,M26,M27,M36,M5,M6,M7,M8,M9&t=shea,butter,Shea&p=Vitellaria+paradoxa#Management
A11: Small communal garden
A12: Tree species (common) | B12: Tree species scientifique | C12: average DBH (cm/yr) | D12: source | E12: wood density (g/cm3) | F12: source | G12: tree height (m) | H12: source
A13: Tali | B13: Erythrophleum suaveolens | C13: 0.4 | D13: retrieved from: https://orbi.uliege.be/bitstream/2268/262899/1/TreeGrowth_paper_preprint.pdf | E13: 0.881 | F13: retrieved from: https://thewoodexplorer.net/species/item/erythrophleum-suaveolens-tali/ | G13: 25 | H13: retrieved from: https://prota.prota4u.org/protav8.asp?h=M27,M5&t=Tali,tali&p=Erythrophleum+suaveolens#OtherReferences
A14: Gmelina | B14: Gmelina arborea | C14: 2.3 | D14: retrieved from: https://www.ajol.info/index.php/jrfwe/article/view/252286 | E14: 0.34 | F14: retrieved from: https://www.fs.usda.gov/nrs/pubs/gtr/gtr-nrs200-2021_appendixes/gtr_nrs200-2021_appendix11.pdf | G14: 30(-40) | H14: retrieved from: https://prota.prota4u.org/protav8.asp?h=M1,M11,M12,M14,M15,M16,M18,M19,M21,M23,M24,M25,M26,M27,M28,M34,M36,M4,M5,M6,M7,M8,M9&t=Gmelina,gmelina&p=Gmelina+arborea#Protologue
A15: Mango | B15: Magnifera indica | C15: DBH = 10,348ln(yr) - 6,693 | D15: Dataset Ethiotrees | E15: 0.675 | F15: Eric. (2023). Mango. The Wood Database. https://www.wood-database.com/mango/ | G15: 5.36 | H15: Dataset Ethiotrees: average height of trees older than 10y
A16: Njansang | B16: Ricinodendron heudelotii | C16: 1.18 | D16: retrieved from: https://prota.prota4u.org/protav8.asp?h=M11,M12,M14,M15,M18,M19,M23,M24,M25,M26,M27,M34,M36,M4,M6,M7,M8,M9&t=Ricinodendron,heudelotii&p=Ricinodendron+heudelotii#Description retrieved from: https://africanorphancrops.org/ricinodendron-heudelotii/ averages divided by 100y* | E16: 0.215 | F16: retrieved from: https://prota.prota4u.org/protav8.asp?h=M26,M27,M36,M5&t=djansang,Djansang&p=Ricinodendron+heudelotii#MajorReferences | G16: 30(-45) | H16: retrieved from: https://prota.prota4u.org/protav8.asp?h=M26,M27,M36,M5&t=djansang,Djansang&p=Ricinodendron+heudelotii#MajorReferences
A17: Moringa | B17: Moringa oleifera | C17: =45/30 -> 1.5 | D17: retrieved from: https://www.daf.qld.gov.au/__data/assets/pdf_file/0007/69262/IPA-Horseradish-Tree-Risk-Assessment.pdf | E17: =(0.5+0.7)/2 -> 0.6 | F17: retrieved from: https://winrock.org/moringa-oleifera-a-perfect-tree-for-home-gardens-2/ | G17: 8m | H17: retrieved from: https://apps.worldagroforestry.org/treedb2/speciesprofile.php?Spid=1169#:~:text=The%20soft%20and%20light%20wood,make%20small%20ropes%20and%20mats.
A18: Corrosolier | B18: Annona muricata | C18: 0.36 | D18: retrieved from: https://pfaf.org/user/Plant.aspx?LatinName=Annona+muricata#:~:text=Summary,rheumatism%2C%20and%20coughs%20and%20colds. | E18: 0.36 | F18: retrieved from: https://www.fs.usda.gov/nrs/pubs/gtr/gtr-nrs200-2021_appendixes/gtr_nrs200-2021_appendix11.pdf | H18: retrieved from: https://pfaf.org/user/Plant.aspx?LatinName=Annona+muricata#:~:text=Summary,rheumatism%2C%20and%20coughs%20and%20colds.
A21: Large communal garden
A22: Tree species (common) | B22: Tree species scientifique | C22: average DBH (cm/yr) | D22: source | E22: wood density (g/cm3) | F22: source | G22: tree height (m) | H22: source
A23: Tali | B23: Erythrophleum suaveolens | C23: 0.4 | D23: retrieved from: https://orbi.uliege.be/bitstream/2268/262899/1/TreeGrowth_paper_preprint.pdf | E23: 0.881 | F23: retrieved from: https://thewoodexplorer.net/species/item/erythrophleum-suaveolens-tali/ | G23: 25 | H23: retrieved from: https://prota.prota4u.org/protav8.asp?h=M27,M5&t=Tali,tali&p=Erythrophleum+suaveolens#OtherReferences
A24: Gmelina | B24: Gmelina arborea | C24: 2.3 | D24: retrieved from: https://www.ajol.info/index.php/jrfwe/article/view/252286 | E24: 0.34 | F24: retrieved from: https://www.fs.usda.gov/nrs/pubs/gtr/gtr-nrs200-2021_appendixes/gtr_nrs200-2021_appendix11.pdf | G24: 30(-40) | H24: retrieved from: https://prota.prota4u.org/protav8.asp?h=M1,M11,M12,M14,M15,M16,M18,M19,M21,M23,M24,M25,M26,M27,M28,M34,M36,M4,M5,M6,M7,M8,M9&t=Gmelina,gmelina&p=Gmelina+arborea#Protologue
A25: Neem tree | B25: Azadirachta indica | C25: 1 | D25: revtrieved from https://prota.prota4u.org/protav8.asp?h=M1,M11,M12,M25,M26,M27,M34,M36,M4,M7&t=Azadirachta,indica,azadirachta&p=Azadirachta+indica#Protologue | E25: 0.64 | F25: retrieved from: https://www.fs.usda.gov/nrs/pubs/gtr/gtr-nrs200-2021_appendixes/gtr_nrs200-2021_appendix11.pdf | G25: 15(-30) | H25: retrieved from: https://prota.prota4u.org/protav8.asp?h=M1,M11,M12,M25,M26,M27,M34,M36,M4,M7&t=Azadirachta,indica,azadirachta&p=Azadirachta+indica#Protologue
A26: Badamier | B26: Terminalia catappa | C26: 1 | D26: retrieved from: https://rcpol.mn.ufrj.br/wp-content/uploads/2018/02/129.pdf | E26: 0.49 | F26: retrieved from: https://www.fs.usda.gov/nrs/pubs/gtr/gtr-nrs200-2021_appendixes/gtr_nrs200-2021_appendix11.pdf | G26: 25 | H26: retrieved from: https://rcpol.mn.ufrj.br/wp-content/uploads/2018/02/129.pdf
A27: Mango | B27: Magnifera indica | C27: DBH = 10,348ln(yr) - 6,693 | D27: Dataset Ethiotrees | E27: 0.675 | F27: Eric. (2023). Mango. The Wood Database. https://www.wood-database.com/mango/ | G27: 5.36 | H27: Dataset Ethiotrees: average height of trees older than 10y

Sheet Calculations
B1: Formula/Reference
A2: Density (g/cm3) | B2: literature
A3: DBH (cm) | B3: measured/literature corrected with 7% on expert judgement
A4: E | B4: retrieved from the dataset of Chave et al (2014) coordinates: lon=11.489639; lat=6.087984
A5: Height (m) | B5: ln(H) =0.893-E+0.760 ln(D)-0.034(ln(D))^2
A6: AGB (kg) | B6: AGB=0.0673∙〖(ρ∙D^2∙H)〗^0.976
A7: Density (#/ha) | B7: judgement local team
A8: AGB (kgC/ha) | B8: AGB*tree density * 0.475
A9: SOC (tC/ha) | B9: assumption | C9: Recalculated via the AR methodological tool: Tool for estimation of change in soil organic carbon stocks due to the implementation of A/R CDM project activities**
A10: TOTAL AGB (tCO2/ha) | B10: (sum of AGB's)*3.67
A11: TOTAL BGB (tCO2/ha) | B11: BGB=0.235∙Total AGB | C11: BGBG = 0.33*Total AGB | D11: *(Awé, D. V., Noiha, N. V., & Zapfack, L. (2021). Carbon management for savannah ecosystems in Central Africa: a case study from Cameroon. International Journal of Low-Carbon Technologies, 16(4), 1290–1298. https://doi.org/10.1093/ijlct/ctab050)
A12: TOTAL woody biomass (tCO2/ha) | B12: AGB + BGB
A13: Total Stock (tCO2/ha) | B13: SOC + TOTAL woody biomass
A16: ** | B16: SOC_initial (tC) = SOC_ref*f_LU_i*f_MG_i*f_IN_i | C16: =C17*C18*C19*C20 -> 40.77532
B17: SOC_ref | C17: 47 | D17: The Adamawa region is a tropical moist region with soils with low activity clay (LAC)
B18: f_LU_i | C18: 0.82 | D18: The Adamawa region is a tropical moist region
B19: f_MG_i | C19: 1.15 | D19: Reduced tillage in tropical moist region
B20: f_IN_i | C20: 0.92 | D20: Input level is low, in tropical region
B22: SOC_loss | C22: 0 | D22: No losses appear
B24: dSOC (tC/ha) =((SOC_ref - (SOC_initial - SOC_loss))/year | C24: =(C17-(C16-C22))/C25 -> 0.20748933 | D24: t C/ha/year
B25: year | C25: 30

Sheet HomeOrchard_Adjust
B5: E | C5: 0.1595973 | E5: conversion factor | F5: 0.475 | H5: literature data | I5: avg measured DBH
A6: year | B6: tree species | C6: Density (g/cm3) | D6: DBH (cm) | E6: Height (m) | F6: AGB (kg) | G6: Density (#/ha) | H6: AGB (kgC/ha) | J6: tree species | K6: Density (g/cm3) | L6: DBH (cm) | M6: Height (m) | N6: AGB | O6: Density (#/ha) | P6: AGB (kgC/ha) | R6: tree species | S6: Density (g/cm3) | T6: DBH (cm) | U6: Height (m) | V6: AGB | W6: Density (#/ha) | X6: AGB (kgC/ha) | Z6: tree species | AA6: Density (g/cm3) | AB6: DBH (cm) | AC6: Height (m) | AD6: AGB | AE6: Density (#/ha) | AF6: AGB (kgC/ha) | AH6: tree species | AI6: Density (g/cm3) | AJ6: DBH (cm) | AK6: Height (m) | AL6: AGB | AM6: Density (#/ha) | AN6: AGB (kgC/ha) | AP6: tree species | AQ6: Density (g/cm3) | AR6: DBH (cm) | AS6: Height (m) | AT6: AGB | AU6: Density (#/ha) | AV6: AGB (kgC/ha) | AX6: SOC (tC/ha) | AY6: SOC (tCO2/ha) | AZ6: TOTAL AGB (tCO2/ha) | BA6: TOTAL BGB (tCO2/ha) | BB6: TOTAL woody biomass (tCO2/ha) | BC6: Total Stock (tCO2/ha) | BE6: # ha in Bankim | BG6: Total trees/ha | BH6: Total trees/ ha over years | BI6: average diameter | BJ6: weighed av diam
A7: 0 | B7: avocado | C7: 0.54 | D7: =A7*1.3*0.93 -> 0 | E7: 0 | F7: =0.0673*(C7*D7^2*E7)^0.976 -> 0 | G7: 60 | H7: =F7*G7*$F$5 -> 0 | J7: orange | K7: 0.827 | L7: =A7*1.2*0.93 -> 0 | M7: =IF(50.453*(1-EXP(-0.047*L7^(0.812)))>10, 10, 50.453*(1-EXP(-0.047*L7^(0.812)))) -> 0 | N7: =0.0673*(K7*L7^2*M7)^0.976 -> 0 | O7: 60 | P7: =N7*O7*$F$5 -> 0 | R7: lemon | S7: 0.834 | T7: =$A7*0.83*0.93 -> 0 | U7: =IF(50.453*(1-EXP(-0.047*T7^(0.812)))>8, 8, 50.453*(1-EXP(-0.047*T7^(0.812)))) -> 0 | V7: =0.0673*(S7*T7^2*U7)^0.976 -> 0 | W7: 60 | X7: =V7*W7*$F$5 -> 0 | Z7: mandarine | AA7: 0.83 | AB7: =A7*0.96*0.93 -> 0 | AC7: =IF(50.453*(1-EXP(-0.047*AB7^(0.812)))>4, 4, 50.453*(1-EXP(-0.047*AB7^(0.812)))) -> 0 | AD7: =0.0673*(AA7*AB7^2*AC7)^0.976 -> 0 | AE7: 60 | AF7: =AD7*AE7*$F$5 -> 0 | AH7: mango | AI7: 0.675 | AJ7: =0*0.93 -> 0 | AK7: =IF(50.453*(1-EXP(-0.047*AJ7^(0.812)))>25, 25, 50.453*(1-EXP(-0.047*AJ7^(0.812)))) -> 0 | AL7: =0.0673*(AI7*AJ7^2*AK7)^0.976 -> 0 | AM7: 60 | AN7: =AL7*AM7*$F$5 -> 0 | AP7: Safoutier | AQ7: 0.6 | AR7: =$A7*1.26*0.93 -> 0 | AS7: 0 | AT7: =0.0673*(AQ7*AR7^2*AS7)^0.976 -> 0 | AU7: 60 | AV7: =AT7*AU7*$F$5 -> 0 | AX7: 0 | AY7: =AX7*3.67 -> 0 | AZ7: =SUM(H7,P7,X7,AF7,AN7,AV7)*3.67/1000 -> 0 | BA7: =AZ7*0.33 -> 0 | BB7: =AZ7+BA7 -> 0 | BC7: =BB7+AY7 -> 0 | BE7: 9.77 | BG7: =SUM(AM37,AE37,W37,O37,G37,AU37) -> 186.77687 | BH7: =SUM(G7,O7,W7,AE7,AM7,AU7) -> 360 | BI7: =AVERAGE(D7,L7,T7,AB7,AJ7,AR7) -> 0 | BJ7: =SUM(D7*G7,L7*O7,T7*W7,AB7*AE7,AJ7*AM7,AR7*AU7)/BH7 -> 0
A8: 1 | B8: avocado | C8: 0.54 | D8: =A8*1.3*0.93 -> 1.209 | E8: =IF(EXP(0.893-$C$5+0.76*LN(D8)-0.034*(LN(D8))^2)>20, 20, EXP(0.893-$C$5+0.76*LN(D8)-0.034*(LN(D8))^2)) -> 2.4022867 | F8: =0.0673*(C8*D8^2*E8)^0.976 -> 0.12566587 | G8: =G7*0.6 -> 36 | H8: =F8*G8*$F$5 -> 2.1488864 | J8: orange | K8: 0.827 | L8: =A8*1.2*0.93 -> 1.116 | M8: =IF(EXP(0.893-$C$5+0.76*LN(L8)-0.034*(LN(L8))^2)>10, 10, EXP(0.893-$C$5+0.76*LN(L8)-0.034*(LN(L8))^2)) -> 2.2623494 | N8: =0.0673*(K8*L8^2*M8)^0.976 -> 0.15367074 | O8: =O7*0.6 -> 36 | P8: =N8*O8*$F$5 -> 2.6277697 | R8: lemon | S8: 0.834 | T8: =$A8*0.83*0.93 -> 0.7719 | U8: =IF(EXP(0.893-$C$5+0.76*LN(T8)-0.034*(LN(T8))^2)>8, 8, EXP(0.893-$C$5+0.76*LN(T8)-0.034*(LN(T8))^2)) -> 1.706355 | V8: =0.0673*(S8*T8^2*U8)^0.976 -> 0.057291738 | W8: =W7*0.6 -> 36 | X8: =V8*W8*$F$5 -> 0.97968872 | Z8: mandarine | AA8: 0.83 | AB8: =A8*0.96*0.93 -> 0.8928 | AC8: =IF(EXP(0.893-$C$5+0.76*LN(AB8)-0.034*(LN(AB8))^2)>4, 4, EXP(0.893-$C$5+0.76*LN(AB8)-0.034*(LN(AB8))^2)) -> 1.9093962 | AD8: =0.0673*(AA8*AB8^2*AC8)^0.976 -> 0.084539953 | AE8: =AE7*0.6 -> 36 | AF8: =AD8*AE8*$F$5 -> 1.4456332 | AH8: mango | AI8: 0.675 | AJ8: =(AJ9/2)*0.93 -> 0.20744065 | AK8: =IF(EXP(0.893-$C$5+0.76*LN(AJ8)-0.034*(LN(AJ8))^2)>25, 25, EXP(0.893-$C$5+0.76*LN(AJ8)-0.034*(LN(AJ8))^2)) -> 0.57918899 | AL8: =0.0673*(AI8*AJ8^2*AK8)^0.976 -> 0.0012488348 | AM8: =AM7*0.6 -> 36 | AN8: =AL8*AM8*$F$5 -> 0.021355075 | AP8: Safoutier | AQ8: 0.6 | AR8: =$A8*1.26*0.93 -> 1.1718 | AS8: =IF(EXP(0.893-$C$5+0.76*LN(AR8)-0.034*(LN(AR8))^2)>22.5, 22.5, EXP(0.893-$C$5+0.76*LN(AR8)-0.034*(LN(AR8))^2)) -> 2.3467685 | AT8: =0.0673*(AQ8*AR8^2*AS8)^0.976 -> 0.12807715 | AU8: =AU7*0.6 -> 36 | AV8: =AT8*AU8*$F$5 -> 2.1901193 | AX8: =AX7+Calculations!$C$24 -> 0.20748933 | AY8: =AX8*3.67 -> 0.76148585 | AZ8: =SUM(H8,P8,X8,AF8,AN8,AV8)*3.67/1000 -> 0.034547371 | BA8: =AZ8*0.33 -> 0.011400632 | BB8: =AZ8+BA8 -> 0.045948003 | BC8: =BB8+AY8 -> 0.80743386 | BH8: =SUM(G8,O8,W8,AE8,AM8,AU8) -> 216 | BI8: =AVERAGE(D8,L8,T8,AB8,AJ8,AR8) -> 0.89482344 | BJ8: =SUM(D8*G8,L8*O8,T8*W8,AB8*AE8,AJ8*AM8,AR8*AU8)/BH8 -> 0.89482344
A9: 2 | B9: avocado | C9: 0.54 | D9: =A9*1.3*0.93 -> 2.418 | E9: =IF(EXP(0.893-$C$5+0.76*LN(D9)-0.034*(LN(D9))^2)>20, 20, EXP(0.893-$C$5+0.76*LN(D9)-0.034*(LN(D9))^2)) -> 3.9666892 | F9: =0.0673*(C9*D9^2*E9)^0.976 -> 0.79323883 | G9: =G8*0.995 -> 35.82 | H9: =F9*G9*$F$5 -> 13.496562 | J9: orange | K9: 0.827 | L9: =A9*1.2*0.93 -> 2.232 | M9: =IF(EXP(0.893-$C$5+0.76*LN(L9)-0.034*(LN(L9))^2)>10, 10, EXP(0.893-$C$5+0.76*LN(L9)-0.034*(LN(L9))^2)) -> 3.7497429 | N9: =0.0673*(K9*L9^2*M9)^0.976 -> 0.97359191 | O9: =O8*0.995 -> 35.82 | P9: =N9*O9*$F$5 -> 16.56518 | R9: lemon | S9: 0.834 | T9: =$A9*0.83*0.93 -> 1.5438 | U9: =IF(EXP(0.893-$C$5+0.76*LN(T9)-0.034*(LN(T9))^2)>8, 8, EXP(0.893-$C$5+0.76*LN(T9)-0.034*(LN(T9))^2)) -> 2.8777794 | V9: =0.0673*(S9*T9^2*U9)^0.976 -> 0.36918407 | W9: =W8*0.995 -> 35.82 | X9: =V9*W9*$F$5 -> 6.2814824 | Z9: mandarine | AA9: 0.83 | AB9: =A9*0.96*0.93 -> 1.7856 | AC9: =IF(EXP(0.893-$C$5+0.76*LN(AB9)-0.034*(LN(AB9))^2)>4, 4, EXP(0.893-$C$5+0.76*LN(AB9)-0.034*(LN(AB9))^2)) -> 3.1982001 | AD9: =0.0673*(AA9*AB9^2*AC9)^0.976 -> 0.54113534 | AE9: =AE8*0.995 -> 35.82 | AF9: =AD9*AE9*$F$5 -> 9.2071473 | AH9: mango | AI9: 0.675 | AJ9: =(10.348*LN(A9)-6.693)*0.93 -> 0.44610893 | AK9: =IF(EXP(0.893-$C$5+0.76*LN(AJ9)-0.034*(LN(AJ9))^2)>25, 25, EXP(0.893-$C$5+0.76*LN(AJ9)-0.034*(LN(AJ9))^2)) -> 1.1027242 | AL9: =0.0673*(AI9*AJ9^2*AK9)^0.976 -> 0.01043691 | AM9: =AM8*0.995 -> 35.82 | AN9: =AL9*AM9*$F$5 -> 0.1775788 | AP9: Safoutier | AQ9: 0.6 | AR9: =$A9*1.26*0.93 -> 2.3436 | AS9: =IF(EXP(0.893-$C$5+0.76*LN(AR9)-0.034*(LN(AR9))^2)>22.5, 22.5, EXP(0.893-$C$5+0.76*LN(AR9)-0.034*(LN(AR9))^2)) -> 3.8807292 | AT9: =0.0673*(AQ9*AR9^2*AS9)^0.976 -> 0.80962269 | AU9: =AU8*0.995 -> 35.82 | AV9: =AT9*AU9*$F$5 -> 13.775325 | AX9: =AX8+Calculations!$C$24 -> 0.41497867 | AY9: =AX9*3.67 -> 1.5229717 | AZ9: =SUM(H9,P9,X9,AF9,AN9,AV9)*3.67/1000 -> 0.21837702 | BA9: =AZ9*0.33 -> 0.072064417 | BB9: =AZ9+BA9 -> 0.29044144 | BC9: =BB9+AY9 -> 1.8134131 | BE9: total C benefit (t CO2) | BH9: =SUM(G9,O9,W9,AE9,AM9,AU9) -> 214.92 | BI9: =AVERAGE(D9,L9,T9,AB9,AJ9,AR9) -> 1.7948515 | BJ9: =SUM(D9*G9,L9*O9,T9*W9,AB9*AE9,AJ9*AM9,AR9*AU9)/BH9 -> 1.7948515
A10: 3 | B10: avocado | C10: 0.54 | D10: =(11.291*LN(A10)-8.2599)*0.93 -> 3.8544142 | E10: =IF(EXP(0.893-$C$5+0.76*LN(D10)-0.034*(LN(D10))^2)>20, 20, EXP(0.893-$C$5+0.76*LN(D10)-0.034*(LN(D10))^2)) -> 5.4570908 | F10: =0.0673*(C10*D10^2*E10)^0.976 -> 2.6908918 | G10: =G9*0.995 -> 35.6409 | H10: =F10*G10*$F$5 -> 45.555258 | J10: orange | K10: 0.827 | L10: =A10*1.2*0.93 -> 3.348 | M10: =IF(EXP(0.893-$C$5+0.76*LN(L10)-0.034*(LN(L10))^2)>10, 10, EXP(0.893-$C$5+0.76*LN(L10)-0.034*(LN(L10))^2)) -> 4.9635136 | N10: =0.0673*(K10*L10^2*M10)^0.976 -> 2.8246973 | O10: =O9*0.995 -> 35.6409 | P10: =N10*O10*$F$5 -> 47.820508 | R10: lemon | S10: 0.834 | T10: =$A10*0.83*0.93 -> 2.3157 | U10: =IF(EXP(0.893-$C$5+0.76*LN(T10)-0.034*(LN(T10))^2)>8, 8, EXP(0.893-$C$5+0.76*LN(T10)-0.034*(LN(T10))^2)) -> 3.8482168 | V10: =0.0673*(S10*T10^2*U10)^0.976 -> 1.0817983 | W10: =W9*0.995 -> 35.6409 | X10: =V10*W10*$F$5 -> 18.314225 | Z10: mandarine | AA10: 0.83 | AB10: =A10*0.96*0.93 -> 2.6784 | AC10: =IF(EXP(0.893-$C$5+0.76*LN(AB10)-0.034*(LN(AB10))^2)>4, 4, EXP(0.893-$C$5+0.76*LN(AB10)-0.034*(LN(AB10))^2)) -> 4 | AD10: =0.0673*(AA10*AB10^2*AC10)^0.976 -> 1.4854522 | AE10: =AE9*0.995 -> 35.6409 | AF10: =AD10*AE10*$F$5 -> 25.147856 | AH10: mango | AI10: 0.675 | AJ10: =(10.348*LN(A10)-6.693)*0.93 -> 4.3481592 | AK10: =IF(EXP(0.893-$C$5+0.76*LN(AJ10)-0.034*(LN(AJ10))^2)>25, 25, EXP(0.893-$C$5+0.76*LN(AJ10)-0.034*(LN(AJ10))^2)) -> 5.911909 | AL10: =0.0673*(AI10*AJ10^2*AK10)^0.976 -> 4.5771382 | AM10: =AM9*0.995 -> 35.6409 | AN10: =AL10*AM10*$F$5 -> 77.488329 | AP10: Safoutier | AQ10: 0.6 | AR10: =$A10*1.26*0.93 -> 3.5154 | AS10: =IF(EXP(0.893-$C$5+0.76*LN(AR10)-0.034*(LN(AR10))^2)>22.5, 22.5, EXP(0.893-$C$5+0.76*LN(AR10)-0.034*(LN(AR10))^2)) -> 5.1299938 | AT10: =0.0673*(AQ10*AR10^2*AS10)^0.976 -> 2.3458888 | AU10: =AU9*0.995 -> 35.6409 | AV10: =AT10*AU10*$F$5 -> 39.714555 | AX10: =AX9+Calculations!$C$24 -> 0.622468 | AY10: =AX10*3.67 -> 2.2844576 | AZ10: =SUM(H10,P10,X10,AF10,AN10,AV10)*3.67/1000 -> 0.93232949 | BA10: =AZ10*0.33 -> 0.30766873 | BB10: =AZ10+BA10 -> 1.2399982 | BC10: =BB10+AY10 -> 3.5244558 | BE10: =BC37*BE7 -> 1983.6926 | BH10: =SUM(G10,O10,W10,AE10,AM10,AU10) -> 213.8454 | BI10: =AVERAGE(D10,L10,T10,AB10,AJ10,AR10) -> 3.3433456 | BJ10: =SUM(D10*G10,L10*O10,T10*W10,AB10*AE10,AJ10*AM10,AR10*AU10)/BH10 -> 3.3433456
A11: 4 | B11: avocado | C11: 0.54 | D11: =(11.291*LN(A11)-8.2599)*0.93 -> 6.8752572 | E11: =IF(EXP(0.893-$C$5+0.76*LN(D11)-0.034*(LN(D11))^2)>20, 20, EXP(0.893-$C$5+0.76*LN(D11)-0.034*(LN(D11))^2)) -> 7.9427044 | F11: =0.0673*(C11*D11^2*E11)^0.976 -> 12.01126 | G11: =G10*0.995 -> 35.462696 | H11: =F11*G11*$F$5 -> 202.32703 | J11: orange | K11: 0.827 | L11: =A11*1.2*0.93 -> 4.464 | M11: =IF(EXP(0.893-$C$5+0.76*LN(L11)-0.034*(LN(L11))^2)>10, 10, EXP(0.893-$C$5+0.76*LN(L11)-0.034*(LN(L11))^2)) -> 6.0152621 | N11: =0.0673*(K11*L11^2*M11)^0.976 -> 5.9746779 | O11: =O10*0.995 -> 35.462696 | P11: =N11*O11*$F$5 -> 100.64214 | R11: lemon | S11: 0.834 | T11: =$A11*0.83*0.93 -> 3.0876 | U11: =IF(EXP(0.893-$C$5+0.76*LN(T11)-0.034*(LN(T11))^2)>8, 8, EXP(0.893-$C$5+0.76*LN(T11)-0.034*(LN(T11))^2)) -> 4.6973927 | V11: =0.0673*(S11*T11^2*U11)^0.976 -> 2.3043354 | W11: =W10*0.995 -> 35.462696 | X11: =V11*W11*$F$5 -> 38.816024 | Z11: mandarine | AA11: 0.83 | AB11: =A11*0.96*0.93 -> 3.5712 | AC11: =IF(EXP(0.893-$C$5+0.76*LN(AB11)-0.034*(LN(AB11))^2)>4, 4, EXP(0.893-$C$5+0.76*LN(AB11)-0.034*(LN(AB11))^2)) -> 4 | AD11: =0.0673*(AA11*AB11^2*AC11)^0.976 -> 2.6045884 | AE11: =AE10*0.995 -> 35.462696 | AF11: =AD11*AE11*$F$5 -> 43.873719 | AH11: mango | AI11: 0.675 | AJ11: =(10.348*LN(A11)-6.693)*0.93 -> 7.1167079 | AK11: =IF(EXP(0.893-$C$5+0.76*LN(AJ11)-0.034*(LN(AJ11))^2)>25, 25, EXP(0.893-$C$5+0.76*LN(AJ11)-0.034*(LN(AJ11))^2)) -> 8.1166749 | AL11: =0.0673*(AI11*AJ11^2*AK11)^0.976 -> 16.316143 | AM11: =AM10*0.995 -> 35.462696 | AN11: =AL11*AM11*$F$5 -> 274.84184 | AP11: Safoutier | AQ11: 0.6 | AR11: =$A11*1.26*0.93 -> 4.6872 | AS11: =IF(EXP(0.893-$C$5+0.76*LN(AR11)-0.034*(LN(AR11))^2)>22.5, 22.5, EXP(0.893-$C$5+0.76*LN(AR11)-0.034*(LN(AR11))^2)) -> 6.2110877 | AT11: =0.0673*(AQ11*AR11^2*AS11)^0.976 -> 4.9573028 | AU11: =AU10*0.995 -> 35.462696 | AV11: =AT11*AU11*$F$5 -> 83.504677 | AX11: =AX10+Calculations!$C$24 -> 0.82995733 | AY11: =AX11*3.67 -> 3.0459434 | AZ11: =SUM(H11,P11,X11,AF11,AN11,AV11)*3.67/1000 -> 2.7304999 | BA11: =AZ11*0.33 -> 0.90106498 | BB11: =AZ11+BA11 -> 3.6315649 | BC11: =BB11+AY11 -> 6.6775083 | BH11: =SUM(G11,O11,W11,AE11,AM11,AU11) -> 212.77617 | BI11: =AVERAGE(D11,L11,T11,AB11,AJ11,AR11) -> 4.9669942 | BJ11: =SUM(D11*G11,L11*O11,T11*W11,AB11*AE11,AJ11*AM11,AR11*AU11)/BH11 -> 4.9669942
A12: 5 | B12: avocado | C12: 0.54 | D12: =(11.291*LN(A12)-8.2599)*0.93 -> 9.218405 | E12: =IF(EXP(0.893-$C$5+0.76*LN(D12)-0.034*(LN(D12))^2)>20, 20, EXP(0.893-$C$5+0.76*LN(D12)-0.034*(LN(D12))^2)) -> 9.5235639 | F12: =0.0673*(C12*D12^2*E12)^0.976 -> 25.418375 | G12: =G11*0.995 -> 35.285382 | H12: =F12*G12*$F$5 -> 426.02611 | J12: orange | K12: 0.827 | L12: =A12*1.2*0.93 -> 5.58 | M12: =IF(EXP(0.893-$C$5+0.76*LN(L12)-0.034*(LN(L12))^2)>10, 10, EXP(0.893-$C$5+0.76*LN(L12)-0.034*(LN(L12))^2)) -> 6.9552407 | N12: =0.0673*(K12*L12^2*M12)^0.976 -> 10.642093 | O12: =O11*0.995 -> 35.285382 | P12: =N12*O12*$F$5 -> 178.36741 | R12: lemon | S12: 0.834 | T12: =$A12*0.83*0.93 -> 3.8595 | U12: =IF(EXP(0.893-$C$5+0.76*LN(T12)-0.034*(LN(T12))^2)>8, 8, EXP(0.893-$C$5+0.76*LN(T12)-0.034*(LN(T12))^2)) -> 5.4619012 | V12: =0.0673*(S12*T12^2*U12)^0.976 -> 4.1269511 | W12: =W11*0.995 -> 35.285382 | X12: =V12*W12*$F$5 -> 69.169997 | Z12: mandarine | AA12: 0.83 | AB12: =A12*0.96*0.93 -> 4.464 | AC12: =IF(EXP(0.893-$C$5+0.76*LN(AB12)-0.034*(LN(AB12))^2)>4, 4, EXP(0.893-$C$5+0.76*LN(AB12)-0.034*(LN(AB12))^2)) -> 4 | AD12: =0.0673*(AA12*AB12^2*AC12)^0.976 -> 4.0263122 | AE12: =AE11*0.995 -> 35.285382 | AF12: =AD12*AE12*$F$5 -> 67.483233 | AH12: mango | AI12: 0.675 | AJ12: =(10.348*LN(A12)-6.693)*0.93 -> 9.2641611 | AK12: =IF(EXP(0.893-$C$5+0.76*LN(AJ12)-0.034*(LN(AJ12))^2)>25, 25, EXP(0.893-$C$5+0.76*LN(AJ12)-0.034*(LN(AJ12))^2)) -> 9.5523139 | AL12: =0.0673*(AI12*AJ12^2*AK12)^0.976 -> 32.004204 | AM12: =AM11*0.995 -> 35.285382 | AN12: =AL12*AM12*$F$5 -> 536.40827 | AP12: Safoutier | AQ12: 0.6 | AR12: =$A12*1.26*0.93 -> 5.859 | AS12: =IF(EXP(0.893-$C$5+0.76*LN(AR12)-0.034*(LN(AR12))^2)>22.5, 22.5, EXP(0.893-$C$5+0.76*LN(AR12)-0.034*(LN(AR12))^2)) -> 7.1763522 | AT12: =0.0673*(AQ12*AR12^2*AS12)^0.976 -> 8.8235675 | AU12: =AU11*0.995 -> 35.285382 | AV12: =AT12*AU12*$F$5 -> 147.8879 | AX12: =AX11+Calculations!$C$24 -> 1.0374467 | AY12: =AX12*3.67 -> 3.8074293 | AZ12: =SUM(H12,P12,X12,AF12,AN12,AV12)*3.67/1000 -> 5.2310085 | BA12: =AZ12*0.33 -> 1.7262328 | BB12: =AZ12+BA12 -> 6.9572413 | BC12: =BB12+AY12 -> 10.764671 | BE12: risk buffer (t CO2) | BF12: risk buffer (t CO2/ha) | BH12: =SUM(G12,O12,W12,AE12,AM12,AU12) -> 211.71229 | BI12: =AVERAGE(D12,L12,T12,AB12,AJ12,AR12) -> 6.3741777 | BJ12: =SUM(D12*G12,L12*O12,T12*W12,AB12*AE12,AJ12*AM12,AR12*AU12)/BH12 -> 6.3741777
A13: 6 | B13: avocado | C13: 0.54 | D13: =(11.291*LN(A13)-8.2599)*0.93 -> 11.132896 | E13: =IF(EXP(0.893-$C$5+0.76*LN(D13)-0.034*(LN(D13))^2)>20, 20, EXP(0.893-$C$5+0.76*LN(D13)-0.034*(LN(D13))^2)) -> 10.670365 | F13: =0.0673*(C13*D13^2*E13)^0.976 -> 41.05003 | G13: =G12*0.995 -> 35.108955 | H13: =F13*G13*$F$5 -> 684.58124 | J13: orange | K13: 0.827 | L13: =A13*1.2*0.93 -> 6.696 | M13: =IF(EXP(0.893-$C$5+0.76*LN(L13)-0.034*(LN(L13))^2)>10, 10, EXP(0.893-$C$5+0.76*LN(L13)-0.034*(LN(L13))^2)) -> 7.8116432 | N13: =0.0673*(K13*L13^2*M13)^0.976 -> 17.014092 | O13: =O12*0.995 -> 35.108955 | P13: =N13*O13*$F$5 -> 283.73982 | R13: lemon | S13: 0.834 | T13: =$A13*0.83*0.93 -> 4.6314 | U13: =IF(EXP(0.893-$C$5+0.76*LN(T13)-0.034*(LN(T13))^2)>8, 8, EXP(0.893-$C$5+0.76*LN(T13)-0.034*(LN(T13))^2)) -> 6.1625296 | V13: =0.0673*(S13*T13^2*U13)^0.976 -> 6.6274784 | W13: =W12*0.995 -> 35.108955 | X13: =V13*W13*$F$5 -> 110.52483 | Z13: mandarine | AA13: 0.83 | AB13: =A13*0.96*0.93 -> 5.3568 | AC13: =IF(EXP(0.893-$C$5+0.76*LN(AB13)-0.034*(LN(AB13))^2)>4, 4, EXP(0.893-$C$5+0.76*LN(AB13)-0.034*(LN(AB13))^2)) -> 4 | AD13: =0.0673*(AA13*AB13^2*AC13)^0.976 -> 5.7473711 | AE13: =AE12*0.995 -> 35.108955 | AF13: =AD13*AE13*$F$5 -> 95.847492 | AH13: mango | AI13: 0.675 | AJ13: =(10.348*LN(A13)-6.693)*0.93 -> 11.018758 | AK13: =IF(EXP(0.893-$C$5+0.76*LN(AJ13)-0.034*(LN(AJ13))^2)>25, 25, EXP(0.893-$C$5+0.76*LN(AJ13)-0.034*(LN(AJ13))^2)) -> 10.604977 | AL13: =0.0673*(AI13*AJ13^2*AK13)^0.976 -> 49.722846 | AM13: =AM12*0.995 -> 35.108955 | AN13: =AL13*AM13*$F$5 -> 829.21566 | AP13: Safoutier | AQ13: 0.6 | AR13: =$A13*1.26*0.93 -> 7.0308 | AS13: =IF(EXP(0.893-$C$5+0.76*LN(AR13)-0.034*(LN(AR13))^2)>22.5, 22.5, EXP(0.893-$C$5+0.76*LN(AR13)-0.034*(LN(AR13))^2)) -> 8.0551064 | AT13: =0.0673*(AQ13*AR13^2*AS13)^0.976 -> 14.09839 | AU13: =AU12*0.995 -> 35.108955 | AV13: =AT13*AU13*$F$5 -> 235.11538 | AX13: =AX12+Calculations!$C$24 -> 1.244936 | AY13: =AX13*3.67 -> 4.5689151 | AZ13: =SUM(H13,P13,X13,AF13,AN13,AV13)*3.67/1000 -> 8.2172196 | BA13: =AZ13*0.33 -> 2.7116825 | BB13: =AZ13+BA13 -> 10.928902 | BC13: =BB13+AY13 -> 15.497817 | BE13: =BE10*0.2 -> 396.73852 | BF13: =BE13/BE7 -> 40.607832 | BH13: =SUM(G13,O13,W13,AE13,AM13,AU13) -> 210.65373 | BI13: =AVERAGE(D13,L13,T13,AB13,AJ13,AR13) -> 7.6444424 | BJ13: =SUM(D13*G13,L13*O13,T13*W13,AB13*AE13,AJ13*AM13,AR13*AU13)/BH13 -> 7.6444424
A14: 7 | B14: avocado | C14: 0.54 | D14: =(11.291*LN(A14)-8.2599)*0.93 -> 12.751575 | E14: =IF(EXP(0.893-$C$5+0.76*LN(D14)-0.034*(LN(D14))^2)>20, 20, EXP(0.893-$C$5+0.76*LN(D14)-0.034*(LN(D14))^2)) -> 11.562512 | F14: =0.0673*(C14*D14^2*E14)^0.976 -> 57.866999 | G14: =G13*0.995 -> 34.93341 | H14: =F14*G14*$F$5 -> 960.20853 | J14: orange | K14: 0.827 | L14: =A14*1.2*0.93 -> 7.812 | M14: =IF(EXP(0.893-$C$5+0.76*LN(L14)-0.034*(LN(L14))^2)>10, 10, EXP(0.893-$C$5+0.76*LN(L14)-0.034*(LN(L14))^2)) -> 8.6023019 | N14: =0.0673*(K14*L14^2*M14)^0.976 -> 25.255516 | O14: =O13*0.995 -> 34.93341 | P14: =N14*O14*$F$5 -> 419.07413 | R14: lemon | S14: 0.834 | T14: =$A14*0.83*0.93 -> 5.4033 | U14: =IF(EXP(0.893-$C$5+0.76*LN(T14)-0.034*(LN(T14))^2)>8, 8, EXP(0.893-$C$5+0.76*LN(T14)-0.034*(LN(T14))^2)) -> 6.8125475 | V14: =0.0673*(S14*T14^2*U14)^0.976 -> 9.8749241 | W14: =W13*0.995 -> 34.93341 | X14: =V14*W14*$F$5 -> 163.85827 | Z14: mandarine | AA14: 0.83 | AB14: =A14*0.96*0.93 -> 6.2496 | AC14: =IF(EXP(0.893-$C$5+0.76*LN(AB14)-0.034*(LN(AB14))^2)>4, 4, EXP(0.893-$C$5+0.76*LN(AB14)-0.034*(LN(AB14))^2)) -> 4 | AD14: =0.0673*(AA14*AB14^2*AC14)^0.976 -> 7.7651414 | AE14: =AE13*0.995 -> 34.93341 | AF14: =AD14*AE14*$F$5 -> 128.84986 | AH14: mango | AI14: 0.675 | AJ14: =(10.348*LN(A14)-6.693)*0.93 -> 12.502249 | AK14: =IF(EXP(0.893-$C$5+0.76*LN(AJ14)-0.034*(LN(AJ14))^2)>25, 25, EXP(0.893-$C$5+0.76*LN(AJ14)-0.034*(LN(AJ14))^2)) -> 11.429136 | AL14: =0.0673*(AI14*AJ14^2*AK14)^0.976 -> 68.447482 | AM14: =AM13*0.995 -> 34.93341 | AN14: =AL14*AM14*$F$5 -> 1135.7744 | AP14: Safoutier | AQ14: 0.6 | AR14: =$A14*1.26*0.93 -> 8.2026 | AS14: =IF(EXP(0.893-$C$5+0.76*LN(AR14)-0.034*(LN(AR14))^2)>22.5, 22.5, EXP(0.893-$C$5+0.76*LN(AR14)-0.034*(LN(AR14))^2)) -> 8.8658719 | AT14: =0.0673*(AQ14*AR14^2*AS14)^0.976 -> 20.91704 | AU14: =AU13*0.995 -> 34.93341 | AV14: =AT14*AU14*$F$5 -> 347.08417 | AX14: =AX13+Calculations!$C$24 -> 1.4524253 | AY14: =AX14*3.67 -> 5.330401 | AZ14: =SUM(H14,P14,X14,AF14,AN14,AV14)*3.67/1000 -> 11.578297 | BA14: =AZ14*0.33 -> 3.820838 | BB14: =AZ14+BA14 -> 15.399135 | BC14: =BB14+AY14 -> 20.729536 | BH14: =SUM(G14,O14,W14,AE14,AM14,AU14) -> 209.60046 | BI14: =AVERAGE(D14,L14,T14,AB14,AJ14,AR14) -> 8.8202207 | BJ14: =SUM(D14*G14,L14*O14,T14*W14,AB14*AE14,AJ14*AM14,AR14*AU14)/BH14 -> 8.8202207
A15: 8 | B15: avocado | C15: 0.54 | D15: =(11.291*LN(A15)-8.2599)*0.93 -> 14.153739 | E15: =IF(EXP(0.893-$C$5+0.76*LN(D15)-0.034*(LN(D15))^2)>20, 20, EXP(0.893-$C$5+0.76*LN(D15)-0.034*(LN(D15))^2)) -> 12.288028 | F15: =0.0673*(C15*D15^2*E15)^0.976 -> 75.277736 | G15: =G14*0.995 -> 34.758743 | H15: =F15*G15*$F$5 -> 1242.8658 | J15: orange | K15: 0.827 | L15: =A15*1.2*0.93 -> 8.928 | M15: =IF(EXP(0.893-$C$5+0.76*LN(L15)-0.034*(LN(L15))^2)>10, 10, EXP(0.893-$C$5+0.76*LN(L15)-0.034*(LN(L15))^2)) -> 9.3393978 | N15: =0.0673*(K15*L15^2*M15)^0.976 -> 35.514346 | O15: =O14*0.995 -> 34.758743 | P15: =N15*O15*$F$5 -> 586.35617 | R15: lemon | S15: 0.834 | T15: =$A15*0.83*0.93 -> 6.1752 | U15: =IF(EXP(0.893-$C$5+0.76*LN(T15)-0.034*(LN(T15))^2)>8, 8, EXP(0.893-$C$5+0.76*LN(T15)-0.034*(LN(T15))^2)) -> 7.4210864 | V15: =0.0673*(S15*T15^2*U15)^0.976 -> 13.931575 | W15: =W14*0.995 -> 34.758743 | X15: =V15*W15*$F$5 -> 230.01591 | Z15: mandarine | AA15: 0.83 | AB15: =A15*0.96*0.93 -> 7.1424 | AC15: =IF(EXP(0.893-$C$5+0.76*LN(AB15)-0.034*(LN(AB15))^2)>4, 4, EXP(0.893-$C$5+0.76*LN(AB15)-0.034*(LN(AB15))^2)) -> 4 | AD15: =0.0673*(AA15*AB15^2*AC15)^0.976 -> 10.077427 | AE15: =AE14*0.995 -> 34.758743 | AF15: =AD15*AE15*$F$5 -> 166.38238 | AH15: mango | AI15: 0.675 | AJ15: =(10.348*LN(A15)-6.693)*0.93 -> 13.787307 | AK15: =IF(EXP(0.893-$C$5+0.76*LN(AJ15)-0.034*(LN(AJ15))^2)>25, 25, EXP(0.893-$C$5+0.76*LN(AJ15)-0.034*(LN(AJ15))^2)) -> 12.102276 | AL15: =0.0673*(AI15*AJ15^2*AK15)^0.976 -> 87.610806 | AM15: =AM14*0.995 -> 34.758743 | AN15: =AL15*AM15*$F$5 -> 1446.4897 | AP15: Safoutier | AQ15: 0.6 | AR15: =$A15*1.26*0.93 -> 9.3744 | AS15: =IF(EXP(0.893-$C$5+0.76*LN(AR15)-0.034*(LN(AR15))^2)>22.5, 22.5, EXP(0.893-$C$5+0.76*LN(AR15)-0.034*(LN(AR15))^2)) -> 9.6212886 | AT15: =0.0673*(AQ15*AR15^2*AS15)^0.976 -> 29.400858 | AU15: =AU14*0.995 -> 34.758743 | AV15: =AT15*AU15*$F$5 -> 485.42002 | AX15: =AX14+Calculations!$C$24 -> 1.6599147 | AY15: =AX15*3.67 -> 6.0918868 | AZ15: =SUM(H15,P15,X15,AF15,AN15,AV15)*3.67/1000 -> 15.258135 | BA15: =AZ15*0.33 -> 5.0351845 | BB15: =AZ15+BA15 -> 20.293319 | BC15: =BB15+AY15 -> 26.385206 | BE15: Potential PVC | BF15: PVC/ha | BH15: =SUM(G15,O15,W15,AE15,AM15,AU15) -> 208.55246 | BI15: =AVERAGE(D15,L15,T15,AB15,AJ15,AR15) -> 9.926841 | BJ15: =SUM(D15*G15,L15*O15,T15*W15,AB15*AE15,AJ15*AM15,AR15*AU15)/BH15 -> 9.926841
A16: 9 | B16: avocado | C16: 0.54 | D16: =(11.291*LN(A16)-8.2599)*0.93 -> 15.390535 | E16: =IF(EXP(0.893-$C$5+0.76*LN(D16)-0.034*(LN(D16))^2)>20, 20, EXP(0.893-$C$5+0.76*LN(D16)-0.034*(LN(D16))^2)) -> 12.89654 | F16: =0.0673*(C16*D16^2*E16)^0.976 -> 92.933542 | G16: =G15*0.995 -> 34.58495 | H16: =F16*G16*$F$5 -> 1526.6984 | J16: orange | K16: 0.827 | L16: =A16*1.2*0.93 -> 10.044 | M16: =IF(EXP(0.893-$C$5+0.76*LN(L16)-0.034*(LN(L16))^2)>10, 10, EXP(0.893-$C$5+0.76*LN(L16)-0.034*(LN(L16))^2)) -> 10 | N16: =0.0673*(K16*L16^2*M16)^0.976 -> 47.77738 | O16: =O15*0.995 -> 34.58495 | P16: =N16*O16*$F$5 -> 784.87968 | R16: lemon | S16: 0.834 | T16: =$A16*0.83*0.93 -> 6.9471 | U16: =IF(EXP(0.893-$C$5+0.76*LN(T16)-0.034*(LN(T16))^2)>8, 8, EXP(0.893-$C$5+0.76*LN(T16)-0.034*(LN(T16))^2)) -> 7.9947713 | V16: =0.0673*(S16*T16^2*U16)^0.976 -> 18.854384 | W16: =W15*0.995 -> 34.58495 | X16: =V16*W16*$F$5 -> 309.73702 | Z16: mandarine | AA16: 0.83 | AB16: =A16*0.96*0.93 -> 8.0352 | AC16: =IF(EXP(0.893-$C$5+0.76*LN(AB16)-0.034*(LN(AB16))^2)>4, 4, EXP(0.893-$C$5+0.76*LN(AB16)-0.034*(LN(AB16))^2)) -> 4 | AD16: =0.0673*(AA16*AB16^2*AC16)^0.976 -> 12.682339 | AE16: =AE15*0.995 -> 34.58495 | AF16: =AD16*AE16*$F$5 -> 208.34358 | AH16: mango | AI16: 0.675 | AJ16: =(10.348*LN(A16)-6.693)*0.93 -> 14.920808 | AK16: =IF(EXP(0.893-$C$5+0.76*LN(AJ16)-0.034*(LN(AJ16))^2)>25, 25, EXP(0.893-$C$5+0.76*LN(AJ16)-0.034*(LN(AJ16))^2)) -> 12.668663 | AL16: =0.0673*(AI16*AJ16^2*AK16)^0.976 -> 106.88665 | AM16: =AM15*0.995 -> 34.58495 | AN16: =AL16*AM16*$F$5 -> 1755.9179 | AP16: Safoutier | AQ16: 0.6 | AR16: =$A16*1.26*0.93 -> 10.5462 | AS16: =IF(EXP(0.893-$C$5+0.76*LN(AR16)-0.034*(LN(AR16))^2)>22.5, 22.5, EXP(0.893-$C$5+0.76*LN(AR16)-0.034*(LN(AR16))^2)) -> 10.330463 | AT16: =0.0673*(AQ16*AR16^2*AS16)^0.976 -> 39.660208 | AU16: =AU15*0.995 -> 34.58495 | AV16: =AT16*AU16*$F$5 -> 651.53199 | AX16: =AX15+Calculations!$C$24 -> 1.867404 | AY16: =AX16*3.67 -> 6.8533727 | AZ16: =SUM(H16,P16,X16,AF16,AN16,AV16)*3.67/1000 -> 19.220188 | BA16: =AZ16*0.33 -> 6.3426622 | BB16: =AZ16+BA16 -> 25.562851 | BC16: =BB16+AY16 -> 32.416223 | BE16: =BE10-BE13 -> 1586.9541 | BF16: =BE16/BE7 -> 162.43133 | BH16: =SUM(G16,O16,W16,AE16,AM16,AU16) -> 207.5097 | BI16: =AVERAGE(D16,L16,T16,AB16,AJ16,AR16) -> 10.980641 | BJ16: =SUM(D16*G16,L16*O16,T16*W16,AB16*AE16,AJ16*AM16,AR16*AU16)/BH16 -> 10.980641
A17: 10 | B17: avocado | C17: 0.54 | D17: =(11.291*LN(A17)-8.2599)*0.93 -> 16.496887 | E17: =IF(EXP(0.893-$C$5+0.76*LN(D17)-0.034*(LN(D17))^2)>20, 20, EXP(0.893-$C$5+0.76*LN(D17)-0.034*(LN(D17))^2)) -> 13.418696 | F17: =0.0673*(C17*D17^2*E17)^0.976 -> 110.62298 | G17: =G16*0.995 -> 34.412025 | H17: =F17*G17*$F$5 -> 1808.2113 | J17: orange | K17: 0.827 | L17: =A17*1.2*0.93 -> 11.16 | M17: =IF(EXP(0.893-$C$5+0.76*LN(L17)-0.034*(LN(L17))^2)>10, 10, EXP(0.893-$C$5+0.76*LN(L17)-0.034*(LN(L17))^2)) -> 10 | N17: =0.0673*(K17*L17^2*M17)^0.976 -> 58.68687 | O17: =O16*0.995 -> 34.412025 | P17: =N17*O17*$F$5 -> 959.27867 | R17: lemon | S17: 0.834 | T17: =$A17*0.83*0.93 -> 7.719 | U17: =IF(EXP(0.893-$C$5+0.76*LN(T17)-0.034*(LN(T17))^2)>8, 8, EXP(0.893-$C$5+0.76*LN(T17)-0.034*(LN(T17))^2)) -> 8 | V17: =0.0673*(S17*T17^2*U17)^0.976 -> 23.174379 | W17: =W16*0.995 -> 34.412025 | X17: =V17*W17*$F$5 -> 378.80172 | Z17: mandarine | AA17: 0.83 | AB17: =A17*0.96*0.93 -> 8.928 | AC17: =IF(EXP(0.893-$C$5+0.76*LN(AB17)-0.034*(LN(AB17))^2)>4, 4, EXP(0.893-$C$5+0.76*LN(AB17)-0.034*(LN(AB17))^2)) -> 4 | AD17: =0.0673*(AA17*AB17^2*AC17)^0.976 -> 15.578226 | AE17: =AE16*0.995 -> 34.412025 | AF17: =AD17*AE17*$F$5 -> 254.63719 | AH17: mango | AI17: 0.675 | AJ17: =(10.348*LN(A17)-6.693)*0.93 -> 15.93476 | AK17: =IF(EXP(0.893-$C$5+0.76*LN(AJ17)-0.034*(LN(AJ17))^2)>25, 25, EXP(0.893-$C$5+0.76*LN(AJ17)-0.034*(LN(AJ17))^2)) -> 13.155872 | AL17: =0.0673*(AI17*AJ17^2*AK17)^0.976 -> 126.08249 | AM17: =AM16*0.995 -> 34.412025 | AN17: =AL17*AM17*$F$5 -> 2060.9081 | AP17: Safoutier | AQ17: 0.6 | AR17: =$A17*1.26*0.93 -> 11.718 | AS17: =IF(EXP(0.893-$C$5+0.76*LN(AR17)-0.034*(LN(AR17))^2)>22.5, 22.5, EXP(0.893-$C$5+0.76*LN(AR17)-0.034*(LN(AR17))^2)) -> 11.000225 | AT17: =0.0673*(AQ17*AR17^2*AS17)^0.976 -> 51.796527 | AU17: =AU16*0.995 -> 34.412025 | AV17: =AT17*AU17*$F$5 -> 846.65109 | AX17: =AX16+Calculations!$C$24 -> 2.0748933 | AY17: =AX17*3.67 -> 7.6148585 | AZ17: =SUM(H17,P17,X17,AF17,AN17,AV17)*3.67/1000 -> 23.152151 | BA17: =AZ17*0.33 -> 7.6402099 | BB17: =AZ17+BA17 -> 30.792361 | BC17: =BB17+AY17 -> 38.40722 | BF17: =BF16/30 -> 5.4143776 | BH17: =SUM(G17,O17,W17,AE17,AM17,AU17) -> 206.47215 | BI17: =AVERAGE(D17,L17,T17,AB17,AJ17,AR17) -> 11.992775 | BJ17: =SUM(D17*G17,L17*O17,T17*W17,AB17*AE17,AJ17*AM17,AR17*AU17)/BH17 -> 11.992775
A18: 11 | B18: avocado | C18: 0.54 | D18: =(11.291*LN(A18)-8.2599)*0.93 -> 17.497704 | E18: =IF(EXP(0.893-$C$5+0.76*LN(D18)-0.034*(LN(D18))^2)>20, 20, EXP(0.893-$C$5+0.76*LN(D18)-0.034*(LN(D18))^2)) -> 13.874694 | F18: =0.0673*(C18*D18^2*E18)^0.976 -> 128.21548 | G18: =G17*0.995 -> 34.239965 | H18: =F18*G18*$F$5 -> 2085.2944 | J18: orange | K18: 0.827 | L18: =A18*1.2*0.93 -> 12.276 | M18: =IF(EXP(0.893-$C$5+0.76*LN(L18)-0.034*(LN(L18))^2)>10, 10, EXP(0.893-$C$5+0.76*LN(L18)-0.034*(LN(L18))^2)) -> 10 | N18: =0.0673*(K18*L18^2*M18)^0.976 -> 70.686987 | O18: =O17*0.995 -> 34.239965 | P18: =N18*O18*$F$5 -> 1149.652 | R18: lemon | S18: 0.834 | T18: =$A18*0.83*0.93 -> 8.4909 | U18: =IF(EXP(0.893-$C$5+0.76*LN(T18)-0.034*(LN(T18))^2)>8, 8, EXP(0.893-$C$5+0.76*LN(T18)-0.034*(LN(T18))^2)) -> 8 | V18: =0.0673*(S18*T18^2*U18)^0.976 -> 27.913007 | W18: =W17*0.995 -> 34.239965 | X18: =V18*W18*$F$5 -> 453.97668 | Z18: mandarine | AA18: 0.83 | AB18: =A18*0.96*0.93 -> 9.8208 | AC18: =IF(EXP(0.893-$C$5+0.76*LN(AB18)-0.034*(LN(AB18))^2)>4, 4, EXP(0.893-$C$5+0.76*LN(AB18)-0.034*(LN(AB18))^2)) -> 4 | AD18: =0.0673*(AA18*AB18^2*AC18)^0.976 -> 18.763615 | AE18: =AE17*0.995 -> 34.239965 | AF18: =AD18*AE18*$F$5 -> 305.17112 | AH18: mango | AI18: 0.675 | AJ18: =(10.348*LN(A18)-6.693)*0.93 -> 16.851991 | AK18: =IF(EXP(0.893-$C$5+0.76*LN(AJ18)-0.034*(LN(AJ18))^2)>25, 25, EXP(0.893-$C$5+0.76*LN(AJ18)-0.034*(LN(AJ18))^2)) -> 13.582195 | AL18: =0.0673*(AI18*AJ18^2*AK18)^0.976 -> 145.0833 | AM18: =AM17*0.995 -> 34.239965 | AN18: =AL18*AM18*$F$5 -> 2359.6323 | AP18: Safoutier | AQ18: 0.6 | AR18: =$A18*1.26*0.93 -> 12.8898 | AS18: =IF(EXP(0.893-$C$5+0.76*LN(AR18)-0.034*(LN(AR18))^2)>22.5, 22.5, EXP(0.893-$C$5+0.76*LN(AR18)-0.034*(LN(AR18))^2)) -> 11.635861 | AT18: =0.0673*(AQ18*AR18^2*AS18)^0.976 -> 65.903822 | AU18: =AU17*0.995 -> 34.239965 | AV18: =AT18*AU18*$F$5 -> 1071.8586 | AX18: =AX17+Calculations!$C$24 -> 2.2823827 | AY18: =AX18*3.67 -> 8.3763444 | AZ18: =SUM(H18,P18,X18,AF18,AN18,AV18)*3.67/1000 -> 27.251897 | BA18: =AZ18*0.33 -> 8.9931262 | BB18: =AZ18+BA18 -> 36.245024 | BC18: =BB18+AY18 -> 44.621368 | BH18: =SUM(G18,O18,W18,AE18,AM18,AU18) -> 205.43979 | BI18: =AVERAGE(D18,L18,T18,AB18,AJ18,AR18) -> 12.971199 | BJ18: =SUM(D18*G18,L18*O18,T18*W18,AB18*AE18,AJ18*AM18,AR18*AU18)/BH18 -> 12.971199
A19: 12 | B19: avocado | C19: 0.54 | D19: =(11.291*LN(A19)-8.2599)*0.93 -> 18.411378 | E19: =IF(EXP(0.893-$C$5+0.76*LN(D19)-0.034*(LN(D19))^2)>20, 20, EXP(0.893-$C$5+0.76*LN(D19)-0.034*(LN(D19))^2)) -> 14.278514 | F19: =0.0673*(C19*D19^2*E19)^0.976 -> 145.62986 | G19: =G18*0.995 -> 34.068765 | H19: =F19*G19*$F$5 -> 2356.679 | J19: orange | K19: 0.827 | L19: =A19*1.2*0.93 -> 13.392 | M19: =IF(EXP(0.893-$C$5+0.76*LN(L19)-0.034*(LN(L19))^2)>10, 10, EXP(0.893-$C$5+0.76*LN(L19)-0.034*(LN(L19))^2)) -> 10 | N19: =0.0673*(K19*L19^2*M19)^0.976 -> 83.772744 | O19: =O18*0.995 -> 34.068765 | P19: =N19*O19*$F$5 -> 1355.6661 | R19: lemon | S19: 0.834 | T19: =$A19*0.83*0.93 -> 9.2628 | U19: =IF(EXP(0.893-$C$5+0.76*LN(T19)-0.034*(LN(T19))^2)>8, 8, EXP(0.893-$C$5+0.76*LN(T19)-0.034*(LN(T19))^2)) -> 8 | V19: =0.0673*(S19*T19^2*U19)^0.976 -> 33.080335 | W19: =W18*0.995 -> 34.068765 | X19: =V19*W19*$F$5 -> 535.32793 | Z19: mandarine | AA19: 0.83 | AB19: =A19*0.96*0.93 -> 10.7136 | AC19: =IF(EXP(0.893-$C$5+0.76*LN(AB19)-0.034*(LN(AB19))^2)>4, 4, EXP(0.893-$C$5+0.76*LN(AB19)-0.034*(LN(AB19))^2)) -> 4 | AD19: =0.0673*(AA19*AB19^2*AC19)^0.976 -> 22.237184 | AE19: =AE18*0.995 -> 34.068765 | AF19: =AD19*AE19*$F$5 -> 359.85686 | AH19: mango | AI19: 0.675 | AJ19: =(10.348*LN(A19)-6.693)*0.93 -> 17.689357 | AK19: =IF(EXP(0.893-$C$5+0.76*LN(AJ19)-0.034*(LN(AJ19))^2)>25, 25, EXP(0.893-$C$5+0.76*LN(AJ19)-0.034*(LN(AJ19))^2)) -> 13.960355 | AL19: =0.0673*(AI19*AJ19^2*AK19)^0.976 -> 163.82056 | AM19: =AM18*0.995 -> 34.068765 | AN19: =AL19*AM19*$F$5 -> 2651.053 | AP19: Safoutier | AQ19: 0.6 | AR19: =$A19*1.26*0.93 -> 14.0616 | AS19: =IF(EXP(0.893-$C$5+0.76*LN(AR19)-0.034*(LN(AR19))^2)>22.5, 22.5, EXP(0.893-$C$5+0.76*LN(AR19)-0.034*(LN(AR19))^2)) -> 12.241566 | AT19: =0.0673*(AQ19*AR19^2*AS19)^0.976 -> 82.069802 | AU19: =AU18*0.995 -> 34.068765 | AV19: =AT19*AU19*$F$5 -> 1328.108 | AX19: =AX18+Calculations!$C$24 -> 2.489872 | AY19: =AX19*3.67 -> 9.1378302 | AZ19: =SUM(H19,P19,X19,AF19,AN19,AV19)*3.67/1000 -> 31.513155 | BA19: =AZ19*0.33 -> 10.399341 | BB19: =AZ19+BA19 -> 41.912497 | BC19: =BB19+AY19 -> 51.050327 | BH19: =SUM(G19,O19,W19,AE19,AM19,AU19) -> 204.41259 | BI19: =AVERAGE(D19,L19,T19,AB19,AJ19,AR19) -> 13.921789 | BJ19: =SUM(D19*G19,L19*O19,T19*W19,AB19*AE19,AJ19*AM19,AR19*AU19)/BH19 -> 13.921789
A20: 13 | B20: avocado | C20: 0.54 | D20: =(11.291*LN(A20)-8.2599)*0.93 -> 19.251877 | E20: =IF(EXP(0.893-$C$5+0.76*LN(D20)-0.034*(LN(D20))^2)>20, 20, EXP(0.893-$C$5+0.76*LN(D20)-0.034*(LN(D20))^2)) -> 14.640212 | F20: =0.0673*(C20*D20^2*E20)^0.976 -> 162.81599 | G20: =G19*0.995 -> 33.898421 | H20: =F20*G20*$F$5 -> 2621.6223 | J20: orange | K20: 0.827 | L20: =A20*1.2*0.93 -> 14.508 | M20: =IF(EXP(0.893-$C$5+0.76*LN(L20)-0.034*(LN(L20))^2)>10, 10, EXP(0.893-$C$5+0.76*LN(L20)-0.034*(LN(L20))^2)) -> 10 | N20: =0.0673*(K20*L20^2*M20)^0.976 -> 97.939611 | O20: =O19*0.995 -> 33.898421 | P20: =N20*O20*$F$5 -> 1576.9991 | R20: lemon | S20: 0.834 | T20: =$A20*0.83*0.93 -> 10.0347 | U20: =IF(EXP(0.893-$C$5+0.76*LN(T20)-0.034*(LN(T20))^2)>8, 8, EXP(0.893-$C$5+0.76*LN(T20)-0.034*(LN(T20))^2)) -> 8 | V20: =0.0673*(S20*T20^2*U20)^0.976 -> 38.674573 | W20: =W19*0.995 -> 33.898421 | X20: =V20*W20*$F$5 -> 622.72831 | Z20: mandarine | AA20: 0.83 | AB20: =A20*0.96*0.93 -> 11.6064 | AC20: =IF(EXP(0.893-$C$5+0.76*LN(AB20)-0.034*(LN(AB20))^2)>4, 4, EXP(0.893-$C$5+0.76*LN(AB20)-0.034*(LN(AB20))^2)) -> 4 | AD20: =0.0673*(AA20*AB20^2*AC20)^0.976 -> 25.997729 | AE20: =AE19*0.995 -> 33.898421 | AF20: =AD20*AE20*$F$5 -> 418.60894 | AH20: mango | AI20: 0.675 | AJ20: =(10.348*LN(A20)-6.693)*0.93 -> 18.459659 | AK20: =IF(EXP(0.893-$C$5+0.76*LN(AJ20)-0.034*(LN(AJ20))^2)>25, 25, EXP(0.893-$C$5+0.76*LN(AJ20)-0.034*(LN(AJ20))^2)) -> 14.299538 | AL20: =0.0673*(AI20*AJ20^2*AK20)^0.976 -> 182.25458 | AM20: =AM19*0.995 -> 33.898421 | AN20: =AL20*AM20*$F$5 -> 2934.6177 | AP20: Safoutier | AQ20: 0.6 | AR20: =$A20*1.26*0.93 -> 15.2334 | AS20: =IF(EXP(0.893-$C$5+0.76*LN(AR20)-0.034*(LN(AR20))^2)>22.5, 22.5, EXP(0.893-$C$5+0.76*LN(AR20)-0.034*(LN(AR20))^2)) -> 12.820735 | AT20: =0.0673*(AQ20*AR20^2*AS20)^0.976 -> 100.37675 | AU20: =AU19*0.995 -> 33.898421 | AV20: =AT20*AU20*$F$5 -> 1616.2414 | AX20: =AX19+Calculations!$C$24 -> 2.6973613 | AY20: =AX20*3.67 -> 9.8993161 | AZ20: =SUM(H20,P20,X20,AF20,AN20,AV20)*3.67/1000 -> 35.932301 | BA20: =AZ20*0.33 -> 11.857659 | BB20: =AZ20+BA20 -> 47.789961 | BC20: =BB20+AY20 -> 57.689277 | BH20: =SUM(G20,O20,W20,AE20,AM20,AU20) -> 203.39053 | BI20: =AVERAGE(D20,L20,T20,AB20,AJ20,AR20) -> 14.849006 | BJ20: =SUM(D20*G20,L20*O20,T20*W20,AB20*AE20,AJ20*AM20,AR20*AU20)/BH20 -> 14.849006
A21: 14 | B21: avocado | C21: 0.54 | D21: =(11.291*LN(A21)-8.2599)*0.93 -> 20.030058 | E21: =IF(EXP(0.893-$C$5+0.76*LN(D21)-0.034*(LN(D21))^2)>20, 20, EXP(0.893-$C$5+0.76*LN(D21)-0.034*(LN(D21))^2)) -> 14.967251 | F21: =0.0673*(C21*D21^2*E21)^0.976 -> 179.74369 | G21: =G20*0.995 -> 33.728929 | H21: =F21*G21*$F$5 -> 2879.7171 | J21: orange | K21: 0.827 | L21: =A21*1.2*0.93 -> 15.624 | M21: =IF(EXP(0.893-$C$5+0.76*LN(L21)-0.034*(LN(L21))^2)>10, 10, EXP(0.893-$C$5+0.76*LN(L21)-0.034*(LN(L21))^2)) -> 10 | N21: =0.0673*(K21*L21^2*M21)^0.976 -> 113.18344 | O21: =O20*0.995 -> 33.728929 | P21: =N21*O21*$F$5 -> 1813.3391 | R21: lemon | S21: 0.834 | T21: =$A21*0.83*0.93 -> 10.8066 | U21: =IF(EXP(0.893-$C$5+0.76*LN(T21)-0.034*(LN(T21))^2)>8, 8, EXP(0.893-$C$5+0.76*LN(T21)-0.034*(LN(T21))^2)) -> 8 | V21: =0.0673*(S21*T21^2*U21)^0.976 -> 44.694083 | W21: =W20*0.995 -> 33.728929 | X21: =V21*W21*$F$5 -> 716.05469 | Z21: mandarine | AA21: 0.83 | AB21: =A21*0.96*0.93 -> 12.4992 | AC21: =IF(EXP(0.893-$C$5+0.76*LN(AB21)-0.034*(LN(AB21))^2)>4, 4, EXP(0.893-$C$5+0.76*LN(AB21)-0.034*(LN(AB21))^2)) -> 4 | AD21: =0.0673*(AA21*AB21^2*AC21)^0.976 -> 30.04415 | AE21: =AE20*0.995 -> 33.728929 | AF21: =AD21*AE21*$F$5 -> 481.34458 | AH21: mango | AI21: 0.675 | AJ21: =(10.348*LN(A21)-6.693)*0.93 -> 19.172848 | AK21: =IF(EXP(0.893-$C$5+0.76*LN(AJ21)-0.034*(LN(AJ21))^2)>25, 25, EXP(0.893-$C$5+0.76*LN(AJ21)-0.034*(LN(AJ21))^2)) -> 14.606585 | AL21: =0.0673*(AI21*AJ21^2*AK21)^0.976 -> 200.36384 | AM21: =AM20*0.995 -> 33.728929 | AN21: =AL21*AM21*$F$5 -> 3210.0774 | AP21: Safoutier | AQ21: 0.6 | AR21: =$A21*1.26*0.93 -> 16.4052 | AS21: =IF(EXP(0.893-$C$5+0.76*LN(AR21)-0.034*(LN(AR21))^2)>22.5, 22.5, EXP(0.893-$C$5+0.76*LN(AR21)-0.034*(LN(AR21))^2)) -> 13.376167 | AT21: =0.0673*(AQ21*AR21^2*AS21)^0.976 -> 120.90224 | AU21: =AU20*0.995 -> 33.728929 | AV21: =AT21*AU21*$F$5 -> 1937.004 | AX21: =AX20+Calculations!$C$24 -> 2.9048507 | AY21: =AX21*3.67 -> 10.660802 | AZ21: =SUM(H21,P21,X21,AF21,AN21,AV21)*3.67/1000 -> 40.50776 | BA21: =AZ21*0.33 -> 13.367561 | BB21: =AZ21+BA21 -> 53.875321 | BC21: =BB21+AY21 -> 64.536123 | BH21: =SUM(G21,O21,W21,AE21,AM21,AU21) -> 202.37357 | BI21: =AVERAGE(D21,L21,T21,AB21,AJ21,AR21) -> 15.756318 | BJ21: =SUM(D21*G21,L21*O21,T21*W21,AB21*AE21,AJ21*AM21,AR21*AU21)/BH21 -> 15.756318
A22: 15 | B22: avocado | C22: 0.54 | D22: =(11.291*LN(A22)-8.2599)*0.93 -> 20.754526 | E22: =IF(EXP(0.893-$C$5+0.76*LN(D22)-0.034*(LN(D22))^2)>20, 20, EXP(0.893-$C$5+0.76*LN(D22)-0.034*(LN(D22))^2)) -> 15.265314 | F22: =0.0673*(C22*D22^2*E22)^0.976 -> 196.39589 | G22: =G21*0.995 -> 33.560284 | H22: =F22*G22*$F$5 -> 3130.7735 | J22: orange | K22: 0.827 | L22: =A22*1.2*0.93 -> 16.74 | M22: =IF(EXP(0.893-$C$5+0.76*LN(L22)-0.034*(LN(L22))^2)>10, 10, EXP(0.893-$C$5+0.76*LN(L22)-0.034*(LN(L22))^2)) -> 10 | N22: =0.0673*(K22*L22^2*M22)^0.976 -> 129.50039 | O22: =O21*0.995 -> 33.560284 | P22: =N22*O22*$F$5 -> 2064.3833 | R22: lemon | S22: 0.834 | T22: =$A22*0.83*0.93 -> 11.5785 | U22: =IF(EXP(0.893-$C$5+0.76*LN(T22)-0.034*(LN(T22))^2)>8, 8, EXP(0.893-$C$5+0.76*LN(T22)-0.034*(LN(T22))^2)) -> 8 | V22: =0.0673*(S22*T22^2*U22)^0.976 -> 51.137353 | W22: =W21*0.995 -> 33.560284 | X22: =V22*W22*$F$5 -> 815.18745 | Z22: mandarine | AA22: 0.83 | AB22: =A22*0.96*0.93 -> 13.392 | AC22: =IF(EXP(0.893-$C$5+0.76*LN(AB22)-0.034*(LN(AB22))^2)>4, 4, EXP(0.893-$C$5+0.76*LN(AB22)-0.034*(LN(AB22))^2)) -> 4 | AD22: =0.0673*(AA22*AB22^2*AC22)^0.976 -> 34.37543 | AE22: =AE21*0.995 -> 33.560284 | AF22: =AD22*AE22*$F$5 -> 547.98336 | AH22: mango | AI22: 0.675 | AJ22: =(10.348*LN(A22)-6.693)*0.93 -> 19.83681 | AK22: =IF(EXP(0.893-$C$5+0.76*LN(AJ22)-0.034*(LN(AJ22))^2)>25, 25, EXP(0.893-$C$5+0.76*LN(AJ22)-0.034*(LN(AJ22))^2)) -> 14.886716 | AL22: =0.0673*(AI22*AJ22^2*AK22)^0.976 -> 218.13849 | AM22: =AM21*0.995 -> 33.560284 | AN22: =AL22*AM22*$F$5 -> 3477.3752 | AP22: Safoutier | AQ22: 0.6 | AR22: =$A22*1.26*0.93 -> 17.577 | AS22: =IF(EXP(0.893-$C$5+0.76*LN(AR22)-0.034*(LN(AR22))^2)>22.5, 22.5, EXP(0.893-$C$5+0.76*LN(AR22)-0.034*(LN(AR22))^2)) -> 13.910199 | AT22: =0.0673*(AQ22*AR22^2*AS22)^0.976 -> 143.71966 | AU22: =AU21*0.995 -> 33.560284 | AV22: =AT22*AU22*$F$5 -> 2291.0545 | AX22: =AX21+Calculations!$C$24 -> 3.11234 | AY22: =AX22*3.67 -> 11.422288 | AZ22: =SUM(H22,P22,X22,AF22,AN22,AV22)*3.67/1000 -> 45.239199 | BA22: =AZ22*0.33 -> 14.928936 | BB22: =AZ22+BA22 -> 60.168135 | BC22: =BB22+AY22 -> 71.590422 | BH22: =SUM(G22,O22,W22,AE22,AM22,AU22) -> 201.36171 | BI22: =AVERAGE(D22,L22,T22,AB22,AJ22,AR22) -> 16.646473 | BJ22: =SUM(D22*G22,L22*O22,T22*W22,AB22*AE22,AJ22*AM22,AR22*AU22)/BH22 -> 16.646473
A23: 16 | B23: avocado | C23: 0.54 | D23: =(11.291*LN(A23)-8.2599)*0.93 -> 21.432221 | E23: =IF(EXP(0.893-$C$5+0.76*LN(D23)-0.034*(LN(D23))^2)>20, 20, EXP(0.893-$C$5+0.76*LN(D23)-0.034*(LN(D23))^2)) -> 15.53882 | F23: =0.0673*(C23*D23^2*E23)^0.976 -> 212.76418 | G23: =G22*0.995 -> 33.392483 | H23: =F23*G23*$F$5 -> 3374.744 | J23: orange | K23: 0.827 | L23: =A23*1.2*0.93 -> 17.856 | M23: =IF(EXP(0.893-$C$5+0.76*LN(L23)-0.034*(LN(L23))^2)>10, 10, EXP(0.893-$C$5+0.76*LN(L23)-0.034*(LN(L23))^2)) -> 10 | N23: =0.0673*(K23*L23^2*M23)^0.976 -> 146.88693 | O23: =O22*0.995 -> 33.392483 | P23: =N23*O23*$F$5 -> 2329.8367 | R23: lemon | S23: 0.834 | T23: =$A23*0.83*0.93 -> 12.3504 | U23: =IF(EXP(0.893-$C$5+0.76*LN(T23)-0.034*(LN(T23))^2)>8, 8, EXP(0.893-$C$5+0.76*LN(T23)-0.034*(LN(T23))^2)) -> 8 | V23: =0.0673*(S23*T23^2*U23)^0.976 -> 58.002981 | W23: =W22*0.995 -> 33.392483 | X23: =V23*W23*$F$5 -> 920.01019 | Z23: mandarine | AA23: 0.83 | AB23: =A23*0.96*0.93 -> 14.2848 | AC23: =IF(EXP(0.893-$C$5+0.76*LN(AB23)-0.034*(LN(AB23))^2)>4, 4, EXP(0.893-$C$5+0.76*LN(AB23)-0.034*(LN(AB23))^2)) -> 4 | AD23: =0.0673*(AA23*AB23^2*AC23)^0.976 -> 38.990626 | AE23: =AE22*0.995 -> 33.392483 | AF23: =AD23*AE23*$F$5 -> 618.44705 | AH23: mango | AI23: 0.675 | AJ23: =(10.348*LN(A23)-6.693)*0.93 -> 20.457906 | AK23: =IF(EXP(0.893-$C$5+0.76*LN(AJ23)-0.034*(LN(AJ23))^2)>25, 25, EXP(0.893-$C$5+0.76*LN(AJ23)-0.034*(LN(AJ23))^2)) -> 15.144003 | AL23: =0.0673*(AI23*AJ23^2*AK23)^0.976 -> 235.57623 | AM23: =AM22*0.995 -> 33.392483 | AN23: =AL23*AM23*$F$5 -> 3736.5757 | AP23: Safoutier | AQ23: 0.6 | AR23: =$A23*1.26*0.93 -> 18.7488 | AS23: =IF(EXP(0.893-$C$5+0.76*LN(AR23)-0.034*(LN(AR23))^2)>22.5, 22.5, EXP(0.893-$C$5+0.76*LN(AR23)-0.034*(LN(AR23))^2)) -> 14.424809 | AT23: =0.0673*(AQ23*AR23^2*AS23)^0.976 -> 168.89871 | AU23: =AU22*0.995 -> 33.392483 | AV23: =AT23*AU23*$F$5 -> 2678.975 | AX23: =AX22+Calculations!$C$24 -> 3.3198293 | AY23: =AX23*3.67 -> 12.183774 | AZ23: =SUM(H23,P23,X23,AF23,AN23,AV23)*3.67/1000 -> 50.12702 | BA23: =AZ23*0.33 -> 16.541917 | BB23: =AZ23+BA23 -> 66.668937 | BC23: =BB23+AY23 -> 78.852711 | BH23: =SUM(G23,O23,W23,AE23,AM23,AU23) -> 200.3549 | BI23: =AVERAGE(D23,L23,T23,AB23,AJ23,AR23) -> 17.521688 | BJ23: =SUM(D23*G23,L23*O23,T23*W23,AB23*AE23,AJ23*AM23,AR23*AU23)/BH23 -> 17.521688
A24: 17 | B24: avocado | C24: 0.54 | D24: =(11.291*LN(A24)-8.2599)*0.93 -> 22.068818 | E24: =IF(EXP(0.893-$C$5+0.76*LN(D24)-0.034*(LN(D24))^2)>20, 20, EXP(0.893-$C$5+0.76*LN(D24)-0.034*(LN(D24))^2)) -> 15.791271 | F24: =0.0673*(C24*D24^2*E24)^0.976 -> 228.84594 | G24: =G23*0.995 -> 33.22552 | H24: =F24*G24*$F$5 -> 3611.6745 | J24: orange | K24: 0.827 | L24: =A24*1.2*0.93 -> 18.972 | M24: =IF(EXP(0.893-$C$5+0.76*LN(L24)-0.034*(LN(L24))^2)>10, 10, EXP(0.893-$C$5+0.76*LN(L24)-0.034*(LN(L24))^2)) -> 10 | N24: =0.0673*(K24*L24^2*M24)^0.976 -> 165.33974 | O24: =O23*0.995 -> 33.22552 | P24: =N24*O24*$F$5 -> 2609.4119 | R24: lemon | S24: 0.834 | T24: =$A24*0.83*0.93 -> 13.1223 | U24: =IF(EXP(0.893-$C$5+0.76*LN(T24)-0.034*(LN(T24))^2)>8, 8, EXP(0.893-$C$5+0.76*LN(T24)-0.034*(LN(T24))^2)) -> 8 | V24: =0.0673*(S24*T24^2*U24)^0.976 -> 65.289659 | W24: =W23*0.995 -> 33.22552 | X24: =V24*W24*$F$5 -> 1030.4094 | Z24: mandarine | AA24: 0.83 | AB24: =A24*0.96*0.93 -> 15.1776 | AC24: =IF(EXP(0.893-$C$5+0.76*LN(AB24)-0.034*(LN(AB24))^2)>4, 4, EXP(0.893-$C$5+0.76*LN(AB24)-0.034*(LN(AB24))^2)) -> 4 | AD24: =0.0673*(AA24*AB24^2*AC24)^0.976 -> 43.888859 | AE24: =AE23*0.995 -> 33.22552 | AF24: =AD24*AE24*$F$5 -> 692.65934 | AH24: mango | AI24: 0.675 | AJ24: =(10.348*LN(A24)-6.693)*0.93 -> 21.041335 | AK24: =IF(EXP(0.893-$C$5+0.76*LN(AJ24)-0.034*(LN(AJ24))^2)>25, 25, EXP(0.893-$C$5+0.76*LN(AJ24)-0.034*(LN(AJ24))^2)) -> 15.381677 | AL24: =0.0673*(AI24*AJ24^2*AK24)^0.976 -> 252.67963 | AM24: =AM23*0.995 -> 33.22552 | AN24: =AL24*AM24*$F$5 -> 3987.8208 | AP24: Safoutier | AQ24: 0.6 | AR24: =$A24*1.26*0.93 -> 19.9206 | AS24: =IF(EXP(0.893-$C$5+0.76*LN(AR24)-0.034*(LN(AR24))^2)>22.5, 22.5, EXP(0.893-$C$5+0.76*LN(AR24)-0.034*(LN(AR24))^2)) -> 14.921689 | AT24: =0.0673*(AQ24*AR24^2*AS24)^0.976 -> 196.5058 | AU24: =AU23*0.995 -> 33.22552 | AV24: =AT24*AU24*$F$5 -> 3101.2785 | AX24: =AX23+Calculations!$C$24 -> 3.5273187 | AY24: =AX24*3.67 -> 12.94526 | AZ24: =SUM(H24,P24,X24,AF24,AN24,AV24)*3.67/1000 -> 55.172044 | BA24: =AZ24*0.33 -> 18.206774 | BB24: =AZ24+BA24 -> 73.378818 | BC24: =BB24+AY24 -> 86.324078 | BH24: =SUM(G24,O24,W24,AE24,AM24,AU24) -> 199.35312 | BI24: =AVERAGE(D24,L24,T24,AB24,AJ24,AR24) -> 18.383776 | BJ24: =SUM(D24*G24,L24*O24,T24*W24,AB24*AE24,AJ24*AM24,AR24*AU24)/BH24 -> 18.383776
A25: 18 | B25: avocado | C25: 0.54 | D25: =(11.291*LN(A25)-8.2599)*0.93 -> 22.669017 | E25: =IF(EXP(0.893-$C$5+0.76*LN(D25)-0.034*(LN(D25))^2)>20, 20, EXP(0.893-$C$5+0.76*LN(D25)-0.034*(LN(D25))^2)) -> 16.025488 | F25: =0.0673*(C25*D25^2*E25)^0.976 -> 244.64243 | G25: =G24*0.995 -> 33.059393 | H25: =F25*G25*$F$5 -> 3841.6718 | J25: orange | K25: 0.827 | L25: =A25*1.2*0.93 -> 20.088 | M25: =IF(EXP(0.893-$C$5+0.76*LN(L25)-0.034*(LN(L25))^2)>10, 10, EXP(0.893-$C$5+0.76*LN(L25)-0.034*(LN(L25))^2)) -> 10 | N25: =0.0673*(K25*L25^2*M25)^0.976 -> 184.85571 | O25: =O24*0.995 -> 33.059393 | P25: =N25*O25*$F$5 -> 2902.8284 | R25: lemon | S25: 0.834 | T25: =$A25*0.83*0.93 -> 13.8942 | U25: =IF(EXP(0.893-$C$5+0.76*LN(T25)-0.034*(LN(T25))^2)>8, 8, EXP(0.893-$C$5+0.76*LN(T25)-0.034*(LN(T25))^2)) -> 8 | V25: =0.0673*(S25*T25^2*U25)^0.976 -> 72.996164 | W25: =W24*0.995 -> 33.059393 | X25: =V25*W25*$F$5 -> 1146.2742 | Z25: mandarine | AA25: 0.83 | AB25: =A25*0.96*0.93 -> 16.0704 | AC25: =IF(EXP(0.893-$C$5+0.76*LN(AB25)-0.034*(LN(AB25))^2)>4, 4, EXP(0.893-$C$5+0.76*LN(AB25)-0.034*(LN(AB25))^2)) -> 4 | AD25: =0.0673*(AA25*AB25^2*AC25)^0.976 -> 49.069307 | AE25: =AE24*0.995 -> 33.059393 | AF25: =AD25*AE25*$F$5 -> 770.54571 | AH25: mango | AI25: 0.675 | AJ25: =(10.348*LN(A25)-6.693)*0.93 -> 21.591407 | AK25: =IF(EXP(0.893-$C$5+0.76*LN(AJ25)-0.034*(LN(AJ25))^2)>25, 25, EXP(0.893-$C$5+0.76*LN(AJ25)-0.034*(LN(AJ25))^2)) -> 15.602345 | AL25: =0.0673*(AI25*AJ25^2*AK25)^0.976 -> 269.45441 | AM25: =AM24*0.995 -> 33.059393 | AN25: =AL25*AM25*$F$5 -> 4231.2996 | AP25: Safoutier | AQ25: 0.6 | AR25: =$A25*1.26*0.93 -> 21.0924 | AS25: =IF(EXP(0.893-$C$5+0.76*LN(AR25)-0.034*(LN(AR25))^2)>22.5, 22.5, EXP(0.893-$C$5+0.76*LN(AR25)-0.034*(LN(AR25))^2)) -> 15.4023 | AT25: =0.0673*(AQ25*AR25^2*AS25)^0.976 -> 226.60431 | AU25: =AU24*0.995 -> 33.059393 | AV25: =AT25*AU25*$F$5 -> 3558.4154 | AX25: =AX24+Calculations!$C$24 -> 3.734808 | AY25: =AX25*3.67 -> 13.706745 | AZ25: =SUM(H25,P25,X25,AF25,AN25,AV25)*3.67/1000 -> 60.375299 | BA25: =AZ25*0.33 -> 19.923849 | BB25: =AZ25+BA25 -> 80.299147 | BC25: =BB25+AY25 -> 94.005893 | BH25: =SUM(G25,O25,W25,AE25,AM25,AU25) -> 198.35636 | BI25: =AVERAGE(D25,L25,T25,AB25,AJ25,AR25) -> 19.234237 | BJ25: =SUM(D25*G25,L25*O25,T25*W25,AB25*AE25,AJ25*AM25,AR25*AU25)/BH25 -> 19.234237
A26: 19 | B26: avocado | C26: 0.54 | D26: =(11.291*LN(A26)-8.2599)*0.93 -> 23.236757 | E26: =IF(EXP(0.893-$C$5+0.76*LN(D26)-0.034*(LN(D26))^2)>20, 20, EXP(0.893-$C$5+0.76*LN(D26)-0.034*(LN(D26))^2)) -> 16.24377 | F26: =0.0673*(C26*D26^2*E26)^0.976 -> 260.1575 | G26: =G25*0.995 -> 32.894096 | H26: =F26*G26*$F$5 -> 4064.8817 | J26: orange | K26: 0.827 | L26: =A26*1.2*0.93 -> 21.204 | M26: =IF(EXP(0.893-$C$5+0.76*LN(L26)-0.034*(LN(L26))^2)>10, 10, EXP(0.893-$C$5+0.76*LN(L26)-0.034*(LN(L26))^2)) -> 10 | N26: =0.0673*(K26*L26^2*M26)^0.976 -> 205.43195 | O26: =O25*0.995 -> 32.894096 | P26: =N26*O26*$F$5 -> 3209.8116 | R26: lemon | S26: 0.834 | T26: =$A26*0.83*0.93 -> 14.6661 | U26: =IF(EXP(0.893-$C$5+0.76*LN(T26)-0.034*(LN(T26))^2)>8, 8, EXP(0.893-$C$5+0.76*LN(T26)-0.034*(LN(T26))^2)) -> 8 | V26: =0.0673*(S26*T26^2*U26)^0.976 -> 81.121344 | W26: =W25*0.995 -> 32.894096 | X26: =V26*W26*$F$5 -> 1267.4963 | Z26: mandarine | AA26: 0.83 | AB26: =A26*0.96*0.93 -> 16.9632 | AC26: =IF(EXP(0.893-$C$5+0.76*LN(AB26)-0.034*(LN(AB26))^2)>4, 4, EXP(0.893-$C$5+0.76*LN(AB26)-0.034*(LN(AB26))^2)) -> 4 | AD26: =0.0673*(AA26*AB26^2*AC26)^0.976 -> 54.531196 | AE26: =AE25*0.995 -> 32.894096 | AF26: =AD26*AE26*$F$5 -> 852.03334 | AH26: mango | AI26: 0.675 | AJ26: =(10.348*LN(A26)-6.693)*0.93 -> 22.111731 | AK26: =IF(EXP(0.893-$C$5+0.76*LN(AJ26)-0.034*(LN(AJ26))^2)>25, 25, EXP(0.893-$C$5+0.76*LN(AJ26)-0.034*(LN(AJ26))^2)) -> 15.808138 | AL26: =0.0673*(AI26*AJ26^2*AK26)^0.976 -> 285.90826 | AM26: =AM25*0.995 -> 32.894096 | AN26: =AL26*AM26*$F$5 -> 4467.2295 | AP26: Safoutier | AQ26: 0.6 | AR26: =$A26*1.26*0.93 -> 22.2642 | AS26: =IF(EXP(0.893-$C$5+0.76*LN(AR26)-0.034*(LN(AR26))^2)>22.5, 22.5, EXP(0.893-$C$5+0.76*LN(AR26)-0.034*(LN(AR26))^2)) -> 15.867913 | AT26: =0.0673*(AQ26*AR26^2*AS26)^0.976 -> 259.25496 | AU26: =AU25*0.995 -> 32.894096 | AV26: =AT26*AU26*$F$5 -> 4050.7798 | AX26: =AX25+Calculations!$C$24 -> 3.9422973 | AY26: =AX26*3.67 -> 14.468231 | AZ26: =SUM(H26,P26,X26,AF26,AN26,AV26)*3.67/1000 -> 65.737892 | BA26: =AZ26*0.33 -> 21.693504 | BB26: =AZ26+BA26 -> 87.431396 | BC26: =BB26+AY26 -> 101.89963 | BH26: =SUM(G26,O26,W26,AE26,AM26,AU26) -> 197.36458 | BI26: =AVERAGE(D26,L26,T26,AB26,AJ26,AR26) -> 20.074331 | BJ26: =SUM(D26*G26,L26*O26,T26*W26,AB26*AE26,AJ26*AM26,AR26*AU26)/BH26 -> 20.074331
A27: 20 | B27: avocado | C27: 0.54 | D27: =(11.291*LN(A27)-8.2599)*0.93 -> 23.775369 | E27: =IF(EXP(0.893-$C$5+0.76*LN(D27)-0.034*(LN(D27))^2)>20, 20, EXP(0.893-$C$5+0.76*LN(D27)-0.034*(LN(D27))^2)) -> 16.44802 | F27: =0.0673*(C27*D27^2*E27)^0.976 -> 275.39668 | G27: =G26*0.995 -> 32.729625 | H27: =F27*G27*$F$5 -> 4281.4744 | J27: orange | K27: 0.827 | L27: =A27*1.2*0.93 -> 22.32 | M27: =IF(EXP(0.893-$C$5+0.76*LN(L27)-0.034*(LN(L27))^2)>10, 10, EXP(0.893-$C$5+0.76*LN(L27)-0.034*(LN(L27))^2)) -> 10 | N27: =0.0673*(K27*L27^2*M27)^0.976 -> 227.06568 | O27: =O26*0.995 -> 32.729625 | P27: =N27*O27*$F$5 -> 3530.093 | R27: lemon | S27: 0.834 | T27: =$A27*0.83*0.93 -> 15.438 | U27: =IF(EXP(0.893-$C$5+0.76*LN(T27)-0.034*(LN(T27))^2)>8, 8, EXP(0.893-$C$5+0.76*LN(T27)-0.034*(LN(T27))^2)) -> 8 | V27: =0.0673*(S27*T27^2*U27)^0.976 -> 89.664114 | W27: =W26*0.995 -> 32.729625 | X27: =V27*W27*$F$5 -> 1393.9696 | Z27: mandarine | AA27: 0.83 | AB27: =A27*0.96*0.93 -> 17.856 | AC27: =IF(EXP(0.893-$C$5+0.76*LN(AB27)-0.034*(LN(AB27))^2)>4, 4, EXP(0.893-$C$5+0.76*LN(AB27)-0.034*(LN(AB27))^2)) -> 4 | AD27: =0.0673*(AA27*AB27^2*AC27)^0.976 -> 60.273797 | AE27: =AE26*0.995 -> 32.729625 | AF27: =AD27*AE27*$F$5 -> 937.05092 | AH27: mango | AI27: 0.675 | AJ27: =(10.348*LN(A27)-6.693)*0.93 -> 22.605359 | AK27: =IF(EXP(0.893-$C$5+0.76*LN(AJ27)-0.034*(LN(AJ27))^2)>25, 25, EXP(0.893-$C$5+0.76*LN(AJ27)-0.034*(LN(AJ27))^2)) -> 16.000817 | AL27: =0.0673*(AI27*AJ27^2*AK27)^0.976 -> 302.05007 | AM27: =AM26*0.995 -> 32.729625 | AN27: =AL27*AM27*$F$5 -> 4695.8433 | AP27: Safoutier | AQ27: 0.6 | AR27: =$A27*1.26*0.93 -> 23.436 | AS27: =IF(EXP(0.893-$C$5+0.76*LN(AR27)-0.034*(LN(AR27))^2)>22.5, 22.5, EXP(0.893-$C$5+0.76*LN(AR27)-0.034*(LN(AR27))^2)) -> 16.319643 | AT27: =0.0673*(AQ27*AR27^2*AS27)^0.976 -> 294.51597 | AU27: =AU26*0.995 -> 32.729625 | AV27: =AT27*AU27*$F$5 -> 4578.7137 | AX27: =AX26+Calculations!$C$24 -> 4.1497867 | AY27: =AX27*3.67 -> 15.229717 | AZ27: =SUM(H27,P27,X27,AF27,AN27,AV27)*3.67/1000 -> 71.260922 | BA27: =AZ27*0.33 -> 23.516104 | BB27: =AZ27+BA27 -> 94.777026 | BC27: =BB27+AY27 -> 110.00674 | BH27: =SUM(G27,O27,W27,AE27,AM27,AU27) -> 196.37775 | BI27: =AVERAGE(D27,L27,T27,AB27,AJ27,AR27) -> 20.905121 | BJ27: =SUM(D27*G27,L27*O27,T27*W27,AB27*AE27,AJ27*AM27,AR27*AU27)/BH27 -> 20.905121
A28: 21 | B28: avocado | C28: 0.54 | D28: =(11.291*LN(A28)-8.2599)*0.93 -> 24.287697 | E28: =IF(EXP(0.893-$C$5+0.76*LN(D28)-0.034*(LN(D28))^2)>20, 20, EXP(0.893-$C$5+0.76*LN(D28)-0.034*(LN(D28))^2)) -> 16.639826 | F28: =0.0673*(C28*D28^2*E28)^0.976 -> 290.36662 | G28: =G27*0.995 -> 32.565977 | H28: =F28*G28*$F$5 -> 4491.6346 | J28: orange | K28: 0.827 | L28: =A28*1.2*0.93 -> 23.436 | M28: =IF(EXP(0.893-$C$5+0.76*LN(L28)-0.034*(LN(L28))^2)>10, 10, EXP(0.893-$C$5+0.76*LN(L28)-0.034*(LN(L28))^2)) -> 10 | N28: =0.0673*(K28*L28^2*M28)^0.976 -> 249.75432 | O28: =O27*0.995 -> 32.565977 | P28: =N28*O28*$F$5 -> 3863.4095 | R28: lemon | S28: 0.834 | T28: =$A28*0.83*0.93 -> 16.2099 | U28: =IF(EXP(0.893-$C$5+0.76*LN(T28)-0.034*(LN(T28))^2)>8, 8, EXP(0.893-$C$5+0.76*LN(T28)-0.034*(LN(T28))^2)) -> 8 | V28: =0.0673*(S28*T28^2*U28)^0.976 -> 98.623446 | W28: =W27*0.995 -> 32.565977 | X28: =V28*W28*$F$5 -> 1525.5902 | Z28: mandarine | AA28: 0.83 | AB28: =A28*0.96*0.93 -> 18.7488 | AC28: =IF(EXP(0.893-$C$5+0.76*LN(AB28)-0.034*(LN(AB28))^2)>4, 4, EXP(0.893-$C$5+0.76*LN(AB28)-0.034*(LN(AB28))^2)) -> 4 | AD28: =0.0673*(AA28*AB28^2*AC28)^0.976 -> 66.296417 | AE28: =AE27*0.995 -> 32.565977 | AF28: =AD28*AE28*$F$5 -> 1025.5286 | AH28: mango | AI28: 0.675 | AJ28: =(10.348*LN(A28)-6.693)*0.93 -> 23.074898 | AK28: =IF(EXP(0.893-$C$5+0.76*LN(AJ28)-0.034*(LN(AJ28))^2)>25, 25, EXP(0.893-$C$5+0.76*LN(AJ28)-0.034*(LN(AJ28))^2)) -> 16.181856 | AL28: =0.0673*(AI28*AJ28^2*AK28)^0.976 -> 317.88941 | AM28: =AM27*0.995 -> 32.565977 | AN28: =AL28*AM28*$F$5 -> 4917.3802 | AP28: Safoutier | AQ28: 0.6 | AR28: =$A28*1.26*0.93 -> 24.6078 | AS28: =IF(EXP(0.893-$C$5+0.76*LN(AR28)-0.034*(LN(AR28))^2)>22.5, 22.5, EXP(0.893-$C$5+0.76*LN(AR28)-0.034*(LN(AR28))^2)) -> 16.758473 | AT28: =0.0673*(AQ28*AR28^2*AS28)^0.976 -> 332.44331 | AU28: =AU27*0.995 -> 32.565977 | AV28: =AT28*AU28*$F$5 -> 5142.5121 | AX28: =AX27+Calculations!$C$24 -> 4.357276 | AY28: =AX28*3.67 -> 15.991203 | AZ28: =SUM(H28,P28,X28,AF28,AN28,AV28)*3.67/1000 -> 76.945422 | BA28: =AZ28*0.33 -> 25.391989 | BB28: =AZ28+BA28 -> 102.33741 | BC28: =BB28+AY28 -> 118.32861 | BH28: =SUM(G28,O28,W28,AE28,AM28,AU28) -> 195.39586 | BI28: =AVERAGE(D28,L28,T28,AB28,AJ28,AR28) -> 21.727516 | BJ28: =SUM(D28*G28,L28*O28,T28*W28,AB28*AE28,AJ28*AM28,AR28*AU28)/BH28 -> 21.727516
A29: 22 | B29: avocado | C29: 0.54 | D29: =(11.291*LN(A29)-8.2599)*0.93 -> 24.776186 | E29: =IF(EXP(0.893-$C$5+0.76*LN(D29)-0.034*(LN(D29))^2)>20, 20, EXP(0.893-$C$5+0.76*LN(D29)-0.034*(LN(D29))^2)) -> 16.820525 | F29: =0.0673*(C29*D29^2*E29)^0.976 -> 305.07459 | G29: =G28*0.995 -> 32.403147 | H29: =F29*G29*$F$5 -> 4695.5541 | J29: orange | K29: 0.827 | L29: =A29*1.2*0.93 -> 24.552 | M29: =IF(EXP(0.893-$C$5+0.76*LN(L29)-0.034*(LN(L29))^2)>10, 10, EXP(0.893-$C$5+0.76*LN(L29)-0.034*(LN(L29))^2)) -> 10 | N29: =0.0673*(K29*L29^2*M29)^0.976 -> 273.4954 | O29: =O28*0.995 -> 32.403147 | P29: =N29*O29*$F$5 -> 4209.503 | R29: lemon | S29: 0.834 | T29: =$A29*0.83*0.93 -> 16.9818 | U29: =IF(EXP(0.893-$C$5+0.76*LN(T29)-0.034*(LN(T29))^2)>8, 8, EXP(0.893-$C$5+0.76*LN(T29)-0.034*(LN(T29))^2)) -> 8 | V29: =0.0673*(S29*T29^2*U29)^0.976 -> 107.99837 | W29: =W28*0.995 -> 32.403147 | X29: =V29*W29*$F$5 -> 1662.2563 | Z29: mandarine | AA29: 0.83 | AB29: =A29*0.96*0.93 -> 19.6416 | AC29: =IF(EXP(0.893-$C$5+0.76*LN(AB29)-0.034*(LN(AB29))^2)>4, 4, EXP(0.893-$C$5+0.76*LN(AB29)-0.034*(LN(AB29))^2)) -> 4 | AD29: =0.0673*(AA29*AB29^2*AC29)^0.976 -> 72.598403 | AE29: =AE28*0.995 -> 32.403147 | AF29: =AD29*AE29*$F$5 -> 1117.398 | AH29: mango | AI29: 0.675 | AJ29: =(10.348*LN(A29)-6.693)*0.93 -> 23.52259 | AK29: =IF(EXP(0.893-$C$5+0.76*LN(AJ29)-0.034*(LN(AJ29))^2)>25, 25, EXP(0.893-$C$5+0.76*LN(AJ29)-0.034*(LN(AJ29))^2)) -> 16.3525 | AL29: =0.0673*(AI29*AJ29^2*AK29)^0.976 -> 333.43614 | AM29: =AM28*0.995 -> 32.403147 | AN29: =AL29*AM29*$F$5 -> 5132.0806 | AP29: Safoutier | AQ29: 0.6 | AR29: =$A29*1.26*0.93 -> 25.7796 | AS29: =IF(EXP(0.893-$C$5+0.76*LN(AR29)-0.034*(LN(AR29))^2)>22.5, 22.5, EXP(0.893-$C$5+0.76*LN(AR29)-0.034*(LN(AR29))^2)) -> 17.18528 | AT29: =0.0673*(AQ29*AR29^2*AS29)^0.976 -> 373.09087 | AU29: =AU28*0.995 -> 32.403147 | AV29: =AT29*AU29*$F$5 -> 5742.4263 | AX29: =AX28+Calculations!$C$24 -> 4.5647653 | AY29: =AX29*3.67 -> 16.752689 | AZ29: =SUM(H29,P29,X29,AF29,AN29,AV29)*3.67/1000 -> 82.792331 | BA29: =AZ29*0.33 -> 27.321469 | BB29: =AZ29+BA29 -> 110.1138 | BC29: =BB29+AY29 -> 126.86649 | BH29: =SUM(G29,O29,W29,AE29,AM29,AU29) -> 194.41888 | BI29: =AVERAGE(D29,L29,T29,AB29,AJ29,AR29) -> 22.542296 | BJ29: =SUM(D29*G29,L29*O29,T29*W29,AB29*AE29,AJ29*AM29,AR29*AU29)/BH29 -> 22.542296
... A37: 30 | B37: avocado | C37: 0.54 | D37: =(11.291*LN(A37)-8.2599)*0.93 -> 28.033008 | E37: =IF(EXP(0.893-$C$5+0.76*LN(D37)-0.034*(LN(D37))^2)>20, 20, EXP(0.893-$C$5+0.76*LN(D37)-0.034*(LN(D37))^2)) -> 17.975048 | F37: =0.0673*(C37*D37^2*E37)^0.976 -> 414.22911 | G37: =G36*0.995 -> 31.129478 | H37: =F37*G37*$F$5 -> 6124.9996 | J37: orange | K37: 0.827 | L37: =A37*1.2*0.93 -> 33.48 | M37: =IF(EXP(0.893-$C$5+0.76*LN(L37)-0.034*(LN(L37))^2)>10, 10, EXP(0.893-$C$5+0.76*LN(L37)-0.034*(LN(L37))^2)) -> 10 | N37: =0.0673*(K37*L37^2*M37)^0.976 -> 501.05066 | O37: =O36*0.995 -> 31.129478 | P37: =N37*O37*$F$5 -> 7408.7867 | R37: lemon | S37: 0.834 | T37: =$A37*0.83*0.93 -> 23.157 | U37: =IF(EXP(0.893-$C$5+0.76*LN(T37)-0.034*(LN(T37))^2)>8, 8, EXP(0.893-$C$5+0.76*LN(T37)-0.034*(LN(T37))^2)) -> 8 | V37: =0.0673*(S37*T37^2*U37)^0.976 -> 197.85581 | W37: =W36*0.995 -> 31.129478 | X37: =V37*W37*$F$5 -> 2925.5953 | Z37: mandarine | AA37: 0.83 | AB37: =A37*0.96*0.93 -> 26.784 | AC37: =IF(EXP(0.893-$C$5+0.76*LN(AB37)-0.034*(LN(AB37))^2)>4, 4, EXP(0.893-$C$5+0.76*LN(AB37)-0.034*(LN(AB37))^2)) -> 4 | AD37: =0.0673*(AA37*AB37^2*AC37)^0.976 -> 133.00216 | AE37: =AE36*0.995 -> 31.129478 | AF37: =AD37*AE37*$F$5 -> 1966.6367 | AH37: mango | AI37: 0.675 | AJ37: =(10.348*LN(A37)-6.693)*0.93 -> 26.507409 | AK37: =IF(EXP(0.893-$C$5+0.76*LN(AJ37)-0.034*(LN(AJ37))^2)>25, 25, EXP(0.893-$C$5+0.76*LN(AJ37)-0.034*(LN(AJ37))^2)) -> 17.444664 | AL37: =0.0673*(AI37*AJ37^2*AK37)^0.976 -> 448.42642 | AM37: =AM36*0.995 -> 31.129478 | AN37: =AL37*AM37*$F$5 -> 6630.6582 | AP37: Safoutier | AQ37: 0.6 | AR37: =$A37*1.26*0.93 -> 35.154 | AS37: =IF(EXP(0.893-$C$5+0.76*LN(AR37)-0.034*(LN(AR37))^2)>22.5, 22.5, EXP(0.893-$C$5+0.76*LN(AR37)-0.034*(LN(AR37))^2)) -> 20.246153 | AT37: =0.0673*(AQ37*AR37^2*AS37)^0.976 -> 802.09109 | AU37: =AU36*0.995 -> 31.129478 | AV37: =AT37*AU37*$F$5 -> 11860.122 | AX37: =AX36+Calculations!$C$24 -> 6.22468 | AY37: =AX37*3.67 -> 22.844576 | AZ37: =SUM(H37,P37,X37,AF37,AN37,AV37)*3.67/1000 -> 135.48465 | BA37: =AZ37*0.33 -> 44.709934 | BB37: =AZ37+BA37 -> 180.19458 | BC37: =BB37+AY37 -> 203.03916 | BH37: =SUM(G37,O37,W37,AE37,AM37,AU37) -> 186.77687 | BI37: =AVERAGE(D37,L37,T37,AB37,AJ37,AR37) -> 28.85257 | BJ37: =SUM(D37*G37,L37*O37,T37*W37,AB37*AE37,AJ37*AM37,AR37*AU37)/BH37 -> 28.85257
F39: =F37*$F$5*3.67/1000 -> 0.7221049 | G39: t CO2 | N39: =N37*$F$5*3.67/1000 -> 0.87345656 | O39: t CO2 | V39: =V37*$F$5*3.67/1000 -> 0.34491213 | W39: t CO2 | AD39: =AD37*$F$5*3.67/1000 -> 0.23185601 | AE39: t CO2 | AL39: =AL37*$F$5*3.67/1000 -> 0.78171935 | AM39: t CO2 | AT39: =AT37*$F$5*3.67/1000 -> 1.3982453 | AU39: t CO2

Sheet HomeOrchard
B5: E | C5: 0.1595973 | E5: conversion factor | F5: 0.475 | H5: literature data | I5: avg measured DBH
A6: year | B6: tree species | C6: Density (g/cm3) | D6: DBH (cm) | E6: Height (m) | F6: AGB (kg) | G6: Density (#/ha) | H6: AGB (kgC/ha) | J6: tree species | K6: Density (g/cm3) | L6: DBH (cm) | M6: Height (m) | N6: AGB | O6: Density (#/ha) | P6: AGB (kgC/ha) | R6: tree species | S6: Density (g/cm3) | T6: DBH (cm) | U6: Height (m) | V6: AGB | W6: Density (#/ha) | X6: AGB (kgC/ha) | Z6: tree species | AA6: Density (g/cm3) | AB6: DBH (cm) | AC6: Height (m) | AD6: AGB | AE6: Density (#/ha) | AF6: AGB (kgC/ha) | AH6: tree species | AI6: Density (g/cm3) | AJ6: DBH (cm) | AK6: Height (m) | AL6: AGB | AM6: Density (#/ha) | AN6: AGB (kgC/ha) | AP6: tree species | AQ6: Density (g/cm3) | AR6: DBH (cm) | AS6: Height (m) | AT6: AGB | AU6: Density (#/ha) | AV6: AGB (kgC/ha) | AX6: SOC (tC/ha) | AY6: SOC (tCO2/ha) | AZ6: TOTAL AGB (tCO2/ha) | BA6: TOTAL BGB (tCO2/ha) | BB6: TOTAL woody biomass (tCO2/ha) | BC6: Total Stock (tCO2/ha) | BE6: # ha in Bankim | BG6: Total trees/ha | BH6: Total trees/ ha over years | BI6: average diameter | BJ6: weighed av diam
A7: 0 | B7: avocado | C7: 0.54 | D7: =A7*1.3*0.93 -> 0 | E7: 0 | F7: =0.0673*(C7*D7^2*E7)^0.976 -> 0 | G7: 60 | H7: =F7*G7*$F$5 -> 0 | J7: orange | K7: 0.827 | L7: =A7*1.2*0.93 -> 0 | M7: =IF(50.453*(1-EXP(-0.047*L7^(0.812)))>10, 10, 50.453*(1-EXP(-0.047*L7^(0.812)))) -> 0 | N7: =0.0673*(K7*L7^2*M7)^0.976 -> 0 | O7: 60 | P7: =N7*O7*$F$5 -> 0 | R7: lemon | S7: 0.834 | T7: =$A7*0.83*0.93 -> 0 | U7: =IF(50.453*(1-EXP(-0.047*T7^(0.812)))>8, 8, 50.453*(1-EXP(-0.047*T7^(0.812)))) -> 0 | V7: =0.0673*(S7*T7^2*U7)^0.976 -> 0 | W7: 60 | X7: =V7*W7*$F$5 -> 0 | Z7: mandarine | AA7: 0.83 | AB7: =A7*0.96*0.93 -> 0 | AC7: =IF(50.453*(1-EXP(-0.047*AB7^(0.812)))>4, 4, 50.453*(1-EXP(-0.047*AB7^(0.812)))) -> 0 | AD7: =0.0673*(AA7*AB7^2*AC7)^0.976 -> 0 | AE7: 60 | AF7: =AD7*AE7*$F$5 -> 0 | AH7: mango | AI7: 0.675 | AJ7: =0*0.93 -> 0 | AK7: =IF(50.453*(1-EXP(-0.047*AJ7^(0.812)))>25, 25, 50.453*(1-EXP(-0.047*AJ7^(0.812)))) -> 0 | AL7: =0.0673*(AI7*AJ7^2*AK7)^0.976 -> 0 | AM7: 60 | AN7: =AL7*AM7*$F$5 -> 0 | AP7: Safoutier | AQ7: 0.6 | AR7: =$A7*1.26*0.93 -> 0 | AS7: 0 | AT7: =0.0673*(AQ7*AR7^2*AS7)^0.976 -> 0 | AU7: 60 | AV7: =AT7*AU7*$F$5 -> 0 | AX7: 0 | AY7: =AX7*3.67 -> 0 | AZ7: =SUM(H7,P7,X7,AF7,AN7,AV7)*3.67/1000 -> 0 | BA7: =AZ7*0.235 -> 0 | BB7: =AZ7+BA7 -> 0 | BC7: =BB7+AY7 -> 0 | BE7: 9.77 | BG7: =SUM(AM37,AE37,W37,O37,G37,AU37) -> 186.77687 | BH7: =SUM(G7,O7,W7,AE7,AM7,AU7) -> 360 | BI7: =AVERAGE(D7,L7,T7,AB7,AJ7,AR7) -> 0 | BJ7: =SUM(D7*G7,L7*O7,T7*W7,AB7*AE7,AJ7*AM7,AR7*AU7)/BH7 -> 0
A8: 1 | B8: avocado | C8: 0.54 | D8: =A8*1.3*0.93 -> 1.209 | E8: =IF(EXP(0.893-$C$5+0.76*LN(D8)-0.034*(LN(D8))^2)>20, 20, EXP(0.893-$C$5+0.76*LN(D8)-0.034*(LN(D8))^2)) -> 2.4022867 | F8: =0.0673*(C8*D8^2*E8)^0.976 -> 0.12566587 | G8: =G7*0.6 -> 36 | H8: =F8*G8*$F$5 -> 2.1488864 | J8: orange | K8: 0.827 | L8: =A8*1.2*0.93 -> 1.116 | M8: =IF(EXP(0.893-$C$5+0.76*LN(L8)-0.034*(LN(L8))^2)>10, 10, EXP(0.893-$C$5+0.76*LN(L8)-0.034*(LN(L8))^2)) -> 2.2623494 | N8: =0.0673*(K8*L8^2*M8)^0.976 -> 0.15367074 | O8: =O7*0.6 -> 36 | P8: =N8*O8*$F$5 -> 2.6277697 | R8: lemon | S8: 0.834 | T8: =$A8*0.83*0.93 -> 0.7719 | U8: =IF(EXP(0.893-$C$5+0.76*LN(T8)-0.034*(LN(T8))^2)>8, 8, EXP(0.893-$C$5+0.76*LN(T8)-0.034*(LN(T8))^2)) -> 1.706355 | V8: =0.0673*(S8*T8^2*U8)^0.976 -> 0.057291738 | W8: =W7*0.6 -> 36 | X8: =V8*W8*$F$5 -> 0.97968872 | Z8: mandarine | AA8: 0.83 | AB8: =A8*0.96*0.93 -> 0.8928 | AC8: =IF(EXP(0.893-$C$5+0.76*LN(AB8)-0.034*(LN(AB8))^2)>4, 4, EXP(0.893-$C$5+0.76*LN(AB8)-0.034*(LN(AB8))^2)) -> 1.9093962 | AD8: =0.0673*(AA8*AB8^2*AC8)^0.976 -> 0.084539953 | AE8: =AE7*0.6 -> 36 | AF8: =AD8*AE8*$F$5 -> 1.4456332 | AH8: mango | AI8: 0.675 | AJ8: =(AJ9/2)*0.93 -> 0.20744065 | AK8: =IF(EXP(0.893-$C$5+0.76*LN(AJ8)-0.034*(LN(AJ8))^2)>25, 25, EXP(0.893-$C$5+0.76*LN(AJ8)-0.034*(LN(AJ8))^2)) -> 0.57918899 | AL8: =0.0673*(AI8*AJ8^2*AK8)^0.976 -> 0.0012488348 | AM8: =AM7*0.6 -> 36 | AN8: =AL8*AM8*$F$5 -> 0.021355075 | AP8: Safoutier | AQ8: 0.6 | AR8: =$A8*1.26*0.93 -> 1.1718 | AS8: =IF(EXP(0.893-$C$5+0.76*LN(AR8)-0.034*(LN(AR8))^2)>22.5, 22.5, EXP(0.893-$C$5+0.76*LN(AR8)-0.034*(LN(AR8))^2)) -> 2.3467685 | AT8: =0.0673*(AQ8*AR8^2*AS8)^0.976 -> 0.12807715 | AU8: =AU7*0.6 -> 36 | AV8: =AT8*AU8*$F$5 -> 2.1901193 | AX8: =AX7+0.8 -> 0.8 | AY8: =AX8*3.67 -> 2.936 | AZ8: =SUM(H8,P8,X8,AF8,AN8,AV8)*3.67/1000 -> 0.034547371 | BA8: =AZ8*0.235 -> 0.0081186321 | BB8: =AZ8+BA8 -> 0.042666003 | BC8: =BB8+AY8 -> 2.978666 | BH8: =SUM(G8,O8,W8,AE8,AM8,AU8) -> 216 | BI8: =AVERAGE(D8,L8,T8,AB8,AJ8,AR8) -> 0.89482344 | BJ8: =SUM(D8*G8,L8*O8,T8*W8,AB8*AE8,AJ8*AM8,AR8*AU8)/BH8 -> 0.89482344
A9: 2 | B9: avocado | C9: 0.54 | D9: =A9*1.3*0.93 -> 2.418 | E9: =IF(EXP(0.893-$C$5+0.76*LN(D9)-0.034*(LN(D9))^2)>20, 20, EXP(0.893-$C$5+0.76*LN(D9)-0.034*(LN(D9))^2)) -> 3.9666892 | F9: =0.0673*(C9*D9^2*E9)^0.976 -> 0.79323883 | G9: =G8*0.995 -> 35.82 | H9: =F9*G9*$F$5 -> 13.496562 | J9: orange | K9: 0.827 | L9: =A9*1.2*0.93 -> 2.232 | M9: =IF(EXP(0.893-$C$5+0.76*LN(L9)-0.034*(LN(L9))^2)>10, 10, EXP(0.893-$C$5+0.76*LN(L9)-0.034*(LN(L9))^2)) -> 3.7497429 | N9: =0.0673*(K9*L9^2*M9)^0.976 -> 0.97359191 | O9: =O8*0.995 -> 35.82 | P9: =N9*O9*$F$5 -> 16.56518 | R9: lemon | S9: 0.834 | T9: =$A9*0.83*0.93 -> 1.5438 | U9: =IF(EXP(0.893-$C$5+0.76*LN(T9)-0.034*(LN(T9))^2)>8, 8, EXP(0.893-$C$5+0.76*LN(T9)-0.034*(LN(T9))^2)) -> 2.8777794 | V9: =0.0673*(S9*T9^2*U9)^0.976 -> 0.36918407 | W9: =W8*0.995 -> 35.82 | X9: =V9*W9*$F$5 -> 6.2814824 | Z9: mandarine | AA9: 0.83 | AB9: =A9*0.96*0.93 -> 1.7856 | AC9: =IF(EXP(0.893-$C$5+0.76*LN(AB9)-0.034*(LN(AB9))^2)>4, 4, EXP(0.893-$C$5+0.76*LN(AB9)-0.034*(LN(AB9))^2)) -> 3.1982001 | AD9: =0.0673*(AA9*AB9^2*AC9)^0.976 -> 0.54113534 | AE9: =AE8*0.995 -> 35.82 | AF9: =AD9*AE9*$F$5 -> 9.2071473 | AH9: mango | AI9: 0.675 | AJ9: =(10.348*LN(A9)-6.693)*0.93 -> 0.44610893 | AK9: =IF(EXP(0.893-$C$5+0.76*LN(AJ9)-0.034*(LN(AJ9))^2)>25, 25, EXP(0.893-$C$5+0.76*LN(AJ9)-0.034*(LN(AJ9))^2)) -> 1.1027242 | AL9: =0.0673*(AI9*AJ9^2*AK9)^0.976 -> 0.01043691 | AM9: =AM8*0.995 -> 35.82 | AN9: =AL9*AM9*$F$5 -> 0.1775788 | AP9: Safoutier | AQ9: 0.6 | AR9: =$A9*1.26*0.93 -> 2.3436 | AS9: =IF(EXP(0.893-$C$5+0.76*LN(AR9)-0.034*(LN(AR9))^2)>22.5, 22.5, EXP(0.893-$C$5+0.76*LN(AR9)-0.034*(LN(AR9))^2)) -> 3.8807292 | AT9: =0.0673*(AQ9*AR9^2*AS9)^0.976 -> 0.80962269 | AU9: =AU8*0.995 -> 35.82 | AV9: =AT9*AU9*$F$5 -> 13.775325 | AX9: =AX8+0.8 -> 1.6 | AY9: =AX9*3.67 -> 5.872 | AZ9: =SUM(H9,P9,X9,AF9,AN9,AV9)*3.67/1000 -> 0.21837702 | BA9: =AZ9*0.235 -> 0.0513186 | BB9: =AZ9+BA9 -> 0.26969562 | BC9: =BB9+AY9 -> 6.1416956 | BE9: total C benefit (t CO2) | BH9: =SUM(G9,O9,W9,AE9,AM9,AU9) -> 214.92 | BI9: =AVERAGE(D9,L9,T9,AB9,AJ9,AR9) -> 1.7948515 | BJ9: =SUM(D9*G9,L9*O9,T9*W9,AB9*AE9,AJ9*AM9,AR9*AU9)/BH9 -> 1.7948515
A10: 3 | B10: avocado | C10: 0.54 | D10: =(11.291*LN(A10)-8.2599)*0.93 -> 3.8544142 | E10: =IF(EXP(0.893-$C$5+0.76*LN(D10)-0.034*(LN(D10))^2)>20, 20, EXP(0.893-$C$5+0.76*LN(D10)-0.034*(LN(D10))^2)) -> 5.4570908 | F10: =0.0673*(C10*D10^2*E10)^0.976 -> 2.6908918 | G10: =G9*0.995 -> 35.6409 | H10: =F10*G10*$F$5 -> 45.555258 | J10: orange | K10: 0.827 | L10: =A10*1.2*0.93 -> 3.348 | M10: =IF(EXP(0.893-$C$5+0.76*LN(L10)-0.034*(LN(L10))^2)>10, 10, EXP(0.893-$C$5+0.76*LN(L10)-0.034*(LN(L10))^2)) -> 4.9635136 | N10: =0.0673*(K10*L10^2*M10)^0.976 -> 2.8246973 | O10: =O9*0.995 -> 35.6409 | P10: =N10*O10*$F$5 -> 47.820508 | R10: lemon | S10: 0.834 | T10: =$A10*0.83*0.93 -> 2.3157 | U10: =IF(EXP(0.893-$C$5+0.76*LN(T10)-0.034*(LN(T10))^2)>8, 8, EXP(0.893-$C$5+0.76*LN(T10)-0.034*(LN(T10))^2)) -> 3.8482168 | V10: =0.0673*(S10*T10^2*U10)^0.976 -> 1.0817983 | W10: =W9*0.995 -> 35.6409 | X10: =V10*W10*$F$5 -> 18.314225 | Z10: mandarine | AA10: 0.83 | AB10: =A10*0.96*0.93 -> 2.6784 | AC10: =IF(EXP(0.893-$C$5+0.76*LN(AB10)-0.034*(LN(AB10))^2)>4, 4, EXP(0.893-$C$5+0.76*LN(AB10)-0.034*(LN(AB10))^2)) -> 4 | AD10: =0.0673*(AA10*AB10^2*AC10)^0.976 -> 1.4854522 | AE10: =AE9*0.995 -> 35.6409 | AF10: =AD10*AE10*$F$5 -> 25.147856 | AH10: mango | AI10: 0.675 | AJ10: =(10.348*LN(A10)-6.693)*0.93 -> 4.3481592 | AK10: =IF(EXP(0.893-$C$5+0.76*LN(AJ10)-0.034*(LN(AJ10))^2)>25, 25, EXP(0.893-$C$5+0.76*LN(AJ10)-0.034*(LN(AJ10))^2)) -> 5.911909 | AL10: =0.0673*(AI10*AJ10^2*AK10)^0.976 -> 4.5771382 | AM10: =AM9*0.995 -> 35.6409 | AN10: =AL10*AM10*$F$5 -> 77.488329 | AP10: Safoutier | AQ10: 0.6 | AR10: =$A10*1.26*0.93 -> 3.5154 | AS10: =IF(EXP(0.893-$C$5+0.76*LN(AR10)-0.034*(LN(AR10))^2)>22.5, 22.5, EXP(0.893-$C$5+0.76*LN(AR10)-0.034*(LN(AR10))^2)) -> 5.1299938 | AT10: =0.0673*(AQ10*AR10^2*AS10)^0.976 -> 2.3458888 | AU10: =AU9*0.995 -> 35.6409 | AV10: =AT10*AU10*$F$5 -> 39.714555 | AX10: =AX9+0.8 -> 2.4 | AY10: =AX10*3.67 -> 8.808 | AZ10: =SUM(H10,P10,X10,AF10,AN10,AV10)*3.67/1000 -> 0.93232949 | BA10: =AZ10*0.235 -> 0.21909743 | BB10: =AZ10+BA10 -> 1.1514269 | BC10: =BB10+AY10 -> 9.9594269 | BE10: =BC37*BE7 -> 2495.2926 | BH10: =SUM(G10,O10,W10,AE10,AM10,AU10) -> 213.8454 | BI10: =AVERAGE(D10,L10,T10,AB10,AJ10,AR10) -> 3.3433456 | BJ10: =SUM(D10*G10,L10*O10,T10*W10,AB10*AE10,AJ10*AM10,AR10*AU10)/BH10 -> 3.3433456
A11: 4 | B11: avocado | C11: 0.54 | D11: =(11.291*LN(A11)-8.2599)*0.93 -> 6.8752572 | E11: =IF(EXP(0.893-$C$5+0.76*LN(D11)-0.034*(LN(D11))^2)>20, 20, EXP(0.893-$C$5+0.76*LN(D11)-0.034*(LN(D11))^2)) -> 7.9427044 | F11: =0.0673*(C11*D11^2*E11)^0.976 -> 12.01126 | G11: =G10*0.995 -> 35.462696 | H11: =F11*G11*$F$5 -> 202.32703 | J11: orange | K11: 0.827 | L11: =A11*1.2*0.93 -> 4.464 | M11: =IF(EXP(0.893-$C$5+0.76*LN(L11)-0.034*(LN(L11))^2)>10, 10, EXP(0.893-$C$5+0.76*LN(L11)-0.034*(LN(L11))^2)) -> 6.0152621 | N11: =0.0673*(K11*L11^2*M11)^0.976 -> 5.9746779 | O11: =O10*0.995 -> 35.462696 | P11: =N11*O11*$F$5 -> 100.64214 | R11: lemon | S11: 0.834 | T11: =$A11*0.83*0.93 -> 3.0876 | U11: =IF(EXP(0.893-$C$5+0.76*LN(T11)-0.034*(LN(T11))^2)>8, 8, EXP(0.893-$C$5+0.76*LN(T11)-0.034*(LN(T11))^2)) -> 4.6973927 | V11: =0.0673*(S11*T11^2*U11)^0.976 -> 2.3043354 | W11: =W10*0.995 -> 35.462696 | X11: =V11*W11*$F$5 -> 38.816024 | Z11: mandarine | AA11: 0.83 | AB11: =A11*0.96*0.93 -> 3.5712 | AC11: =IF(EXP(0.893-$C$5+0.76*LN(AB11)-0.034*(LN(AB11))^2)>4, 4, EXP(0.893-$C$5+0.76*LN(AB11)-0.034*(LN(AB11))^2)) -> 4 | AD11: =0.0673*(AA11*AB11^2*AC11)^0.976 -> 2.6045884 | AE11: =AE10*0.995 -> 35.462696 | AF11: =AD11*AE11*$F$5 -> 43.873719 | AH11: mango | AI11: 0.675 | AJ11: =(10.348*LN(A11)-6.693)*0.93 -> 7.1167079 | AK11: =IF(EXP(0.893-$C$5+0.76*LN(AJ11)-0.034*(LN(AJ11))^2)>25, 25, EXP(0.893-$C$5+0.76*LN(AJ11)-0.034*(LN(AJ11))^2)) -> 8.1166749 | AL11: =0.0673*(AI11*AJ11^2*AK11)^0.976 -> 16.316143 | AM11: =AM10*0.995 -> 35.462696 | AN11: =AL11*AM11*$F$5 -> 274.84184 | AP11: Safoutier | AQ11: 0.6 | AR11: =$A11*1.26*0.93 -> 4.6872 | AS11: =IF(EXP(0.893-$C$5+0.76*LN(AR11)-0.034*(LN(AR11))^2)>22.5, 22.5, EXP(0.893-$C$5+0.76*LN(AR11)-0.034*(LN(AR11))^2)) -> 6.2110877 | AT11: =0.0673*(AQ11*AR11^2*AS11)^0.976 -> 4.9573028 | AU11: =AU10*0.995 -> 35.462696 | AV11: =AT11*AU11*$F$5 -> 83.504677 | AX11: =AX10+0.8 -> 3.2 | AY11: =AX11*3.67 -> 11.744 | AZ11: =SUM(H11,P11,X11,AF11,AN11,AV11)*3.67/1000 -> 2.7304999 | BA11: =AZ11*0.235 -> 0.64166749 | BB11: =AZ11+BA11 -> 3.3721674 | BC11: =BB11+AY11 -> 15.116167 | BH11: =SUM(G11,O11,W11,AE11,AM11,AU11) -> 212.77617 | BI11: =AVERAGE(D11,L11,T11,AB11,AJ11,AR11) -> 4.9669942 | BJ11: =SUM(D11*G11,L11*O11,T11*W11,AB11*AE11,AJ11*AM11,AR11*AU11)/BH11 -> 4.9669942
A12: 5 | B12: avocado | C12: 0.54 | D12: =(11.291*LN(A12)-8.2599)*0.93 -> 9.218405 | E12: =IF(EXP(0.893-$C$5+0.76*LN(D12)-0.034*(LN(D12))^2)>20, 20, EXP(0.893-$C$5+0.76*LN(D12)-0.034*(LN(D12))^2)) -> 9.5235639 | F12: =0.0673*(C12*D12^2*E12)^0.976 -> 25.418375 | G12: =G11*0.995 -> 35.285382 | H12: =F12*G12*$F$5 -> 426.02611 | J12: orange | K12: 0.827 | L12: =A12*1.2*0.93 -> 5.58 | M12: =IF(EXP(0.893-$C$5+0.76*LN(L12)-0.034*(LN(L12))^2)>10, 10, EXP(0.893-$C$5+0.76*LN(L12)-0.034*(LN(L12))^2)) -> 6.9552407 | N12: =0.0673*(K12*L12^2*M12)^0.976 -> 10.642093 | O12: =O11*0.995 -> 35.285382 | P12: =N12*O12*$F$5 -> 178.36741 | R12: lemon | S12: 0.834 | T12: =$A12*0.83*0.93 -> 3.8595 | U12: =IF(EXP(0.893-$C$5+0.76*LN(T12)-0.034*(LN(T12))^2)>8, 8, EXP(0.893-$C$5+0.76*LN(T12)-0.034*(LN(T12))^2)) -> 5.4619012 | V12: =0.0673*(S12*T12^2*U12)^0.976 -> 4.1269511 | W12: =W11*0.995 -> 35.285382 | X12: =V12*W12*$F$5 -> 69.169997 | Z12: mandarine | AA12: 0.83 | AB12: =A12*0.96*0.93 -> 4.464 | AC12: =IF(EXP(0.893-$C$5+0.76*LN(AB12)-0.034*(LN(AB12))^2)>4, 4, EXP(0.893-$C$5+0.76*LN(AB12)-0.034*(LN(AB12))^2)) -> 4 | AD12: =0.0673*(AA12*AB12^2*AC12)^0.976 -> 4.0263122 | AE12: =AE11*0.995 -> 35.285382 | AF12: =AD12*AE12*$F$5 -> 67.483233 | AH12: mango | AI12: 0.675 | AJ12: =(10.348*LN(A12)-6.693)*0.93 -> 9.2641611 | AK12: =IF(EXP(0.893-$C$5+0.76*LN(AJ12)-0.034*(LN(AJ12))^2)>25, 25, EXP(0.893-$C$5+0.76*LN(AJ12)-0.034*(LN(AJ12))^2)) -> 9.5523139 | AL12: =0.0673*(AI12*AJ12^2*AK12)^0.976 -> 32.004204 | AM12: =AM11*0.995 -> 35.285382 | AN12: =AL12*AM12*$F$5 -> 536.40827 | AP12: Safoutier | AQ12: 0.6 | AR12: =$A12*1.26*0.93 -> 5.859 | AS12: =IF(EXP(0.893-$C$5+0.76*LN(AR12)-0.034*(LN(AR12))^2)>22.5, 22.5, EXP(0.893-$C$5+0.76*LN(AR12)-0.034*(LN(AR12))^2)) -> 7.1763522 | AT12: =0.0673*(AQ12*AR12^2*AS12)^0.976 -> 8.8235675 | AU12: =AU11*0.995 -> 35.285382 | AV12: =AT12*AU12*$F$5 -> 147.8879 | AX12: =AX11+0.8 -> 4 | AY12: =AX12*3.67 -> 14.68 | AZ12: =SUM(H12,P12,X12,AF12,AN12,AV12)*3.67/1000 -> 5.2310085 | BA12: =AZ12*0.235 -> 1.229287 | BB12: =AZ12+BA12 -> 6.4602955 | BC12: =BB12+AY12 -> 21.140295 | BE12: risk buffer (t CO2) | BF12: risk buffer (t CO2/ha) | BH12: =SUM(G12,O12,W12,AE12,AM12,AU12) -> 211.71229 | BI12: =AVERAGE(D12,L12,T12,AB12,AJ12,AR12) -> 6.3741777 | BJ12: =SUM(D12*G12,L12*O12,T12*W12,AB12*AE12,AJ12*AM12,AR12*AU12)/BH12 -> 6.3741777
A13: 6 | B13: avocado | C13: 0.54 | D13: =(11.291*LN(A13)-8.2599)*0.93 -> 11.132896 | E13: =IF(EXP(0.893-$C$5+0.76*LN(D13)-0.034*(LN(D13))^2)>20, 20, EXP(0.893-$C$5+0.76*LN(D13)-0.034*(LN(D13))^2)) -> 10.670365 | F13: =0.0673*(C13*D13^2*E13)^0.976 -> 41.05003 | G13: =G12*0.995 -> 35.108955 | H13: =F13*G13*$F$5 -> 684.58124 | J13: orange | K13: 0.827 | L13: =A13*1.2*0.93 -> 6.696 | M13: =IF(EXP(0.893-$C$5+0.76*LN(L13)-0.034*(LN(L13))^2)>10, 10, EXP(0.893-$C$5+0.76*LN(L13)-0.034*(LN(L13))^2)) -> 7.8116432 | N13: =0.0673*(K13*L13^2*M13)^0.976 -> 17.014092 | O13: =O12*0.995 -> 35.108955 | P13: =N13*O13*$F$5 -> 283.73982 | R13: lemon | S13: 0.834 | T13: =$A13*0.83*0.93 -> 4.6314 | U13: =IF(EXP(0.893-$C$5+0.76*LN(T13)-0.034*(LN(T13))^2)>8, 8, EXP(0.893-$C$5+0.76*LN(T13)-0.034*(LN(T13))^2)) -> 6.1625296 | V13: =0.0673*(S13*T13^2*U13)^0.976 -> 6.6274784 | W13: =W12*0.995 -> 35.108955 | X13: =V13*W13*$F$5 -> 110.52483 | Z13: mandarine | AA13: 0.83 | AB13: =A13*0.96*0.93 -> 5.3568 | AC13: =IF(EXP(0.893-$C$5+0.76*LN(AB13)-0.034*(LN(AB13))^2)>4, 4, EXP(0.893-$C$5+0.76*LN(AB13)-0.034*(LN(AB13))^2)) -> 4 | AD13: =0.0673*(AA13*AB13^2*AC13)^0.976 -> 5.7473711 | AE13: =AE12*0.995 -> 35.108955 | AF13: =AD13*AE13*$F$5 -> 95.847492 | AH13: mango | AI13: 0.675 | AJ13: =(10.348*LN(A13)-6.693)*0.93 -> 11.018758 | AK13: =IF(EXP(0.893-$C$5+0.76*LN(AJ13)-0.034*(LN(AJ13))^2)>25, 25, EXP(0.893-$C$5+0.76*LN(AJ13)-0.034*(LN(AJ13))^2)) -> 10.604977 | AL13: =0.0673*(AI13*AJ13^2*AK13)^0.976 -> 49.722846 | AM13: =AM12*0.995 -> 35.108955 | AN13: =AL13*AM13*$F$5 -> 829.21566 | AP13: Safoutier | AQ13: 0.6 | AR13: =$A13*1.26*0.93 -> 7.0308 | AS13: =IF(EXP(0.893-$C$5+0.76*LN(AR13)-0.034*(LN(AR13))^2)>22.5, 22.5, EXP(0.893-$C$5+0.76*LN(AR13)-0.034*(LN(AR13))^2)) -> 8.0551064 | AT13: =0.0673*(AQ13*AR13^2*AS13)^0.976 -> 14.09839 | AU13: =AU12*0.995 -> 35.108955 | AV13: =AT13*AU13*$F$5 -> 235.11538 | AX13: =AX12+0.8 -> 4.8 | AY13: =AX13*3.67 -> 17.616 | AZ13: =SUM(H13,P13,X13,AF13,AN13,AV13)*3.67/1000 -> 8.2172196 | BA13: =AZ13*0.235 -> 1.9310466 | BB13: =AZ13+BA13 -> 10.148266 | BC13: =BB13+AY13 -> 27.764266 | BE13: =BE10*0.2 -> 499.05852 | BF13: =BE13/BE7 -> 51.080708 | BH13: =SUM(G13,O13,W13,AE13,AM13,AU13) -> 210.65373 | BI13: =AVERAGE(D13,L13,T13,AB13,AJ13,AR13) -> 7.6444424 | BJ13: =SUM(D13*G13,L13*O13,T13*W13,AB13*AE13,AJ13*AM13,AR13*AU13)/BH13 -> 7.6444424
A14: 7 | B14: avocado | C14: 0.54 | D14: =(11.291*LN(A14)-8.2599)*0.93 -> 12.751575 | E14: =IF(EXP(0.893-$C$5+0.76*LN(D14)-0.034*(LN(D14))^2)>20, 20, EXP(0.893-$C$5+0.76*LN(D14)-0.034*(LN(D14))^2)) -> 11.562512 | F14: =0.0673*(C14*D14^2*E14)^0.976 -> 57.866999 | G14: =G13*0.995 -> 34.93341 | H14: =F14*G14*$F$5 -> 960.20853 | J14: orange | K14: 0.827 | L14: =A14*1.2*0.93 -> 7.812 | M14: =IF(EXP(0.893-$C$5+0.76*LN(L14)-0.034*(LN(L14))^2)>10, 10, EXP(0.893-$C$5+0.76*LN(L14)-0.034*(LN(L14))^2)) -> 8.6023019 | N14: =0.0673*(K14*L14^2*M14)^0.976 -> 25.255516 | O14: =O13*0.995 -> 34.93341 | P14: =N14*O14*$F$5 -> 419.07413 | R14: lemon | S14: 0.834 | T14: =$A14*0.83*0.93 -> 5.4033 | U14: =IF(EXP(0.893-$C$5+0.76*LN(T14)-0.034*(LN(T14))^2)>8, 8, EXP(0.893-$C$5+0.76*LN(T14)-0.034*(LN(T14))^2)) -> 6.8125475 | V14: =0.0673*(S14*T14^2*U14)^0.976 -> 9.8749241 | W14: =W13*0.995 -> 34.93341 | X14: =V14*W14*$F$5 -> 163.85827 | Z14: mandarine | AA14: 0.83 | AB14: =A14*0.96*0.93 -> 6.2496 | AC14: =IF(EXP(0.893-$C$5+0.76*LN(AB14)-0.034*(LN(AB14))^2)>4, 4, EXP(0.893-$C$5+0.76*LN(AB14)-0.034*(LN(AB14))^2)) -> 4 | AD14: =0.0673*(AA14*AB14^2*AC14)^0.976 -> 7.7651414 | AE14: =AE13*0.995 -> 34.93341 | AF14: =AD14*AE14*$F$5 -> 128.84986 | AH14: mango | AI14: 0.675 | AJ14: =(10.348*LN(A14)-6.693)*0.93 -> 12.502249 | AK14: =IF(EXP(0.893-$C$5+0.76*LN(AJ14)-0.034*(LN(AJ14))^2)>25, 25, EXP(0.893-$C$5+0.76*LN(AJ14)-0.034*(LN(AJ14))^2)) -> 11.429136 | AL14: =0.0673*(AI14*AJ14^2*AK14)^0.976 -> 68.447482 | AM14: =AM13*0.995 -> 34.93341 | AN14: =AL14*AM14*$F$5 -> 1135.7744 | AP14: Safoutier | AQ14: 0.6 | AR14: =$A14*1.26*0.93 -> 8.2026 | AS14: =IF(EXP(0.893-$C$5+0.76*LN(AR14)-0.034*(LN(AR14))^2)>22.5, 22.5, EXP(0.893-$C$5+0.76*LN(AR14)-0.034*(LN(AR14))^2)) -> 8.8658719 | AT14: =0.0673*(AQ14*AR14^2*AS14)^0.976 -> 20.91704 | AU14: =AU13*0.995 -> 34.93341 | AV14: =AT14*AU14*$F$5 -> 347.08417 | AX14: =AX13+0.8 -> 5.6 | AY14: =AX14*3.67 -> 20.552 | AZ14: =SUM(H14,P14,X14,AF14,AN14,AV14)*3.67/1000 -> 11.578297 | BA14: =AZ14*0.235 -> 2.7208998 | BB14: =AZ14+BA14 -> 14.299197 | BC14: =BB14+AY14 -> 34.851197 | BH14: =SUM(G14,O14,W14,AE14,AM14,AU14) -> 209.60046 | BI14: =AVERAGE(D14,L14,T14,AB14,AJ14,AR14) -> 8.8202207 | BJ14: =SUM(D14*G14,L14*O14,T14*W14,AB14*AE14,AJ14*AM14,AR14*AU14)/BH14 -> 8.8202207
A15: 8 | B15: avocado | C15: 0.54 | D15: =(11.291*LN(A15)-8.2599)*0.93 -> 14.153739 | E15: =IF(EXP(0.893-$C$5+0.76*LN(D15)-0.034*(LN(D15))^2)>20, 20, EXP(0.893-$C$5+0.76*LN(D15)-0.034*(LN(D15))^2)) -> 12.288028 | F15: =0.0673*(C15*D15^2*E15)^0.976 -> 75.277736 | G15: =G14*0.995 -> 34.758743 | H15: =F15*G15*$F$5 -> 1242.8658 | J15: orange | K15: 0.827 | L15: =A15*1.2*0.93 -> 8.928 | M15: =IF(EXP(0.893-$C$5+0.76*LN(L15)-0.034*(LN(L15))^2)>10, 10, EXP(0.893-$C$5+0.76*LN(L15)-0.034*(LN(L15))^2)) -> 9.3393978 | N15: =0.0673*(K15*L15^2*M15)^0.976 -> 35.514346 | O15: =O14*0.995 -> 34.758743 | P15: =N15*O15*$F$5 -> 586.35617 | R15: lemon | S15: 0.834 | T15: =$A15*0.83*0.93 -> 6.1752 | U15: =IF(EXP(0.893-$C$5+0.76*LN(T15)-0.034*(LN(T15))^2)>8, 8, EXP(0.893-$C$5+0.76*LN(T15)-0.034*(LN(T15))^2)) -> 7.4210864 | V15: =0.0673*(S15*T15^2*U15)^0.976 -> 13.931575 | W15: =W14*0.995 -> 34.758743 | X15: =V15*W15*$F$5 -> 230.01591 | Z15: mandarine | AA15: 0.83 | AB15: =A15*0.96*0.93 -> 7.1424 | AC15: =IF(EXP(0.893-$C$5+0.76*LN(AB15)-0.034*(LN(AB15))^2)>4, 4, EXP(0.893-$C$5+0.76*LN(AB15)-0.034*(LN(AB15))^2)) -> 4 | AD15: =0.0673*(AA15*AB15^2*AC15)^0.976 -> 10.077427 | AE15: =AE14*0.995 -> 34.758743 | AF15: =AD15*AE15*$F$5 -> 166.38238 | AH15: mango | AI15: 0.675 | AJ15: =(10.348*LN(A15)-6.693)*0.93 -> 13.787307 | AK15: =IF(EXP(0.893-$C$5+0.76*LN(AJ15)-0.034*(LN(AJ15))^2)>25, 25, EXP(0.893-$C$5+0.76*LN(AJ15)-0.034*(LN(AJ15))^2)) -> 12.102276 | AL15: =0.0673*(AI15*AJ15^2*AK15)^0.976 -> 87.610806 | AM15: =AM14*0.995 -> 34.758743 | AN15: =AL15*AM15*$F$5 -> 1446.4897 | AP15: Safoutier | AQ15: 0.6 | AR15: =$A15*1.26*0.93 -> 9.3744 | AS15: =IF(EXP(0.893-$C$5+0.76*LN(AR15)-0.034*(LN(AR15))^2)>22.5, 22.5, EXP(0.893-$C$5+0.76*LN(AR15)-0.034*(LN(AR15))^2)) -> 9.6212886 | AT15: =0.0673*(AQ15*AR15^2*AS15)^0.976 -> 29.400858 | AU15: =AU14*0.995 -> 34.758743 | AV15: =AT15*AU15*$F$5 -> 485.42002 | AX15: =AX14+0.8 -> 6.4 | AY15: =AX15*3.67 -> 23.488 | AZ15: =SUM(H15,P15,X15,AF15,AN15,AV15)*3.67/1000 -> 15.258135 | BA15: =AZ15*0.235 -> 3.5856617 | BB15: =AZ15+BA15 -> 18.843797 | BC15: =BB15+AY15 -> 42.331797 | BE15: Potential PVC | BF15: PVC/ha | BH15: =SUM(G15,O15,W15,AE15,AM15,AU15) -> 208.55246 | BI15: =AVERAGE(D15,L15,T15,AB15,AJ15,AR15) -> 9.926841 | BJ15: =SUM(D15*G15,L15*O15,T15*W15,AB15*AE15,AJ15*AM15,AR15*AU15)/BH15 -> 9.926841
A16: 9 | B16: avocado | C16: 0.54 | D16: =(11.291*LN(A16)-8.2599)*0.93 -> 15.390535 | E16: =IF(EXP(0.893-$C$5+0.76*LN(D16)-0.034*(LN(D16))^2)>20, 20, EXP(0.893-$C$5+0.76*LN(D16)-0.034*(LN(D16))^2)) -> 12.89654 | F16: =0.0673*(C16*D16^2*E16)^0.976 -> 92.933542 | G16: =G15*0.995 -> 34.58495 | H16: =F16*G16*$F$5 -> 1526.6984 | J16: orange | K16: 0.827 | L16: =A16*1.2*0.93 -> 10.044 | M16: =IF(EXP(0.893-$C$5+0.76*LN(L16)-0.034*(LN(L16))^2)>10, 10, EXP(0.893-$C$5+0.76*LN(L16)-0.034*(LN(L16))^2)) -> 10 | N16: =0.0673*(K16*L16^2*M16)^0.976 -> 47.77738 | O16: =O15*0.995 -> 34.58495 | P16: =N16*O16*$F$5 -> 784.87968 | R16: lemon | S16: 0.834 | T16: =$A16*0.83*0.93 -> 6.9471 | U16: =IF(EXP(0.893-$C$5+0.76*LN(T16)-0.034*(LN(T16))^2)>8, 8, EXP(0.893-$C$5+0.76*LN(T16)-0.034*(LN(T16))^2)) -> 7.9947713 | V16: =0.0673*(S16*T16^2*U16)^0.976 -> 18.854384 | W16: =W15*0.995 -> 34.58495 | X16: =V16*W16*$F$5 -> 309.73702 | Z16: mandarine | AA16: 0.83 | AB16: =A16*0.96*0.93 -> 8.0352 | AC16: =IF(EXP(0.893-$C$5+0.76*LN(AB16)-0.034*(LN(AB16))^2)>4, 4, EXP(0.893-$C$5+0.76*LN(AB16)-0.034*(LN(AB16))^2)) -> 4 | AD16: =0.0673*(AA16*AB16^2*AC16)^0.976 -> 12.682339 | AE16: =AE15*0.995 -> 34.58495 | AF16: =AD16*AE16*$F$5 -> 208.34358 | AH16: mango | AI16: 0.675 | AJ16: =(10.348*LN(A16)-6.693)*0.93 -> 14.920808 | AK16: =IF(EXP(0.893-$C$5+0.76*LN(AJ16)-0.034*(LN(AJ16))^2)>25, 25, EXP(0.893-$C$5+0.76*LN(AJ16)-0.034*(LN(AJ16))^2)) -> 12.668663 | AL16: =0.0673*(AI16*AJ16^2*AK16)^0.976 -> 106.88665 | AM16: =AM15*0.995 -> 34.58495 | AN16: =AL16*AM16*$F$5 -> 1755.9179 | AP16: Safoutier | AQ16: 0.6 | AR16: =$A16*1.26*0.93 -> 10.5462 | AS16: =IF(EXP(0.893-$C$5+0.76*LN(AR16)-0.034*(LN(AR16))^2)>22.5, 22.5, EXP(0.893-$C$5+0.76*LN(AR16)-0.034*(LN(AR16))^2)) -> 10.330463 | AT16: =0.0673*(AQ16*AR16^2*AS16)^0.976 -> 39.660208 | AU16: =AU15*0.995 -> 34.58495 | AV16: =AT16*AU16*$F$5 -> 651.53199 | AX16: =AX15+0.8 -> 7.2 | AY16: =AX16*3.67 -> 26.424 | AZ16: =SUM(H16,P16,X16,AF16,AN16,AV16)*3.67/1000 -> 19.220188 | BA16: =AZ16*0.235 -> 4.5167443 | BB16: =AZ16+BA16 -> 23.736933 | BC16: =BB16+AY16 -> 50.160933 | BE16: =BE10-BE13 -> 1996.2341 | BF16: =BE16/BE7 -> 204.32283 | BH16: =SUM(G16,O16,W16,AE16,AM16,AU16) -> 207.5097 | BI16: =AVERAGE(D16,L16,T16,AB16,AJ16,AR16) -> 10.980641 | BJ16: =SUM(D16*G16,L16*O16,T16*W16,AB16*AE16,AJ16*AM16,AR16*AU16)/BH16 -> 10.980641
A17: 10 | B17: avocado | C17: 0.54 | D17: =(11.291*LN(A17)-8.2599)*0.93 -> 16.496887 | E17: =IF(EXP(0.893-$C$5+0.76*LN(D17)-0.034*(LN(D17))^2)>20, 20, EXP(0.893-$C$5+0.76*LN(D17)-0.034*(LN(D17))^2)) -> 13.418696 | F17: =0.0673*(C17*D17^2*E17)^0.976 -> 110.62298 | G17: =G16*0.995 -> 34.412025 | H17: =F17*G17*$F$5 -> 1808.2113 | J17: orange | K17: 0.827 | L17: =A17*1.2*0.93 -> 11.16 | M17: =IF(EXP(0.893-$C$5+0.76*LN(L17)-0.034*(LN(L17))^2)>10, 10, EXP(0.893-$C$5+0.76*LN(L17)-0.034*(LN(L17))^2)) -> 10 | N17: =0.0673*(K17*L17^2*M17)^0.976 -> 58.68687 | O17: =O16*0.995 -> 34.412025 | P17: =N17*O17*$F$5 -> 959.27867 | R17: lemon | S17: 0.834 | T17: =$A17*0.83*0.93 -> 7.719 | U17: =IF(EXP(0.893-$C$5+0.76*LN(T17)-0.034*(LN(T17))^2)>8, 8, EXP(0.893-$C$5+0.76*LN(T17)-0.034*(LN(T17))^2)) -> 8 | V17: =0.0673*(S17*T17^2*U17)^0.976 -> 23.174379 | W17: =W16*0.995 -> 34.412025 | X17: =V17*W17*$F$5 -> 378.80172 | Z17: mandarine | AA17: 0.83 | AB17: =A17*0.96*0.93 -> 8.928 | AC17: =IF(EXP(0.893-$C$5+0.76*LN(AB17)-0.034*(LN(AB17))^2)>4, 4, EXP(0.893-$C$5+0.76*LN(AB17)-0.034*(LN(AB17))^2)) -> 4 | AD17: =0.0673*(AA17*AB17^2*AC17)^0.976 -> 15.578226 | AE17: =AE16*0.995 -> 34.412025 | AF17: =AD17*AE17*$F$5 -> 254.63719 | AH17: mango | AI17: 0.675 | AJ17: =(10.348*LN(A17)-6.693)*0.93 -> 15.93476 | AK17: =IF(EXP(0.893-$C$5+0.76*LN(AJ17)-0.034*(LN(AJ17))^2)>25, 25, EXP(0.893-$C$5+0.76*LN(AJ17)-0.034*(LN(AJ17))^2)) -> 13.155872 | AL17: =0.0673*(AI17*AJ17^2*AK17)^0.976 -> 126.08249 | AM17: =AM16*0.995 -> 34.412025 | AN17: =AL17*AM17*$F$5 -> 2060.9081 | AP17: Safoutier | AQ17: 0.6 | AR17: =$A17*1.26*0.93 -> 11.718 | AS17: =IF(EXP(0.893-$C$5+0.76*LN(AR17)-0.034*(LN(AR17))^2)>22.5, 22.5, EXP(0.893-$C$5+0.76*LN(AR17)-0.034*(LN(AR17))^2)) -> 11.000225 | AT17: =0.0673*(AQ17*AR17^2*AS17)^0.976 -> 51.796527 | AU17: =AU16*0.995 -> 34.412025 | AV17: =AT17*AU17*$F$5 -> 846.65109 | AX17: =AX16+0.8 -> 8 | AY17: =AX17*3.67 -> 29.36 | AZ17: =SUM(H17,P17,X17,AF17,AN17,AV17)*3.67/1000 -> 23.152151 | BA17: =AZ17*0.235 -> 5.4407556 | BB17: =AZ17+BA17 -> 28.592907 | BC17: =BB17+AY17 -> 57.952907 | BF17: =BF16/30 -> 6.8107611 | BH17: =SUM(G17,O17,W17,AE17,AM17,AU17) -> 206.47215 | BI17: =AVERAGE(D17,L17,T17,AB17,AJ17,AR17) -> 11.992775 | BJ17: =SUM(D17*G17,L17*O17,T17*W17,AB17*AE17,AJ17*AM17,AR17*AU17)/BH17 -> 11.992775
A18: 11 | B18: avocado | C18: 0.54 | D18: =(11.291*LN(A18)-8.2599)*0.93 -> 17.497704 | E18: =IF(EXP(0.893-$C$5+0.76*LN(D18)-0.034*(LN(D18))^2)>20, 20, EXP(0.893-$C$5+0.76*LN(D18)-0.034*(LN(D18))^2)) -> 13.874694 | F18: =0.0673*(C18*D18^2*E18)^0.976 -> 128.21548 | G18: =G17*0.995 -> 34.239965 | H18: =F18*G18*$F$5 -> 2085.2944 | J18: orange | K18: 0.827 | L18: =A18*1.2*0.93 -> 12.276 | M18: =IF(EXP(0.893-$C$5+0.76*LN(L18)-0.034*(LN(L18))^2)>10, 10, EXP(0.893-$C$5+0.76*LN(L18)-0.034*(LN(L18))^2)) -> 10 | N18: =0.0673*(K18*L18^2*M18)^0.976 -> 70.686987 | O18: =O17*0.995 -> 34.239965 | P18: =N18*O18*$F$5 -> 1149.652 | R18: lemon | S18: 0.834 | T18: =$A18*0.83*0.93 -> 8.4909 | U18: =IF(EXP(0.893-$C$5+0.76*LN(T18)-0.034*(LN(T18))^2)>8, 8, EXP(0.893-$C$5+0.76*LN(T18)-0.034*(LN(T18))^2)) -> 8 | V18: =0.0673*(S18*T18^2*U18)^0.976 -> 27.913007 | W18: =W17*0.995 -> 34.239965 | X18: =V18*W18*$F$5 -> 453.97668 | Z18: mandarine | AA18: 0.83 | AB18: =A18*0.96*0.93 -> 9.8208 | AC18: =IF(EXP(0.893-$C$5+0.76*LN(AB18)-0.034*(LN(AB18))^2)>4, 4, EXP(0.893-$C$5+0.76*LN(AB18)-0.034*(LN(AB18))^2)) -> 4 | AD18: =0.0673*(AA18*AB18^2*AC18)^0.976 -> 18.763615 | AE18: =AE17*0.995 -> 34.239965 | AF18: =AD18*AE18*$F$5 -> 305.17112 | AH18: mango | AI18: 0.675 | AJ18: =(10.348*LN(A18)-6.693)*0.93 -> 16.851991 | AK18: =IF(EXP(0.893-$C$5+0.76*LN(AJ18)-0.034*(LN(AJ18))^2)>25, 25, EXP(0.893-$C$5+0.76*LN(AJ18)-0.034*(LN(AJ18))^2)) -> 13.582195 | AL18: =0.0673*(AI18*AJ18^2*AK18)^0.976 -> 145.0833 | AM18: =AM17*0.995 -> 34.239965 | AN18: =AL18*AM18*$F$5 -> 2359.6323 | AP18: Safoutier | AQ18: 0.6 | AR18: =$A18*1.26*0.93 -> 12.8898 | AS18: =IF(EXP(0.893-$C$5+0.76*LN(AR18)-0.034*(LN(AR18))^2)>22.5, 22.5, EXP(0.893-$C$5+0.76*LN(AR18)-0.034*(LN(AR18))^2)) -> 11.635861 | AT18: =0.0673*(AQ18*AR18^2*AS18)^0.976 -> 65.903822 | AU18: =AU17*0.995 -> 34.239965 | AV18: =AT18*AU18*$F$5 -> 1071.8586 | AX18: =AX17+0.8 -> 8.8 | AY18: =AX18*3.67 -> 32.296 | AZ18: =SUM(H18,P18,X18,AF18,AN18,AV18)*3.67/1000 -> 27.251897 | BA18: =AZ18*0.235 -> 6.4041959 | BB18: =AZ18+BA18 -> 33.656093 | BC18: =BB18+AY18 -> 65.952093 | BH18: =SUM(G18,O18,W18,AE18,AM18,AU18) -> 205.43979 | BI18: =AVERAGE(D18,L18,T18,AB18,AJ18,AR18) -> 12.971199 | BJ18: =SUM(D18*G18,L18*O18,T18*W18,AB18*AE18,AJ18*AM18,AR18*AU18)/BH18 -> 12.971199
A19: 12 | B19: avocado | C19: 0.54 | D19: =(11.291*LN(A19)-8.2599)*0.93 -> 18.411378 | E19: =IF(EXP(0.893-$C$5+0.76*LN(D19)-0.034*(LN(D19))^2)>20, 20, EXP(0.893-$C$5+0.76*LN(D19)-0.034*(LN(D19))^2)) -> 14.278514 | F19: =0.0673*(C19*D19^2*E19)^0.976 -> 145.62986 | G19: =G18*0.995 -> 34.068765 | H19: =F19*G19*$F$5 -> 2356.679 | J19: orange | K19: 0.827 | L19: =A19*1.2*0.93 -> 13.392 | M19: =IF(EXP(0.893-$C$5+0.76*LN(L19)-0.034*(LN(L19))^2)>10, 10, EXP(0.893-$C$5+0.76*LN(L19)-0.034*(LN(L19))^2)) -> 10 | N19: =0.0673*(K19*L19^2*M19)^0.976 -> 83.772744 | O19: =O18*0.995 -> 34.068765 | P19: =N19*O19*$F$5 -> 1355.6661 | R19: lemon | S19: 0.834 | T19: =$A19*0.83*0.93 -> 9.2628 | U19: =IF(EXP(0.893-$C$5+0.76*LN(T19)-0.034*(LN(T19))^2)>8, 8, EXP(0.893-$C$5+0.76*LN(T19)-0.034*(LN(T19))^2)) -> 8 | V19: =0.0673*(S19*T19^2*U19)^0.976 -> 33.080335 | W19: =W18*0.995 -> 34.068765 | X19: =V19*W19*$F$5 -> 535.32793 | Z19: mandarine | AA19: 0.83 | AB19: =A19*0.96*0.93 -> 10.7136 | AC19: =IF(EXP(0.893-$C$5+0.76*LN(AB19)-0.034*(LN(AB19))^2)>4, 4, EXP(0.893-$C$5+0.76*LN(AB19)-0.034*(LN(AB19))^2)) -> 4 | AD19: =0.0673*(AA19*AB19^2*AC19)^0.976 -> 22.237184 | AE19: =AE18*0.995 -> 34.068765 | AF19: =AD19*AE19*$F$5 -> 359.85686 | AH19: mango | AI19: 0.675 | AJ19: =(10.348*LN(A19)-6.693)*0.93 -> 17.689357 | AK19: =IF(EXP(0.893-$C$5+0.76*LN(AJ19)-0.034*(LN(AJ19))^2)>25, 25, EXP(0.893-$C$5+0.76*LN(AJ19)-0.034*(LN(AJ19))^2)) -> 13.960355 | AL19: =0.0673*(AI19*AJ19^2*AK19)^0.976 -> 163.82056 | AM19: =AM18*0.995 -> 34.068765 | AN19: =AL19*AM19*$F$5 -> 2651.053 | AP19: Safoutier | AQ19: 0.6 | AR19: =$A19*1.26*0.93 -> 14.0616 | AS19: =IF(EXP(0.893-$C$5+0.76*LN(AR19)-0.034*(LN(AR19))^2)>22.5, 22.5, EXP(0.893-$C$5+0.76*LN(AR19)-0.034*(LN(AR19))^2)) -> 12.241566 | AT19: =0.0673*(AQ19*AR19^2*AS19)^0.976 -> 82.069802 | AU19: =AU18*0.995 -> 34.068765 | AV19: =AT19*AU19*$F$5 -> 1328.108 | AX19: =AX18+0.8 -> 9.6 | AY19: =AX19*3.67 -> 35.232 | AZ19: =SUM(H19,P19,X19,AF19,AN19,AV19)*3.67/1000 -> 31.513155 | BA19: =AZ19*0.235 -> 7.4055915 | BB19: =AZ19+BA19 -> 38.918747 | BC19: =BB19+AY19 -> 74.150747 | BH19: =SUM(G19,O19,W19,AE19,AM19,AU19) -> 204.41259 | BI19: =AVERAGE(D19,L19,T19,AB19,AJ19,AR19) -> 13.921789 | BJ19: =SUM(D19*G19,L19*O19,T19*W19,AB19*AE19,AJ19*AM19,AR19*AU19)/BH19 -> 13.921789
A20: 13 | B20: avocado | C20: 0.54 | D20: =(11.291*LN(A20)-8.2599)*0.93 -> 19.251877 | E20: =IF(EXP(0.893-$C$5+0.76*LN(D20)-0.034*(LN(D20))^2)>20, 20, EXP(0.893-$C$5+0.76*LN(D20)-0.034*(LN(D20))^2)) -> 14.640212 | F20: =0.0673*(C20*D20^2*E20)^0.976 -> 162.81599 | G20: =G19*0.995 -> 33.898421 | H20: =F20*G20*$F$5 -> 2621.6223 | J20: orange | K20: 0.827 | L20: =A20*1.2*0.93 -> 14.508 | M20: =IF(EXP(0.893-$C$5+0.76*LN(L20)-0.034*(LN(L20))^2)>10, 10, EXP(0.893-$C$5+0.76*LN(L20)-0.034*(LN(L20))^2)) -> 10 | N20: =0.0673*(K20*L20^2*M20)^0.976 -> 97.939611 | O20: =O19*0.995 -> 33.898421 | P20: =N20*O20*$F$5 -> 1576.9991 | R20: lemon | S20: 0.834 | T20: =$A20*0.83*0.93 -> 10.0347 | U20: =IF(EXP(0.893-$C$5+0.76*LN(T20)-0.034*(LN(T20))^2)>8, 8, EXP(0.893-$C$5+0.76*LN(T20)-0.034*(LN(T20))^2)) -> 8 | V20: =0.0673*(S20*T20^2*U20)^0.976 -> 38.674573 | W20: =W19*0.995 -> 33.898421 | X20: =V20*W20*$F$5 -> 622.72831 | Z20: mandarine | AA20: 0.83 | AB20: =A20*0.96*0.93 -> 11.6064 | AC20: =IF(EXP(0.893-$C$5+0.76*LN(AB20)-0.034*(LN(AB20))^2)>4, 4, EXP(0.893-$C$5+0.76*LN(AB20)-0.034*(LN(AB20))^2)) -> 4 | AD20: =0.0673*(AA20*AB20^2*AC20)^0.976 -> 25.997729 | AE20: =AE19*0.995 -> 33.898421 | AF20: =AD20*AE20*$F$5 -> 418.60894 | AH20: mango | AI20: 0.675 | AJ20: =(10.348*LN(A20)-6.693)*0.93 -> 18.459659 | AK20: =IF(EXP(0.893-$C$5+0.76*LN(AJ20)-0.034*(LN(AJ20))^2)>25, 25, EXP(0.893-$C$5+0.76*LN(AJ20)-0.034*(LN(AJ20))^2)) -> 14.299538 | AL20: =0.0673*(AI20*AJ20^2*AK20)^0.976 -> 182.25458 | AM20: =AM19*0.995 -> 33.898421 | AN20: =AL20*AM20*$F$5 -> 2934.6177 | AP20: Safoutier | AQ20: 0.6 | AR20: =$A20*1.26*0.93 -> 15.2334 | AS20: =IF(EXP(0.893-$C$5+0.76*LN(AR20)-0.034*(LN(AR20))^2)>22.5, 22.5, EXP(0.893-$C$5+0.76*LN(AR20)-0.034*(LN(AR20))^2)) -> 12.820735 | AT20: =0.0673*(AQ20*AR20^2*AS20)^0.976 -> 100.37675 | AU20: =AU19*0.995 -> 33.898421 | AV20: =AT20*AU20*$F$5 -> 1616.2414 | AX20: =AX19+0.8 -> 10.4 | AY20: =AX20*3.67 -> 38.168 | AZ20: =SUM(H20,P20,X20,AF20,AN20,AV20)*3.67/1000 -> 35.932301 | BA20: =AZ20*0.235 -> 8.4440908 | BB20: =AZ20+BA20 -> 44.376392 | BC20: =BB20+AY20 -> 82.544392 | BH20: =SUM(G20,O20,W20,AE20,AM20,AU20) -> 203.39053 | BI20: =AVERAGE(D20,L20,T20,AB20,AJ20,AR20) -> 14.849006 | BJ20: =SUM(D20*G20,L20*O20,T20*W20,AB20*AE20,AJ20*AM20,AR20*AU20)/BH20 -> 14.849006
A21: 14 | B21: avocado | C21: 0.54 | D21: =(11.291*LN(A21)-8.2599)*0.93 -> 20.030058 | E21: =IF(EXP(0.893-$C$5+0.76*LN(D21)-0.034*(LN(D21))^2)>20, 20, EXP(0.893-$C$5+0.76*LN(D21)-0.034*(LN(D21))^2)) -> 14.967251 | F21: =0.0673*(C21*D21^2*E21)^0.976 -> 179.74369 | G21: =G20*0.995 -> 33.728929 | H21: =F21*G21*$F$5 -> 2879.7171 | J21: orange | K21: 0.827 | L21: =A21*1.2*0.93 -> 15.624 | M21: =IF(EXP(0.893-$C$5+0.76*LN(L21)-0.034*(LN(L21))^2)>10, 10, EXP(0.893-$C$5+0.76*LN(L21)-0.034*(LN(L21))^2)) -> 10 | N21: =0.0673*(K21*L21^2*M21)^0.976 -> 113.18344 | O21: =O20*0.995 -> 33.728929 | P21: =N21*O21*$F$5 -> 1813.3391 | R21: lemon | S21: 0.834 | T21: =$A21*0.83*0.93 -> 10.8066 | U21: =IF(EXP(0.893-$C$5+0.76*LN(T21)-0.034*(LN(T21))^2)>8, 8, EXP(0.893-$C$5+0.76*LN(T21)-0.034*(LN(T21))^2)) -> 8 | V21: =0.0673*(S21*T21^2*U21)^0.976 -> 44.694083 | W21: =W20*0.995 -> 33.728929 | X21: =V21*W21*$F$5 -> 716.05469 | Z21: mandarine | AA21: 0.83 | AB21: =A21*0.96*0.93 -> 12.4992 | AC21: =IF(EXP(0.893-$C$5+0.76*LN(AB21)-0.034*(LN(AB21))^2)>4, 4, EXP(0.893-$C$5+0.76*LN(AB21)-0.034*(LN(AB21))^2)) -> 4 | AD21: =0.0673*(AA21*AB21^2*AC21)^0.976 -> 30.04415 | AE21: =AE20*0.995 -> 33.728929 | AF21: =AD21*AE21*$F$5 -> 481.34458 | AH21: mango | AI21: 0.675 | AJ21: =(10.348*LN(A21)-6.693)*0.93 -> 19.172848 | AK21: =IF(EXP(0.893-$C$5+0.76*LN(AJ21)-0.034*(LN(AJ21))^2)>25, 25, EXP(0.893-$C$5+0.76*LN(AJ21)-0.034*(LN(AJ21))^2)) -> 14.606585 | AL21: =0.0673*(AI21*AJ21^2*AK21)^0.976 -> 200.36384 | AM21: =AM20*0.995 -> 33.728929 | AN21: =AL21*AM21*$F$5 -> 3210.0774 | AP21: Safoutier | AQ21: 0.6 | AR21: =$A21*1.26*0.93 -> 16.4052 | AS21: =IF(EXP(0.893-$C$5+0.76*LN(AR21)-0.034*(LN(AR21))^2)>22.5, 22.5, EXP(0.893-$C$5+0.76*LN(AR21)-0.034*(LN(AR21))^2)) -> 13.376167 | AT21: =0.0673*(AQ21*AR21^2*AS21)^0.976 -> 120.90224 | AU21: =AU20*0.995 -> 33.728929 | AV21: =AT21*AU21*$F$5 -> 1937.004 | AX21: =AX20+0.8 -> 11.2 | AY21: =AX21*3.67 -> 41.104 | AZ21: =SUM(H21,P21,X21,AF21,AN21,AV21)*3.67/1000 -> 40.50776 | BA21: =AZ21*0.235 -> 9.5193237 | BB21: =AZ21+BA21 -> 50.027084 | BC21: =BB21+AY21 -> 91.131084 | BH21: =SUM(G21,O21,W21,AE21,AM21,AU21) -> 202.37357 | BI21: =AVERAGE(D21,L21,T21,AB21,AJ21,AR21) -> 15.756318 | BJ21: =SUM(D21*G21,L21*O21,T21*W21,AB21*AE21,AJ21*AM21,AR21*AU21)/BH21 -> 15.756318
A22: 15 | B22: avocado | C22: 0.54 | D22: =(11.291*LN(A22)-8.2599)*0.93 -> 20.754526 | E22: =IF(EXP(0.893-$C$5+0.76*LN(D22)-0.034*(LN(D22))^2)>20, 20, EXP(0.893-$C$5+0.76*LN(D22)-0.034*(LN(D22))^2)) -> 15.265314 | F22: =0.0673*(C22*D22^2*E22)^0.976 -> 196.39589 | G22: =G21*0.995 -> 33.560284 | H22: =F22*G22*$F$5 -> 3130.7735 | J22: orange | K22: 0.827 | L22: =A22*1.2*0.93 -> 16.74 | M22: =IF(EXP(0.893-$C$5+0.76*LN(L22)-0.034*(LN(L22))^2)>10, 10, EXP(0.893-$C$5+0.76*LN(L22)-0.034*(LN(L22))^2)) -> 10 | N22: =0.0673*(K22*L22^2*M22)^0.976 -> 129.50039 | O22: =O21*0.995 -> 33.560284 | P22: =N22*O22*$F$5 -> 2064.3833 | R22: lemon | S22: 0.834 | T22: =$A22*0.83*0.93 -> 11.5785 | U22: =IF(EXP(0.893-$C$5+0.76*LN(T22)-0.034*(LN(T22))^2)>8, 8, EXP(0.893-$C$5+0.76*LN(T22)-0.034*(LN(T22))^2)) -> 8 | V22: =0.0673*(S22*T22^2*U22)^0.976 -> 51.137353 | W22: =W21*0.995 -> 33.560284 | X22: =V22*W22*$F$5 -> 815.18745 | Z22: mandarine | AA22: 0.83 | AB22: =A22*0.96*0.93 -> 13.392 | AC22: =IF(EXP(0.893-$C$5+0.76*LN(AB22)-0.034*(LN(AB22))^2)>4, 4, EXP(0.893-$C$5+0.76*LN(AB22)-0.034*(LN(AB22))^2)) -> 4 | AD22: =0.0673*(AA22*AB22^2*AC22)^0.976 -> 34.37543 | AE22: =AE21*0.995 -> 33.560284 | AF22: =AD22*AE22*$F$5 -> 547.98336 | AH22: mango | AI22: 0.675 | AJ22: =(10.348*LN(A22)-6.693)*0.93 -> 19.83681 | AK22: =IF(EXP(0.893-$C$5+0.76*LN(AJ22)-0.034*(LN(AJ22))^2)>25, 25, EXP(0.893-$C$5+0.76*LN(AJ22)-0.034*(LN(AJ22))^2)) -> 14.886716 | AL22: =0.0673*(AI22*AJ22^2*AK22)^0.976 -> 218.13849 | AM22: =AM21*0.995 -> 33.560284 | AN22: =AL22*AM22*$F$5 -> 3477.3752 | AP22: Safoutier | AQ22: 0.6 | AR22: =$A22*1.26*0.93 -> 17.577 | AS22: =IF(EXP(0.893-$C$5+0.76*LN(AR22)-0.034*(LN(AR22))^2)>22.5, 22.5, EXP(0.893-$C$5+0.76*LN(AR22)-0.034*(LN(AR22))^2)) -> 13.910199 | AT22: =0.0673*(AQ22*AR22^2*AS22)^0.976 -> 143.71966 | AU22: =AU21*0.995 -> 33.560284 | AV22: =AT22*AU22*$F$5 -> 2291.0545 | AX22: =AX21+0.8 -> 12 | AY22: =AX22*3.67 -> 44.04 | AZ22: =SUM(H22,P22,X22,AF22,AN22,AV22)*3.67/1000 -> 45.239199 | BA22: =AZ22*0.235 -> 10.631212 | BB22: =AZ22+BA22 -> 55.870411 | BC22: =BB22+AY22 -> 99.910411 | BH22: =SUM(G22,O22,W22,AE22,AM22,AU22) -> 201.36171 | BI22: =AVERAGE(D22,L22,T22,AB22,AJ22,AR22) -> 16.646473 | BJ22: =SUM(D22*G22,L22*O22,T22*W22,AB22*AE22,AJ22*AM22,AR22*AU22)/BH22 -> 16.646473
A23: 16 | B23: avocado | C23: 0.54 | D23: =(11.291*LN(A23)-8.2599)*0.93 -> 21.432221 | E23: =IF(EXP(0.893-$C$5+0.76*LN(D23)-0.034*(LN(D23))^2)>20, 20, EXP(0.893-$C$5+0.76*LN(D23)-0.034*(LN(D23))^2)) -> 15.53882 | F23: =0.0673*(C23*D23^2*E23)^0.976 -> 212.76418 | G23: =G22*0.995 -> 33.392483 | H23: =F23*G23*$F$5 -> 3374.744 | J23: orange | K23: 0.827 | L23: =A23*1.2*0.93 -> 17.856 | M23: =IF(EXP(0.893-$C$5+0.76*LN(L23)-0.034*(LN(L23))^2)>10, 10, EXP(0.893-$C$5+0.76*LN(L23)-0.034*(LN(L23))^2)) -> 10 | N23: =0.0673*(K23*L23^2*M23)^0.976 -> 146.88693 | O23: =O22*0.995 -> 33.392483 | P23: =N23*O23*$F$5 -> 2329.8367 | R23: lemon | S23: 0.834 | T23: =$A23*0.83*0.93 -> 12.3504 | U23: =IF(EXP(0.893-$C$5+0.76*LN(T23)-0.034*(LN(T23))^2)>8, 8, EXP(0.893-$C$5+0.76*LN(T23)-0.034*(LN(T23))^2)) -> 8 | V23: =0.0673*(S23*T23^2*U23)^0.976 -> 58.002981 | W23: =W22*0.995 -> 33.392483 | X23: =V23*W23*$F$5 -> 920.01019 | Z23: mandarine | AA23: 0.83 | AB23: =A23*0.96*0.93 -> 14.2848 | AC23: =IF(EXP(0.893-$C$5+0.76*LN(AB23)-0.034*(LN(AB23))^2)>4, 4, EXP(0.893-$C$5+0.76*LN(AB23)-0.034*(LN(AB23))^2)) -> 4 | AD23: =0.0673*(AA23*AB23^2*AC23)^0.976 -> 38.990626 | AE23: =AE22*0.995 -> 33.392483 | AF23: =AD23*AE23*$F$5 -> 618.44705 | AH23: mango | AI23: 0.675 | AJ23: =(10.348*LN(A23)-6.693)*0.93 -> 20.457906 | AK23: =IF(EXP(0.893-$C$5+0.76*LN(AJ23)-0.034*(LN(AJ23))^2)>25, 25, EXP(0.893-$C$5+0.76*LN(AJ23)-0.034*(LN(AJ23))^2)) -> 15.144003 | AL23: =0.0673*(AI23*AJ23^2*AK23)^0.976 -> 235.57623 | AM23: =AM22*0.995 -> 33.392483 | AN23: =AL23*AM23*$F$5 -> 3736.5757 | AP23: Safoutier | AQ23: 0.6 | AR23: =$A23*1.26*0.93 -> 18.7488 | AS23: =IF(EXP(0.893-$C$5+0.76*LN(AR23)-0.034*(LN(AR23))^2)>22.5, 22.5, EXP(0.893-$C$5+0.76*LN(AR23)-0.034*(LN(AR23))^2)) -> 14.424809 | AT23: =0.0673*(AQ23*AR23^2*AS23)^0.976 -> 168.89871 | AU23: =AU22*0.995 -> 33.392483 | AV23: =AT23*AU23*$F$5 -> 2678.975 | AX23: =AX22+0.8 -> 12.8 | AY23: =AX23*3.67 -> 46.976 | AZ23: =SUM(H23,P23,X23,AF23,AN23,AV23)*3.67/1000 -> 50.12702 | BA23: =AZ23*0.235 -> 11.77985 | BB23: =AZ23+BA23 -> 61.90687 | BC23: =BB23+AY23 -> 108.88287 | BH23: =SUM(G23,O23,W23,AE23,AM23,AU23) -> 200.3549 | BI23: =AVERAGE(D23,L23,T23,AB23,AJ23,AR23) -> 17.521688 | BJ23: =SUM(D23*G23,L23*O23,T23*W23,AB23*AE23,AJ23*AM23,AR23*AU23)/BH23 -> 17.521688
A24: 17 | B24: avocado | C24: 0.54 | D24: =(11.291*LN(A24)-8.2599)*0.93 -> 22.068818 | E24: =IF(EXP(0.893-$C$5+0.76*LN(D24)-0.034*(LN(D24))^2)>20, 20, EXP(0.893-$C$5+0.76*LN(D24)-0.034*(LN(D24))^2)) -> 15.791271 | F24: =0.0673*(C24*D24^2*E24)^0.976 -> 228.84594 | G24: =G23*0.995 -> 33.22552 | H24: =F24*G24*$F$5 -> 3611.6745 | J24: orange | K24: 0.827 | L24: =A24*1.2*0.93 -> 18.972 | M24: =IF(EXP(0.893-$C$5+0.76*LN(L24)-0.034*(LN(L24))^2)>10, 10, EXP(0.893-$C$5+0.76*LN(L24)-0.034*(LN(L24))^2)) -> 10 | N24: =0.0673*(K24*L24^2*M24)^0.976 -> 165.33974 | O24: =O23*0.995 -> 33.22552 | P24: =N24*O24*$F$5 -> 2609.4119 | R24: lemon | S24: 0.834 | T24: =$A24*0.83*0.93 -> 13.1223 | U24: =IF(EXP(0.893-$C$5+0.76*LN(T24)-0.034*(LN(T24))^2)>8, 8, EXP(0.893-$C$5+0.76*LN(T24)-0.034*(LN(T24))^2)) -> 8 | V24: =0.0673*(S24*T24^2*U24)^0.976 -> 65.289659 | W24: =W23*0.995 -> 33.22552 | X24: =V24*W24*$F$5 -> 1030.4094 | Z24: mandarine | AA24: 0.83 | AB24: =A24*0.96*0.93 -> 15.1776 | AC24: =IF(EXP(0.893-$C$5+0.76*LN(AB24)-0.034*(LN(AB24))^2)>4, 4, EXP(0.893-$C$5+0.76*LN(AB24)-0.034*(LN(AB24))^2)) -> 4 | AD24: =0.0673*(AA24*AB24^2*AC24)^0.976 -> 43.888859 | AE24: =AE23*0.995 -> 33.22552 | AF24: =AD24*AE24*$F$5 -> 692.65934 | AH24: mango | AI24: 0.675 | AJ24: =(10.348*LN(A24)-6.693)*0.93 -> 21.041335 | AK24: =IF(EXP(0.893-$C$5+0.76*LN(AJ24)-0.034*(LN(AJ24))^2)>25, 25, EXP(0.893-$C$5+0.76*LN(AJ24)-0.034*(LN(AJ24))^2)) -> 15.381677 | AL24: =0.0673*(AI24*AJ24^2*AK24)^0.976 -> 252.67963 | AM24: =AM23*0.995 -> 33.22552 | AN24: =AL24*AM24*$F$5 -> 3987.8208 | AP24: Safoutier | AQ24: 0.6 | AR24: =$A24*1.26*0.93 -> 19.9206 | AS24: =IF(EXP(0.893-$C$5+0.76*LN(AR24)-0.034*(LN(AR24))^2)>22.5, 22.5, EXP(0.893-$C$5+0.76*LN(AR24)-0.034*(LN(AR24))^2)) -> 14.921689 | AT24: =0.0673*(AQ24*AR24^2*AS24)^0.976 -> 196.5058 | AU24: =AU23*0.995 -> 33.22552 | AV24: =AT24*AU24*$F$5 -> 3101.2785 | AX24: =AX23+0.8 -> 13.6 | AY24: =AX24*3.67 -> 49.912 | AZ24: =SUM(H24,P24,X24,AF24,AN24,AV24)*3.67/1000 -> 55.172044 | BA24: =AZ24*0.235 -> 12.96543 | BB24: =AZ24+BA24 -> 68.137474 | BC24: =BB24+AY24 -> 118.04947 | BH24: =SUM(G24,O24,W24,AE24,AM24,AU24) -> 199.35312 | BI24: =AVERAGE(D24,L24,T24,AB24,AJ24,AR24) -> 18.383776 | BJ24: =SUM(D24*G24,L24*O24,T24*W24,AB24*AE24,AJ24*AM24,AR24*AU24)/BH24 -> 18.383776
A25: 18 | B25: avocado | C25: 0.54 | D25: =(11.291*LN(A25)-8.2599)*0.93 -> 22.669017 | E25: =IF(EXP(0.893-$C$5+0.76*LN(D25)-0.034*(LN(D25))^2)>20, 20, EXP(0.893-$C$5+0.76*LN(D25)-0.034*(LN(D25))^2)) -> 16.025488 | F25: =0.0673*(C25*D25^2*E25)^0.976 -> 244.64243 | G25: =G24*0.995 -> 33.059393 | H25: =F25*G25*$F$5 -> 3841.6718 | J25: orange | K25: 0.827 | L25: =A25*1.2*0.93 -> 20.088 | M25: =IF(EXP(0.893-$C$5+0.76*LN(L25)-0.034*(LN(L25))^2)>10, 10, EXP(0.893-$C$5+0.76*LN(L25)-0.034*(LN(L25))^2)) -> 10 | N25: =0.0673*(K25*L25^2*M25)^0.976 -> 184.85571 | O25: =O24*0.995 -> 33.059393 | P25: =N25*O25*$F$5 -> 2902.8284 | R25: lemon | S25: 0.834 | T25: =$A25*0.83*0.93 -> 13.8942 | U25: =IF(EXP(0.893-$C$5+0.76*LN(T25)-0.034*(LN(T25))^2)>8, 8, EXP(0.893-$C$5+0.76*LN(T25)-0.034*(LN(T25))^2)) -> 8 | V25: =0.0673*(S25*T25^2*U25)^0.976 -> 72.996164 | W25: =W24*0.995 -> 33.059393 | X25: =V25*W25*$F$5 -> 1146.2742 | Z25: mandarine | AA25: 0.83 | AB25: =A25*0.96*0.93 -> 16.0704 | AC25: =IF(EXP(0.893-$C$5+0.76*LN(AB25)-0.034*(LN(AB25))^2)>4, 4, EXP(0.893-$C$5+0.76*LN(AB25)-0.034*(LN(AB25))^2)) -> 4 | AD25: =0.0673*(AA25*AB25^2*AC25)^0.976 -> 49.069307 | AE25: =AE24*0.995 -> 33.059393 | AF25: =AD25*AE25*$F$5 -> 770.54571 | AH25: mango | AI25: 0.675 | AJ25: =(10.348*LN(A25)-6.693)*0.93 -> 21.591407 | AK25: =IF(EXP(0.893-$C$5+0.76*LN(AJ25)-0.034*(LN(AJ25))^2)>25, 25, EXP(0.893-$C$5+0.76*LN(AJ25)-0.034*(LN(AJ25))^2)) -> 15.602345 | AL25: =0.0673*(AI25*AJ25^2*AK25)^0.976 -> 269.45441 | AM25: =AM24*0.995 -> 33.059393 | AN25: =AL25*AM25*$F$5 -> 4231.2996 | AP25: Safoutier | AQ25: 0.6 | AR25: =$A25*1.26*0.93 -> 21.0924 | AS25: =IF(EXP(0.893-$C$5+0.76*LN(AR25)-0.034*(LN(AR25))^2)>22.5, 22.5, EXP(0.893-$C$5+0.76*LN(AR25)-0.034*(LN(AR25))^2)) -> 15.4023 | AT25: =0.0673*(AQ25*AR25^2*AS25)^0.976 -> 226.60431 | AU25: =AU24*0.995 -> 33.059393 | AV25: =AT25*AU25*$F$5 -> 3558.4154 | AX25: =AX24+0.8 -> 14.4 | AY25: =AX25*3.67 -> 52.848 | AZ25: =SUM(H25,P25,X25,AF25,AN25,AV25)*3.67/1000 -> 60.375299 | BA25: =AZ25*0.235 -> 14.188195 | BB25: =AZ25+BA25 -> 74.563494 | BC25: =BB25+AY25 -> 127.41149 | BH25: =SUM(G25,O25,W25,AE25,AM25,AU25) -> 198.35636 | BI25: =AVERAGE(D25,L25,T25,AB25,AJ25,AR25) -> 19.234237 | BJ25: =SUM(D25*G25,L25*O25,T25*W25,AB25*AE25,AJ25*AM25,AR25*AU25)/BH25 -> 19.234237
A26: 19 | B26: avocado | C26: 0.54 | D26: =(11.291*LN(A26)-8.2599)*0.93 -> 23.236757 | E26: =IF(EXP(0.893-$C$5+0.76*LN(D26)-0.034*(LN(D26))^2)>20, 20, EXP(0.893-$C$5+0.76*LN(D26)-0.034*(LN(D26))^2)) -> 16.24377 | F26: =0.0673*(C26*D26^2*E26)^0.976 -> 260.1575 | G26: =G25*0.995 -> 32.894096 | H26: =F26*G26*$F$5 -> 4064.8817 | J26: orange | K26: 0.827 | L26: =A26*1.2*0.93 -> 21.204 | M26: =IF(EXP(0.893-$C$5+0.76*LN(L26)-0.034*(LN(L26))^2)>10, 10, EXP(0.893-$C$5+0.76*LN(L26)-0.034*(LN(L26))^2)) -> 10 | N26: =0.0673*(K26*L26^2*M26)^0.976 -> 205.43195 | O26: =O25*0.995 -> 32.894096 | P26: =N26*O26*$F$5 -> 3209.8116 | R26: lemon | S26: 0.834 | T26: =$A26*0.83*0.93 -> 14.6661 | U26: =IF(EXP(0.893-$C$5+0.76*LN(T26)-0.034*(LN(T26))^2)>8, 8, EXP(0.893-$C$5+0.76*LN(T26)-0.034*(LN(T26))^2)) -> 8 | V26: =0.0673*(S26*T26^2*U26)^0.976 -> 81.121344 | W26: =W25*0.995 -> 32.894096 | X26: =V26*W26*$F$5 -> 1267.4963 | Z26: mandarine | AA26: 0.83 | AB26: =A26*0.96*0.93 -> 16.9632 | AC26: =IF(EXP(0.893-$C$5+0.76*LN(AB26)-0.034*(LN(AB26))^2)>4, 4, EXP(0.893-$C$5+0.76*LN(AB26)-0.034*(LN(AB26))^2)) -> 4 | AD26: =0.0673*(AA26*AB26^2*AC26)^0.976 -> 54.531196 | AE26: =AE25*0.995 -> 32.894096 | AF26: =AD26*AE26*$F$5 -> 852.03334 | AH26: mango | AI26: 0.675 | AJ26: =(10.348*LN(A26)-6.693)*0.93 -> 22.111731 | AK26: =IF(EXP(0.893-$C$5+0.76*LN(AJ26)-0.034*(LN(AJ26))^2)>25, 25, EXP(0.893-$C$5+0.76*LN(AJ26)-0.034*(LN(AJ26))^2)) -> 15.808138 | AL26: =0.0673*(AI26*AJ26^2*AK26)^0.976 -> 285.90826 | AM26: =AM25*0.995 -> 32.894096 | AN26: =AL26*AM26*$F$5 -> 4467.2295 | AP26: Safoutier | AQ26: 0.6 | AR26: =$A26*1.26*0.93 -> 22.2642 | AS26: =IF(EXP(0.893-$C$5+0.76*LN(AR26)-0.034*(LN(AR26))^2)>22.5, 22.5, EXP(0.893-$C$5+0.76*LN(AR26)-0.034*(LN(AR26))^2)) -> 15.867913 | AT26: =0.0673*(AQ26*AR26^2*AS26)^0.976 -> 259.25496 | AU26: =AU25*0.995 -> 32.894096 | AV26: =AT26*AU26*$F$5 -> 4050.7798 | AX26: =AX25+0.8 -> 15.2 | AY26: =AX26*3.67 -> 55.784 | AZ26: =SUM(H26,P26,X26,AF26,AN26,AV26)*3.67/1000 -> 65.737892 | BA26: =AZ26*0.235 -> 15.448405 | BB26: =AZ26+BA26 -> 81.186297 | BC26: =BB26+AY26 -> 136.9703 | BH26: =SUM(G26,O26,W26,AE26,AM26,AU26) -> 197.36458 | BI26: =AVERAGE(D26,L26,T26,AB26,AJ26,AR26) -> 20.074331 | BJ26: =SUM(D26*G26,L26*O26,T26*W26,AB26*AE26,AJ26*AM26,AR26*AU26)/BH26 -> 20.074331
A27: 20 | B27: avocado | C27: 0.54 | D27: =(11.291*LN(A27)-8.2599)*0.93 -> 23.775369 | E27: =IF(EXP(0.893-$C$5+0.76*LN(D27)-0.034*(LN(D27))^2)>20, 20, EXP(0.893-$C$5+0.76*LN(D27)-0.034*(LN(D27))^2)) -> 16.44802 | F27: =0.0673*(C27*D27^2*E27)^0.976 -> 275.39668 | G27: =G26*0.995 -> 32.729625 | H27: =F27*G27*$F$5 -> 4281.4744 | J27: orange | K27: 0.827 | L27: =A27*1.2*0.93 -> 22.32 | M27: =IF(EXP(0.893-$C$5+0.76*LN(L27)-0.034*(LN(L27))^2)>10, 10, EXP(0.893-$C$5+0.76*LN(L27)-0.034*(LN(L27))^2)) -> 10 | N27: =0.0673*(K27*L27^2*M27)^0.976 -> 227.06568 | O27: =O26*0.995 -> 32.729625 | P27: =N27*O27*$F$5 -> 3530.093 | R27: lemon | S27: 0.834 | T27: =$A27*0.83*0.93 -> 15.438 | U27: =IF(EXP(0.893-$C$5+0.76*LN(T27)-0.034*(LN(T27))^2)>8, 8, EXP(0.893-$C$5+0.76*LN(T27)-0.034*(LN(T27))^2)) -> 8 | V27: =0.0673*(S27*T27^2*U27)^0.976 -> 89.664114 | W27: =W26*0.995 -> 32.729625 | X27: =V27*W27*$F$5 -> 1393.9696 | Z27: mandarine | AA27: 0.83 | AB27: =A27*0.96*0.93 -> 17.856 | AC27: =IF(EXP(0.893-$C$5+0.76*LN(AB27)-0.034*(LN(AB27))^2)>4, 4, EXP(0.893-$C$5+0.76*LN(AB27)-0.034*(LN(AB27))^2)) -> 4 | AD27: =0.0673*(AA27*AB27^2*AC27)^0.976 -> 60.273797 | AE27: =AE26*0.995 -> 32.729625 | AF27: =AD27*AE27*$F$5 -> 937.05092 | AH27: mango | AI27: 0.675 | AJ27: =(10.348*LN(A27)-6.693)*0.93 -> 22.605359 | AK27: =IF(EXP(0.893-$C$5+0.76*LN(AJ27)-0.034*(LN(AJ27))^2)>25, 25, EXP(0.893-$C$5+0.76*LN(AJ27)-0.034*(LN(AJ27))^2)) -> 16.000817 | AL27: =0.0673*(AI27*AJ27^2*AK27)^0.976 -> 302.05007 | AM27: =AM26*0.995 -> 32.729625 | AN27: =AL27*AM27*$F$5 -> 4695.8433 | AP27: Safoutier | AQ27: 0.6 | AR27: =$A27*1.26*0.93 -> 23.436 | AS27: =IF(EXP(0.893-$C$5+0.76*LN(AR27)-0.034*(LN(AR27))^2)>22.5, 22.5, EXP(0.893-$C$5+0.76*LN(AR27)-0.034*(LN(AR27))^2)) -> 16.319643 | AT27: =0.0673*(AQ27*AR27^2*AS27)^0.976 -> 294.51597 | AU27: =AU26*0.995 -> 32.729625 | AV27: =AT27*AU27*$F$5 -> 4578.7137 | AX27: =AX26+0.8 -> 16 | AY27: =AX27*3.67 -> 58.72 | AZ27: =SUM(H27,P27,X27,AF27,AN27,AV27)*3.67/1000 -> 71.260922 | BA27: =AZ27*0.235 -> 16.746317 | BB27: =AZ27+BA27 -> 88.007238 | BC27: =BB27+AY27 -> 146.72724 | BH27: =SUM(G27,O27,W27,AE27,AM27,AU27) -> 196.37775 | BI27: =AVERAGE(D27,L27,T27,AB27,AJ27,AR27) -> 20.905121 | BJ27: =SUM(D27*G27,L27*O27,T27*W27,AB27*AE27,AJ27*AM27,AR27*AU27)/BH27 -> 20.905121
A28: 21 | B28: avocado | C28: 0.54 | D28: =(11.291*LN(A28)-8.2599)*0.93 -> 24.287697 | E28: =IF(EXP(0.893-$C$5+0.76*LN(D28)-0.034*(LN(D28))^2)>20, 20, EXP(0.893-$C$5+0.76*LN(D28)-0.034*(LN(D28))^2)) -> 16.639826 | F28: =0.0673*(C28*D28^2*E28)^0.976 -> 290.36662 | G28: =G27*0.995 -> 32.565977 | H28: =F28*G28*$F$5 -> 4491.6346 | J28: orange | K28: 0.827 | L28: =A28*1.2*0.93 -> 23.436 | M28: =IF(EXP(0.893-$C$5+0.76*LN(L28)-0.034*(LN(L28))^2)>10, 10, EXP(0.893-$C$5+0.76*LN(L28)-0.034*(LN(L28))^2)) -> 10 | N28: =0.0673*(K28*L28^2*M28)^0.976 -> 249.75432 | O28: =O27*0.995 -> 32.565977 | P28: =N28*O28*$F$5 -> 3863.4095 | R28: lemon | S28: 0.834 | T28: =$A28*0.83*0.93 -> 16.2099 | U28: =IF(EXP(0.893-$C$5+0.76*LN(T28)-0.034*(LN(T28))^2)>8, 8, EXP(0.893-$C$5+0.76*LN(T28)-0.034*(LN(T28))^2)) -> 8 | V28: =0.0673*(S28*T28^2*U28)^0.976 -> 98.623446 | W28: =W27*0.995 -> 32.565977 | X28: =V28*W28*$F$5 -> 1525.5902 | Z28: mandarine | AA28: 0.83 | AB28: =A28*0.96*0.93 -> 18.7488 | AC28: =IF(EXP(0.893-$C$5+0.76*LN(AB28)-0.034*(LN(AB28))^2)>4, 4, EXP(0.893-$C$5+0.76*LN(AB28)-0.034*(LN(AB28))^2)) -> 4 | AD28: =0.0673*(AA28*AB28^2*AC28)^0.976 -> 66.296417 | AE28: =AE27*0.995 -> 32.565977 | AF28: =AD28*AE28*$F$5 -> 1025.5286 | AH28: mango | AI28: 0.675 | AJ28: =(10.348*LN(A28)-6.693)*0.93 -> 23.074898 | AK28: =IF(EXP(0.893-$C$5+0.76*LN(AJ28)-0.034*(LN(AJ28))^2)>25, 25, EXP(0.893-$C$5+0.76*LN(AJ28)-0.034*(LN(AJ28))^2)) -> 16.181856 | AL28: =0.0673*(AI28*AJ28^2*AK28)^0.976 -> 317.88941 | AM28: =AM27*0.995 -> 32.565977 | AN28: =AL28*AM28*$F$5 -> 4917.3802 | AP28: Safoutier | AQ28: 0.6 | AR28: =$A28*1.26*0.93 -> 24.6078 | AS28: =IF(EXP(0.893-$C$5+0.76*LN(AR28)-0.034*(LN(AR28))^2)>22.5, 22.5, EXP(0.893-$C$5+0.76*LN(AR28)-0.034*(LN(AR28))^2)) -> 16.758473 | AT28: =0.0673*(AQ28*AR28^2*AS28)^0.976 -> 332.44331 | AU28: =AU27*0.995 -> 32.565977 | AV28: =AT28*AU28*$F$5 -> 5142.5121 | AX28: =AX27+0.8 -> 16.8 | AY28: =AX28*3.67 -> 61.656 | AZ28: =SUM(H28,P28,X28,AF28,AN28,AV28)*3.67/1000 -> 76.945422 | BA28: =AZ28*0.235 -> 18.082174 | BB28: =AZ28+BA28 -> 95.027597 | BC28: =BB28+AY28 -> 156.6836 | BH28: =SUM(G28,O28,W28,AE28,AM28,AU28) -> 195.39586 | BI28: =AVERAGE(D28,L28,T28,AB28,AJ28,AR28) -> 21.727516 | BJ28: =SUM(D28*G28,L28*O28,T28*W28,AB28*AE28,AJ28*AM28,AR28*AU28)/BH28 -> 21.727516
A29: 22 | B29: avocado | C29: 0.54 | D29: =(11.291*LN(A29)-8.2599)*0.93 -> 24.776186 | E29: =IF(EXP(0.893-$C$5+0.76*LN(D29)-0.034*(LN(D29))^2)>20, 20, EXP(0.893-$C$5+0.76*LN(D29)-0.034*(LN(D29))^2)) -> 16.820525 | F29: =0.0673*(C29*D29^2*E29)^0.976 -> 305.07459 | G29: =G28*0.995 -> 32.403147 | H29: =F29*G29*$F$5 -> 4695.5541 | J29: orange | K29: 0.827 | L29: =A29*1.2*0.93 -> 24.552 | M29: =IF(EXP(0.893-$C$5+0.76*LN(L29)-0.034*(LN(L29))^2)>10, 10, EXP(0.893-$C$5+0.76*LN(L29)-0.034*(LN(L29))^2)) -> 10 | N29: =0.0673*(K29*L29^2*M29)^0.976 -> 273.4954 | O29: =O28*0.995 -> 32.403147 | P29: =N29*O29*$F$5 -> 4209.503 | R29: lemon | S29: 0.834 | T29: =$A29*0.83*0.93 -> 16.9818 | U29: =IF(EXP(0.893-$C$5+0.76*LN(T29)-0.034*(LN(T29))^2)>8, 8, EXP(0.893-$C$5+0.76*LN(T29)-0.034*(LN(T29))^2)) -> 8 | V29: =0.0673*(S29*T29^2*U29)^0.976 -> 107.99837 | W29: =W28*0.995 -> 32.403147 | X29: =V29*W29*$F$5 -> 1662.2563 | Z29: mandarine | AA29: 0.83 | AB29: =A29*0.96*0.93 -> 19.6416 | AC29: =IF(EXP(0.893-$C$5+0.76*LN(AB29)-0.034*(LN(AB29))^2)>4, 4, EXP(0.893-$C$5+0.76*LN(AB29)-0.034*(LN(AB29))^2)) -> 4 | AD29: =0.0673*(AA29*AB29^2*AC29)^0.976 -> 72.598403 | AE29: =AE28*0.995 -> 32.403147 | AF29: =AD29*AE29*$F$5 -> 1117.398 | AH29: mango | AI29: 0.675 | AJ29: =(10.348*LN(A29)-6.693)*0.93 -> 23.52259 | AK29: =IF(EXP(0.893-$C$5+0.76*LN(AJ29)-0.034*(LN(AJ29))^2)>25, 25, EXP(0.893-$C$5+0.76*LN(AJ29)-0.034*(LN(AJ29))^2)) -> 16.3525 | AL29: =0.0673*(AI29*AJ29^2*AK29)^0.976 -> 333.43614 | AM29: =AM28*0.995 -> 32.403147 | AN29: =AL29*AM29*$F$5 -> 5132.0806 | AP29: Safoutier | AQ29: 0.6 | AR29: =$A29*1.26*0.93 -> 25.7796 | AS29: =IF(EXP(0.893-$C$5+0.76*LN(AR29)-0.034*(LN(AR29))^2)>22.5, 22.5, EXP(0.893-$C$5+0.76*LN(AR29)-0.034*(LN(AR29))^2)) -> 17.18528 | AT29: =0.0673*(AQ29*AR29^2*AS29)^0.976 -> 373.09087 | AU29: =AU28*0.995 -> 32.403147 | AV29: =AT29*AU29*$F$5 -> 5742.4263 | AX29: =AX28+0.8 -> 17.6 | AY29: =AX29*3.67 -> 64.592 | AZ29: =SUM(H29,P29,X29,AF29,AN29,AV29)*3.67/1000 -> 82.792331 | BA29: =AZ29*0.235 -> 19.456198 | BB29: =AZ29+BA29 -> 102.24853 | BC29: =BB29+AY29 -> 166.84053 | BH29: =SUM(G29,O29,W29,AE29,AM29,AU29) -> 194.41888 | BI29: =AVERAGE(D29,L29,T29,AB29,AJ29,AR29) -> 22.542296 | BJ29: =SUM(D29*G29,L29*O29,T29*W29,AB29*AE29,AJ29*AM29,AR29*AU29)/BH29 -> 22.542296
... A37: 30 | B37: avocado | C37: 0.54 | D37: =(11.291*LN(A37)-8.2599)*0.93 -> 28.033008 | E37: =IF(EXP(0.893-$C$5+0.76*LN(D37)-0.034*(LN(D37))^2)>20, 20, EXP(0.893-$C$5+0.76*LN(D37)-0.034*(LN(D37))^2)) -> 17.975048 | F37: =0.0673*(C37*D37^2*E37)^0.976 -> 414.22911 | G37: =G36*0.995 -> 31.129478 | H37: =F37*G37*$F$5 -> 6124.9996 | J37: orange | K37: 0.827 | L37: =A37*1.2*0.93 -> 33.48 | M37: =IF(EXP(0.893-$C$5+0.76*LN(L37)-0.034*(LN(L37))^2)>10, 10, EXP(0.893-$C$5+0.76*LN(L37)-0.034*(LN(L37))^2)) -> 10 | N37: =0.0673*(K37*L37^2*M37)^0.976 -> 501.05066 | O37: =O36*0.995 -> 31.129478 | P37: =N37*O37*$F$5 -> 7408.7867 | R37: lemon | S37: 0.834 | T37: =$A37*0.83*0.93 -> 23.157 | U37: =IF(EXP(0.893-$C$5+0.76*LN(T37)-0.034*(LN(T37))^2)>8, 8, EXP(0.893-$C$5+0.76*LN(T37)-0.034*(LN(T37))^2)) -> 8 | V37: =0.0673*(S37*T37^2*U37)^0.976 -> 197.85581 | W37: =W36*0.995 -> 31.129478 | X37: =V37*W37*$F$5 -> 2925.5953 | Z37: mandarine | AA37: 0.83 | AB37: =A37*0.96*0.93 -> 26.784 | AC37: =IF(EXP(0.893-$C$5+0.76*LN(AB37)-0.034*(LN(AB37))^2)>4, 4, EXP(0.893-$C$5+0.76*LN(AB37)-0.034*(LN(AB37))^2)) -> 4 | AD37: =0.0673*(AA37*AB37^2*AC37)^0.976 -> 133.00216 | AE37: =AE36*0.995 -> 31.129478 | AF37: =AD37*AE37*$F$5 -> 1966.6367 | AH37: mango | AI37: 0.675 | AJ37: =(10.348*LN(A37)-6.693)*0.93 -> 26.507409 | AK37: =IF(EXP(0.893-$C$5+0.76*LN(AJ37)-0.034*(LN(AJ37))^2)>25, 25, EXP(0.893-$C$5+0.76*LN(AJ37)-0.034*(LN(AJ37))^2)) -> 17.444664 | AL37: =0.0673*(AI37*AJ37^2*AK37)^0.976 -> 448.42642 | AM37: =AM36*0.995 -> 31.129478 | AN37: =AL37*AM37*$F$5 -> 6630.6582 | AP37: Safoutier | AQ37: 0.6 | AR37: =$A37*1.26*0.93 -> 35.154 | AS37: =IF(EXP(0.893-$C$5+0.76*LN(AR37)-0.034*(LN(AR37))^2)>22.5, 22.5, EXP(0.893-$C$5+0.76*LN(AR37)-0.034*(LN(AR37))^2)) -> 20.246153 | AT37: =0.0673*(AQ37*AR37^2*AS37)^0.976 -> 802.09109 | AU37: =AU36*0.995 -> 31.129478 | AV37: =AT37*AU37*$F$5 -> 11860.122 | AX37: =AX36+0.8 -> 24 | AY37: =AX37*3.67 -> 88.08 | AZ37: =SUM(H37,P37,X37,AF37,AN37,AV37)*3.67/1000 -> 135.48465 | BA37: =AZ37*0.235 -> 31.838893 | BB37: =AZ37+BA37 -> 167.32354 | BC37: =BB37+AY37 -> 255.40354 | BH37: =SUM(G37,O37,W37,AE37,AM37,AU37) -> 186.77687 | BI37: =AVERAGE(D37,L37,T37,AB37,AJ37,AR37) -> 28.85257 | BJ37: =SUM(D37*G37,L37*O37,T37*W37,AB37*AE37,AJ37*AM37,AR37*AU37)/BH37 -> 28.85257
F39: =F37*$F$5*3.67/1000 -> 0.7221049 | G39: t CO2 | N39: =N37*$F$5*3.67/1000 -> 0.87345656 | O39: t CO2 | V39: =V37*$F$5*3.67/1000 -> 0.34491213 | W39: t CO2 | AD39: =AD37*$F$5*3.67/1000 -> 0.23185601 | AE39: t CO2 | AL39: =AL37*$F$5*3.67/1000 -> 0.78171935 | AM39: t CO2 | AT39: =AT37*$F$5*3.67/1000 -> 1.3982453 | AU39: t CO2

Sheet SmallCommunalGarden_adjust
B2: E | C2: 0.1595973 | E2: conversion factor | F2: 0.475 | H2: literature data | I2: avg measured DBH
A3: year | B3: tree species | C3: Density (g/cm3) | D3: DBH (cm) | E3: Height (m) | F3: AGB (kg) | G3: Density (#/ha) | H3: AGB (kgC/ha) | J3: tree species | K3: Density (g/cm3) | L3: DBH (cm) | M3: Height (m) | N3: AGB | O3: Density (#/ha) | P3: AGB (kgC/ha) | R3: tree species | S3: Density (g/cm3) | T3: DBH (cm) | U3: Height (m) | V3: AGB | W3: Density (#/ha) | X3: AGB (kgC/ha) | Z3: tree species | AA3: Density (g/cm3) | AB3: DBH (cm) | AC3: Height (m) | AD3: AGB | AE3: Density (#/ha) | AF3: AGB (kgC/ha) | AH3: tree species | AI3: Density (g/cm3) | AJ3: DBH (cm) | AK3: Height (m) | AL3: AGB | AM3: Density (#/ha) | AN3: AGB (kgC/ha) | AP3: tree species | AQ3: Density (g/cm3) | AR3: DBH (cm) | AS3: Height (m) | AT3: AGB | AU3: Density (#/ha) | AV3: AGB (kgC/ha) | AX3: SOC (tC/ha) | AY3: SOC (tCO2/ha) | AZ3: TOTAL AGB (tCO2/ha) | BA3: TOTAL BGB (tCO2/ha) | BB3: TOTAL woody biomass (tCO2/ha) | BC3: Total Stock (tCO2/ha) | BE3: # ha in Bankim | BG3: Total trees/ha | BH3: total trees/ha over the years | BI3: average diameter | BJ3: av diam weighed for trees
A4: 0 | B4: Tali | C4: 0.881 | D4: =A4*0.7*0.93 -> 0 | E4: 0 | F4: =0.0673*(C4*D4^2*E4)^0.976 -> 0 | G4: 65 | H4: =F4*G4*$F$2 -> 0 | J4: Corrosolier | K4: 0.36 | L4: =A4*0.5*0.93 -> 0 | M4: =IF(50.453*(1-EXP(-0.047*L4^(0.812)))>10, 10, 50.453*(1-EXP(-0.047*L4^(0.812)))) -> 0 | N4: =0.0673*(K4*L4^2*M4)^0.976 -> 0 | O4: 65 | P4: =N4*O4*$F$2 -> 0 | R4: Gmelina | S4: 0.34 | T4: =A4*2.3*0.93 -> 0 | U4: =IF(50.453*(1-EXP(-0.047*T4^(0.812)))>35, 35, 50.453*(1-EXP(-0.047*T4^(0.812)))) -> 0 | V4: =0.0673*(S4*T4^2*U4)^0.976 -> 0 | W4: 65 | X4: =V4*W4*$F$2 -> 0 | Z4: Moringa | AA4: 0.6 | AB4: =A4*1.3*0.93 -> 0 | AC4: 0 | AD4: =0.0673*(AA4*AB4^2*AC4)^0.976 -> 0 | AE4: 65 | AF4: =AD4*AE4*$F$2 -> 0 | AH4: Njangssang | AI4: 0.215 | AJ4: =$A4*1*0.93 -> 0 | AK4: =IF(50.453*(1-EXP(-0.047*AJ4^(0.812)))>25, 25, 50.453*(1-EXP(-0.047*AJ4^(0.812)))) -> 0 | AL4: =0.0673*(AI4*AJ4^2*AK4)^0.976 -> 0 | AM4: 65 | AN4: =AL4*AM4*$F$2 -> 0 | AP4: Mango | AQ4: 0.675 | AR4: =$A4*1*0.93 -> 0 | AS4: =IF(50.453*(1-EXP(-0.047*AR4^(0.812)))>25, 25, 50.453*(1-EXP(-0.047*AR4^(0.812)))) -> 0 | AT4: =0.0673*(AQ4*AR4^2*AS4)^0.976 -> 0 | AU4: 65 | AV4: =AT4*AU4*$F$2 -> 0 | AX4: 0 | AY4: =AX4*3.67 -> 0 | AZ4: =SUM(H4,P4,X4,AF4,AN4,AV4)*3.67/1000 -> 0 | BA4: =AZ4*0.33 -> 0 | BB4: =AZ4+BA4 -> 0 | BC4: =BB4+AY4 -> 0 | BE4: 6.37 | BG4: =SUM(AM34,AE34,W34,O34,G34,AU34) -> 202.34161 | BH4: =SUM(G4,O4,W4,AE4,AM4,AU4) -> 390 | BI4: =AVERAGE(D4,L4,T4,AB4,AJ4) -> 0 | BJ4: =SUM(D4*G4,L4*O4,T4*W4,AB4*AE4,AJ4*AM4)/BH4 -> 0
A5: 1 | B5: Tali | C5: 0.881 | D5: =A5*0.4*0.93 -> 0.372 | E5: =IF(EXP(0.893-$C$2+0.76*LN(D5)-0.034*(LN(D5))^2)>22.5, 22.5, EXP(0.893-$C$2+0.76*LN(D5)-0.034*(LN(D5))^2)) -> 0.94991879 | F5: =0.0673*(C5*D5^2*E5)^0.976 -> 0.0082079249 | G5: =G4*0.6 -> 39 | H5: =F5*G5*$F$2 -> 0.15205181 | J5: Corrosolier | K5: 0.36 | L5: =A5*0.5*0.93 -> 0.465 | M5: =IF(EXP(0.893-$C$2+0.76*LN(L5)-0.034*(LN(L5))^2)>7, 7, EXP(0.893-$C$2+0.76*LN(L5)-0.034*(LN(L5))^2)) -> 1.1405631 | N5: =0.0673*(K5*L5^2*M5)^0.976 -> 0.0063326127 | O5: =O4*0.6 -> 39 | P5: =N5*O5*$F$2 -> 0.11731165 | R5: Gmelina | S5: 0.34 | T5: =A5*2.3*0.93 -> 2.139 | U5: =IF(50.453*(1-EXP(-0.047*T5^(0.812)))>30, 30, 50.453*(1-EXP(-0.047*T5^(0.812)))) -> 4.2104712 | V5: =0.0673*(S5*T5^2*U5)^0.976 -> 0.4213633 | W5: =W4*0.6 -> 39 | X5: =V5*W5*$F$2 -> 7.8057551 | Z5: Moringa | AA5: 0.6 | AB5: =A5*1.5*0.93 -> 1.395 | AC5: =IF(EXP(0.893-$C$2+0.76*LN(AB5)-0.034*(LN(AB5))^2)>8, 8, EXP(0.893-$C$2+0.76*LN(AB5)-0.034*(LN(AB5))^2)) -> 2.6714853 | AD5: =0.0673*(AA5*AB5^2*AC5)^0.976 -> 0.20427267 | AE5: =AE4*0.6 -> 39 | AF5: =AD5*AE5*$F$2 -> 3.7841512 | AH5: Njangssang | AI5: 0.215 | AJ5: =$A5*1.18*0.93 -> 1.0974 | AK5: =IF(EXP(0.893-$C$2+0.76*LN(AJ5)-0.034*(LN(AJ5))^2)>20, 20, EXP(0.893-$C$2+0.76*LN(AJ5)-0.034*(LN(AJ5))^2)) -> 2.233894 | AL5: =0.0673*(AI5*AJ5^2*AK5)^0.976 -> 0.039441412 | AM5: =AM4*0.6 -> 39 | AN5: =AL5*AM5*$F$2 -> 0.73065215 | AP5: Mango | AQ5: 0.675 | AR5: =AR6/2 -> 0.22305447 | AS5: =IF(EXP(0.893-$C$2+0.76*LN(AR5)-0.034*(LN(AR5))^2)>20, 20, EXP(0.893-$C$2+0.76*LN(AR5)-0.034*(LN(AR5))^2)) -> 0.61668941 | AT5: =0.0673*(AQ5*AR5^2*AS5)^0.976 -> 0.0015297433 | AU5: =AU4*0.6 -> 39 | AV5: =AT5*AU5*$F$2 -> 0.028338495 | AX5: =AX4+Calculations!$C$24 -> 0.20748933 | AY5: =AX5*3.67 -> 0.76148585 | AZ5: =SUM(H5,P5,X5,AF5,AN5,AV5)*3.67/1000 -> 0.046309016 | BA5: =AZ5*0.33 -> 0.015281975 | BB5: =AZ5+BA5 -> 0.061590991 | BC5: =BB5+AY5 -> 0.82307684 | BH5: =SUM(G5,O5,W5,AE5,AM5,AU5) -> 234 | BI5: =AVERAGE(D5,L5,T5,AB5,AJ5) -> 1.09368 | BJ5: =SUM(D5*G5,L5*O5,T5*W5,AB5*AE5,AJ5*AM5)/BH5 -> 0.9114
A6: 2 | B6: Tali | C6: 0.881 | D6: =A6*0.4*0.93 -> 0.744 | E6: =IF(EXP(0.893-$C$2+0.76*LN(D6)-0.034*(LN(D6))^2)>22.5, 22.5, EXP(0.893-$C$2+0.76*LN(D6)-0.034*(LN(D6))^2)) -> 1.6581237 | F6: =0.0673*(C6*D6^2*E6)^0.976 -> 0.054697572 | G6: =G5*0.995 -> 38.805 | H6: =F6*G6*$F$2 -> 1.0082062 | J6: Corrosolier | K6: 0.36 | L6: =A6*0.5*0.93 -> 0.93 | M6: =IF(EXP(0.893-$C$2+0.76*LN(L6)-0.034*(LN(L6))^2)>7, 7, EXP(0.893-$C$2+0.76*LN(L6)-0.034*(LN(L6))^2)) -> 1.9700716 | N6: =0.0673*(K6*L6^2*M6)^0.976 -> 0.041769519 | O6: =O5*0.995 -> 38.805 | P6: =N6*O6*$F$2 -> 0.76991144 | R6: Gmelina | S6: 0.34 | T6: =A6*2.3*0.93 -> 4.278 | U6: =IF(50.453*(1-EXP(-0.047*T6^(0.812)))>30, 30, 50.453*(1-EXP(-0.047*T6^(0.812)))) -> 7.1573837 | V6: =0.0673*(S6*T6^2*U6)^0.976 -> 2.7362809 | W6: =W5*0.995 -> 38.805 | X6: =V6*W6*$F$2 -> 50.436156 | Z6: Moringa | AA6: 0.6 | AB6: =A6*1.5*0.93 -> 2.79 | AC6: =IF(EXP(0.893-$C$2+0.76*LN(AB6)-0.034*(LN(AB6))^2)>8, 8, EXP(0.893-$C$2+0.76*LN(AB6)-0.034*(LN(AB6))^2)) -> 4.3815407 | AD6: =0.0673*(AA6*AB6^2*AC6)^0.976 -> 1.2809669 | AE6: =AE5*0.995 -> 38.805 | AF6: =AD6*AE6*$F$2 -> 23.611262 | AH6: Njangssang | AI6: 0.215 | AJ6: =$A6*1.18*0.93 -> 2.1948 | AK6: =IF(EXP(0.893-$C$2+0.76*LN(AJ6)-0.034*(LN(AJ6))^2)>20, 20, EXP(0.893-$C$2+0.76*LN(AJ6)-0.034*(LN(AJ6))^2)) -> 3.7055136 | AL6: =0.0673*(AI6*AJ6^2*AK6)^0.976 -> 0.25007714 | AM6: =AM5*0.995 -> 38.805 | AN6: =AL6*AM6*$F$2 -> 4.6095157 | AP6: Mango | AQ6: 0.675 | AR6: =(10.348*LN(A6)-6.693)*0.93 -> 0.44610893 | AS6: =IF(EXP(0.893-$C$2+0.76*LN(AR6)-0.034*(LN(AR6))^2)>15, 15, EXP(0.893-$C$2+0.76*LN(AR6)-0.034*(LN(AR6))^2)) -> 1.1027242 | AT6: =0.0673*(AQ6*AR6^2*AS6)^0.976 -> 0.01043691 | AU6: =AU5*0.995 -> 38.805 | AV6: =AT6*AU6*$F$2 -> 0.19237704 | AX6: =AX5+Calculations!$C$24 -> 0.41497867 | AY6: =AX6*3.67 -> 1.5229717 | AZ6: =SUM(H6,P6,X6,AF6,AN6,AV6)*3.67/1000 -> 0.29590266 | BA6: =AZ6*0.33 -> 0.097647879 | BB6: =AZ6+BA6 -> 0.39355054 | BC6: =BB6+AY6 -> 1.9165222 | BE6: total C benefit (t CO2) | BH6: =SUM(G6,O6,W6,AE6,AM6,AU6) -> 232.83 | BI6: =AVERAGE(D6,L6,T6,AB6,AJ6,AR6) -> 1.8971515 | BJ6: =SUM(D6*G6,L6*O6,T6*W6,AB6*AE6,AJ6*AM6,AR6*AU6)/BH6 -> 1.8971515
A7: 3 | B7: Tali | C7: 0.881 | D7: =A7*0.4*0.93 -> 1.116 | E7: =IF(EXP(0.893-$C$2+0.76*LN(D7)-0.034*(LN(D7))^2)>22.5, 22.5, EXP(0.893-$C$2+0.76*LN(D7)-0.034*(LN(D7))^2)) -> 2.2623494 | F7: =0.0673*(C7*D7^2*E7)^0.976 -> 0.16345654 | G7: =G6*0.995 -> 38.610975 | H7: =F7*G7*$F$2 -> 2.9978278 | J7: Corrosolier | K7: 0.36 | L7: =A7*0.5*0.93 -> 1.395 | M7: =IF(EXP(0.893-$C$2+0.76*LN(L7)-0.034*(LN(L7))^2)>7, 7, EXP(0.893-$C$2+0.76*LN(L7)-0.034*(LN(L7))^2)) -> 2.6714853 | N7: =0.0673*(K7*L7^2*M7)^0.976 -> 0.12407546 | O7: =O6*0.995 -> 38.610975 | P7: =N7*O7*$F$2 -> 2.2755703 | R7: Gmelina | S7: 0.34 | T7: =A7*2.3*0.93 -> 6.417 | U7: =IF(50.453*(1-EXP(-0.047*T7^(0.812)))>30, 30, 50.453*(1-EXP(-0.047*T7^(0.812)))) -> 9.6645472 | V7: =0.0673*(S7*T7^2*U7)^0.976 -> 8.0944582 | W7: =W6*0.995 -> 38.610975 | X7: =V7*W7*$F$2 -> 148.45409 | Z7: Moringa | AA7: 0.6 | AB7: =A7*1.5*0.93 -> 4.185 | AC7: =IF(EXP(0.893-$C$2+0.76*LN(AB7)-0.034*(LN(AB7))^2)>8, 8, EXP(0.893-$C$2+0.76*LN(AB7)-0.034*(LN(AB7))^2)) -> 5.7642474 | AD7: =0.0673*(AA7*AB7^2*AC7)^0.976 -> 3.6942393 | AE7: =AE6*0.995 -> 38.610975 | AF7: =AD7*AE7*$F$2 -> 67.753135 | AH7: Njangssang | AI7: 0.215 | AJ7: =$A7*1.18*0.93 -> 3.2922 | AK7: =IF(EXP(0.893-$C$2+0.76*LN(AJ7)-0.034*(LN(AJ7))^2)>20, 20, EXP(0.893-$C$2+0.76*LN(AJ7)-0.034*(LN(AJ7))^2)) -> 4.9072411 | AL7: =0.0673*(AI7*AJ7^2*AK7)^0.976 -> 0.72588092 | AM7: =AM6*0.995 -> 38.610975 | AN7: =AL7*AM7*$F$2 -> 13.312811 | AP7: Mango | AQ7: 0.675 | AR7: =(10.348*LN(A7)-6.693)*0.93 -> 4.3481592 | AS7: =IF(EXP(0.893-$C$2+0.76*LN(AR7)-0.034*(LN(AR7))^2)>15, 15, EXP(0.893-$C$2+0.76*LN(AR7)-0.034*(LN(AR7))^2)) -> 5.911909 | AT7: =0.0673*(AQ7*AR7^2*AS7)^0.976 -> 4.5771382 | AU7: =AU6*0.995 -> 38.610975 | AV7: =AT7*AU7*$F$2 -> 83.94569 | AX7: =AX6+Calculations!$C$24 -> 0.622468 | AY7: =AX7*3.67 -> 2.2844576 | AZ7: =SUM(H7,P7,X7,AF7,AN7,AV7)*3.67/1000 -> 1.1697726 | BA7: =AZ7*0.33 -> 0.38602495 | BB7: =AZ7+BA7 -> 1.5557975 | BC7: =BB7+AY7 -> 3.8402551 | BE7: =BC34*BE4 -> 1827.7602 | BH7: =SUM(G7,O7,W7,AE7,AM7,AU7) -> 231.66585 | BI7: =AVERAGE(D7,L7,T7,AB7,AJ7,AR7) -> 3.4588932 | BJ7: =SUM(D7*G7,L7*O7,T7*W7,AB7*AE7,AJ7*AM7,AR7*AU7)/BH7 -> 3.4588932
A8: 4 | B8: Tali | C8: 0.881 | D8: =A8*0.4*0.93 -> 1.488 | E8: =IF(EXP(0.893-$C$2+0.76*LN(D8)-0.034*(LN(D8))^2)>22.5, 22.5, EXP(0.893-$C$2+0.76*LN(D8)-0.034*(LN(D8))^2)) -> 2.8012937 | F8: =0.0673*(C8*D8^2*E8)^0.976 -> 0.35306487 | G8: =G7*0.995 -> 38.41792 | H8: =F8*G8*$F$2 -> 6.4429085 | J8: Corrosolier | K8: 0.36 | L8: =A8*0.5*0.93 -> 1.86 | M8: =IF(EXP(0.893-$C$2+0.76*LN(L8)-0.034*(LN(L8))^2)>7, 7, EXP(0.893-$C$2+0.76*LN(L8)-0.034*(LN(L8))^2)) -> 3.2934871 | N8: =0.0673*(K8*L8^2*M8)^0.976 -> 0.26686265 | O8: =O7*0.995 -> 38.41792 | P8: =N8*O8*$F$2 -> 4.8698463 | R8: Gmelina | S8: 0.34 | T8: =A8*2.3*0.93 -> 8.556 | U8: =IF(50.453*(1-EXP(-0.047*T8^(0.812)))>30, 30, 50.453*(1-EXP(-0.047*T8^(0.812)))) -> 11.884154 | V8: =0.0673*(S8*T8^2*U8)^0.976 -> 17.366011 | W8: =W7*0.995 -> 38.41792 | X8: =V8*W8*$F$2 -> 316.90386 | Z8: Moringa | AA8: 0.6 | AB8: =A8*1.5*0.93 -> 5.58 | AC8: =IF(EXP(0.893-$C$2+0.76*LN(AB8)-0.034*(LN(AB8))^2)>8, 8, EXP(0.893-$C$2+0.76*LN(AB8)-0.034*(LN(AB8))^2)) -> 6.9552407 | AD8: =0.0673*(AA8*AB8^2*AC8)^0.976 -> 7.7806756 | AE8: =AE7*0.995 -> 38.41792 | AF8: =AD8*AE8*$F$2 -> 141.98575 | AH8: Njangssang | AI8: 0.215 | AJ8: =$A8*1.18*0.93 -> 4.3896 | AK8: =IF(EXP(0.893-$C$2+0.76*LN(AJ8)-0.034*(LN(AJ8))^2)>20, 20, EXP(0.893-$C$2+0.76*LN(AJ8)-0.034*(LN(AJ8))^2)) -> 5.9490213 | AL8: =0.0673*(AI8*AJ8^2*AK8)^0.976 -> 1.5358448 | AM8: =AM7*0.995 -> 38.41792 | AN8: =AL8*AM8*$F$2 -> 28.026882 | AP8: Mango | AQ8: 0.675 | AR8: =(10.348*LN(A8)-6.693)*0.93 -> 7.1167079 | AS8: =IF(EXP(0.893-$C$2+0.76*LN(AR8)-0.034*(LN(AR8))^2)>15, 15, EXP(0.893-$C$2+0.76*LN(AR8)-0.034*(LN(AR8))^2)) -> 8.1166749 | AT8: =0.0673*(AQ8*AR8^2*AS8)^0.976 -> 16.316143 | AU8: =AU7*0.995 -> 38.41792 | AV8: =AT8*AU8*$F$2 -> 297.74533 | AX8: =AX7+Calculations!$C$24 -> 0.82995733 | AY8: =AX8*3.67 -> 3.0459434 | AZ8: =SUM(H8,P8,X8,AF8,AN8,AV8)*3.67/1000 -> 2.9212267 | BA8: =AZ8*0.33 -> 0.96400481 | BB8: =AZ8+BA8 -> 3.8852315 | BC8: =BB8+AY8 -> 6.9311749 | BH8: =SUM(G8,O8,W8,AE8,AM8,AU8) -> 230.50752 | BI8: =AVERAGE(D8,L8,T8,AB8,AJ8,AR8) -> 4.831718 | BJ8: =SUM(D8*G8,L8*O8,T8*W8,AB8*AE8,AJ8*AM8,AR8*AU8)/BH8 -> 4.831718
A9: 5 | B9: Tali | C9: 0.881 | D9: =A9*0.4*0.93 -> 1.86 | E9: =IF(EXP(0.893-$C$2+0.76*LN(D9)-0.034*(LN(D9))^2)>22.5, 22.5, EXP(0.893-$C$2+0.76*LN(D9)-0.034*(LN(D9))^2)) -> 3.2934871 | F9: =0.0673*(C9*D9^2*E9)^0.976 -> 0.63919452 | G9: =G8*0.995 -> 38.225831 | H9: =F9*G9*$F$2 -> 11.606027 | J9: Corrosolier | K9: 0.36 | L9: =A9*0.5*0.93 -> 2.325 | M9: =IF(EXP(0.893-$C$2+0.76*LN(L9)-0.034*(LN(L9))^2)>7, 7, EXP(0.893-$C$2+0.76*LN(L9)-0.034*(LN(L9))^2)) -> 3.8590713 | N9: =0.0673*(K9*L9^2*M9)^0.976 -> 0.48153864 | O9: =O8*0.995 -> 38.225831 | P9: =N9*O9*$F$2 -> 8.7434268 | R9: Gmelina | S9: 0.34 | T9: =A9*2.3*0.93 -> 10.695 | U9: =IF(50.453*(1-EXP(-0.047*T9^(0.812)))>30, 30, 50.453*(1-EXP(-0.047*T9^(0.812)))) -> 13.888089 | V9: =0.0673*(S9*T9^2*U9)^0.976 -> 31.254924 | W9: =W8*0.995 -> 38.225831 | X9: =V9*W9*$F$2 -> 567.50408 | Z9: Moringa | AA9: 0.6 | AB9: =A9*1.5*0.93 -> 6.975 | AC9: =IF(EXP(0.893-$C$2+0.76*LN(AB9)-0.034*(LN(AB9))^2)>8, 8, EXP(0.893-$C$2+0.76*LN(AB9)-0.034*(LN(AB9))^2)) -> 8 | AD9: =0.0673*(AA9*AB9^2*AC9)^0.976 -> 13.788112 | AE9: =AE8*0.995 -> 38.225831 | AF9: =AD9*AE9*$F$2 -> 250.35447 | AH9: Njangssang | AI9: 0.215 | AJ9: =$A9*1.18*0.93 -> 5.487 | AK9: =IF(EXP(0.893-$C$2+0.76*LN(AJ9)-0.034*(LN(AJ9))^2)>20, 20, EXP(0.893-$C$2+0.76*LN(AJ9)-0.034*(LN(AJ9))^2)) -> 6.8804031 | AL9: =0.0673*(AI9*AJ9^2*AK9)^0.976 -> 2.736327 | AM9: =AM8*0.995 -> 38.225831 | AN9: =AL9*AM9*$F$2 -> 49.684227 | AP9: Mango | AQ9: 0.675 | AR9: =(10.348*LN(A9)-6.693)*0.93 -> 9.2641611 | AS9: =IF(EXP(0.893-$C$2+0.76*LN(AR9)-0.034*(LN(AR9))^2)>15, 15, EXP(0.893-$C$2+0.76*LN(AR9)-0.034*(LN(AR9))^2)) -> 9.5523139 | AT9: =0.0673*(AQ9*AR9^2*AS9)^0.976 -> 32.004204 | AU9: =AU8*0.995 -> 38.225831 | AV9: =AT9*AU9*$F$2 -> 581.10896 | AX9: =AX8+Calculations!$C$24 -> 1.0374467 | AY9: =AX9*3.67 -> 3.8074293 | AZ9: =SUM(H9,P9,X9,AF9,AN9,AV9)*3.67/1000 -> 5.3912344 | BA9: =AZ9*0.33 -> 1.7791073 | BB9: =AZ9+BA9 -> 7.1703417 | BC9: =BB9+AY9 -> 10.977771 | BE9: risk buffer (t CO2) | BF9: risk buffer (t CO2/ha) | BH9: =SUM(G9,O9,W9,AE9,AM9,AU9) -> 229.35498 | BI9: =AVERAGE(D9,L9,T9,AB9,AJ9,AR9) -> 6.1010268 | BJ9: =SUM(D9*G9,L9*O9,T9*W9,AB9*AE9,AJ9*AM9,AR9*AU9)/BH9 -> 6.1010268
A10: 6 | B10: Tali | C10: 0.881 | D10: =A10*0.4*0.93 -> 2.232 | E10: =IF(EXP(0.893-$C$2+0.76*LN(D10)-0.034*(LN(D10))^2)>22.5, 22.5, EXP(0.893-$C$2+0.76*LN(D10)-0.034*(LN(D10))^2)) -> 3.7497429 | F10: =0.0673*(C10*D10^2*E10)^0.976 -> 1.0355905 | G10: =G9*0.995 -> 38.034701 | H10: =F10*G10*$F$2 -> 18.709479 | J10: Corrosolier | K10: 0.36 | L10: =A10*0.5*0.93 -> 2.79 | M10: =IF(EXP(0.893-$C$2+0.76*LN(L10)-0.034*(LN(L10))^2)>7, 7, EXP(0.893-$C$2+0.76*LN(L10)-0.034*(LN(L10))^2)) -> 4.3815407 | N10: =0.0673*(K10*L10^2*M10)^0.976 -> 0.77806077 | O10: =O9*0.995 -> 38.034701 | P10: =N10*O10*$F$2 -> 14.056822 | R10: Gmelina | S10: 0.34 | T10: =A10*2.3*0.93 -> 12.834 | U10: =IF(50.453*(1-EXP(-0.047*T10^(0.812)))>30, 30, 50.453*(1-EXP(-0.047*T10^(0.812)))) -> 15.719086 | V10: =0.0673*(S10*T10^2*U10)^0.976 -> 50.347071 | W10: =W9*0.995 -> 38.034701 | X10: =V10*W10*$F$2 -> 909.59452 | Z10: Moringa | AA10: 0.6 | AB10: =A10*1.5*0.93 -> 8.37 | AC10: =IF(EXP(0.893-$C$2+0.76*LN(AB10)-0.034*(LN(AB10))^2)>8, 8, EXP(0.893-$C$2+0.76*LN(AB10)-0.034*(LN(AB10))^2)) -> 8 | AD10: =0.0673*(AA10*AB10^2*AC10)^0.976 -> 19.681881 | AE10: =AE9*0.995 -> 38.034701 | AF10: =AD10*AE10*$F$2 -> 355.58237 | AH10: Njangssang | AI10: 0.215 | AJ10: =$A10*1.18*0.93 -> 6.5844 | AK10: =IF(EXP(0.893-$C$2+0.76*LN(AJ10)-0.034*(LN(AJ10))^2)>20, 20, EXP(0.893-$C$2+0.76*LN(AJ10)-0.034*(LN(AJ10))^2)) -> 7.7292013 | AL10: =0.0673*(AI10*AJ10^2*AK10)^0.976 -> 4.3756041 | AM10: =AM9*0.995 -> 38.034701 | AN10: =AL10*AM10*$F$2 -> 79.051778 | AP10: Mango | AQ10: 0.675 | AR10: =(10.348*LN(A10)-6.693)*0.93 -> 11.018758 | AS10: =IF(EXP(0.893-$C$2+0.76*LN(AR10)-0.034*(LN(AR10))^2)>15, 15, EXP(0.893-$C$2+0.76*LN(AR10)-0.034*(LN(AR10))^2)) -> 10.604977 | AT10: =0.0673*(AQ10*AR10^2*AS10)^0.976 -> 49.722846 | AU10: =AU9*0.995 -> 38.034701 | AV10: =AT10*AU10*$F$2 -> 898.31697 | AX10: =AX9+Calculations!$C$24 -> 1.244936 | AY10: =AX10*3.67 -> 4.5689151 | AZ10: =SUM(H10,P10,X10,AF10,AN10,AV10)*3.67/1000 -> 8.3503948 | BA10: =AZ10*0.33 -> 2.7556303 | BB10: =AZ10+BA10 -> 11.106025 | BC10: =BB10+AY10 -> 15.67494 | BE10: =BE7*0.2 -> 365.55204 | BF10: =BE10/BE4 -> 57.386505 | BH10: =SUM(G10,O10,W10,AE10,AM10,AU10) -> 228.20821 | BI10: =AVERAGE(D10,L10,T10,AB10,AJ10,AR10) -> 7.3048597 | BJ10: =SUM(D10*G10,L10*O10,T10*W10,AB10*AE10,AJ10*AM10,AR10*AU10)/BH10 -> 7.3048597
A11: 7 | B11: Tali | C11: 0.881 | D11: =A11*0.4*0.93 -> 2.604 | E11: =IF(EXP(0.893-$C$2+0.76*LN(D11)-0.034*(LN(D11))^2)>22.5, 22.5, EXP(0.893-$C$2+0.76*LN(D11)-0.034*(LN(D11))^2)) -> 4.177102 | F11: =0.0673*(C11*D11^2*E11)^0.976 -> 1.5545934 | G11: =G10*0.995 -> 37.844528 | H11: =F11*G11*$F$2 -> 27.945605 | J11: Corrosolier | K11: 0.36 | L11: =A11*0.5*0.93 -> 3.255 | M11: =IF(EXP(0.893-$C$2+0.76*LN(L11)-0.034*(LN(L11))^2)>7, 7, EXP(0.893-$C$2+0.76*LN(L11)-0.034*(LN(L11))^2)) -> 4.8695026 | N11: =0.0673*(K11*L11^2*M11)^0.976 -> 1.1653351 | O11: =O10*0.995 -> 37.844528 | P11: =N11*O11*$F$2 -> 20.948239 | R11: Gmelina | S11: 0.34 | T11: =A11*2.3*0.93 -> 14.973 | U11: =IF(50.453*(1-EXP(-0.047*T11^(0.812)))>30, 30, 50.453*(1-EXP(-0.047*T11^(0.812)))) -> 17.405803 | V11: =0.0673*(S11*T11^2*U11)^0.976 -> 75.137842 | W11: =W10*0.995 -> 37.844528 | X11: =V11*W11*$F$2 -> 1350.6892 | Z11: Moringa | AA11: 0.6 | AB11: =A11*1.5*0.93 -> 9.765 | AC11: =IF(EXP(0.893-$C$2+0.76*LN(AB11)-0.034*(LN(AB11))^2)>8, 8, EXP(0.893-$C$2+0.76*LN(AB11)-0.034*(LN(AB11))^2)) -> 8 | AD11: =0.0673*(AA11*AB11^2*AC11)^0.976 -> 26.591739 | AE11: =AE10*0.995 -> 37.844528 | AF11: =AD11*AE11*$F$2 -> 478.01711 | AH11: Njangssang | AI11: 0.215 | AJ11: =$A11*1.18*0.93 -> 7.6818 | AK11: =IF(EXP(0.893-$C$2+0.76*LN(AJ11)-0.034*(LN(AJ11))^2)>20, 20, EXP(0.893-$C$2+0.76*LN(AJ11)-0.034*(LN(AJ11))^2)) -> 8.5130153 | AL11: =0.0673*(AI11*AJ11^2*AK11)^0.976 -> 6.4962119 | AM11: =AM10*0.995 -> 37.844528 | AN11: =AL11*AM11*$F$2 -> 116.77688 | AP11: Mango | AQ11: 0.675 | AR11: =(10.348*LN(A11)-6.693)*0.93 -> 12.502249 | AS11: =IF(EXP(0.893-$C$2+0.76*LN(AR11)-0.034*(LN(AR11))^2)>15, 15, EXP(0.893-$C$2+0.76*LN(AR11)-0.034*(LN(AR11))^2)) -> 11.429136 | AT11: =0.0673*(AQ11*AR11^2*AS11)^0.976 -> 68.447482 | AU11: =AU10*0.995 -> 37.844528 | AV11: =AT11*AU11*$F$2 -> 1230.4223 | AX11: =AX10+Calculations!$C$24 -> 1.4524253 | AY11: =AX11*3.67 -> 5.330401 | AZ11: =SUM(H11,P11,X11,AF11,AN11,AV11)*3.67/1000 -> 11.835013 | BA11: =AZ11*0.33 -> 3.9055544 | BB11: =AZ11+BA11 -> 15.740568 | BC11: =BB11+AY11 -> 21.070969 | BH11: =SUM(G11,O11,W11,AE11,AM11,AU11) -> 227.06717 | BI11: =AVERAGE(D11,L11,T11,AB11,AJ11,AR11) -> 8.4635081 | BJ11: =SUM(D11*G11,L11*O11,T11*W11,AB11*AE11,AJ11*AM11,AR11*AU11)/BH11 -> 8.4635081
A12: 8 | B12: Tali | C12: 0.881 | D12: =A12*0.4*0.93 -> 2.976 | E12: =IF(EXP(0.893-$C$2+0.76*LN(D12)-0.034*(LN(D12))^2)>22.5, 22.5, EXP(0.893-$C$2+0.76*LN(D12)-0.034*(LN(D12))^2)) -> 4.5804863 | F12: =0.0673*(C12*D12^2*E12)^0.976 -> 2.2074595 | G12: =G11*0.995 -> 37.655305 | H12: =F12*G12*$F$2 -> 39.483216 | J12: Corrosolier | K12: 0.36 | L12: =A12*0.5*0.93 -> 3.72 | M12: =IF(EXP(0.893-$C$2+0.76*LN(L12)-0.034*(LN(L12))^2)>7, 7, EXP(0.893-$C$2+0.76*LN(L12)-0.034*(LN(L12))^2)) -> 5.3289441 | N12: =0.0673*(K12*L12^2*M12)^0.976 -> 1.6514594 | O12: =O11*0.995 -> 37.655305 | P12: =N12*O12*$F$2 -> 29.538449 | R12: Gmelina | S12: 0.34 | T12: =A12*2.3*0.93 -> 17.112 | U12: =IF(50.453*(1-EXP(-0.047*T12^(0.812)))>30, 30, 50.453*(1-EXP(-0.047*T12^(0.812)))) -> 18.968953 | V12: =0.0673*(S12*T12^2*U12)^0.976 -> 106.0503 | W12: =W11*0.995 -> 37.655305 | X12: =V12*W12*$F$2 -> 1896.8443 | Z12: Moringa | AA12: 0.6 | AB12: =A12*1.5*0.93 -> 11.16 | AC12: =IF(EXP(0.893-$C$2+0.76*LN(AB12)-0.034*(LN(AB12))^2)>8, 8, EXP(0.893-$C$2+0.76*LN(AB12)-0.034*(LN(AB12))^2)) -> 8 | AD12: =0.0673*(AA12*AB12^2*AC12)^0.976 -> 34.510164 | AE12: =AE11*0.995 -> 37.655305 | AF12: =AD12*AE12*$F$2 -> 617.25811 | AH12: Njangssang | AI12: 0.215 | AJ12: =$A12*1.18*0.93 -> 8.7792 | AK12: =IF(EXP(0.893-$C$2+0.76*LN(AJ12)-0.034*(LN(AJ12))^2)>20, 20, EXP(0.893-$C$2+0.76*LN(AJ12)-0.034*(LN(AJ12))^2)) -> 9.2438711 | AL12: =0.0673*(AI12*AJ12^2*AK12)^0.976 -> 9.1363439 | AM12: =AM11*0.995 -> 37.655305 | AN12: =AL12*AM12*$F$2 -> 163.41511 | AP12: Mango | AQ12: 0.675 | AR12: =(10.348*LN(A12)-6.693)*0.93 -> 13.787307 | AS12: =IF(EXP(0.893-$C$2+0.76*LN(AR12)-0.034*(LN(AR12))^2)>15, 15, EXP(0.893-$C$2+0.76*LN(AR12)-0.034*(LN(AR12))^2)) -> 12.102276 | AT12: =0.0673*(AQ12*AR12^2*AS12)^0.976 -> 87.610806 | AU12: =AU11*0.995 -> 37.655305 | AV12: =AT12*AU12*$F$2 -> 1567.0305 | AX12: =AX11+Calculations!$C$24 -> 1.6599147 | AY12: =AX12*3.67 -> 6.0918868 | AZ12: =SUM(H12,P12,X12,AF12,AN12,AV12)*3.67/1000 -> 15.830801 | BA12: =AZ12*0.33 -> 5.2241643 | BB12: =AZ12+BA12 -> 21.054965 | BC12: =BB12+AY12 -> 27.146852 | BE12: Potential PVC | BF12: PV/ha | BH12: =SUM(G12,O12,W12,AE12,AM12,AU12) -> 225.93183 | BI12: =AVERAGE(D12,L12,T12,AB12,AJ12,AR12) -> 9.5890845 | BJ12: =SUM(D12*G12,L12*O12,T12*W12,AB12*AE12,AJ12*AM12,AR12*AU12)/BH12 -> 9.5890845
A13: 9 | B13: Tali | C13: 0.881 | D13: =A13*0.4*0.93 -> 3.348 | E13: =IF(EXP(0.893-$C$2+0.76*LN(D13)-0.034*(LN(D13))^2)>22.5, 22.5, EXP(0.893-$C$2+0.76*LN(D13)-0.034*(LN(D13))^2)) -> 4.9635136 | F13: =0.0673*(C13*D13^2*E13)^0.976 -> 3.0045748 | G13: =G12*0.995 -> 37.467029 | H13: =F13*G13*$F$2 -> 53.471934 | J13: Corrosolier | K13: 0.36 | L13: =A13*0.5*0.93 -> 4.185 | M13: =IF(EXP(0.893-$C$2+0.76*LN(L13)-0.034*(LN(L13))^2)>7, 7, EXP(0.893-$C$2+0.76*LN(L13)-0.034*(LN(L13))^2)) -> 5.7642474 | N13: =0.0673*(K13*L13^2*M13)^0.976 -> 2.2438852 | O13: =O12*0.995 -> 37.467029 | P13: =N13*O13*$F$2 -> 39.934063 | R13: Gmelina | S13: 0.34 | T13: =A13*2.3*0.93 -> 19.251 | U13: =IF(50.453*(1-EXP(-0.047*T13^(0.812)))>30, 30, 50.453*(1-EXP(-0.047*T13^(0.812)))) -> 20.424292 | V13: =0.0673*(S13*T13^2*U13)^0.976 -> 143.4481 | W13: =W12*0.995 -> 37.467029 | X13: =V13*W13*$F$2 -> 2552.9227 | Z13: Moringa | AA13: 0.6 | AB13: =A13*1.5*0.93 -> 12.555 | AC13: =IF(EXP(0.893-$C$2+0.76*LN(AB13)-0.034*(LN(AB13))^2)>8, 8, EXP(0.893-$C$2+0.76*LN(AB13)-0.034*(LN(AB13))^2)) -> 8 | AD13: =0.0673*(AA13*AB13^2*AC13)^0.976 -> 43.430691 | AE13: =AE12*0.995 -> 37.467029 | AF13: =AD13*AE13*$F$2 -> 772.92901 | AH13: Njangssang | AI13: 0.215 | AJ13: =$A13*1.18*0.93 -> 9.8766 | AK13: =IF(EXP(0.893-$C$2+0.76*LN(AJ13)-0.034*(LN(AJ13))^2)>20, 20, EXP(0.893-$C$2+0.76*LN(AJ13)-0.034*(LN(AJ13))^2)) -> 9.9304422 | AL13: =0.0673*(AI13*AJ13^2*AK13)^0.976 -> 12.330768 | AM13: =AM12*0.995 -> 37.467029 | AN13: =AL13*AM13*$F$2 -> 219.44868 | AP13: Mango | AQ13: 0.675 | AR13: =(10.348*LN(A13)-6.693)*0.93 -> 14.920808 | AS13: =IF(EXP(0.893-$C$2+0.76*LN(AR13)-0.034*(LN(AR13))^2)>15, 15, EXP(0.893-$C$2+0.76*LN(AR13)-0.034*(LN(AR13))^2)) -> 12.668663 | AT13: =0.0673*(AQ13*AR13^2*AS13)^0.976 -> 106.88665 | AU13: =AU12*0.995 -> 37.467029 | AV13: =AT13*AU13*$F$2 -> 1902.2444 | AX13: =AX12+Calculations!$C$24 -> 1.867404 | AY13: =AX13*3.67 -> 6.8533727 | AZ13: =SUM(H13,P13,X13,AF13,AN13,AV13)*3.67/1000 -> 20.33529 | BA13: =AZ13*0.33 -> 6.7106455 | BB13: =AZ13+BA13 -> 27.045935 | BC13: =BB13+AY13 -> 33.899308 | BE13: =BE7-BE10 -> 1462.2081 | BF13: =BE13/BE4 -> 229.54602 | BH13: =SUM(G13,O13,W13,AE13,AM13,AU13) -> 224.80217 | BI13: =AVERAGE(D13,L13,T13,AB13,AJ13,AR13) -> 10.689401 | BJ13: =SUM(D13*G13,L13*O13,T13*W13,AB13*AE13,AJ13*AM13,AR13*AU13)/BH13 -> 10.689401
A14: 10 | B14: Tali | C14: 0.881 | D14: =A14*0.4*0.93 -> 3.72 | E14: =IF(EXP(0.893-$C$2+0.76*LN(D14)-0.034*(LN(D14))^2)>22.5, 22.5, EXP(0.893-$C$2+0.76*LN(D14)-0.034*(LN(D14))^2)) -> 5.3289441 | F14: =0.0673*(C14*D14^2*E14)^0.976 -> 3.9556071 | G14: =G13*0.995 -> 37.279694 | H14: =F14*G14*$F$2 -> 70.045314 | J14: Corrosolier | K14: 0.36 | L14: =A14*0.5*0.93 -> 4.65 | M14: =IF(EXP(0.893-$C$2+0.76*LN(L14)-0.034*(LN(L14))^2)>7, 7, EXP(0.893-$C$2+0.76*LN(L14)-0.034*(LN(L14))^2)) -> 6.1787446 | N14: =0.0673*(K14*L14^2*M14)^0.976 -> 2.949532 | O14: =O13*0.995 -> 37.279694 | P14: =N14*O14*$F$2 -> 52.229883 | R14: Gmelina | S14: 0.34 | T14: =A14*2.3*0.93 -> 21.39 | U14: =IF(50.453*(1-EXP(-0.047*T14^(0.812)))>30, 30, 50.453*(1-EXP(-0.047*T14^(0.812)))) -> 21.784262 | V14: =0.0673*(S14*T14^2*U14)^0.976 -> 187.64516 | W14: =W13*0.995 -> 37.279694 | X14: =V14*W14*$F$2 -> 3322.7932 | Z14: Moringa | AA14: 0.6 | AB14: =A14*1.5*0.93 -> 13.95 | AC14: =IF(EXP(0.893-$C$2+0.76*LN(AB14)-0.034*(LN(AB14))^2)>8, 8, EXP(0.893-$C$2+0.76*LN(AB14)-0.034*(LN(AB14))^2)) -> 8 | AD14: =0.0673*(AA14*AB14^2*AC14)^0.976 -> 53.347659 | AE14: =AE13*0.995 -> 37.279694 | AF14: =AD14*AE14*$F$2 -> 944.67258 | AH14: Njangssang | AI14: 0.215 | AJ14: =$A14*1.18*0.93 -> 10.974 | AK14: =IF(EXP(0.893-$C$2+0.76*LN(AJ14)-0.034*(LN(AJ14))^2)>20, 20, EXP(0.893-$C$2+0.76*LN(AJ14)-0.034*(LN(AJ14))^2)) -> 10.57924 | AL14: =0.0673*(AI14*AJ14^2*AK14)^0.976 -> 16.111463 | AM14: =AM13*0.995 -> 37.279694 | AN14: =AL14*AM14*$F$2 -> 285.29944 | AP14: Mango | AQ14: 0.675 | AR14: =(10.348*LN(A14)-6.693)*0.93 -> 15.93476 | AS14: =IF(EXP(0.893-$C$2+0.76*LN(AR14)-0.034*(LN(AR14))^2)>15, 15, EXP(0.893-$C$2+0.76*LN(AR14)-0.034*(LN(AR14))^2)) -> 13.155872 | AT14: =0.0673*(AQ14*AR14^2*AS14)^0.976 -> 126.08249 | AU14: =AU13*0.995 -> 37.279694 | AV14: =AT14*AU14*$F$2 -> 2232.6504 | AX14: =AX13+Calculations!$C$24 -> 2.0748933 | AY14: =AX14*3.67 -> 7.6148585 | AZ14: =SUM(H14,P14,X14,AF14,AN14,AV14)*3.67/1000 -> 25.351225 | BA14: =AZ14*0.33 -> 8.3659044 | BB14: =AZ14+BA14 -> 33.71713 | BC14: =BB14+AY14 -> 41.331988 | BF14: =BF13/30 -> 7.651534 | BH14: =SUM(G14,O14,W14,AE14,AM14,AU14) -> 223.67816 | BI14: =AVERAGE(D14,L14,T14,AB14,AJ14,AR14) -> 11.769793 | BJ14: =SUM(D14*G14,L14*O14,T14*W14,AB14*AE14,AJ14*AM14,AR14*AU14)/BH14 -> 11.769793
A15: 11 | B15: Tali | C15: 0.881 | D15: =A15*0.4*0.93 -> 4.092 | E15: =IF(EXP(0.893-$C$2+0.76*LN(D15)-0.034*(LN(D15))^2)>22.5, 22.5, EXP(0.893-$C$2+0.76*LN(D15)-0.034*(LN(D15))^2)) -> 5.6789459 | F15: =0.0673*(C15*D15^2*E15)^0.976 -> 5.0696175 | G15: =G14*0.995 -> 37.093295 | H15: =F15*G15*$F$2 -> 89.323189 | J15: Corrosolier | K15: 0.36 | L15: =A15*0.5*0.93 -> 5.115 | M15: =IF(EXP(0.893-$C$2+0.76*LN(L15)-0.034*(LN(L15))^2)>7, 7, EXP(0.893-$C$2+0.76*LN(L15)-0.034*(LN(L15))^2)) -> 6.575045 | N15: =0.0673*(K15*L15^2*M15)^0.976 -> 3.7748713 | O15: =O14*0.995 -> 37.093295 | P15: =N15*O15*$F$2 -> 66.510647 | R15: Gmelina | S15: 0.34 | T15: =A15*2.3*0.93 -> 23.529 | U15: =IF(50.453*(1-EXP(-0.047*T15^(0.812)))>30, 30, 50.453*(1-EXP(-0.047*T15^(0.812)))) -> 23.058962 | V15: =0.0673*(S15*T15^2*U15)^0.976 -> 238.91315 | W15: =W14*0.995 -> 37.093295 | X15: =V15*W15*$F$2 -> 4209.4861 | Z15: Moringa | AA15: 0.6 | AB15: =A15*1.5*0.93 -> 15.345 | AC15: =IF(EXP(0.893-$C$2+0.76*LN(AB15)-0.034*(LN(AB15))^2)>8, 8, EXP(0.893-$C$2+0.76*LN(AB15)-0.034*(LN(AB15))^2)) -> 8 | AD15: =0.0673*(AA15*AB15^2*AC15)^0.976 -> 64.25603 | AE15: =AE14*0.995 -> 37.093295 | AF15: =AD15*AE15*$F$2 -> 1132.1472 | AH15: Njangssang | AI15: 0.215 | AJ15: =$A15*1.18*0.93 -> 12.0714 | AK15: =IF(EXP(0.893-$C$2+0.76*LN(AJ15)-0.034*(LN(AJ15))^2)>20, 20, EXP(0.893-$C$2+0.76*LN(AJ15)-0.034*(LN(AJ15))^2)) -> 11.195309 | AL15: =0.0673*(AI15*AJ15^2*AK15)^0.976 -> 20.508087 | AM15: =AM14*0.995 -> 37.093295 | AN15: =AL15*AM15*$F$2 -> 361.33844 | AP15: Mango | AQ15: 0.675 | AR15: =(10.348*LN(A15)-6.693)*0.93 -> 16.851991 | AS15: =IF(EXP(0.893-$C$2+0.76*LN(AR15)-0.034*(LN(AR15))^2)>15, 15, EXP(0.893-$C$2+0.76*LN(AR15)-0.034*(LN(AR15))^2)) -> 13.582195 | AT15: =0.0673*(AQ15*AR15^2*AS15)^0.976 -> 145.0833 | AU15: =AU14*0.995 -> 37.093295 | AV15: =AT15*AU15*$F$2 -> 2556.2683 | AX15: =AX14+Calculations!$C$24 -> 2.2823827 | AY15: =AX15*3.67 -> 8.3763444 | AZ15: =SUM(H15,P15,X15,AF15,AN15,AV15)*3.67/1000 -> 30.883321 | BA15: =AZ15*0.33 -> 10.191496 | BB15: =AZ15+BA15 -> 41.074818 | BC15: =BB15+AY15 -> 49.451162 | BH15: =SUM(G15,O15,W15,AE15,AM15,AU15) -> 222.55977 | BI15: =AVERAGE(D15,L15,T15,AB15,AJ15,AR15) -> 12.834065 | BJ15: =SUM(D15*G15,L15*O15,T15*W15,AB15*AE15,AJ15*AM15,AR15*AU15)/BH15 -> 12.834065
A16: 12 | B16: Tali | C16: 0.881 | D16: =A16*0.4*0.93 -> 4.464 | E16: =IF(EXP(0.893-$C$2+0.76*LN(D16)-0.034*(LN(D16))^2)>22.5, 22.5, EXP(0.893-$C$2+0.76*LN(D16)-0.034*(LN(D16))^2)) -> 6.0152621 | F16: =0.0673*(C16*D16^2*E16)^0.976 -> 6.3551471 | G16: =G15*0.995 -> 36.907829 | H16: =F16*G16*$F$2 -> 111.41347 | J16: Corrosolier | K16: 0.36 | L16: =A16*0.5*0.93 -> 5.58 | M16: =IF(EXP(0.893-$C$2+0.76*LN(L16)-0.034*(LN(L16))^2)>7, 7, EXP(0.893-$C$2+0.76*LN(L16)-0.034*(LN(L16))^2)) -> 6.9552407 | N16: =0.0673*(K16*L16^2*M16)^0.976 -> 4.7259915 | O16: =O15*0.995 -> 36.907829 | P16: =N16*O16*$F$2 -> 82.852389 | R16: Gmelina | S16: 0.34 | T16: =A16*2.3*0.93 -> 25.668 | U16: =IF(50.453*(1-EXP(-0.047*T16^(0.812)))>30, 30, 50.453*(1-EXP(-0.047*T16^(0.812)))) -> 24.256772 | V16: =0.0673*(S16*T16^2*U16)^0.976 -> 297.48752 | W16: =W15*0.995 -> 36.907829 | X16: =V16*W16*$F$2 -> 5215.3187 | Z16: Moringa | AA16: 0.6 | AB16: =A16*1.5*0.93 -> 16.74 | AC16: =IF(EXP(0.893-$C$2+0.76*LN(AB16)-0.034*(LN(AB16))^2)>8, 8, EXP(0.893-$C$2+0.76*LN(AB16)-0.034*(LN(AB16))^2)) -> 8 | AD16: =0.0673*(AA16*AB16^2*AC16)^0.976 -> 76.151271 | AE16: =AE15*0.995 -> 36.907829 | AF16: =AD16*AE16*$F$2 -> 1335.0246 | AH16: Njangssang | AI16: 0.215 | AJ16: =$A16*1.18*0.93 -> 13.1688 | AK16: =IF(EXP(0.893-$C$2+0.76*LN(AJ16)-0.034*(LN(AJ16))^2)>20, 20, EXP(0.893-$C$2+0.76*LN(AJ16)-0.034*(LN(AJ16))^2)) -> 11.782653 | AL16: =0.0673*(AI16*AJ16^2*AK16)^0.976 -> 25.548326 | AM16: =AM15*0.995 -> 36.907829 | AN16: =AL16*AM16*$F$2 -> 447.89328 | AP16: Mango | AQ16: 0.675 | AR16: =(10.348*LN(A16)-6.693)*0.93 -> 17.689357 | AS16: =IF(EXP(0.893-$C$2+0.76*LN(AR16)-0.034*(LN(AR16))^2)>15, 15, EXP(0.893-$C$2+0.76*LN(AR16)-0.034*(LN(AR16))^2)) -> 13.960355 | AT16: =0.0673*(AQ16*AR16^2*AS16)^0.976 -> 163.82056 | AU16: =AU15*0.995 -> 36.907829 | AV16: =AT16*AU16*$F$2 -> 2871.974 | AX16: =AX15+Calculations!$C$24 -> 2.489872 | AY16: =AX16*3.67 -> 9.1378302 | AZ16: =SUM(H16,P16,X16,AF16,AN16,AV16)*3.67/1000 -> 36.936629 | BA16: =AZ16*0.33 -> 12.189087 | BB16: =AZ16+BA16 -> 49.125716 | BC16: =BB16+AY16 -> 58.263546 | BH16: =SUM(G16,O16,W16,AE16,AM16,AU16) -> 221.44697 | BI16: =AVERAGE(D16,L16,T16,AB16,AJ16,AR16) -> 13.885026 | BJ16: =SUM(D16*G16,L16*O16,T16*W16,AB16*AE16,AJ16*AM16,AR16*AU16)/BH16 -> 13.885026
A17: 13 | B17: Tali | C17: 0.881 | D17: =A17*0.4*0.93 -> 4.836 | E17: =IF(EXP(0.893-$C$2+0.76*LN(D17)-0.034*(LN(D17))^2)>22.5, 22.5, EXP(0.893-$C$2+0.76*LN(D17)-0.034*(LN(D17))^2)) -> 6.3393214 | F17: =0.0673*(C17*D17^2*E17)^0.976 -> 7.8202842 | G17: =G16*0.995 -> 36.723289 | H17: =F17*G17*$F$2 -> 136.41362 | J17: Corrosolier | K17: 0.36 | L17: =A17*0.5*0.93 -> 6.045 | M17: =IF(EXP(0.893-$C$2+0.76*LN(L17)-0.034*(LN(L17))^2)>7, 7, EXP(0.893-$C$2+0.76*LN(L17)-0.034*(LN(L17))^2)) -> 7 | N17: =0.0673*(K17*L17^2*M17)^0.976 -> 5.5599077 | O17: =O16*0.995 -> 36.723289 | P17: =N17*O17*$F$2 -> 96.984597 | R17: Gmelina | S17: 0.34 | T17: =A17*2.3*0.93 -> 27.807 | U17: =IF(50.453*(1-EXP(-0.047*T17^(0.812)))>30, 30, 50.453*(1-EXP(-0.047*T17^(0.812)))) -> 25.38477 | V17: =0.0673*(S17*T17^2*U17)^0.976 -> 363.57234 | W17: =W16*0.995 -> 36.723289 | X17: =V17*W17*$F$2 -> 6341.9968 | Z17: Moringa | AA17: 0.6 | AB17: =A17*1.5*0.93 -> 18.135 | AC17: =IF(EXP(0.893-$C$2+0.76*LN(AB17)-0.034*(LN(AB17))^2)>8, 8, EXP(0.893-$C$2+0.76*LN(AB17)-0.034*(LN(AB17))^2)) -> 8 | AD17: =0.0673*(AA17*AB17^2*AC17)^0.976 -> 89.029265 | AE17: =AE16*0.995 -> 36.723289 | AF17: =AD17*AE17*$F$2 -> 1552.9876 | AH17: Njangssang | AI17: 0.215 | AJ17: =$A17*1.18*0.93 -> 14.2662 | AK17: =IF(EXP(0.893-$C$2+0.76*LN(AJ17)-0.034*(LN(AJ17))^2)>20, 20, EXP(0.893-$C$2+0.76*LN(AJ17)-0.034*(LN(AJ17))^2)) -> 12.344517 | AL17: =0.0673*(AI17*AJ17^2*AK17)^0.976 -> 31.25817 | AM17: =AM16*0.995 -> 36.723289 | AN17: =AL17*AM17*$F$2 -> 545.25384 | AP17: Mango | AQ17: 0.675 | AR17: =(10.348*LN(A17)-6.693)*0.93 -> 18.459659 | AS17: =IF(EXP(0.893-$C$2+0.76*LN(AR17)-0.034*(LN(AR17))^2)>15, 15, EXP(0.893-$C$2+0.76*LN(AR17)-0.034*(LN(AR17))^2)) -> 14.299538 | AT17: =0.0673*(AQ17*AR17^2*AS17)^0.976 -> 182.25458 | AU17: =AU16*0.995 -> 36.723289 | AV17: =AT17*AU17*$F$2 -> 3179.1692 | AX17: =AX16+Calculations!$C$24 -> 2.6973613 | AY17: =AX17*3.67 -> 9.8993161 | AZ17: =SUM(H17,P17,X17,AF17,AN17,AV17)*3.67/1000 -> 43.499796 | BA17: =AZ17*0.33 -> 14.354933 | BB17: =AZ17+BA17 -> 57.854729 | BC17: =BB17+AY17 -> 67.754045 | BH17: =SUM(G17,O17,W17,AE17,AM17,AU17) -> 220.33974 | BI17: =AVERAGE(D17,L17,T17,AB17,AJ17,AR17) -> 14.92481 | BJ17: =SUM(D17*G17,L17*O17,T17*W17,AB17*AE17,AJ17*AM17,AR17*AU17)/BH17 -> 14.92481
A18: 14 | B18: Tali | C18: 0.881 | D18: =A18*0.4*0.93 -> 5.208 | E18: =IF(EXP(0.893-$C$2+0.76*LN(D18)-0.034*(LN(D18))^2)>22.5, 22.5, EXP(0.893-$C$2+0.76*LN(D18)-0.034*(LN(D18))^2)) -> 6.6523129 | F18: =0.0673*(C18*D18^2*E18)^0.976 -> 9.4727183 | G18: =G17*0.995 -> 36.539673 | H18: =F18*G18*$F$2 -> 164.41176 | J18: Corrosolier | K18: 0.36 | L18: =A18*0.5*0.93 -> 6.51 | M18: =IF(EXP(0.893-$C$2+0.76*LN(L18)-0.034*(LN(L18))^2)>7, 7, EXP(0.893-$C$2+0.76*LN(L18)-0.034*(LN(L18))^2)) -> 7 | N18: =0.0673*(K18*L18^2*M18)^0.976 -> 6.4252804 | O18: =O17*0.995 -> 36.539673 | P18: =N18*O18*$F$2 -> 111.51938 | R18: Gmelina | S18: 0.34 | T18: =A18*2.3*0.93 -> 29.946 | U18: =IF(50.453*(1-EXP(-0.047*T18^(0.812)))>30, 30, 50.453*(1-EXP(-0.047*T18^(0.812)))) -> 26.449016 | V18: =0.0673*(S18*T18^2*U18)^0.976 -> 437.34438 | W18: =W17*0.995 -> 36.539673 | X18: =V18*W18*$F$2 -> 7590.6998 | Z18: Moringa | AA18: 0.6 | AB18: =A18*1.5*0.93 -> 19.53 | AC18: =IF(EXP(0.893-$C$2+0.76*LN(AB18)-0.034*(LN(AB18))^2)>8, 8, EXP(0.893-$C$2+0.76*LN(AB18)-0.034*(LN(AB18))^2)) -> 8 | AD18: =0.0673*(AA18*AB18^2*AC18)^0.976 -> 102.88624 | AE18: =AE17*0.995 -> 36.539673 | AF18: =AD18*AE18*$F$2 -> 1785.729 | AH18: Njangssang | AI18: 0.215 | AJ18: =$A18*1.18*0.93 -> 15.3636 | AK18: =IF(EXP(0.893-$C$2+0.76*LN(AJ18)-0.034*(LN(AJ18))^2)>20, 20, EXP(0.893-$C$2+0.76*LN(AJ18)-0.034*(LN(AJ18))^2)) -> 12.883576 | AL18: =0.0673*(AI18*AJ18^2*AK18)^0.976 -> 37.662129 | AM18: =AM17*0.995 -> 36.539673 | AN18: =AL18*AM18*$F$2 -> 653.67688 | AP18: Mango | AQ18: 0.675 | AR18: =(10.348*LN(A18)-6.693)*0.93 -> 19.172848 | AS18: =IF(EXP(0.893-$C$2+0.76*LN(AR18)-0.034*(LN(AR18))^2)>15, 15, EXP(0.893-$C$2+0.76*LN(AR18)-0.034*(LN(AR18))^2)) -> 14.606585 | AT18: =0.0673*(AQ18*AR18^2*AS18)^0.976 -> 200.36384 | AU18: =AU17*0.995 -> 36.539673 | AV18: =AT18*AU18*$F$2 -> 3477.5839 | AX18: =AX17+Calculations!$C$24 -> 2.9048507 | AY18: =AX18*3.67 -> 10.660802 | AZ18: =SUM(H18,P18,X18,AF18,AN18,AV18)*3.67/1000 -> 50.585888 | BA18: =AZ18*0.33 -> 16.693343 | BB18: =AZ18+BA18 -> 67.279231 | BC18: =BB18+AY18 -> 77.940033 | BH18: =SUM(G18,O18,W18,AE18,AM18,AU18) -> 219.23804 | BI18: =AVERAGE(D18,L18,T18,AB18,AJ18,AR18) -> 15.955075 | BJ18: =SUM(D18*G18,L18*O18,T18*W18,AB18*AE18,AJ18*AM18,AR18*AU18)/BH18 -> 15.955075
A19: 15 | B19: Tali | C19: 0.881 | D19: =A19*0.4*0.93 -> 5.58 | E19: =IF(EXP(0.893-$C$2+0.76*LN(D19)-0.034*(LN(D19))^2)>22.5, 22.5, EXP(0.893-$C$2+0.76*LN(D19)-0.034*(LN(D19))^2)) -> 6.9552407 | F19: =0.0673*(C19*D19^2*E19)^0.976 -> 11.319785 | G19: =G18*0.995 -> 36.356975 | H19: =F19*G19*$F$2 -> 195.48774 | J19: Corrosolier | K19: 0.36 | L19: =A19*0.5*0.93 -> 6.975 | M19: =IF(EXP(0.893-$C$2+0.76*LN(L19)-0.034*(LN(L19))^2)>7, 7, EXP(0.893-$C$2+0.76*LN(L19)-0.034*(LN(L19))^2)) -> 7 | N19: =0.0673*(K19*L19^2*M19)^0.976 -> 7.3515733 | O19: =O18*0.995 -> 36.356975 | P19: =N19*O19*$F$2 -> 126.95846 | R19: Gmelina | S19: 0.34 | T19: =A19*2.3*0.93 -> 32.085 | U19: =IF(50.453*(1-EXP(-0.047*T19^(0.812)))>30, 30, 50.453*(1-EXP(-0.047*T19^(0.812)))) -> 27.454764 | V19: =0.0673*(S19*T19^2*U19)^0.976 -> 518.95651 | W19: =W18*0.995 -> 36.356975 | X19: =V19*W19*$F$2 -> 8962.1521 | Z19: Moringa | AA19: 0.6 | AB19: =A19*1.5*0.93 -> 20.925 | AC19: =IF(EXP(0.893-$C$2+0.76*LN(AB19)-0.034*(LN(AB19))^2)>8, 8, EXP(0.893-$C$2+0.76*LN(AB19)-0.034*(LN(AB19))^2)) -> 8 | AD19: =0.0673*(AA19*AB19^2*AC19)^0.976 -> 117.71871 | AE19: =AE18*0.995 -> 36.356975 | AF19: =AD19*AE19*$F$2 -> 2032.9507 | AH19: Njangssang | AI19: 0.215 | AJ19: =$A19*1.18*0.93 -> 16.461 | AK19: =IF(EXP(0.893-$C$2+0.76*LN(AJ19)-0.034*(LN(AJ19))^2)>20, 20, EXP(0.893-$C$2+0.76*LN(AJ19)-0.034*(LN(AJ19))^2)) -> 13.402065 | AL19: =0.0673*(AI19*AJ19^2*AK19)^0.976 -> 44.783408 | AM19: =AM18*0.995 -> 36.356975 | AN19: =AL19*AM19*$F$2 -> 773.38988 | AP19: Mango | AQ19: 0.675 | AR19: =(10.348*LN(A19)-6.693)*0.93 -> 19.83681 | AS19: =IF(EXP(0.893-$C$2+0.76*LN(AR19)-0.034*(LN(AR19))^2)>15, 15, EXP(0.893-$C$2+0.76*LN(AR19)-0.034*(LN(AR19))^2)) -> 14.886716 | AT19: =0.0673*(AQ19*AR19^2*AS19)^0.976 -> 218.13849 | AU19: =AU18*0.995 -> 36.356975 | AV19: =AT19*AU19*$F$2 -> 3767.1564 | AX19: =AX18+Calculations!$C$24 -> 3.11234 | AY19: =AX19*3.67 -> 11.422288 | AZ19: =SUM(H19,P19,X19,AF19,AN19,AV19)*3.67/1000 -> 58.19921 | BA19: =AZ19*0.33 -> 19.205739 | BB19: =AZ19+BA19 -> 77.404949 | BC19: =BB19+AY19 -> 88.827237 | BH19: =SUM(G19,O19,W19,AE19,AM19,AU19) -> 218.14185 | BI19: =AVERAGE(D19,L19,T19,AB19,AJ19,AR19) -> 16.977135 | BJ19: =SUM(D19*G19,L19*O19,T19*W19,AB19*AE19,AJ19*AM19,AR19*AU19)/BH19 -> 16.977135
A20: 16 | B20: Tali | C20: 0.881 | D20: =A20*0.4*0.93 -> 5.952 | E20: =IF(EXP(0.893-$C$2+0.76*LN(D20)-0.034*(LN(D20))^2)>22.5, 22.5, EXP(0.893-$C$2+0.76*LN(D20)-0.034*(LN(D20))^2)) -> 7.2489615 | F20: =0.0673*(C20*D20^2*E20)^0.976 -> 13.368502 | G20: =G19*0.995 -> 36.17519 | H20: =F20*G20*$F$2 -> 229.71385 | J20: Corrosolier | K20: 0.36 | L20: =A20*0.5*0.93 -> 7.44 | M20: =IF(EXP(0.893-$C$2+0.76*LN(L20)-0.034*(LN(L20))^2)>7, 7, EXP(0.893-$C$2+0.76*LN(L20)-0.034*(LN(L20))^2)) -> 7 | N20: =0.0673*(K20*L20^2*M20)^0.976 -> 8.338585 | O20: =O19*0.995 -> 36.17519 | P20: =N20*O20*$F$2 -> 143.2837 | R20: Gmelina | S20: 0.34 | T20: =A20*2.3*0.93 -> 34.224 | U20: =IF(50.453*(1-EXP(-0.047*T20^(0.812)))>30, 30, 50.453*(1-EXP(-0.047*T20^(0.812)))) -> 28.406612 | V20: =0.0673*(S20*T20^2*U20)^0.976 -> 608.54055 | W20: =W19*0.995 -> 36.17519 | X20: =V20*W20*$F$2 -> 10456.683 | Z20: Moringa | AA20: 0.6 | AB20: =A20*1.5*0.93 -> 22.32 | AC20: =IF(EXP(0.893-$C$2+0.76*LN(AB20)-0.034*(LN(AB20))^2)>8, 8, EXP(0.893-$C$2+0.76*LN(AB20)-0.034*(LN(AB20))^2)) -> 8 | AD20: =0.0673*(AA20*AB20^2*AC20)^0.976 -> 133.52346 | AE20: =AE19*0.995 -> 36.17519 | AF20: =AD20*AE20*$F$2 -> 2294.3623 | AH20: Njangssang | AI20: 0.215 | AJ20: =$A20*1.18*0.93 -> 17.5584 | AK20: =IF(EXP(0.893-$C$2+0.76*LN(AJ20)-0.034*(LN(AJ20))^2)>20, 20, EXP(0.893-$C$2+0.76*LN(AJ20)-0.034*(LN(AJ20))^2)) -> 13.901879 | AL20: =0.0673*(AI20*AJ20^2*AK20)^0.976 -> 52.644054 | AM20: =AM19*0.995 -> 36.17519 | AN20: =AL20*AM20*$F$2 -> 904.59411 | AP20: Mango | AQ20: 0.675 | AR20: =(10.348*LN(A20)-6.693)*0.93 -> 20.457906 | AS20: =IF(EXP(0.893-$C$2+0.76*LN(AR20)-0.034*(LN(AR20))^2)>15, 15, EXP(0.893-$C$2+0.76*LN(AR20)-0.034*(LN(AR20))^2)) -> 15 | AT20: =0.0673*(AQ20*AR20^2*AS20)^0.976 -> 233.38967 | AU20: =AU19*0.995 -> 36.17519 | AV20: =AT20*AU20*$F$2 -> 4010.3849 | AX20: =AX19+Calculations!$C$24 -> 3.3198293 | AY20: =AX20*3.67 -> 12.183774 | AZ20: =SUM(H20,P20,X20,AF20,AN20,AV20)*3.67/1000 -> 66.203211 | BA20: =AZ20*0.33 -> 21.84706 | BB20: =AZ20+BA20 -> 88.05027 | BC20: =BB20+AY20 -> 100.23404 | BH20: =SUM(G20,O20,W20,AE20,AM20,AU20) -> 217.05114 | BI20: =AVERAGE(D20,L20,T20,AB20,AJ20,AR20) -> 17.992051 | BJ20: =SUM(D20*G20,L20*O20,T20*W20,AB20*AE20,AJ20*AM20,AR20*AU20)/BH20 -> 17.992051
A21: 17 | B21: Tali | C21: 0.881 | D21: =A21*0.4*0.93 -> 6.324 | E21: =IF(EXP(0.893-$C$2+0.76*LN(D21)-0.034*(LN(D21))^2)>22.5, 22.5, EXP(0.893-$C$2+0.76*LN(D21)-0.034*(LN(D21))^2)) -> 7.5342147 | F21: =0.0673*(C21*D21^2*E21)^0.976 -> 15.625601 | G21: =G20*0.995 -> 35.994314 | H21: =F21*G21*$F$2 -> 267.15558 | J21: Corrosolier | K21: 0.36 | L21: =A21*0.5*0.93 -> 7.905 | M21: =IF(EXP(0.893-$C$2+0.76*LN(L21)-0.034*(LN(L21))^2)>7, 7, EXP(0.893-$C$2+0.76*LN(L21)-0.034*(LN(L21))^2)) -> 7 | N21: =0.0673*(K21*L21^2*M21)^0.976 -> 9.3861275 | O21: =O20*0.995 -> 35.994314 | P21: =N21*O21*$F$2 -> 160.47743 | R21: Gmelina | S21: 0.34 | T21: =A21*2.3*0.93 -> 36.363 | U21: =IF(50.453*(1-EXP(-0.047*T21^(0.812)))>30, 30, 50.453*(1-EXP(-0.047*T21^(0.812)))) -> 29.308621 | V21: =0.0673*(S21*T21^2*U21)^0.976 -> 706.20978 | W21: =W20*0.995 -> 35.994314 | X21: =V21*W21*$F$2 -> 12074.28 | Z21: Moringa | AA21: 0.6 | AB21: =A21*1.5*0.93 -> 23.715 | AC21: =IF(EXP(0.893-$C$2+0.76*LN(AB21)-0.034*(LN(AB21))^2)>8, 8, EXP(0.893-$C$2+0.76*LN(AB21)-0.034*(LN(AB21))^2)) -> 8 | AD21: =0.0673*(AA21*AB21^2*AC21)^0.976 -> 150.29747 | AE21: =AE20*0.995 -> 35.994314 | AF21: =AD21*AE21*$F$2 -> 2569.6807 | AH21: Njangssang | AI21: 0.215 | AJ21: =$A21*1.18*0.93 -> 18.6558 | AK21: =IF(EXP(0.893-$C$2+0.76*LN(AJ21)-0.034*(LN(AJ21))^2)>20, 20, EXP(0.893-$C$2+0.76*LN(AJ21)-0.034*(LN(AJ21))^2)) -> 14.384635 | AL21: =0.0673*(AI21*AJ21^2*AK21)^0.976 -> 61.265076 | AM21: =AM20*0.995 -> 35.994314 | AN21: =AL21*AM21*$F$2 -> 1047.4673 | AP21: Mango | AQ21: 0.675 | AR21: =(10.348*LN(A21)-6.693)*0.93 -> 21.041335 | AS21: =IF(EXP(0.893-$C$2+0.76*LN(AR21)-0.034*(LN(AR21))^2)>15, 15, EXP(0.893-$C$2+0.76*LN(AR21)-0.034*(LN(AR21))^2)) -> 15 | AT21: =0.0673*(AQ21*AR21^2*AS21)^0.976 -> 246.55834 | AU21: =AU20*0.995 -> 35.994314 | AV21: =AT21*AU21*$F$2 -> 4215.4816 | AX21: =AX20+Calculations!$C$24 -> 3.5273187 | AY21: =AX21*3.67 -> 12.94526 | AZ21: =SUM(H21,P21,X21,AF21,AN21,AV21)*3.67/1000 -> 74.627771 | BA21: =AZ21*0.33 -> 24.627164 | BB21: =AZ21+BA21 -> 99.254935 | BC21: =BB21+AY21 -> 112.20019 | BH21: =SUM(G21,O21,W21,AE21,AM21,AU21) -> 215.96588 | BI21: =AVERAGE(D21,L21,T21,AB21,AJ21,AR21) -> 19.000689 | BJ21: =SUM(D21*G21,L21*O21,T21*W21,AB21*AE21,AJ21*AM21,AR21*AU21)/BH21 -> 19.000689
A22: 18 | B22: Tali | C22: 0.881 | D22: =A22*0.4*0.93 -> 6.696 | E22: =IF(EXP(0.893-$C$2+0.76*LN(D22)-0.034*(LN(D22))^2)>22.5, 22.5, EXP(0.893-$C$2+0.76*LN(D22)-0.034*(LN(D22))^2)) -> 7.8116432 | F22: =0.0673*(C22*D22^2*E22)^0.976 -> 18.097554 | G22: =G21*0.995 -> 35.814342 | H22: =F22*G22*$F$2 -> 307.8722 | J22: Corrosolier | K22: 0.36 | L22: =A22*0.5*0.93 -> 8.37 | M22: =IF(EXP(0.893-$C$2+0.76*LN(L22)-0.034*(LN(L22))^2)>7, 7, EXP(0.893-$C$2+0.76*LN(L22)-0.034*(LN(L22))^2)) -> 7 | N22: =0.0673*(K22*L22^2*M22)^0.976 -> 10.494025 | O22: =O21*0.995 -> 35.814342 | P22: =N22*O22*$F$2 -> 178.52238 | R22: Gmelina | S22: 0.34 | T22: =A22*2.3*0.93 -> 38.502 | U22: =IF(50.453*(1-EXP(-0.047*T22^(0.812)))>30, 30, 50.453*(1-EXP(-0.047*T22^(0.812)))) -> 30 | V22: =0.0673*(S22*T22^2*U22)^0.976 -> 807.74116 | W22: =W21*0.995 -> 35.814342 | X22: =V22*W22*$F$2 -> 13741.141 | Z22: Moringa | AA22: 0.6 | AB22: =A22*1.5*0.93 -> 25.11 | AC22: =IF(EXP(0.893-$C$2+0.76*LN(AB22)-0.034*(LN(AB22))^2)>8, 8, EXP(0.893-$C$2+0.76*LN(AB22)-0.034*(LN(AB22))^2)) -> 8 | AD22: =0.0673*(AA22*AB22^2*AC22)^0.976 -> 168.03792 | AE22: =AE21*0.995 -> 35.814342 | AF22: =AD22*AE22*$F$2 -> 2858.6296 | AH22: Njangssang | AI22: 0.215 | AJ22: =$A22*1.18*0.93 -> 19.7532 | AK22: =IF(EXP(0.893-$C$2+0.76*LN(AJ22)-0.034*(LN(AJ22))^2)>20, 20, EXP(0.893-$C$2+0.76*LN(AJ22)-0.034*(LN(AJ22))^2)) -> 14.851734 | AL22: =0.0673*(AI22*AJ22^2*AK22)^0.976 -> 70.666543 | AM22: =AM21*0.995 -> 35.814342 | AN22: =AL22*AM22*$F$2 -> 1202.166 | AP22: Mango | AQ22: 0.675 | AR22: =(10.348*LN(A22)-6.693)*0.93 -> 21.591407 | AS22: =IF(EXP(0.893-$C$2+0.76*LN(AR22)-0.034*(LN(AR22))^2)>15, 15, EXP(0.893-$C$2+0.76*LN(AR22)-0.034*(LN(AR22))^2)) -> 15 | AT22: =0.0673*(AQ22*AR22^2*AS22)^0.976 -> 259.29672 | AU22: =AU21*0.995 -> 35.814342 | AV22: =AT22*AU22*$F$2 -> 4411.1073 | AX22: =AX21+Calculations!$C$24 -> 3.734808 | AY22: =AX22*3.67 -> 13.706745 | AZ22: =SUM(H22,P22,X22,AF22,AN22,AV22)*3.67/1000 -> 83.30694 | BA22: =AZ22*0.33 -> 27.49129 | BB22: =AZ22+BA22 -> 110.79823 | BC22: =BB22+AY22 -> 124.50498 | BH22: =SUM(G22,O22,W22,AE22,AM22,AU22) -> 214.88605 | BI22: =AVERAGE(D22,L22,T22,AB22,AJ22,AR22) -> 20.003768 | BJ22: =SUM(D22*G22,L22*O22,T22*W22,AB22*AE22,AJ22*AM22,AR22*AU22)/BH22 -> 20.003768
A23: 19 | B23: Tali | C23: 0.881 | D23: =A23*0.4*0.93 -> 7.068 | E23: =IF(EXP(0.893-$C$2+0.76*LN(D23)-0.034*(LN(D23))^2)>22.5, 22.5, EXP(0.893-$C$2+0.76*LN(D23)-0.034*(LN(D23))^2)) -> 8.0818112 | F23: =0.0673*(C23*D23^2*E23)^0.976 -> 20.790594 | G23: =G22*0.995 -> 35.635271 | H23: =F23*G23*$F$2 -> 351.91725 | J23: Corrosolier | K23: 0.36 | L23: =A23*0.5*0.93 -> 8.835 | M23: =IF(EXP(0.893-$C$2+0.76*LN(L23)-0.034*(LN(L23))^2)>7, 7, EXP(0.893-$C$2+0.76*LN(L23)-0.034*(LN(L23))^2)) -> 7 | N23: =0.0673*(K23*L23^2*M23)^0.976 -> 11.662111 | O23: =O22*0.995 -> 35.635271 | P23: =N23*O23*$F$2 -> 197.40168 | R23: Gmelina | S23: 0.34 | T23: =A23*2.3*0.93 -> 40.641 | U23: =IF(50.453*(1-EXP(-0.047*T23^(0.812)))>30, 30, 50.453*(1-EXP(-0.047*T23^(0.812)))) -> 30 | V23: =0.0673*(S23*T23^2*U23)^0.976 -> 897.65057 | W23: =W22*0.995 -> 35.635271 | X23: =V23*W23*$F$2 -> 15194.31 | Z23: Moringa | AA23: 0.6 | AB23: =A23*1.5*0.93 -> 26.505 | AC23: =IF(EXP(0.893-$C$2+0.76*LN(AB23)-0.034*(LN(AB23))^2)>8, 8, EXP(0.893-$C$2+0.76*LN(AB23)-0.034*(LN(AB23))^2)) -> 8 | AD23: =0.0673*(AA23*AB23^2*AC23)^0.976 -> 186.74217 | AE23: =AE22*0.995 -> 35.635271 | AF23: =AD23*AE23*$F$2 -> 3160.9386 | AH23: Njangssang | AI23: 0.215 | AJ23: =$A23*1.18*0.93 -> 20.8506 | AK23: =IF(EXP(0.893-$C$2+0.76*LN(AJ23)-0.034*(LN(AJ23))^2)>20, 20, EXP(0.893-$C$2+0.76*LN(AJ23)-0.034*(LN(AJ23))^2)) -> 15.304394 | AL23: =0.0673*(AI23*AJ23^2*AK23)^0.976 -> 80.867679 | AM23: =AM22*0.995 -> 35.635271 | AN23: =AL23*AM23*$F$2 -> 1368.8273 | AP23: Mango | AQ23: 0.675 | AR23: =(10.348*LN(A23)-6.693)*0.93 -> 22.111731 | AS23: =IF(EXP(0.893-$C$2+0.76*LN(AR23)-0.034*(LN(AR23))^2)>15, 15, EXP(0.893-$C$2+0.76*LN(AR23)-0.034*(LN(AR23))^2)) -> 15 | AT23: =0.0673*(AQ23*AR23^2*AS23)^0.976 -> 271.63404 | AU23: =AU22*0.995 -> 35.635271 | AV23: =AT23*AU23*$F$2 -> 4597.8825 | AX23: =AX22+Calculations!$C$24 -> 3.9422973 | AY23: =AX23*3.67 -> 14.468231 | AZ23: =SUM(H23,P23,X23,AF23,AN23,AV23)*3.67/1000 -> 91.277588 | BA23: =AZ23*0.33 -> 30.121604 | BB23: =AZ23+BA23 -> 121.39919 | BC23: =BB23+AY23 -> 135.86742 | BH23: =SUM(G23,O23,W23,AE23,AM23,AU23) -> 213.81162 | BI23: =AVERAGE(D23,L23,T23,AB23,AJ23,AR23) -> 21.001888 | BJ23: =SUM(D23*G23,L23*O23,T23*W23,AB23*AE23,AJ23*AM23,AR23*AU23)/BH23 -> 21.001888
A24: 20 | B24: Tali | C24: 0.881 | D24: =A24*0.4*0.93 -> 7.44 | E24: =IF(EXP(0.893-$C$2+0.76*LN(D24)-0.034*(LN(D24))^2)>22.5, 22.5, EXP(0.893-$C$2+0.76*LN(D24)-0.034*(LN(D24))^2)) -> 8.3452165 | F24: =0.0673*(C24*D24^2*E24)^0.976 -> 23.710736 | G24: =G23*0.995 -> 35.457094 | H24: =F24*G24*$F$2 -> 399.33905 | J24: Corrosolier | K24: 0.36 | L24: =A24*0.5*0.93 -> 9.3 | M24: =IF(EXP(0.893-$C$2+0.76*LN(L24)-0.034*(LN(L24))^2)>7, 7, EXP(0.893-$C$2+0.76*LN(L24)-0.034*(LN(L24))^2)) -> 7 | N24: =0.0673*(K24*L24^2*M24)^0.976 -> 12.890231 | O24: =O23*0.995 -> 35.457094 | P24: =N24*O24*$F$2 -> 217.09882 | R24: Gmelina | S24: 0.34 | T24: =A24*2.3*0.93 -> 42.78 | U24: =IF(50.453*(1-EXP(-0.047*T24^(0.812)))>30, 30, 50.453*(1-EXP(-0.047*T24^(0.812)))) -> 30 | V24: =0.0673*(S24*T24^2*U24)^0.976 -> 992.18084 | W24: =W23*0.995 -> 35.457094 | X24: =V24*W24*$F$2 -> 16710.428 | Z24: Moringa | AA24: 0.6 | AB24: =A24*1.5*0.93 -> 27.9 | AC24: =IF(EXP(0.893-$C$2+0.76*LN(AB24)-0.034*(LN(AB24))^2)>8, 8, EXP(0.893-$C$2+0.76*LN(AB24)-0.034*(LN(AB24))^2)) -> 8 | AD24: =0.0673*(AA24*AB24^2*AC24)^0.976 -> 206.40771 | AE24: =AE23*0.995 -> 35.457094 | AF24: =AD24*AE24*$F$2 -> 3476.3434 | AH24: Njangssang | AI24: 0.215 | AJ24: =$A24*1.18*0.93 -> 21.948 | AK24: =IF(EXP(0.893-$C$2+0.76*LN(AJ24)-0.034*(LN(AJ24))^2)>20, 20, EXP(0.893-$C$2+0.76*LN(AJ24)-0.034*(LN(AJ24))^2)) -> 15.743683 | AL24: =0.0673*(AI24*AJ24^2*AK24)^0.976 -> 91.886928 | AM24: =AM23*0.995 -> 35.457094 | AN24: =AL24*AM24*$F$2 -> 1547.5706 | AP24: Mango | AQ24: 0.675 | AR24: =(10.348*LN(A24)-6.693)*0.93 -> 22.605359 | AS24: =IF(EXP(0.893-$C$2+0.76*LN(AR24)-0.034*(LN(AR24))^2)>15, 15, EXP(0.893-$C$2+0.76*LN(AR24)-0.034*(LN(AR24))^2)) -> 15 | AT24: =0.0673*(AQ24*AR24^2*AS24)^0.976 -> 283.59677 | AU24: =AU23*0.995 -> 35.457094 | AV24: =AT24*AU24*$F$2 -> 4776.3708 | AX24: =AX23+Calculations!$C$24 -> 4.1497867 | AY24: =AX24*3.67 -> 15.229717 | AZ24: =SUM(H24,P24,X24,AF24,AN24,AV24)*3.67/1000 -> 99.556645 | BA24: =AZ24*0.33 -> 32.853693 | BB24: =AZ24+BA24 -> 132.41034 | BC24: =BB24+AY24 -> 147.64005 | BH24: =SUM(G24,O24,W24,AE24,AM24,AU24) -> 212.74257 | BI24: =AVERAGE(D24,L24,T24,AB24,AJ24,AR24) -> 21.99556 | BJ24: =SUM(D24*G24,L24*O24,T24*W24,AB24*AE24,AJ24*AM24,AR24*AU24)/BH24 -> 21.99556
A25: 21 | B25: Tali | C25: 0.881 | D25: =A25*0.4*0.93 -> 7.812 | E25: =IF(EXP(0.893-$C$2+0.76*LN(D25)-0.034*(LN(D25))^2)>22.5, 22.5, EXP(0.893-$C$2+0.76*LN(D25)-0.034*(LN(D25))^2)) -> 8.6023019 | F25: =0.0673*(C25*D25^2*E25)^0.976 -> 26.863795 | G25: =G24*0.995 -> 35.279809 | H25: =F25*G25*$F$2 -> 450.18103 | J25: Corrosolier | K25: 0.36 | L25: =A25*0.5*0.93 -> 9.765 | M25: =IF(EXP(0.893-$C$2+0.76*LN(L25)-0.034*(LN(L25))^2)>7, 7, EXP(0.893-$C$2+0.76*LN(L25)-0.034*(LN(L25))^2)) -> 7 | N25: =0.0673*(K25*L25^2*M25)^0.976 -> 14.178237 | O25: =O24*0.995 -> 35.279809 | P25: =N25*O25*$F$2 -> 237.5976 | R25: Gmelina | S25: 0.34 | T25: =A25*2.3*0.93 -> 44.919 | U25: =IF(50.453*(1-EXP(-0.047*T25^(0.812)))>30, 30, 50.453*(1-EXP(-0.047*T25^(0.812)))) -> 30 | V25: =0.0673*(S25*T25^2*U25)^0.976 -> 1091.3206 | W25: =W24*0.995 -> 35.279809 | X25: =V25*W25*$F$2 -> 18288.251 | Z25: Moringa | AA25: 0.6 | AB25: =A25*1.5*0.93 -> 29.295 | AC25: =IF(EXP(0.893-$C$2+0.76*LN(AB25)-0.034*(LN(AB25))^2)>8, 8, EXP(0.893-$C$2+0.76*LN(AB25)-0.034*(LN(AB25))^2)) -> 8 | AD25: =0.0673*(AA25*AB25^2*AC25)^0.976 -> 227.03218 | AE25: =AE24*0.995 -> 35.279809 | AF25: =AD25*AE25*$F$2 -> 3804.5847 | AH25: Njangssang | AI25: 0.215 | AJ25: =$A25*1.18*0.93 -> 23.0454 | AK25: =IF(EXP(0.893-$C$2+0.76*LN(AJ25)-0.034*(LN(AJ25))^2)>20, 20, EXP(0.893-$C$2+0.76*LN(AJ25)-0.034*(LN(AJ25))^2)) -> 16.170545 | AL25: =0.0673*(AI25*AJ25^2*AK25)^0.976 -> 103.74203 | AM25: =AM24*0.995 -> 35.279809 | AN25: =AL25*AM25*$F$2 -> 1738.4995 | AP25: Mango | AQ25: 0.675 | AR25: =(10.348*LN(A25)-6.693)*0.93 -> 23.074898 | AS25: =IF(EXP(0.893-$C$2+0.76*LN(AR25)-0.034*(LN(AR25))^2)>15, 15, EXP(0.893-$C$2+0.76*LN(AR25)-0.034*(LN(AR25))^2)) -> 15 | AT25: =0.0673*(AQ25*AR25^2*AS25)^0.976 -> 295.20892 | AU25: =AU24*0.995 -> 35.279809 | AV25: =AT25*AU25*$F$2 -> 4947.0843 | AX25: =AX24+Calculations!$C$24 -> 4.357276 | AY25: =AX25*3.67 -> 15.991203 | AZ25: =SUM(H25,P25,X25,AF25,AN25,AV25)*3.67/1000 -> 108.14095 | BA25: =AZ25*0.33 -> 35.686513 | BB25: =AZ25+BA25 -> 143.82746 | BC25: =BB25+AY25 -> 159.81866 | BH25: =SUM(G25,O25,W25,AE25,AM25,AU25) -> 211.67885 | BI25: =AVERAGE(D25,L25,T25,AB25,AJ25,AR25) -> 22.985216 | BJ25: =SUM(D25*G25,L25*O25,T25*W25,AB25*AE25,AJ25*AM25,AR25*AU25)/BH25 -> 22.985216
A26: 22 | B26: Tali | C26: 0.881 | D26: =A26*0.4*0.93 -> 8.184 | E26: =IF(EXP(0.893-$C$2+0.76*LN(D26)-0.034*(LN(D26))^2)>22.5, 22.5, EXP(0.893-$C$2+0.76*LN(D26)-0.034*(LN(D26))^2)) -> 8.8534629 | F26: =0.0673*(C26*D26^2*E26)^0.976 -> 30.2554 | G26: =G25*0.995 -> 35.10341 | H26: =F26*G26*$F$2 -> 504.48216 | J26: Corrosolier | K26: 0.36 | L26: =A26*0.5*0.93 -> 10.23 | M26: =IF(EXP(0.893-$C$2+0.76*LN(L26)-0.034*(LN(L26))^2)>7, 7, EXP(0.893-$C$2+0.76*LN(L26)-0.034*(LN(L26))^2)) -> 7 | N26: =0.0673*(K26*L26^2*M26)^0.976 -> 15.525987 | O26: =O25*0.995 -> 35.10341 | P26: =N26*O26*$F$2 -> 258.88217 | R26: Gmelina | S26: 0.34 | T26: =A26*2.3*0.93 -> 47.058 | U26: =IF(50.453*(1-EXP(-0.047*T26^(0.812)))>30, 30, 50.453*(1-EXP(-0.047*T26^(0.812)))) -> 30 | V26: =0.0673*(S26*T26^2*U26)^0.976 -> 1195.059 | W26: =W25*0.995 -> 35.10341 | X26: =V26*W26*$F$2 -> 19926.557 | Z26: Moringa | AA26: 0.6 | AB26: =A26*1.5*0.93 -> 30.69 | AC26: =IF(EXP(0.893-$C$2+0.76*LN(AB26)-0.034*(LN(AB26))^2)>8, 8, EXP(0.893-$C$2+0.76*LN(AB26)-0.034*(LN(AB26))^2)) -> 8 | AD26: =0.0673*(AA26*AB26^2*AC26)^0.976 -> 248.61335 | AE26: =AE25*0.995 -> 35.10341 | AF26: =AD26*AE26*$F$2 -> 4145.4087 | AH26: Njangssang | AI26: 0.215 | AJ26: =$A26*1.18*0.93 -> 24.1428 | AK26: =IF(EXP(0.893-$C$2+0.76*LN(AJ26)-0.034*(LN(AJ26))^2)>20, 20, EXP(0.893-$C$2+0.76*LN(AJ26)-0.034*(LN(AJ26))^2)) -> 16.58582 | AL26: =0.0673*(AI26*AJ26^2*AK26)^0.976 -> 116.45006 | AM26: =AM25*0.995 -> 35.10341 | AN26: =AL26*AM26*$F$2 -> 1941.7022 | AP26: Mango | AQ26: 0.675 | AR26: =(10.348*LN(A26)-6.693)*0.93 -> 23.52259 | AS26: =IF(EXP(0.893-$C$2+0.76*LN(AR26)-0.034*(LN(AR26))^2)>15, 15, EXP(0.893-$C$2+0.76*LN(AR26)-0.034*(LN(AR26))^2)) -> 15 | AT26: =0.0673*(AQ26*AR26^2*AS26)^0.976 -> 306.49232 | AU26: =AU25*0.995 -> 35.10341 | AV26: =AT26*AU26*$F$2 -> 5110.4896 | AX26: =AX25+Calculations!$C$24 -> 4.5647653 | AY26: =AX26*3.67 -> 16.752689 | AZ26: =SUM(H26,P26,X26,AF26,AN26,AV26)*3.67/1000 -> 117.02721 | BA26: =AZ26*0.33 -> 38.618978 | BB26: =AZ26+BA26 -> 155.64618 | BC26: =BB26+AY26 -> 172.39887 | BH26: =SUM(G26,O26,W26,AE26,AM26,AU26) -> 210.62046 | BI26: =AVERAGE(D26,L26,T26,AB26,AJ26,AR26) -> 23.971232 | BJ26: =SUM(D26*G26,L26*O26,T26*W26,AB26*AE26,AJ26*AM26,AR26*AU26)/BH26 -> 23.971232
... A34: 30 | B34: Tali | C34: 0.881 | D34: =A34*0.4*0.93 -> 11.16 | E34: =IF(EXP(0.893-$C$2+0.76*LN(D34)-0.034*(LN(D34))^2)>22.5, 22.5, EXP(0.893-$C$2+0.76*LN(D34)-0.034*(LN(D34))^2)) -> 10.685841 | F34: =0.0673*(C34*D34^2*E34)^0.976 -> 66.599255 | G34: =G33*0.995 -> 33.723601 | H34: =F34*G34*$F$2 -> 1066.8342 | J34: Corrosolier | K34: 0.36 | L34: =A34*0.5*0.93 -> 13.95 | M34: =IF(EXP(0.893-$C$2+0.76*LN(L34)-0.034*(LN(L34))^2)>7, 7, EXP(0.893-$C$2+0.76*LN(L34)-0.034*(LN(L34))^2)) -> 7 | N34: =0.0673*(K34*L34^2*M34)^0.976 -> 28.444011 | O34: =O33*0.995 -> 33.723601 | P34: =N34*O34*$F$2 -> 455.63639 | R34: Gmelina | S34: 0.34 | T34: =A34*2.3*0.93 -> 64.17 | U34: =IF(50.453*(1-EXP(-0.047*T34^(0.812)))>30, 30, 50.453*(1-EXP(-0.047*T34^(0.812)))) -> 30 | V34: =0.0673*(S34*T34^2*U34)^0.976 -> 2189.3791 | W34: =W33*0.995 -> 33.723601 | X34: =V34*W34*$F$2 -> 35071.031 | Z34: Moringa | AA34: 0.6 | AB34: =A34*1.5*0.93 -> 41.85 | AC34: =IF(EXP(0.893-$C$2+0.76*LN(AB34)-0.034*(LN(AB34))^2)>8, 8, EXP(0.893-$C$2+0.76*LN(AB34)-0.034*(LN(AB34))^2)) -> 8 | AD34: =0.0673*(AA34*AB34^2*AC34)^0.976 -> 455.4661 | AE34: =AE33*0.995 -> 33.723601 | AF34: =AD34*AE34*$F$2 -> 7295.9796 | AH34: Njangssang | AI34: 0.215 | AJ34: =$A34*1.18*0.93 -> 32.922 | AK34: =IF(EXP(0.893-$C$2+0.76*LN(AJ34)-0.034*(LN(AJ34))^2)>20, 20, EXP(0.893-$C$2+0.76*LN(AJ34)-0.034*(LN(AJ34))^2)) -> 19.566975 | AL34: =0.0673*(AI34*AJ34^2*AK34)^0.976 -> 250.68896 | AM34: =AM33*0.995 -> 33.723601 | AN34: =AL34*AM34*$F$2 -> 4015.7139 | AP34: Mango | AQ34: 0.675 | AR34: =(10.348*LN(A34)-6.693)*0.93 -> 26.507409 | AS34: =IF(EXP(0.893-$C$2+0.76*LN(AR34)-0.034*(LN(AR34))^2)>15, 15, EXP(0.893-$C$2+0.76*LN(AR34)-0.034*(LN(AR34))^2)) -> 15 | AT34: =0.0673*(AQ34*AR34^2*AS34)^0.976 -> 386.98448 | AU34: =AU33*0.995 -> 33.723601 | AV34: =AT34*AU34*$F$2 -> 6198.9925 | AX34: =AX33+Calculations!$C$24 -> 6.22468 | AY34: =AX34*3.67 -> 22.844576 | AZ34: =SUM(H34,P34,X34,AF34,AN34,AV34)*3.67/1000 -> 198.56237 | BA34: =AZ34*0.33 -> 65.525581 | BB34: =AZ34+BA34 -> 264.08795 | BC34: =BB34+AY34 -> 286.93252 | BH34: =SUM(G34,O34,W34,AE34,AM34,AU34) -> 202.34161 | BI34: =AVERAGE(D34,L34,T34,AB34,AJ34,AR34) -> 31.759902 | BJ34: =SUM(D34*G34,L34*O34,T34*W34,AB34*AE34,AJ34*AM34,AR34*AU34)/BH34 -> 31.759902

Sheet SmallCommunalGarden
B2: E | C2: 0.1595973 | E2: conversion factor | F2: 0.475 | H2: literature data | I2: avg measured DBH
A3: year | B3: tree species | C3: Density (g/cm3) | D3: DBH (cm) | E3: Height (m) | F3: AGB (kg) | G3: Density (#/ha) | H3: AGB (kgC/ha) | J3: tree species | K3: Density (g/cm3) | L3: DBH (cm) | M3: Height (m) | N3: AGB | O3: Density (#/ha) | P3: AGB (kgC/ha) | R3: tree species | S3: Density (g/cm3) | T3: DBH (cm) | U3: Height (m) | V3: AGB | W3: Density (#/ha) | X3: AGB (kgC/ha) | Z3: tree species | AA3: Density (g/cm3) | AB3: DBH (cm) | AC3: Height (m) | AD3: AGB | AE3: Density (#/ha) | AF3: AGB (kgC/ha) | AH3: tree species | AI3: Density (g/cm3) | AJ3: DBH (cm) | AK3: Height (m) | AL3: AGB | AM3: Density (#/ha) | AN3: AGB (kgC/ha) | AP3: tree species | AQ3: Density (g/cm3) | AR3: DBH (cm) | AS3: Height (m) | AT3: AGB | AU3: Density (#/ha) | AV3: AGB (kgC/ha) | AX3: SOC (tC/ha) | AY3: SOC (tCO2/ha) | AZ3: TOTAL AGB (tCO2/ha) | BA3: TOTAL BGB (tCO2/ha) | BB3: TOTAL woody biomass (tCO2/ha) | BC3: Total Stock (tCO2/ha) | BE3: # ha in Bankim | BG3: Total trees/ha | BH3: total trees/ha over the years | BI3: average diameter | BJ3: av diam weighed for trees
A4: 0 | B4: Tali | C4: 0.881 | D4: =A4*0.7*0.93 -> 0 | E4: 0 | F4: =0.0673*(C4*D4^2*E4)^0.976 -> 0 | G4: 65 | H4: =F4*G4*$F$2 -> 0 | J4: Corrosolier | K4: 0.36 | L4: =A4*0.5*0.93 -> 0 | M4: =IF(50.453*(1-EXP(-0.047*L4^(0.812)))>10, 10, 50.453*(1-EXP(-0.047*L4^(0.812)))) -> 0 | N4: =0.0673*(K4*L4^2*M4)^0.976 -> 0 | O4: 65 | P4: =N4*O4*$F$2 -> 0 | R4: Gmelina | S4: 0.34 | T4: =A4*2.3*0.93 -> 0 | U4: =IF(50.453*(1-EXP(-0.047*T4^(0.812)))>35, 35, 50.453*(1-EXP(-0.047*T4^(0.812)))) -> 0 | V4: =0.0673*(S4*T4^2*U4)^0.976 -> 0 | W4: 65 | X4: =V4*W4*$F$2 -> 0 | Z4: Moringa | AA4: 0.6 | AB4: =A4*1.3*0.93 -> 0 | AC4: 0 | AD4: =0.0673*(AA4*AB4^2*AC4)^0.976 -> 0 | AE4: 65 | AF4: =AD4*AE4*$F$2 -> 0 | AH4: Njangssang | AI4: 0.215 | AJ4: =$A4*1*0.93 -> 0 | AK4: =IF(50.453*(1-EXP(-0.047*AJ4^(0.812)))>25, 25, 50.453*(1-EXP(-0.047*AJ4^(0.812)))) -> 0 | AL4: =0.0673*(AI4*AJ4^2*AK4)^0.976 -> 0 | AM4: 65 | AN4: =AL4*AM4*$F$2 -> 0 | AP4: Mango | AQ4: 0.675 | AR4: =$A4*1*0.93 -> 0 | AS4: =IF(50.453*(1-EXP(-0.047*AR4^(0.812)))>25, 25, 50.453*(1-EXP(-0.047*AR4^(0.812)))) -> 0 | AT4: =0.0673*(AQ4*AR4^2*AS4)^0.976 -> 0 | AU4: 65 | AV4: =AT4*AU4*$F$2 -> 0 | AX4: 0 | AY4: =AX4*3.67 -> 0 | AZ4: =SUM(H4,P4,X4,AF4,AN4,AV4)*3.67/1000 -> 0 | BA4: =AZ4*0.235 -> 0 | BB4: =AZ4+BA4 -> 0 | BC4: =BB4+AY4 -> 0 | BE4: 6.37 | BG4: =SUM(AM34,AE34,W34,O34,G34,AU34) -> 202.34161 | BH4: =SUM(G4,O4,W4,AE4,AM4,AU4) -> 390 | BI4: =AVERAGE(D4,L4,T4,AB4,AJ4) -> 0 | BJ4: =SUM(D4*G4,L4*O4,T4*W4,AB4*AE4,AJ4*AM4)/BH4 -> 0
A5: 1 | B5: Tali | C5: 0.881 | D5: =A5*0.4*0.93 -> 0.372 | E5: =IF(EXP(0.893-$C$2+0.76*LN(D5)-0.034*(LN(D5))^2)>22.5, 22.5, EXP(0.893-$C$2+0.76*LN(D5)-0.034*(LN(D5))^2)) -> 0.94991879 | F5: =0.0673*(C5*D5^2*E5)^0.976 -> 0.0082079249 | G5: =G4*0.6 -> 39 | H5: =F5*G5*$F$2 -> 0.15205181 | J5: Corrosolier | K5: 0.36 | L5: =A5*0.5*0.93 -> 0.465 | M5: =IF(EXP(0.893-$C$2+0.76*LN(L5)-0.034*(LN(L5))^2)>7, 7, EXP(0.893-$C$2+0.76*LN(L5)-0.034*(LN(L5))^2)) -> 1.1405631 | N5: =0.0673*(K5*L5^2*M5)^0.976 -> 0.0063326127 | O5: =O4*0.6 -> 39 | P5: =N5*O5*$F$2 -> 0.11731165 | R5: Gmelina | S5: 0.34 | T5: =A5*2.3*0.93 -> 2.139 | U5: =IF(50.453*(1-EXP(-0.047*T5^(0.812)))>30, 30, 50.453*(1-EXP(-0.047*T5^(0.812)))) -> 4.2104712 | V5: =0.0673*(S5*T5^2*U5)^0.976 -> 0.4213633 | W5: =W4*0.6 -> 39 | X5: =V5*W5*$F$2 -> 7.8057551 | Z5: Moringa | AA5: 0.6 | AB5: =A5*1.5*0.93 -> 1.395 | AC5: =IF(EXP(0.893-$C$2+0.76*LN(AB5)-0.034*(LN(AB5))^2)>8, 8, EXP(0.893-$C$2+0.76*LN(AB5)-0.034*(LN(AB5))^2)) -> 2.6714853 | AD5: =0.0673*(AA5*AB5^2*AC5)^0.976 -> 0.20427267 | AE5: =AE4*0.6 -> 39 | AF5: =AD5*AE5*$F$2 -> 3.7841512 | AH5: Njangssang | AI5: 0.215 | AJ5: =$A5*1.18*0.93 -> 1.0974 | AK5: =IF(EXP(0.893-$C$2+0.76*LN(AJ5)-0.034*(LN(AJ5))^2)>20, 20, EXP(0.893-$C$2+0.76*LN(AJ5)-0.034*(LN(AJ5))^2)) -> 2.233894 | AL5: =0.0673*(AI5*AJ5^2*AK5)^0.976 -> 0.039441412 | AM5: =AM4*0.6 -> 39 | AN5: =AL5*AM5*$F$2 -> 0.73065215 | AP5: Mango | AQ5: 0.675 | AR5: =AR6/2 -> 0.22305447 | AS5: =IF(EXP(0.893-$C$2+0.76*LN(AR5)-0.034*(LN(AR5))^2)>20, 20, EXP(0.893-$C$2+0.76*LN(AR5)-0.034*(LN(AR5))^2)) -> 0.61668941 | AT5: =0.0673*(AQ5*AR5^2*AS5)^0.976 -> 0.0015297433 | AU5: =AU4*0.6 -> 39 | AV5: =AT5*AU5*$F$2 -> 0.028338495 | AX5: =AX4+0.8 -> 0.8 | AY5: =AX5*3.67 -> 2.936 | AZ5: =SUM(H5,P5,X5,AF5,AN5,AV5)*3.67/1000 -> 0.046309016 | BA5: =AZ5*0.235 -> 0.010882619 | BB5: =AZ5+BA5 -> 0.057191635 | BC5: =BB5+AY5 -> 2.9931916 | BH5: =SUM(G5,O5,W5,AE5,AM5,AU5) -> 234 | BI5: =AVERAGE(D5,L5,T5,AB5,AJ5) -> 1.09368 | BJ5: =SUM(D5*G5,L5*O5,T5*W5,AB5*AE5,AJ5*AM5)/BH5 -> 0.9114
A6: 2 | B6: Tali | C6: 0.881 | D6: =A6*0.4*0.93 -> 0.744 | E6: =IF(EXP(0.893-$C$2+0.76*LN(D6)-0.034*(LN(D6))^2)>22.5, 22.5, EXP(0.893-$C$2+0.76*LN(D6)-0.034*(LN(D6))^2)) -> 1.6581237 | F6: =0.0673*(C6*D6^2*E6)^0.976 -> 0.054697572 | G6: =G5*0.995 -> 38.805 | H6: =F6*G6*$F$2 -> 1.0082062 | J6: Corrosolier | K6: 0.36 | L6: =A6*0.5*0.93 -> 0.93 | M6: =IF(EXP(0.893-$C$2+0.76*LN(L6)-0.034*(LN(L6))^2)>7, 7, EXP(0.893-$C$2+0.76*LN(L6)-0.034*(LN(L6))^2)) -> 1.9700716 | N6: =0.0673*(K6*L6^2*M6)^0.976 -> 0.041769519 | O6: =O5*0.995 -> 38.805 | P6: =N6*O6*$F$2 -> 0.76991144 | R6: Gmelina | S6: 0.34 | T6: =A6*2.3*0.93 -> 4.278 | U6: =IF(50.453*(1-EXP(-0.047*T6^(0.812)))>30, 30, 50.453*(1-EXP(-0.047*T6^(0.812)))) -> 7.1573837 | V6: =0.0673*(S6*T6^2*U6)^0.976 -> 2.7362809 | W6: =W5*0.995 -> 38.805 | X6: =V6*W6*$F$2 -> 50.436156 | Z6: Moringa | AA6: 0.6 | AB6: =A6*1.5*0.93 -> 2.79 | AC6: =IF(EXP(0.893-$C$2+0.76*LN(AB6)-0.034*(LN(AB6))^2)>8, 8, EXP(0.893-$C$2+0.76*LN(AB6)-0.034*(LN(AB6))^2)) -> 4.3815407 | AD6: =0.0673*(AA6*AB6^2*AC6)^0.976 -> 1.2809669 | AE6: =AE5*0.995 -> 38.805 | AF6: =AD6*AE6*$F$2 -> 23.611262 | AH6: Njangssang | AI6: 0.215 | AJ6: =$A6*1.18*0.93 -> 2.1948 | AK6: =IF(EXP(0.893-$C$2+0.76*LN(AJ6)-0.034*(LN(AJ6))^2)>20, 20, EXP(0.893-$C$2+0.76*LN(AJ6)-0.034*(LN(AJ6))^2)) -> 3.7055136 | AL6: =0.0673*(AI6*AJ6^2*AK6)^0.976 -> 0.25007714 | AM6: =AM5*0.995 -> 38.805 | AN6: =AL6*AM6*$F$2 -> 4.6095157 | AP6: Mango | AQ6: 0.675 | AR6: =(10.348*LN(A6)-6.693)*0.93 -> 0.44610893 | AS6: =IF(EXP(0.893-$C$2+0.76*LN(AR6)-0.034*(LN(AR6))^2)>15, 15, EXP(0.893-$C$2+0.76*LN(AR6)-0.034*(LN(AR6))^2)) -> 1.1027242 | AT6: =0.0673*(AQ6*AR6^2*AS6)^0.976 -> 0.01043691 | AU6: =AU5*0.995 -> 38.805 | AV6: =AT6*AU6*$F$2 -> 0.19237704 | AX6: =AX5+0.8 -> 1.6 | AY6: =AX6*3.67 -> 5.872 | AZ6: =SUM(H6,P6,X6,AF6,AN6,AV6)*3.67/1000 -> 0.29590266 | BA6: =AZ6*0.235 -> 0.069537126 | BB6: =AZ6+BA6 -> 0.36543979 | BC6: =BB6+AY6 -> 6.2374398 | BE6: total C benefit (t CO2) | BH6: =SUM(G6,O6,W6,AE6,AM6,AU6) -> 232.83 | BI6: =AVERAGE(D6,L6,T6,AB6,AJ6,AR6) -> 1.8971515 | BJ6: =SUM(D6*G6,L6*O6,T6*W6,AB6*AE6,AJ6*AM6,AR6*AU6)/BH6 -> 1.8971515
A7: 3 | B7: Tali | C7: 0.881 | D7: =A7*0.4*0.93 -> 1.116 | E7: =IF(EXP(0.893-$C$2+0.76*LN(D7)-0.034*(LN(D7))^2)>22.5, 22.5, EXP(0.893-$C$2+0.76*LN(D7)-0.034*(LN(D7))^2)) -> 2.2623494 | F7: =0.0673*(C7*D7^2*E7)^0.976 -> 0.16345654 | G7: =G6*0.995 -> 38.610975 | H7: =F7*G7*$F$2 -> 2.9978278 | J7: Corrosolier | K7: 0.36 | L7: =A7*0.5*0.93 -> 1.395 | M7: =IF(EXP(0.893-$C$2+0.76*LN(L7)-0.034*(LN(L7))^2)>7, 7, EXP(0.893-$C$2+0.76*LN(L7)-0.034*(LN(L7))^2)) -> 2.6714853 | N7: =0.0673*(K7*L7^2*M7)^0.976 -> 0.12407546 | O7: =O6*0.995 -> 38.610975 | P7: =N7*O7*$F$2 -> 2.2755703 | R7: Gmelina | S7: 0.34 | T7: =A7*2.3*0.93 -> 6.417 | U7: =IF(50.453*(1-EXP(-0.047*T7^(0.812)))>30, 30, 50.453*(1-EXP(-0.047*T7^(0.812)))) -> 9.6645472 | V7: =0.0673*(S7*T7^2*U7)^0.976 -> 8.0944582 | W7: =W6*0.995 -> 38.610975 | X7: =V7*W7*$F$2 -> 148.45409 | Z7: Moringa | AA7: 0.6 | AB7: =A7*1.5*0.93 -> 4.185 | AC7: =IF(EXP(0.893-$C$2+0.76*LN(AB7)-0.034*(LN(AB7))^2)>8, 8, EXP(0.893-$C$2+0.76*LN(AB7)-0.034*(LN(AB7))^2)) -> 5.7642474 | AD7: =0.0673*(AA7*AB7^2*AC7)^0.976 -> 3.6942393 | AE7: =AE6*0.995 -> 38.610975 | AF7: =AD7*AE7*$F$2 -> 67.753135 | AH7: Njangssang | AI7: 0.215 | AJ7: =$A7*1.18*0.93 -> 3.2922 | AK7: =IF(EXP(0.893-$C$2+0.76*LN(AJ7)-0.034*(LN(AJ7))^2)>20, 20, EXP(0.893-$C$2+0.76*LN(AJ7)-0.034*(LN(AJ7))^2)) -> 4.9072411 | AL7: =0.0673*(AI7*AJ7^2*AK7)^0.976 -> 0.72588092 | AM7: =AM6*0.995 -> 38.610975 | AN7: =AL7*AM7*$F$2 -> 13.312811 | AP7: Mango | AQ7: 0.675 | AR7: =(10.348*LN(A7)-6.693)*0.93 -> 4.3481592 | AS7: =IF(EXP(0.893-$C$2+0.76*LN(AR7)-0.034*(LN(AR7))^2)>15, 15, EXP(0.893-$C$2+0.76*LN(AR7)-0.034*(LN(AR7))^2)) -> 5.911909 | AT7: =0.0673*(AQ7*AR7^2*AS7)^0.976 -> 4.5771382 | AU7: =AU6*0.995 -> 38.610975 | AV7: =AT7*AU7*$F$2 -> 83.94569 | AX7: =AX6+0.8 -> 2.4 | AY7: =AX7*3.67 -> 8.808 | AZ7: =SUM(H7,P7,X7,AF7,AN7,AV7)*3.67/1000 -> 1.1697726 | BA7: =AZ7*0.235 -> 0.27489656 | BB7: =AZ7+BA7 -> 1.4446691 | BC7: =BB7+AY7 -> 10.252669 | BE7: =BC34*BE4 -> 2123.1498 | BH7: =SUM(G7,O7,W7,AE7,AM7,AU7) -> 231.66585 | BI7: =AVERAGE(D7,L7,T7,AB7,AJ7,AR7) -> 3.4588932 | BJ7: =SUM(D7*G7,L7*O7,T7*W7,AB7*AE7,AJ7*AM7,AR7*AU7)/BH7 -> 3.4588932
A8: 4 | B8: Tali | C8: 0.881 | D8: =A8*0.4*0.93 -> 1.488 | E8: =IF(EXP(0.893-$C$2+0.76*LN(D8)-0.034*(LN(D8))^2)>22.5, 22.5, EXP(0.893-$C$2+0.76*LN(D8)-0.034*(LN(D8))^2)) -> 2.8012937 | F8: =0.0673*(C8*D8^2*E8)^0.976 -> 0.35306487 | G8: =G7*0.995 -> 38.41792 | H8: =F8*G8*$F$2 -> 6.4429085 | J8: Corrosolier | K8: 0.36 | L8: =A8*0.5*0.93 -> 1.86 | M8: =IF(EXP(0.893-$C$2+0.76*LN(L8)-0.034*(LN(L8))^2)>7, 7, EXP(0.893-$C$2+0.76*LN(L8)-0.034*(LN(L8))^2)) -> 3.2934871 | N8: =0.0673*(K8*L8^2*M8)^0.976 -> 0.26686265 | O8: =O7*0.995 -> 38.41792 | P8: =N8*O8*$F$2 -> 4.8698463 | R8: Gmelina | S8: 0.34 | T8: =A8*2.3*0.93 -> 8.556 | U8: =IF(50.453*(1-EXP(-0.047*T8^(0.812)))>30, 30, 50.453*(1-EXP(-0.047*T8^(0.812)))) -> 11.884154 | V8: =0.0673*(S8*T8^2*U8)^0.976 -> 17.366011 | W8: =W7*0.995 -> 38.41792 | X8: =V8*W8*$F$2 -> 316.90386 | Z8: Moringa | AA8: 0.6 | AB8: =A8*1.5*0.93 -> 5.58 | AC8: =IF(EXP(0.893-$C$2+0.76*LN(AB8)-0.034*(LN(AB8))^2)>8, 8, EXP(0.893-$C$2+0.76*LN(AB8)-0.034*(LN(AB8))^2)) -> 6.9552407 | AD8: =0.0673*(AA8*AB8^2*AC8)^0.976 -> 7.7806756 | AE8: =AE7*0.995 -> 38.41792 | AF8: =AD8*AE8*$F$2 -> 141.98575 | AH8: Njangssang | AI8: 0.215 | AJ8: =$A8*1.18*0.93 -> 4.3896 | AK8: =IF(EXP(0.893-$C$2+0.76*LN(AJ8)-0.034*(LN(AJ8))^2)>20, 20, EXP(0.893-$C$2+0.76*LN(AJ8)-0.034*(LN(AJ8))^2)) -> 5.9490213 | AL8: =0.0673*(AI8*AJ8^2*AK8)^0.976 -> 1.5358448 | AM8: =AM7*0.995 -> 38.41792 | AN8: =AL8*AM8*$F$2 -> 28.026882 | AP8: Mango | AQ8: 0.675 | AR8: =(10.348*LN(A8)-6.693)*0.93 -> 7.1167079 | AS8: =IF(EXP(0.893-$C$2+0.76*LN(AR8)-0.034*(LN(AR8))^2)>15, 15, EXP(0.893-$C$2+0.76*LN(AR8)-0.034*(LN(AR8))^2)) -> 8.1166749 | AT8: =0.0673*(AQ8*AR8^2*AS8)^0.976 -> 16.316143 | AU8: =AU7*0.995 -> 38.41792 | AV8: =AT8*AU8*$F$2 -> 297.74533 | AX8: =AX7+0.8 -> 3.2 | AY8: =AX8*3.67 -> 11.744 | AZ8: =SUM(H8,P8,X8,AF8,AN8,AV8)*3.67/1000 -> 2.9212267 | BA8: =AZ8*0.235 -> 0.68648828 | BB8: =AZ8+BA8 -> 3.607715 | BC8: =BB8+AY8 -> 15.351715 | BH8: =SUM(G8,O8,W8,AE8,AM8,AU8) -> 230.50752 | BI8: =AVERAGE(D8,L8,T8,AB8,AJ8,AR8) -> 4.831718 | BJ8: =SUM(D8*G8,L8*O8,T8*W8,AB8*AE8,AJ8*AM8,AR8*AU8)/BH8 -> 4.831718
A9: 5 | B9: Tali | C9: 0.881 | D9: =A9*0.4*0.93 -> 1.86 | E9: =IF(EXP(0.893-$C$2+0.76*LN(D9)-0.034*(LN(D9))^2)>22.5, 22.5, EXP(0.893-$C$2+0.76*LN(D9)-0.034*(LN(D9))^2)) -> 3.2934871 | F9: =0.0673*(C9*D9^2*E9)^0.976 -> 0.63919452 | G9: =G8*0.995 -> 38.225831 | H9: =F9*G9*$F$2 -> 11.606027 | J9: Corrosolier | K9: 0.36 | L9: =A9*0.5*0.93 -> 2.325 | M9: =IF(EXP(0.893-$C$2+0.76*LN(L9)-0.034*(LN(L9))^2)>7, 7, EXP(0.893-$C$2+0.76*LN(L9)-0.034*(LN(L9))^2)) -> 3.8590713 | N9: =0.0673*(K9*L9^2*M9)^0.976 -> 0.48153864 | O9: =O8*0.995 -> 38.225831 | P9: =N9*O9*$F$2 -> 8.7434268 | R9: Gmelina | S9: 0.34 | T9: =A9*2.3*0.93 -> 10.695 | U9: =IF(50.453*(1-EXP(-0.047*T9^(0.812)))>30, 30, 50.453*(1-EXP(-0.047*T9^(0.812)))) -> 13.888089 | V9: =0.0673*(S9*T9^2*U9)^0.976 -> 31.254924 | W9: =W8*0.995 -> 38.225831 | X9: =V9*W9*$F$2 -> 567.50408 | Z9: Moringa | AA9: 0.6 | AB9: =A9*1.5*0.93 -> 6.975 | AC9: =IF(EXP(0.893-$C$2+0.76*LN(AB9)-0.034*(LN(AB9))^2)>8, 8, EXP(0.893-$C$2+0.76*LN(AB9)-0.034*(LN(AB9))^2)) -> 8 | AD9: =0.0673*(AA9*AB9^2*AC9)^0.976 -> 13.788112 | AE9: =AE8*0.995 -> 38.225831 | AF9: =AD9*AE9*$F$2 -> 250.35447 | AH9: Njangssang | AI9: 0.215 | AJ9: =$A9*1.18*0.93 -> 5.487 | AK9: =IF(EXP(0.893-$C$2+0.76*LN(AJ9)-0.034*(LN(AJ9))^2)>20, 20, EXP(0.893-$C$2+0.76*LN(AJ9)-0.034*(LN(AJ9))^2)) -> 6.8804031 | AL9: =0.0673*(AI9*AJ9^2*AK9)^0.976 -> 2.736327 | AM9: =AM8*0.995 -> 38.225831 | AN9: =AL9*AM9*$F$2 -> 49.684227 | AP9: Mango | AQ9: 0.675 | AR9: =(10.348*LN(A9)-6.693)*0.93 -> 9.2641611 | AS9: =IF(EXP(0.893-$C$2+0.76*LN(AR9)-0.034*(LN(AR9))^2)>15, 15, EXP(0.893-$C$2+0.76*LN(AR9)-0.034*(LN(AR9))^2)) -> 9.5523139 | AT9: =0.0673*(AQ9*AR9^2*AS9)^0.976 -> 32.004204 | AU9: =AU8*0.995 -> 38.225831 | AV9: =AT9*AU9*$F$2 -> 581.10896 | AX9: =AX8+0.8 -> 4 | AY9: =AX9*3.67 -> 14.68 | AZ9: =SUM(H9,P9,X9,AF9,AN9,AV9)*3.67/1000 -> 5.3912344 | BA9: =AZ9*0.235 -> 1.2669401 | BB9: =AZ9+BA9 -> 6.6581744 | BC9: =BB9+AY9 -> 21.338174 | BE9: risk buffer (t CO2) | BF9: risk buffer (t CO2/ha) | BH9: =SUM(G9,O9,W9,AE9,AM9,AU9) -> 229.35498 | BI9: =AVERAGE(D9,L9,T9,AB9,AJ9,AR9) -> 6.1010268 | BJ9: =SUM(D9*G9,L9*O9,T9*W9,AB9*AE9,AJ9*AM9,AR9*AU9)/BH9 -> 6.1010268
A10: 6 | B10: Tali | C10: 0.881 | D10: =A10*0.4*0.93 -> 2.232 | E10: =IF(EXP(0.893-$C$2+0.76*LN(D10)-0.034*(LN(D10))^2)>22.5, 22.5, EXP(0.893-$C$2+0.76*LN(D10)-0.034*(LN(D10))^2)) -> 3.7497429 | F10: =0.0673*(C10*D10^2*E10)^0.976 -> 1.0355905 | G10: =G9*0.995 -> 38.034701 | H10: =F10*G10*$F$2 -> 18.709479 | J10: Corrosolier | K10: 0.36 | L10: =A10*0.5*0.93 -> 2.79 | M10: =IF(EXP(0.893-$C$2+0.76*LN(L10)-0.034*(LN(L10))^2)>7, 7, EXP(0.893-$C$2+0.76*LN(L10)-0.034*(LN(L10))^2)) -> 4.3815407 | N10: =0.0673*(K10*L10^2*M10)^0.976 -> 0.77806077 | O10: =O9*0.995 -> 38.034701 | P10: =N10*O10*$F$2 -> 14.056822 | R10: Gmelina | S10: 0.34 | T10: =A10*2.3*0.93 -> 12.834 | U10: =IF(50.453*(1-EXP(-0.047*T10^(0.812)))>30, 30, 50.453*(1-EXP(-0.047*T10^(0.812)))) -> 15.719086 | V10: =0.0673*(S10*T10^2*U10)^0.976 -> 50.347071 | W10: =W9*0.995 -> 38.034701 | X10: =V10*W10*$F$2 -> 909.59452 | Z10: Moringa | AA10: 0.6 | AB10: =A10*1.5*0.93 -> 8.37 | AC10: =IF(EXP(0.893-$C$2+0.76*LN(AB10)-0.034*(LN(AB10))^2)>8, 8, EXP(0.893-$C$2+0.76*LN(AB10)-0.034*(LN(AB10))^2)) -> 8 | AD10: =0.0673*(AA10*AB10^2*AC10)^0.976 -> 19.681881 | AE10: =AE9*0.995 -> 38.034701 | AF10: =AD10*AE10*$F$2 -> 355.58237 | AH10: Njangssang | AI10: 0.215 | AJ10: =$A10*1.18*0.93 -> 6.5844 | AK10: =IF(EXP(0.893-$C$2+0.76*LN(AJ10)-0.034*(LN(AJ10))^2)>20, 20, EXP(0.893-$C$2+0.76*LN(AJ10)-0.034*(LN(AJ10))^2)) -> 7.7292013 | AL10: =0.0673*(AI10*AJ10^2*AK10)^0.976 -> 4.3756041 | AM10: =AM9*0.995 -> 38.034701 | AN10: =AL10*AM10*$F$2 -> 79.051778 | AP10: Mango | AQ10: 0.675 | AR10: =(10.348*LN(A10)-6.693)*0.93 -> 11.018758 | AS10: =IF(EXP(0.893-$C$2+0.76*LN(AR10)-0.034*(LN(AR10))^2)>15, 15, EXP(0.893-$C$2+0.76*LN(AR10)-0.034*(LN(AR10))^2)) -> 10.604977 | AT10: =0.0673*(AQ10*AR10^2*AS10)^0.976 -> 49.722846 | AU10: =AU9*0.995 -> 38.034701 | AV10: =AT10*AU10*$F$2 -> 898.31697 | AX10: =AX9+0.8 -> 4.8 | AY10: =AX10*3.67 -> 17.616 | AZ10: =SUM(H10,P10,X10,AF10,AN10,AV10)*3.67/1000 -> 8.3503948 | BA10: =AZ10*0.235 -> 1.9623428 | BB10: =AZ10+BA10 -> 10.312738 | BC10: =BB10+AY10 -> 27.928738 | BE10: =BE7*0.2 -> 424.62996 | BF10: =BE10/BE4 -> 66.660905 | BH10: =SUM(G10,O10,W10,AE10,AM10,AU10) -> 228.20821 | BI10: =AVERAGE(D10,L10,T10,AB10,AJ10,AR10) -> 7.3048597 | BJ10: =SUM(D10*G10,L10*O10,T10*W10,AB10*AE10,AJ10*AM10,AR10*AU10)/BH10 -> 7.3048597
A11: 7 | B11: Tali | C11: 0.881 | D11: =A11*0.4*0.93 -> 2.604 | E11: =IF(EXP(0.893-$C$2+0.76*LN(D11)-0.034*(LN(D11))^2)>22.5, 22.5, EXP(0.893-$C$2+0.76*LN(D11)-0.034*(LN(D11))^2)) -> 4.177102 | F11: =0.0673*(C11*D11^2*E11)^0.976 -> 1.5545934 | G11: =G10*0.995 -> 37.844528 | H11: =F11*G11*$F$2 -> 27.945605 | J11: Corrosolier | K11: 0.36 | L11: =A11*0.5*0.93 -> 3.255 | M11: =IF(EXP(0.893-$C$2+0.76*LN(L11)-0.034*(LN(L11))^2)>7, 7, EXP(0.893-$C$2+0.76*LN(L11)-0.034*(LN(L11))^2)) -> 4.8695026 | N11: =0.0673*(K11*L11^2*M11)^0.976 -> 1.1653351 | O11: =O10*0.995 -> 37.844528 | P11: =N11*O11*$F$2 -> 20.948239 | R11: Gmelina | S11: 0.34 | T11: =A11*2.3*0.93 -> 14.973 | U11: =IF(50.453*(1-EXP(-0.047*T11^(0.812)))>30, 30, 50.453*(1-EXP(-0.047*T11^(0.812)))) -> 17.405803 | V11: =0.0673*(S11*T11^2*U11)^0.976 -> 75.137842 | W11: =W10*0.995 -> 37.844528 | X11: =V11*W11*$F$2 -> 1350.6892 | Z11: Moringa | AA11: 0.6 | AB11: =A11*1.5*0.93 -> 9.765 | AC11: =IF(EXP(0.893-$C$2+0.76*LN(AB11)-0.034*(LN(AB11))^2)>8, 8, EXP(0.893-$C$2+0.76*LN(AB11)-0.034*(LN(AB11))^2)) -> 8 | AD11: =0.0673*(AA11*AB11^2*AC11)^0.976 -> 26.591739 | AE11: =AE10*0.995 -> 37.844528 | AF11: =AD11*AE11*$F$2 -> 478.01711 | AH11: Njangssang | AI11: 0.215 | AJ11: =$A11*1.18*0.93 -> 7.6818 | AK11: =IF(EXP(0.893-$C$2+0.76*LN(AJ11)-0.034*(LN(AJ11))^2)>20, 20, EXP(0.893-$C$2+0.76*LN(AJ11)-0.034*(LN(AJ11))^2)) -> 8.5130153 | AL11: =0.0673*(AI11*AJ11^2*AK11)^0.976 -> 6.4962119 | AM11: =AM10*0.995 -> 37.844528 | AN11: =AL11*AM11*$F$2 -> 116.77688 | AP11: Mango | AQ11: 0.675 | AR11: =(10.348*LN(A11)-6.693)*0.93 -> 12.502249 | AS11: =IF(EXP(0.893-$C$2+0.76*LN(AR11)-0.034*(LN(AR11))^2)>15, 15, EXP(0.893-$C$2+0.76*LN(AR11)-0.034*(LN(AR11))^2)) -> 11.429136 | AT11: =0.0673*(AQ11*AR11^2*AS11)^0.976 -> 68.447482 | AU11: =AU10*0.995 -> 37.844528 | AV11: =AT11*AU11*$F$2 -> 1230.4223 | AX11: =AX10+0.8 -> 5.6 | AY11: =AX11*3.67 -> 20.552 | AZ11: =SUM(H11,P11,X11,AF11,AN11,AV11)*3.67/1000 -> 11.835013 | BA11: =AZ11*0.235 -> 2.7812281 | BB11: =AZ11+BA11 -> 14.616241 | BC11: =BB11+AY11 -> 35.168241 | BH11: =SUM(G11,O11,W11,AE11,AM11,AU11) -> 227.06717 | BI11: =AVERAGE(D11,L11,T11,AB11,AJ11,AR11) -> 8.4635081 | BJ11: =SUM(D11*G11,L11*O11,T11*W11,AB11*AE11,AJ11*AM11,AR11*AU11)/BH11 -> 8.4635081
A12: 8 | B12: Tali | C12: 0.881 | D12: =A12*0.4*0.93 -> 2.976 | E12: =IF(EXP(0.893-$C$2+0.76*LN(D12)-0.034*(LN(D12))^2)>22.5, 22.5, EXP(0.893-$C$2+0.76*LN(D12)-0.034*(LN(D12))^2)) -> 4.5804863 | F12: =0.0673*(C12*D12^2*E12)^0.976 -> 2.2074595 | G12: =G11*0.995 -> 37.655305 | H12: =F12*G12*$F$2 -> 39.483216 | J12: Corrosolier | K12: 0.36 | L12: =A12*0.5*0.93 -> 3.72 | M12: =IF(EXP(0.893-$C$2+0.76*LN(L12)-0.034*(LN(L12))^2)>7, 7, EXP(0.893-$C$2+0.76*LN(L12)-0.034*(LN(L12))^2)) -> 5.3289441 | N12: =0.0673*(K12*L12^2*M12)^0.976 -> 1.6514594 | O12: =O11*0.995 -> 37.655305 | P12: =N12*O12*$F$2 -> 29.538449 | R12: Gmelina | S12: 0.34 | T12: =A12*2.3*0.93 -> 17.112 | U12: =IF(50.453*(1-EXP(-0.047*T12^(0.812)))>30, 30, 50.453*(1-EXP(-0.047*T12^(0.812)))) -> 18.968953 | V12: =0.0673*(S12*T12^2*U12)^0.976 -> 106.0503 | W12: =W11*0.995 -> 37.655305 | X12: =V12*W12*$F$2 -> 1896.8443 | Z12: Moringa | AA12: 0.6 | AB12: =A12*1.5*0.93 -> 11.16 | AC12: =IF(EXP(0.893-$C$2+0.76*LN(AB12)-0.034*(LN(AB12))^2)>8, 8, EXP(0.893-$C$2+0.76*LN(AB12)-0.034*(LN(AB12))^2)) -> 8 | AD12: =0.0673*(AA12*AB12^2*AC12)^0.976 -> 34.510164 | AE12: =AE11*0.995 -> 37.655305 | AF12: =AD12*AE12*$F$2 -> 617.25811 | AH12: Njangssang | AI12: 0.215 | AJ12: =$A12*1.18*0.93 -> 8.7792 | AK12: =IF(EXP(0.893-$C$2+0.76*LN(AJ12)-0.034*(LN(AJ12))^2)>20, 20, EXP(0.893-$C$2+0.76*LN(AJ12)-0.034*(LN(AJ12))^2)) -> 9.2438711 | AL12: =0.0673*(AI12*AJ12^2*AK12)^0.976 -> 9.1363439 | AM12: =AM11*0.995 -> 37.655305 | AN12: =AL12*AM12*$F$2 -> 163.41511 | AP12: Mango | AQ12: 0.675 | AR12: =(10.348*LN(A12)-6.693)*0.93 -> 13.787307 | AS12: =IF(EXP(0.893-$C$2+0.76*LN(AR12)-0.034*(LN(AR12))^2)>15, 15, EXP(0.893-$C$2+0.76*LN(AR12)-0.034*(LN(AR12))^2)) -> 12.102276 | AT12: =0.0673*(AQ12*AR12^2*AS12)^0.976 -> 87.610806 | AU12: =AU11*0.995 -> 37.655305 | AV12: =AT12*AU12*$F$2 -> 1567.0305 | AX12: =AX11+0.8 -> 6.4 | AY12: =AX12*3.67 -> 23.488 | AZ12: =SUM(H12,P12,X12,AF12,AN12,AV12)*3.67/1000 -> 15.830801 | BA12: =AZ12*0.235 -> 3.7202382 | BB12: =AZ12+BA12 -> 19.551039 | BC12: =BB12+AY12 -> 43.039039 | BE12: Potential PVC | BF12: PV/ha | BH12: =SUM(G12,O12,W12,AE12,AM12,AU12) -> 225.93183 | BI12: =AVERAGE(D12,L12,T12,AB12,AJ12,AR12) -> 9.5890845 | BJ12: =SUM(D12*G12,L12*O12,T12*W12,AB12*AE12,AJ12*AM12,AR12*AU12)/BH12 -> 9.5890845
A13: 9 | B13: Tali | C13: 0.881 | D13: =A13*0.4*0.93 -> 3.348 | E13: =IF(EXP(0.893-$C$2+0.76*LN(D13)-0.034*(LN(D13))^2)>22.5, 22.5, EXP(0.893-$C$2+0.76*LN(D13)-0.034*(LN(D13))^2)) -> 4.9635136 | F13: =0.0673*(C13*D13^2*E13)^0.976 -> 3.0045748 | G13: =G12*0.995 -> 37.467029 | H13: =F13*G13*$F$2 -> 53.471934 | J13: Corrosolier | K13: 0.36 | L13: =A13*0.5*0.93 -> 4.185 | M13: =IF(EXP(0.893-$C$2+0.76*LN(L13)-0.034*(LN(L13))^2)>7, 7, EXP(0.893-$C$2+0.76*LN(L13)-0.034*(LN(L13))^2)) -> 5.7642474 | N13: =0.0673*(K13*L13^2*M13)^0.976 -> 2.2438852 | O13: =O12*0.995 -> 37.467029 | P13: =N13*O13*$F$2 -> 39.934063 | R13: Gmelina | S13: 0.34 | T13: =A13*2.3*0.93 -> 19.251 | U13: =IF(50.453*(1-EXP(-0.047*T13^(0.812)))>30, 30, 50.453*(1-EXP(-0.047*T13^(0.812)))) -> 20.424292 | V13: =0.0673*(S13*T13^2*U13)^0.976 -> 143.4481 | W13: =W12*0.995 -> 37.467029 | X13: =V13*W13*$F$2 -> 2552.9227 | Z13: Moringa | AA13: 0.6 | AB13: =A13*1.5*0.93 -> 12.555 | AC13: =IF(EXP(0.893-$C$2+0.76*LN(AB13)-0.034*(LN(AB13))^2)>8, 8, EXP(0.893-$C$2+0.76*LN(AB13)-0.034*(LN(AB13))^2)) -> 8 | AD13: =0.0673*(AA13*AB13^2*AC13)^0.976 -> 43.430691 | AE13: =AE12*0.995 -> 37.467029 | AF13: =AD13*AE13*$F$2 -> 772.92901 | AH13: Njangssang | AI13: 0.215 | AJ13: =$A13*1.18*0.93 -> 9.8766 | AK13: =IF(EXP(0.893-$C$2+0.76*LN(AJ13)-0.034*(LN(AJ13))^2)>20, 20, EXP(0.893-$C$2+0.76*LN(AJ13)-0.034*(LN(AJ13))^2)) -> 9.9304422 | AL13: =0.0673*(AI13*AJ13^2*AK13)^0.976 -> 12.330768 | AM13: =AM12*0.995 -> 37.467029 | AN13: =AL13*AM13*$F$2 -> 219.44868 | AP13: Mango | AQ13: 0.675 | AR13: =(10.348*LN(A13)-6.693)*0.93 -> 14.920808 | AS13: =IF(EXP(0.893-$C$2+0.76*LN(AR13)-0.034*(LN(AR13))^2)>15, 15, EXP(0.893-$C$2+0.76*LN(AR13)-0.034*(LN(AR13))^2)) -> 12.668663 | AT13: =0.0673*(AQ13*AR13^2*AS13)^0.976 -> 106.88665 | AU13: =AU12*0.995 -> 37.467029 | AV13: =AT13*AU13*$F$2 -> 1902.2444 | AX13: =AX12+0.8 -> 7.2 | AY13: =AX13*3.67 -> 26.424 | AZ13: =SUM(H13,P13,X13,AF13,AN13,AV13)*3.67/1000 -> 20.33529 | BA13: =AZ13*0.235 -> 4.778793 | BB13: =AZ13+BA13 -> 25.114083 | BC13: =BB13+AY13 -> 51.538083 | BE13: =BE7-BE10 -> 1698.5199 | BF13: =BE13/BE4 -> 266.64362 | BH13: =SUM(G13,O13,W13,AE13,AM13,AU13) -> 224.80217 | BI13: =AVERAGE(D13,L13,T13,AB13,AJ13,AR13) -> 10.689401 | BJ13: =SUM(D13*G13,L13*O13,T13*W13,AB13*AE13,AJ13*AM13,AR13*AU13)/BH13 -> 10.689401
